{"text_format":"1","workbook":"xlsx","n_sheets":25,"sheets":["Apoio","GESTOR","LICITANTE","Notas Explicativas","Dados Contratação","Dados Proponente","Encargos_Benefícios","Certificação digital","Insumos - Brigadista","Insumos - Motorista","Insumos - Manutenção","Insumos - Limpeza","Insumos - Vigilância","Encarregado","Profissional","Vale Transporte","Hora Extra","Diária, Passagem e Combustível","Consumo - Manutenção (TRT)","Consumo - Manutenção (SINAPI)","Consumo - Limpeza","Consumo - Copeiragem","Auditagem","Valor Global","Resumo Valor Global"],"not_rendered":{"charts":0,"images":3,"macros":1,"external_links":5,"defined_names":42,"comments":1,"pivot_tables":0},"unopened":[],"bounds":{"document_bytes":16777216,"sheet_cells":100000,"rows_first":2000,"rows_last":500,"rows_between":2000,"halvings":0,"cell_chars":16384,"cell_head_chars":4096},"cells_cut":0,"cells_raw":0,"read":"whole","date_system":"1900"}

{"sheet":"Apoio","index":0,"n_rows":33,"n_cols":13,"rows_kept":33,"cut":false,"hidden":true,"merged":[[25,6,25,7],[23,0,24,0],[14,0,14,4],[0,10,0,11],[14,6,14,11],[23,1,24,1],[23,2,23,7],[24,6,24,7],[1,10,1,11],[2,10,2,11],[3,10,3,11],[4,10,4,11],[5,10,5,11]]}
["Tipo de Joranda de Trabalho","Joranda de Trabalho Mensal","Dia Trabalhados no Mês",null,"Tributo","Lucro Real","Lucro Presumido","Sem Fins Lucrativos","Simples Nacional",null,"Período da semana",null,"Dia Trabalhados no Mês"]
["Escala 12x36 horas",180,15,null,"PIS",1.6500000000000001E-2,6.4999999999999997E-3,0,{"$f":"F26","v":0},null,"12x36 / Segunda a sábado",null,13.2188]
["44 horas semanais",220,21,null,"COFINS",7.5999999999999998E-2,0.03,0.01,{"$f":"E26","v":0},null,"12x36 / Integral",null,15.2188]
["40 horas semanais",200,21,null,"ISS",0.05,0.05,0,{"$f":"G26","v":0},null,"12x36 / Final de Semana",null,4.8449999999999998]
["36 horas semanais",180,25,null,"ISS",0.03,0.03,0,{"$f":"G26","v":0},null,"44 h / segunda a sexta-feira",null,20.7958]
["30 horas semanais",150,21,null,null,null,null,null,null,null,"44 h / segunda a sábado",null,24.7958]
["15 horas semanais (TQQ)",75,12,null,2,{"$f":"IF(E7=1,F1,IF(E7=2,G1,IF(E7=3,H1,I1)))","v":"Lucro Presumido"}]
[null,null,null,null,true,{"$f":"'Dados Proponente'!C30","v":0}]
[]
[null,null,null,null,null,"Folha de Pagamento","Receita Bruta"]
[null,null,null,null,"INSS",0.02,0.2,null,null,null,6,{"$f":"IF(K11=0,\"INDEFINIDO\",IF(K11=1,\"Brigadista\",IF(K11=2,\"Copeiragem\",IF(K11=7,\"Limpeza\",IF(K11=3,\"Manutenção\",IF(K11=4,\"Recepção\",IF(K11=5,\"Vigilância\",)))))))","v":0},{"$f":"IF(K11=0,\"INDEFINIDO\",IF(K11=6,\"Outros\",IF(K11=8,\"Motorista\")))","v":"Outros"}]
[null,null,null,null,2,{"$f":"IF(E12=0,0,IF(E12=1,F10,G10))","v":"Receita Bruta"}]
[]
[]
["ALÍQUOTAS E PARTILHA DO SIMPLES NACIONAL - RECEITAS DECORRENTES DA PRESTAÇÃO DE SERVIÇOS RELACIONADOS NO INCISO IV DO § 1º DO ART. 25",null,null,null,null,null,"PERCENTUAIS DE REPARTIÇÃO DOS TRIBUTOS"]
["Receita - Faixas","Limite Inferior","Limite Superior","Alíquota Nominal",6,null,"IRPJ","CSLL","Cofins","PIS/Pasep","CPP","ISS"]
["1ª faixa",0,180000,4.4999999999999998E-2,0,null,0.188,0.152,0.1767,3.8300000000000001E-2,0,0.44500000000000001]
["2ª faixa",180000.01,360000,0.09,8100,null,0.19800000000000001,0.152,0.20549999999999999,4.4499999999999998E-2,0,0.4]
["3ª faixa",360000.01,720000,0.10199999999999999,12420,null,0.20799999999999999,0.152,0.1973,4.2700000000000002E-2,0,0.4]
["4ª faixa",720000.01,1800000,0.14000000000000001,39780,null,0.17799999999999999,0.192,0.189,4.1000000000000002E-2,0,0.4]
["5ª faixa",1800000.01,3600000,0.22,183780,null,0.188,0.192,0.18079999999999999,3.9199999999999999E-2,0,0.4]
["6ª faixa",3600000.01,4800000,0.33,828000,null,0.53500000000000003,0.215,0.20549999999999999,4.4499999999999998E-2,"-",0]
[]
["RECEITA BRUTA DOS ÚLTIMOS 12 MESES ANTERIORES AO PERIODO DE APURAÇÃO ","alíquota efetiva","PERCENTUAIS EFETIVOS DOS TRIBUTOS"]
[null,null,"IRPJ","CSLL","COFINS","PIS","ISS"]
[{"$f":"'Dados Proponente'!C31","v":0},{"$f":"IF(A26=0,0,B32)","v":0},{"$f":"IF(A26<=180000,B26*G17, IF(A26<=360000,B26*G18, IF(A26<=720000,B26*G19,IF(A26<=1800000,B26*G20,IF(A26<=3600000,B26*G21,IF(A26<=4800000,B26*G22, \"excluido\"))))))","v":0},{"$f":"IF(A26<=180000,B26*H17, IF(A26<=360000,B26*H18, IF(A26<=720000,B26*H19,IF(A26<=1800000,B26*H20,IF(A26<=3600000,B26*H21,IF(A26<=4800000,B26*H22, \"excluido\"))))))","v":0},{"$f":"IF(A26<=180000,B26*I17, IF(A26<=360000,B26*I18, IF(A26<=720000,B26*I19,IF(A26<=1800000,B26*I20,IF(A26<=3600000,B26*I21,IF(A26<=4800000,B26*I22, \"excluido\"))))))","v":0},{"$f":"IF(A26<=180000,B26*J17, IF(A26<=360000,B26*J18, IF(A26<=720000,B26*J19,IF(A26<=1800000,B26*J20,IF(A26<=3600000,B26*J21,IF(A26<=4800000,B26*J22, \"excluido\"))))))","v":0},{"$f":"IF(A26<=180000,B26*L17, IF(A26<=360000,B26*L18, IF(A26<=720000,B26*L19,IF(A26<=1800000,B26*L20,IF(A26<=3600000,B26*L21,IF(A26<=4800000,B26*L22, \"excluido\"))))))","v":0}]
[]
["Alíquota",{"$f":"IF(A26<=180000,D17, IF(A26<=360000,D18, IF(A26<=720000,D19,IF(A26<=1800000,D20,IF(A26<=3600000,D21,IF(A26<=4800000,D22, \"excluido\"))))))","v":4.4999999999999998E-2}]
["Resultado (=)",{"$f":"A26*B28","v":0}]
["Parcela a deduzir",{"$f":"IF(A26<=180000,E17, IF(A26<=360000,E18, IF(A26<=720000,E19,IF(A26<=1800000,E20,IF(A26<=3600000,E21,IF(A26<=4800000,E22, \"excluido\"))))))","v":0}]
["Resultado - Parcela a deduzir",{"$f":"B29-B30","v":0}]
["Resultado (taxa efetiva)",{"$f":"TRUNC(ROUND(B31/A26,4),4)","v":{"$error":"#DIV/0!"}}]
["Resultado (taxa convertida em %)",{"$f":"B32*100","v":{"$error":"#DIV/0!"}}]

{"sheet":"GESTOR","index":1,"n_rows":20,"n_cols":3,"rows_kept":20,"cut":false,"hidden":false,"merged":[[19,2,19,4],[8,2,8,4],[12,2,12,4],[14,2,14,4],[16,2,16,4],[2,2,2,4],[4,2,4,4],[6,2,6,4],[10,2,10,4],[18,2,18,4]]}
[]
[]
[null,null,"ATENÇÃO GESTOR!"]
[]
[null,null,"Este arquivo é uma ferramenta de orientação no âmbito do TRT da 24ª Região"]
[]
[null,null,"Uma vez que a Planilha de Custos é obrigatória e indispensável na fase interna da licitação, após o preenchimento, ela deverá ser inserida nos autos do respectivo processo administrativo."]
[]
[null,null,"Esta ferramenta deverá ser devidamente adaptada para futura contratação, pois balizará não somente a proposta na licitação, mas também futuras análises de repactuação, reajuste ou revisão de preços."]
[]
[null,null,"Caso necessário, antes do preenchimento, a Seção de Compras da Coodenadoria de Material e Patrimônio poderá fornecer as instruções iniciais, tais como inclusão de postos, detalhamento ou inclusão de custos, etc. As Notas Explicativas fornecem algumas orientações."]
[]
[null,null,"Para evitar excesso de informações, não imprima as Instruções Iniciais para os Licitantes e Gestores e Notas Esplicativa. Após a leitura e elaboração da referida planilha, o Gestor da Contratação deverá ocultar esta Aba de Aviso, clicando com o botão direito do mouse sobre  aba \"GESTOR\" e em seguida \"Ocultar\"."]
[]
[null,null,"Este documento contém diversas Fórmulas, Macros e Recursos para automatizar o  preenchimento. Para evitar exclusão ou alteração acidental desses recursos, todas as planilhas constantes deste arquivo estão bloqueadas com senha. Caso Necessário, o Gestor deverá entrar em contato com a Seção de Compras da Coordenadoria de Material e Patrimônio para auxilia-lo."]
[]
[null,null,"Reforçamos que, em hipótese alguma, as Abas, Conteúdos, Linhas ou Colunas deste arquivo poderão ser excluidas. Caso necessário, o Gestão deverá ocultar o conteúde dispensável."]
[]
[null,null,"TRIBUNAL REGIONAL DO TRABALHO DA 24ª REGIÃO"]
[null,null,"Edição: Março / 2021 - Versão nº 1"]

{"sheet":"LICITANTE","index":2,"n_rows":18,"n_cols":5,"rows_kept":18,"cut":false,"hidden":false,"merged":[[17,2,17,4],[16,2,16,4],[8,2,8,4],[14,2,14,4],[2,2,2,4],[6,2,6,4],[12,2,12,4],[4,2,4,4]]}
[]
[]
[null,null,"ATENÇÃO LICITANTE!"]
[]
[null,null,"ESTA PLANILHA DE CUSTOS E FORMAÇÃO DE STA PLANILHA DE CUSTOS E FORMAÇÃO DE PREÇOS, ELABORADA EM ACORDO COM A NOVA IN 05/2017-SEGES/MP, FOI CONFIGURADA COM A FINALIDADE DE AUXILIAR O LICITANTE NO SEU PREENCHIMENTO."]
[]
[null,null,"É DEVER E RESPONSABILIDADE EXCLUSIVA DA LICITANTE ASSEGURAR-SE DE QUE OS VALORES E CÁLCULOS INSERIDOS EM SUA PROPOSTA ESTEJAM CORRETOS."]
[]
[null,null,"INSTRUÇÕES DE PREENCHIMENTO"]
[]
[null,null,"Insira dados apenas nas células com fundo","AMARELO","."]
[]
[null,null,"Deverão atentar-se às orientações do Edital e das Notas Explicativas."]
[]
[null,null,"As planilhas constantes neste arquivo estão bloqueadas para evitar digitação em células com fórmulas."]
[]
[null,null,"TRIBUNAL REGIONAL DO TRABALHO DA 24ª REGIÃO"]
[null,null,"Edição: Março / 2021 - Versão nº 1"]

{"sheet":"Notas Explicativas","index":3,"n_rows":133,"n_cols":7,"rows_kept":133,"cut":false,"hidden":false,"merged":[[130,2,130,6],[131,2,131,6],[132,1,132,6],[122,4,122,6],[123,4,123,6],[125,4,125,6],[126,4,126,6],[128,1,128,6],[129,1,129,6],[115,4,116,6],[117,1,117,6],[119,1,119,2],[119,4,119,6],[120,4,120,6],[121,4,121,6],[109,1,109,6],[110,1,110,6],[111,1,111,6],[113,1,113,3],[113,4,113,6],[114,2,114,3],[114,4,114,6],[105,1,105,2],[105,3,105,6],[106,1,106,2],[106,3,106,6],[107,1,107,6],[108,1,108,6],[99,1,99,6],[100,1,100,6],[101,1,101,6],[102,2,102,6],[103,2,103,6],[104,2,104,6],[95,4,95,5],[96,1,96,2],[96,4,96,5],[97,4,97,5],[98,1,98,2],[98,4,98,5],[90,1,92,1],[90,2,92,2],[90,3,92,3],[90,4,92,4],[93,4,93,5],[94,1,94,2],[94,4,94,5],[84,4,84,5],[85,4,85,5],[86,4,86,5],[87,4,87,5],[88,4,88,5],[89,4,89,5],[77,1,77,6],[78,1,78,6],[79,1,79,6],[80,1,80,6],[81,1,81,6],[83,1,83,2],[83,4,83,5],[72,4,72,5],[73,4,73,5],[74,1,74,2],[75,1,75,2],[75,4,75,5],[76,1,76,6],[65,4,65,5],[66,4,66,5],[68,4,68,5],[69,4,69,5],[70,4,70,5],[71,4,71,5],[55,2,55,3],[59,1,59,6],[60,1,60,6],[61,1,61,6],[62,1,62,6],[64,1,64,2],[64,4,64,5],[47,1,47,6],[48,1,48,6],[49,1,49,6],[50,1,50,6],[51,1,51,6],[54,1,54,2],[54,4,54,6],[42,4,42,6],[43,4,43,6],[44,4,44,6],[45,1,45,2],[45,4,45,6],[46,1,46,6],[36,4,36,6],[37,4,37,6],[38,4,38,6],[39,4,39,6],[40,4,40,6],[41,4,41,6],[31,1,31,6],[32,1,33,6],[35,1,35,2],[35,4,35,6],[19,1,19,6],[20,1,20,6],[21,1,21,6],[24,1,24,2],[24,4,24,5],[25,4,25,5],[29,4,29,5],[9,3,9,5],[10,3,10,5],[11,3,11,5],[12,3,12,5],[13,1,13,6],[14,1,14,6],[30,1,30,6],[1,1,1,6],[2,1,2,6],[4,1,4,2],[4,3,4,5],[5,3,5,5],[6,3,6,5],[7,3,7,5],[16,1,16,6],[15,1,15,6],[17,1,17,6],[18,1,18,6],[8,3,8,5],[26,4,26,5],[27,1,27,2],[27,4,27,5],[28,4,28,5],[29,1,29,2]]}
[]
[null,"Planilha Analítica de Custos e Formação de Preços"]
[null,"NOTAS EXPLICATIVAS"]
[]
[null,"Módulo 1 - Composição da Remuneração",null,"Memória de cálculo",null,null,"Fundamento"]
[null,"A","Salário Base (1)",null,null,null,"Artigo 457 e 458 da CLT."]
[null,"B","Adicional de Periculosidade ","Salário Base x 30%",null,null,"Súmula 132 TST. Artigo 193 a 197 da CLT. Artigo 7º, inciso XXIII da CF. NR 16 do MTE."]
[null,"C","Adicional de Insalubridade ","Salário Mínimo ou Base estipulado em instrumento coletivo (2) x (10%, 20% ou 40%)",null,null,"Regras do instrumento coletivo da categoria, se houver. Artigo 189 a 192 da CLT (10%, 20% ou 40%). NR 15 do MTE. Súmula nº. 139 do TST."]
[null,"D","Adicional Noturno ","(Salário base + adicionais periculosidade/insalubridade) ÷ 220h (conforme jornada de trabalho da categoria) x 20% x qtde. de hs noturnas).",null,null,"Artigo 73 da CLT e artigo 7º, inciso IX da CF. Súmula nº 60 do TST e OJ-SDI1-259 do TST."]
[null,"E","Hora Extra Habitual (3)","(Salário base + adicionais periculosidade/insalubridade/noturno) ÷ 220h (conforme jornada de trabalho da categoria) x 50% x qtde. de hs extras).",null,null,"Artigo 7º, inciso XVI, da CF/88. Artigo 59 da CLT. Súmulas 60 e 132 TST."]
[null,"F","Sobreaviso","Salário hora de sobreaviso (4) x Quantitativo total de horas estimadas de sobreaviso",null,null,"Regras do instrumento coletivo da categoria, se houver (conforme incs. III e VIII do art. 611-A da CLT, o instrumento coletivo de trabalho tem prevalência sobre a lei). Artigo 244 da CLT. Súmula n. 428 do TST."]
[null,"G","Adicional de Feriado Trabalhado ","[(Salário base+adicionais previstos em lei ou CCT, se houver) ÷ 220h (conforme jornada de trabalho da categoria)] x qtde. de horas diárias (limitada a 10h, conforme Súmula 444 TST) x qtde. de feriados x PARCELA TRABALHADA(5) ÷ 12 meses)",null,null,"Somente se houver previsão em CCT/ACT, pois se considera compensado nos termos do art. 59-A da CLT."]
[null,"I","Intervalo Intrajornada (6)","(Salário base+adicionais previstos em lei ou CCT, se houver ÷ 220h (conforme jornada de trabalho da categoria) x 1,5 x qtde. de horas)",null,null,"Regras do instrumento coletivo da categoria, se houver (conforme incs. III e VIII do art. 611-A da CLT, o instrumento coletivo de trabalho tem prevalência sobre a lei). Artigo 71 da CLT. Lei 8.121/1991."]
[null,"(1) Salário Base: Salário mensal definido em acordo, dissídio ou convenção coletiva de trabalho no momento da publicação do edital, exceto se houver estipulação de valores mínimos de remuneração dos trabalhadores pelo Tribunal, quando houver necessidade de afastar o risco de selecionar colaboradores com capacitação inferior à necessária para a execução dos serviços, por meio de pesquisas de mercado, de dados obtidos junto a associações e sindicatos de cada categoria profissional e de informações divulgadas por outros órgãos públicos que tenham recentemente contratado o mesmo tipo de serviço. De acordo com o TCU, a fixação de remuneração mínima no edital somente é cabível, com restrições,  nos casos de terceirização de mão de obra com alocação de postos de trabalho. Importante ainda que, como a planilha de custos é baseada em empregados mensalistas, consideram-se já remunerados os dias de repouso semanal no salário mensal nos termos do § 2º do art. 7º da Lei 605/1949."]
[null,"(2) Adicional de Insalubridade - Os percentuais definidos pelo art. 192 da CLT, segundo as classificações nos graus máximo, médio e mínimo, devem ser calculados com base no salário mínimo, salvo critério mais vantajoso estabelecido em lei ou em instrumento coletivo de trabalho (Súmula Vinculante n. 4). O direito ao recebimento do adicional somente pode ser reconhecido mediante laudo pericial que aponte estar a atividade insalubre prevista na relação oficial elaborada pelo Ministério do Trabalho, tal como definido pela NR-15 da Portaria n. 3.214 de 1978. "]
[null,"As rubricas pertinentes ao adicional noturno, hora extra, sobreaviso, adicional de feriado trabalhado e intervalo intrajornada, não devem ser adotadas como regra na planilha, devendo sempre sua exigência estar justificada nos estudos preliminares. Como tais rubricas dependem de justificativas prévias, a análise delas será efetuada a cada caso concreto, por ocasião da aprovação das minutas de editais de que trata o parágrafo único do art. 38 da Lei n. 8.666, de 1993. Sendo assim, as informações dispostas nesta planilha somente são para fins orientadores nestes casos específicos."]
[null,"(3) Hora Extra Eventual - As horas extras podem ser ordinárias (habituais) ou eventuais. Se ordinárias, seu custo será aportado na planilha e integrará o valor mensal a ser pago pela prestação do serviço. Se eventuais, o Edital deverá disciplinar o pagamento em forma apartada mediante ocorrência (fato gerador) com base nos seguintes dados: previsão estimada, necessidade eventual de sua realização mediante aprovação pelo fiscal/gestor e pagamento no mês de sua ocorrência. O memorial de cálculo deverá fazer parte do custo estimado da contratação."]
[null,"(4) Detalhamento do custo estimado do Sobreaviso:"]
[null,"Salário hora de sobreaviso = Salário hora normal (sem adicionais) ÷ 3. "]
[null,"Salário hora normal = Salário ÷ 220 (conforme jornada de trabalho da categoria) "]
[null,"(5) Adicional de Feriado Trabalhado - PARCELA TRABALHADA: A parcela trabalhada indica a proporção dos feriados que serão trabalhados e portanto remunerados com o adicional. Para a jornada de 44 horas semanais, esta parcela é 0 pois é pressuposto que os feriados não são dias de trabalho para o contratante. Já na jornada de 12x36 horas, a parcela trabalhada é de 50% que corresponde ao percentual dos trabalhadores que estarão laborando no feriado."]
[null,"(6) Intervalo Intrajornada: Nessa rubrica deve estar prevista a verba adicional para o empregado que trabalha normalmente no período destinado ao seu intervado para repouso/alimentação. Caso a empresa prestadora deva disponibilizar jantista/almocista, garantindo que o empregado usufrua o intervalo para repouso e alimentação, este custo deverá ser aportado no Módulo 4.5.f. Conforme nova redação dada ao art. 71 da CLT pela Lei n. 13.467/2017, o pagamento de adicional de intrajornada não possui mais natureza salarial e sim indenizatória (não é mais base de cálculo para encargos trabalhistas). Entretanto, a Lei n. 8.212, de 24 de julho de 1991, que dispõe sobre a organização da Seguridade Social e institui o Plano de Custeio, em seu artigo 28, § 9º, apresenta um rol de importâncias, parcelas e benefícios que não integram o salário de contribuição, sem contemplar o intervalo intrajornada. Desse modo, o adicional de intrajornada, embora não integre a base de cálculo para incidência dos encargos trabalhistas, integra o salário de contribuição, para fins previdenciários. A planilha não autorizará o preenchimento do item I quando já houver indicação de custo no Módulo 4.5.f. Ou seja, deve-se computar a o custo adicional para o empregado (Módulo 1.I) ou para o substituto (Módulo 4.5.f) quando houver necessidade de prestação de serviço durante o intervalo para repouso/alimentação."]
[]
[]
[null,"Submódulo 2.1 - 13º Salário e Adicional de Férias",null,"%","Memória de cálculo",null,"Fundamento"]
[null,"A","13º Salário (1)",{"$f":"1/12","v":8.3333333333333329E-2},"((1/12) x 100) ≅ 8,33%",null,"Art. 7º, VIII, CF/88. Decreto n. 57.155, de 3/11/1965"]
[null,"B","Adicional de Férias (2)",{"$f":"D26*1/3","v":2.7777777777777776E-2},"((1/3) x (1/12) x 100) ≅ 2,78%",null,"Art. 7º, XVII, CF/88; "]
[null,"Subtotal do 13º salário e adicional de férias",null,{"$f":"SUM(D26:D27)","v":0.1111111111111111}]
[null,"C","Incidência dos encargos previstos no Submódulo 2.2 sobre 13º (décimo terceiro) salário",{"$f":"D46","v":0.3680000000000001},"20,00% + 1,5% + 1,00% + 0,20% + 2,50% + 8,00% + 3,00% + 0,60%",null,"Anexo III-A da Instrução Normativa nº 2, de 30 de abril de 2008"]
[null,"Total do 13º salário, adicional de férias e Incidência dos encargos"]
[null,"Estudos do CNJ – Resolução nº 98/2009"]
[null,"(1) 13º Salário - Gratificação de Natal, instituída pela Lei nº 4.090, de 13 de julho de 1962. O percentual dessa rubrica pode ser obtido pelo cálculo: ((1/12) x 100) = 8,33%."]
[null,"(2) Abono de Férias - A Constituição Federal, em seu art. 7º, inciso XVII, prevê que as férias sejam pagas com adicional de, pelo menos, 1/3 (um terço) da remuneração do mês. Assim, a provisão para atender as despesas relativas ao abono de férias corresponde a: ((1/3)*(1/12) x 100) = 2,78%."]
[]
[]
[null,"Submódulo 2.2 - Encargos Previdenciários e FGTS e Outras Contribuições",null,"%","Fundamento"]
[null,"A","INSS (20% ou 0% no caso de opção pela CPRB (1))",0.2,"Art. 22, Inciso I, da Lei nº 8.212/91. (3) Lei 13.161/2015 - Contribuição Previdenciária sobre a Receita Bruta (CPRB)"]
[null,"B","SESI ou SESC",1.4999999999999999E-2,"Anexo II da IN RFB n. 971/09; art. 30 da Lei n° 8.036/90; art. 1°da Lei n° 8.154/90; art. 240 da Constituição Federal."]
[null,"C","SENAI ou SENAC",0.01,"Anexo II da IN RFB n. 971/09; Decreto n.º 2.318/86"]
[null,"D","INCRA",2E-3,"Anexo II da IN RFB n. 971/09; Lei n.º 7.787/89; DL n.º 1.146/70; Lei Complementar nº 11/71."]
[null,"E","Salário Educação",2.5000000000000001E-2,"Anexo II da IN RFB n. 971/09; art. 3°, inciso I do Decreto n° 87.043/1982; art. 15 – Lei nº 9.424/96; art. 1º § 1º - Decreto Nº 6.003/2006; art. 212 § 5º da Constituição Federal; Súmula Nº 732 do STF."]
[null,"F","FGTS",0.08,"Art. 15, Lei nº 8.036/90 e Art. 7º, III,"]
[null,"G","GIIL/RAT = RAT (1%, 2% ou 3%) x FAP (0,5 a 2,00) (2)",0.03,"Anexo V do Regulamento da Previdência Social – RPS (Decreto n. 3.048/1999) e regras de enquadramento dispostas na Instrução Normativa RFB n. 971/2009 e/ou legislação superveniente. Súmula 351 do STJ."]
[null,"H","SEBRAE",6.0000000000000001E-3,"Anexo II da IN RFB n. 971/09. Art. 8º, Lei n.º 8.029/90 e Lei n.º 8154/90"]
[null,"I","PIS sobre Folha de Pagamento (3)",0,"Art. 2º, I, \"a\", do Decreto 4.524/2002. Solução de Consulta COSIT/RFB n.  6.013/2017."]
[null,"Total dos encargos previdenciários e FGTS",null,{"$f":"SUM(D37:D45)","v":0.3680000000000001}]
[null,"Os valores dos encargos apresentados na planilha são calculados sobre os totais do Módulo 1 e Submódulo 2.1, mantendo o padrão da IN SG/MPDG n. 05/2017. Nos demais módulos e submódulos, há somente registro da incidência do submódulo 2.2."]
[null,"(1) Devido a aplicação da Lei 13.161/2015 (Desoneração da folha de pagamento), a contribuição previdenciária patronal (INSS) poderá não ser calculada no Submódulo 2.2, sendo substituída por alíquota diferenciada de acordo com a atividade, incidindo sobre o faturamento (compondo o módulo 5)."]
[null,"(2) GILL/RAT é a sigla correspondente à Contribuição do Grau de Incidência de Incapacidade Laborativa decorrente dos Riscos Ambientais do Trabalho (o antigo Seguro de Acidente de Trabalho - SAT). A contribuição GILL/RAT é apurada por meio de um indicador criado pela Receita Federal: o RAT Ajustado. Sendo assim, em regra, considera-se para fins de definição da planilha modelo que GILL/RAT = SAT = RAT Ajustado. O cálculo do RAT ajustado é feito mediante aplicação da fórmula: RAT ajustado = RAT x FAP. A aplicação mínima ou máxima do FAP (0,5 a 2,00) sobre as alíquotas do RAT (1% a 3%) levará o percentual ajustado do RAT a uma variação entre 0,5% a 6%. A licitante deve preencher o item G do Submódulo 2.2 das planilhas analíticas de custos e formação de preços com o valor de seu RAT ajustado comprovando o percentual indicado no momento da apresentação da proposta na forma prescrita no edital e nestas notas explicativas."]
[null," - RAT (Riscos Ambientais do Trabalho) contém as alíquotas de 1%, 2% ou 3%, apurada com base na atividade preponderante da empresa (CNAE), deverá ser esclarecida e comprovada quando solicitado pelo pregoeiro, conforme Anexo V do Regulamento da Previdência Social – RPS (Decreto n. 3.048/1999) e regras de  enquadramento dispostas na Instrução Normativa RFB n. 971/2009 e/ou legislação superveniente."]
[null," - FAP (Fator Acidentário de Prevenção) multiplicador variável num intervalo de 0,5 a 2,00 calculado anualmente pelo INSS considerando o número de acidentes do trabalho e doenças profissionais de cada empresa (Decreto nº 6.957/2009). Essa alíquota deverá ser comprovada mediante a apresentação do multiplicador FAP (FapWeb) vigente no momento da contratação, cujo valor é obtido no site da previdência social por meio de acesso individual da proponente."]
[null,"(3) ENTIDADE SEM FINS LUCRATIVOS: Para essas organizações, não há recolhimento de PIS e COFINS sobre as receitas referentes às atividades próprias. No que diz respeito ao PIS há recolhimento de 1% sobre a folha de salários, devendo esta alíquota ser incluída no item I do Submódulo 2.2. Nas planilhas de custos, deverão ser reexibidas as linhas correspondentes para visualização do total do Submódulo 2.2. Em relação à Cofins, caso a entidade auferir outras receitas que não seja resultado da atividade própria sobre este valor terá de calcular 7,6%. Esta receita deve ser tributada com base no sistema não cumulativo da contribuição (Lei nº 10.833/2003). Assim, uma associação sem Fins Lucrativos terá de apurar:\n1,65% - a título de PIS-Sobre folha; e\n7,6% de Cofins não cumulativo, sobre as receitas não derivadas de atividades próprias da associação. Isto porque as atividades próprias gozam de isenção.\n \n A linha correspondente ao campo “I – PIS sobre Folha de Pagamento\" deverá ser reexibida nas planilhas analíticas (abas \"P1\", \"P2\", etc), quando do preenchimento da planilha, se for o caso."]
[]
[]
[null,"Submódulo 2.3 - Benefícios Mensais e Diários (1)",null,null,"Fundamento"]
[null,"A","Vale-Transporte",null,"Artigo 4º, § único, da Lei nº 7.418/85 e art. 9º do Decreto nº 95.247/87."]
[null,"B","Auxílio-Alimentação",null,"Artigo 458, §§ 2º e 3º, da CLT, Lei nº 6.321/76, Decreto nº 5/91 e CCT."]
[null,"C","Assistência Médica",null,"Artigo 458, inciso IV da CLT e CCT"]
[null,"D","Assistência Odontológica",null,"Artigo 458, inciso IV da CLT e CCT"]
[null,"(1)  Deve ser observado o instrumento coletivo para a fixação do percentual de desconto do empregado na hipótese do auxílio-alimentação e vale-transporte. No caso de auxílio-alimentação, deve ser exigido o comprovante de inscrição no Programa de Alimentação do Trabalhador - PAT. A OJ  na Seção de Dissídios Individuais I (SDI 1) n. 133 reza que a alimentação fornecida via PAT não integra o salário para nenhum efeito legal. "]
[null,"Não serão autorizadas, conforme orientação constante do Ofício nº 0443427 – SG constante no Processo n. 013346/2018 encaminhado pelo Conselho Nacional de Justiça, a cotação de valores na Planilha de Custos decorrentes de cláusulas de instrumentos coletivos que disponham: 1. Participação dos trabalhadores nos lucros ou resultados da empresa contratada; 2. Matéria não trabalhista, como por exemplo, o auxílio funeral ou seguro de vida; 3. Direitos não previstos em lei, como por exemplo, valores ou índices obrigatórios de encargos sociais ou previdenciários; 4. Preços para os insumos relacionados ao exercício da atividade; 5. Obrigações e direitos que somente se aplicam aos contratos com Administração ou que não são de concessão obrigatória a todos trabalhadores abrangidos pelo instrumento coletivo."]
[null,"Ainda pertinente à ultima vedação, não pode ser admitido, com relação à assistência médica e odontológica, cláusulas de instrumentos coletivos que dividam as categorias profissionais em duas espécies diferentes de trabalhadores, sem critério razoável de discriminação: os profissionais “terceirizados” e os “não terceirizados”. A CCT não pode estabelecer obrigações diretas a terceiros, que dela não fazem parte, uma vez que a Administração Pública não se sujeita a obrigações a ela imposta por pactos dos quais não participou diretamente."]
[null,"Caso o intrumento coletivo regente de cada categoria profissional não infrija as regras acima, os campos referentes aos benefícios como assitência médica e outros deverão ser reexibidos para o adequado preenchimento."]
[]
[null,"Módulo 3 - Provisão para Rescisão",null,"%","Memória de cálculo",null,"Fundamento"]
[null,"A","Aviso Prévio Indenizado (1)",4.1666666666666666E-3,"((0,05 x (1/12) x 100) ≅ 0,42%",null,"Art. 7º, XXI, CF/88. Art. 477, 487 e 491 da CLT. Lei n. 12.506/2011."]
[null,"B","Incidência do FGTS sobre o Aviso Prévio Indenizado",3.3333333333333332E-4,"((0,08 x 0,0042) x 100) ≅ 0,03%",null,"Súmula 305 TST."]
[null,"C","Multa do FGTS sobre o Aviso Prévio Indenizado (2)",3.4399999999999993E-2,"0,08 x 0,4 x 0,9 x [1 + 1/12 + 1/12 + (1/3 x 1/12)] ≅ 3,44%",null,"Art. 18 da Lei 8.036/90. Art. 12 da Lei 13.932/2019."]
[null,"D","Aviso Prévio Trabalhado (3)",1.2444444444444444E-2,"{[(7/30) + (7/30 x 0,1 x 8/12)] / 20}  x 100) ≅  1,24%",null,"Art. 7º, XXI, CF/88, 477,487 e 491 CLT. Acórdãos n. 1904/2007-TCU-Plenário e n. 3006/2010-TCU-Plenário "]
[null,"D.1","Aviso Prévio Trabalhado após 20 meses de vigência (Prorrogação)",1.9444444444444444E-3,"{[(7/30 x 0,1) + (7/30 x 0,1 x 8/12)] / 20}  x 100) ≅  0,194%",null,"Lei 12.506/2011. Acórdão n. 1186/2017-TCU-Plenário"]
[null,"E","Incidência do submódulo 2.2 sobre o Aviso Prévio trabalhado",4.5795555555555563E-3,"((0,3680 x 0,0124) x 100) ≅  0,46%",null,"Acórdãos n. 1904/2007-TCU-Plenário e n. 3006/2010-TCU-Plenário "]
[null,"E.1","Incidência do submódulo 2.2 sobre o Aviso Prévio Trabalhado após 20 meses de vigência (Prorrogação)",7.1555555555555576E-4,"((0,3680 x 0,00194) x 100) ≅  0,07%",null,"Lei 12.506/2011. Acórdão n. 1186/2017-TCU-Plenário"]
[null,"F","Multa do FGTS sobre Aviso Prévio Trabalhado (4)",3.9822222222222223E-4,"((0,0124 x 0,08) x 0,4 x 100) ≅  0,040%",null,"Art. 12 da Lei 13.932/2019. Acórdãos n. 1904/2007-TCU-Plenário e n. 3006/2010-TCU-Plenário "]
[null,"F.1","Incidência do submódulo 2.2 sobre o Aviso Prévio Trabalhado após 20 meses de vigência (Prorrogação)",6.2222222222222233E-5,"((0,00194 x 0,08) x 0,4 x 100) ≅  0,006%",null,"Lei 12.506/2011. Acórdão n. 1186/2017-TCU-Plenário"]
[null,"Total da provisão para rescisão - 20 primeiros meses",null,5.6322222222222218E-2,"A+B+C+D+E+F"]
[null,"Total da provisão para rescisão - após a primeira prorrogação",null,4.1622222222222206E-2,"A+B+C+D.1+E.1+F.1"]
[null,"(1) Aviso Prévio Indenizado - Trata-se de valor devido ao empregado no caso de o empregador rescindir o contrato sem justo motivo e sem lhe conceder aviso prévio, conforme disposto no § 1º do art. 487 da CLT. De acordo com levantamento efetuado em diversos contratos, cerca de 5% do pessoal é demitido pelo empregador, antes do término do contrato de trabalho. Cálculo ((1/12)x 0,05) x 100 ≅ 0,42%."]
[null,"(2) Multa do FGTS sobre o Aviso Prévio Indenizado - rescisão sem justa causa: Esse item corresponde ao valor da multa do FGTS (40%) que incide sobre o saldo dos depósitos efetuados na conta vinculada ao FGTS do trabalhador. Considera-se que 10% dos empregados pedem contas, portanto, essa penalidade recai sobre os 90% remanescentes. Logo o pagamento da multa para os valores depositados relativos a salários, férias e 13º salário corresponde a: 0,08 x 0,4 x 0,9 x [1 + 1/12 + 1/12 + (1/3 * 1/12)] ≅ 3,44%. "]
[null,"(3) Aviso Prévio Trabalhado - redução de 7 dias ou de 2h por dia. Percentual relativo aos primeiros doze meses de vigência (7dias de ausências / 30 dias) x 100 = 23,33% para 30 dias de aviso prévio no primeiro ano. Após o primeiro ano, o percentual corresponderá a 2,33% a cada ano uma vez que a Lei 12.506/2011 dispõe o acréscimo de 3 dias de aviso prévio ou 0,7 dias de ausências por ano de serviço prestado até o máximo de 60 dias. Ou seja, um décimo do valor máximo admitido pelo Acórdão 3006/2010-TCU-Plenário, conforme ditames da Lei 12.506/2011 e Acórdão 1.186/2017 - TCU-Plenário. "]
[null,"(4) Multa do FGTS do aviso prévio trabalhado: o custo do aviso prévio trabalhado é acrescido da multa do FGTS (40%) que incide sobre a alíquota do FGTS (8%) aplicada sobre o custo de referência para o aviso trabalhado."]
[null,"(5) O art. 12 da Lei n. 13.932/2019 extiguiu a cobraça da contribuição de 10% devida pelos empregadores em caso de despedida sem justa causa (art. 1º da Lei Complementar 110/2001). Sendo assim, o adicional que era previsto nos itens \"C\" e \"F\" com o título \"Multa do FGTS e contribuição social sobre Aviso Prévio [...]\" passou a ser denominado somente de \"Multa do FGTS sobre Aviso Prévio [..]\""]
[null,"OBS: Os valores das rubricas Aviso Prévio Trabalhado, Incidência do submódulo 2.2 sobre o Aviso Prévio Trabalhado e Multa do FGTS do Aviso Prévio Trabalhado serão reduzidos a partir da primeira prorrogação de vigência do contrato conforme itens D.1, D.2 e D.3 da memória de cálculo nos termos do Acórdão 1.186/2017 - TCU-Plenário. "]
[]
[null,"Módulo 4 - Custo de Reposição do Profissional Ausente",null,"%","Memória de cálculo",null,"Fundamento"]
[null,"A","Substituição durante férias (1)",0,"((1/12) x 100) ≅ 8,33%",null,"Art. 129 e 130 CLT."]
[null,"B","Substituição durante ausência por doença (2)",{"$f":"5/30/12","v":1.3888888888888888E-2},"((5/30) /12) x 100) ≅ 1,39%",null,"Art.131 , inciso III, da CLT. Art. 476 da CLT, art. 6º, §1º, alínea \"f\", da Lei n. 605, de 1949, e  art. 12, alínea \"f\", do Decreto n. 27.048, de 1949."]
[null,"C","Substituição durante licença maternidade (3)",{"$f":"0.02353*0.1111*0.5","v":1.3070915E-3},"0,1111 x 0,02353 x 0,5 x100 ≅ 0,13%",null,"Art. 7º inc. XVIII, CF, Lei 8.213/91, art. 72 e Lei 11770/2008. Lei n. 13.527/2016."]
[null,"D","Substituição durante licença paternidade (4)",{"$f":"5/30/12*0.015","v":2.0833333333333332E-4},"(((5/30) /12) x 0,015 x 100) ≅ 0,02%",null,"Art. 7º, inciso XIX da CF. §1º do artigo 10 do ADCT. Lei n. 13.527/2016"]
[null,"E","Substituição durante ausências legais (5)",{"$f":"1/30/12","v":2.7777777777777779E-3},"(((1/30) /12) x 100) ≅ 0,28%",null,"Art. 82 e 473 da CLT"]
[null,"F","Substituição durante ausência por acidente de trabalho (6)",{"$f":"1/12*0.0078","v":6.4999999999999997E-4},"(((30/30) /12) x 0,0078 x 100) ≅ 0,07%",null,"Art. 27 do Dec. 89312/84, Art. 131 da CLT e MP. 664/2014"]
[null,"G","Substituição durante intervalo de repouso e alimentação(7)",6.8181818181818177E-2,"((1/220) x 1 x 15) x 100  ≅ 6,82%",220,"Total de horas na jornada de trabalho mensal"]
[null,null,null,null,null,15,"Total de dias estimados de substituição mensal"]
[null,null,null,null,null,1,"Total de horas para repouso durante a jornada"]
[null,"H","Outros (especificar)",0]
[null,"Subtotal (sem item \"g\", por padrão)",null,{"$f":"SUM(D85:D90)","v":1.8832091499999998E-2},{"$f":"\"obs: Com o item 'g' o Subtotal ≅ \"&TEXT(SUM(D85:D93),\"0,00%\")","v":"obs: Com o item 'g' o Subtotal ≅ 8,70%"}]
[null,"I","Proporcional de Férias, 1/3 e 13º sobre custo de reposição (exceto licença maternidade) (8)",{"$f":"(D95-D87)*(1/12+1/12+(1/12*1/3))","v":3.4076388888888884E-3},{"$f":"\"(\"&TEXT(D95,\"0,0000\")&\" - \"&TEXT(D88,\"0,0000\")&\") x [1/12+1/12+(1/12 x 1/3)] x 100 ≅ \"&TEXT(D96,\"0,00%\")","v":"(0,0188 - 0,0002) x [1/12+1/12+(1/12 x 1/3)] x 100 ≅ 0,34%"}]
[null,"Subtotal antes de incidência do Submódulo 2.2 (sem item \"g\", por padrão)",null,{"$f":"SUM(D95:D96)","v":2.2239730388888886E-2},{"$f":"\"obs: Com o item 'g' o Subtotal ≅ \"&TEXT((SUM(D85:D93)-D87)*(1+(1/12+1/12+(1/12*1/3))),\"0,00%\")","v":"obs: Com o item 'g' o Subtotal ≅ 10,24%"}]
[null,"J","Incidência do submódulo 2.2 sobre custo de reposição",{"$f":"D46*D97","v":8.1842207831111114E-3},{"$f":"\"(0,3680 x \"&TEXT(D95,\"0,0000\")&\") x 100 ≅ \"&TEXT(D98,\"0,00%\")","v":"(0,3680 x 0,0188) x 100 ≅ 0,82%"}]
[null,"Total do custo de reposição do profissional ausente (sem item \"g\", por padrão)",null,{"$f":"SUM(D97:D98)","v":3.0423951171999995E-2},{"$f":"\"obs: Com o item 'f' o Subtotal ≅ \"&TEXT((SUM(D85:D93)-D87)*(1+(1/12+1/12+(1/12*1/3)))*(1+D46),\"0,00%\")","v":"obs: Com o item 'f' o Subtotal ≅ 14,00%"}]
[null,"(1) Caso o contrato preveja substituição do empregado em férias, para que o posto não fique descoberto a empresa deverá repor o profissional ausente por meio de profissional subtituto ao qual deverá retribuir com a mesma remuneração do titular. A estimativa do percentual dessa rubrica a ser aplicado sobre a remuneração mensal do titular pode ser obtido pelo cálculo: (1/12) x 100 = 8,33%."]
[null,"(2) Estimativa de 5 (cinco) dias de licença por ano."]
[null,"(3) Custo Estimado com licença maternidade = Custo Efetivo de Afastamento Maternidade x Número Estimado de Ocorrências x Rateio do Custo durante um ano"]
[null,null,"Custo Efetivo de Afastamento Maternidade: Durante a licença, o salário maternidade e a parcela do décimo terceiro salário correspondente ao período da licença é custeado pelo INSS (Art. 86 da IN RFB 971/2009). Cabe à empresa a provisão relativa a férias (1/12) e adicional de férias (1/3 x 1/12) e as contribuições previdenciárias sobre o período de licença conforme entendimento do próprio STJ (REsp 1230957/RS, Rel. Ministro MAURO CAMPBELL MARQUES, PRIMEIRA SEÇÃO, julgado em 26/02/2014, DJe 18/03/2014). A remuneração do substituto, acrescida de todos os encargos, é justamente a remuneração da trabalhadora substituída no período (vide Módulo 1 e Submódulo 2.2). Portanto o custo do afastamento é dado pela seguinte fórmula aplicada sobre a remuneração: [(1/12) + (1/3 x 1/12)] x 100  ≅ 11,11%"]
[null,null,"Número Estimado de Ocorrências: Conforme Anuário Estatístico da RAIS, elaborado pelo Ministério do Trabalho, as mulheres representaram cerca de 42,25% ≅ do total de empregos no Mato Grosso do Sul em 2019 (280.863 do total de 664.746). Já o Anuário Estatístico da Previdência Social dispõe que foi concedida a quantidade de 15.646 salários-maternidade no âmbito do Mato Grosso do Sul em 2019. Essa quantidade representa cerca de 5,57% ≅ do total de mulheres empregadas no Mato Grosso do Sul no mesmo período. Portanto, a estimativa de uma determinada empregada usurfruir 6 (seis) meses de licença a cada ano de execução contratual é de 0,4225 x 0,0557 x 100  ≅ 2,35% de empregadas afastadas."]
[null,null,"Rateio do Custo durante Vigência Contratual: Divisão proporcional do custo de 6 (seis) meses de licença por ano (base do % de ocorrências): (6 meses de licença) ÷ (12 meses) x 100 = 50%"]
[null,"Clique aqui para consultar o Anuário RAIS do Ministério do Trabalho",null,"Selecione \"Empregos em 31/12\", depois \"Por Área Geográfica e Sexo\" e depois os atributos \"Ano igual a 2019\"; \"Região Natural igual a Centro-Oeste\"; \"UF igual a 53 - Mato Grosso do Sul\"."]
[null,"Clique aqui para consultar o Anuário Estatístico da Previdência Social ",null,"Clicar em 2019: \"Tabelas HTML\". No arquivo que abrir, clique na pasta \"AEPS 2019 - SECAO I - Benefícios - HTML\", depois em \"Concedidos - HTML\", depois em \"HTML\", depois em \"18C4_01.HTML\""]
[null,"(4) Estimativa de 1,5% (um inteiro e cinco décimos por cento) dos empregados usufruindo 5 (cinco) dias da licença por ano."]
[null,"(5) Estimativa de 1 (uma) ausência por ano. "]
[null,"(6) Estimativa de 1 (uma) licença de 30 (trinta) dias por ano para 0,78% (setenta e oito décimos por cento) dos empregados."]
[null,"(7) O valor desta substituição será 0 (zero) por definição. Caso necessário para a contratação, esse valor deverá ser devidamente aportado e adaptado a situação contratual. A planilha não autorizará o preenchimento do item f quando já houver indicação de custo do Módulo 1.f - Intervalo Intrajornada. Ou seja, deve-se computar o custo adicional para o empregado (Módulo 1, item I) ou para o substituto (Submódulo 4.5, item f) quando houver necessidade de prestação de serviço durante o intervalo para repouso/alimentação. "]
[null,"(8) A cada substituição, o empregado substituto faz jus além da remuneração, às férias proporcionais com acréscimo de um terço e 13º salário proporcional ao período trabalhado durante a ausência do titular. Essa realidade já se amolda à substituição por meio de contrato de trabalho intermitente intituído pela Lei n. 13.467/2017 (reforma trabalhista). A diferença da utilização deste contrato de trabalho para os demais é que o pagamento desses encargos trabalhistas se efetivam imediatamente após completado o serviço e não após os respectivos períodos concessivos. Deve-se atentar que, por já possuir férias proporcionais com acréscimo de um terço e não haver 13º em sua composiçã. , o percentual relativo à licença maternidade é retirado do cálculo. "]
[]
[null,"Módulo 5 - Insumos Diversos",null,null,"Fundamento"]
[null,"A","Uniformes ",null,"Art. 456-A da CLT"]
[null,"B","Outros materiais não depreciáveis",null,"De acordo com a memória de cálculo específica com base na justificativa dos estudos preliminares."]
[null,"C","Materiais depreciáveis (1)"]
[null,"(1) Para encontrar as taxas de depreciação, recomenda-se a utilização da Macrofunção 02.03.30 do SIAFI para se obter estimativas de vida útil  e do valor residual  dos bens depreciáveis. Poderão ser utilizadas outras taxas, justificadamente, como as taxas de depreciação dispostas no Anexo III da IN RFB n. 1.700/2017. \n"]
[]
[null,"Módulo 6 - Custos Indiretos e Tributos",null,"%","Memória de cálculo"]
[null,"A","Custos Indiretos (Despesas Opercionais e Adm.)(1)",0.03,"(Módudo1 + Módulo2 + Módulo3 + Módulo4) x 5%"]
[null,"B","Lucro(1)",6.7900000000000002E-2,"(Módudo1 + Módulo2 + Módulo3 + Módulo4 + Custos indiretos) x 10%"]
[null,"C","Tributos (2)",{"$f":"D124+D127+D128","v":9.2499999999999999E-2},"C% (em percentual) = C1 + C2 + C3 + C4"]
[null,"C.1","Tributos Federais ",{"$f":"D125+D126","v":4.2499999999999996E-2},"C R$ (em reais) = P1 - P0"]
[null,null,"PIS",6.4999999999999997E-3]
[null,null,"COFINS",3.5999999999999997E-2,"P0 = Módudo 1 + Módulo 2 + Módulo 3 + Módulo 4 + Módulo 5A + Módulo 5B (em reais)"]
[null,"C.2","Tributos Municipais (ISS) ",0.05,"P1 = P0 / (1 - C%) "]
[null,"C.3","Outros tributos (especificar) - ex: (CPRB,(3), se for o caso)",0]
[null,"(1) O presente modelo utiliza o percentual máximo de 3,00% (três por cento) para alíquota de custos indiretos e de 6,79% para margem de lucro. O(s) servidor(es) responsáveis pelo preenchimento da Planilha nº 1 (fase de planejamento) poderão sugerir o estabelecimento de outros índices máximos com base em pesquisa em contratos semelhantes no âmbito do Mato Grosso do Sul ou de outra unidade da federação pretendida e fazer uma média aritmética. A justificativa para alteração deverá estar devidamente fundamentada nos autos da contratação. Por fim, conforme Acórdão TCU n. 408/2019, respeitado o resultado da soma dos limites máximos definidos (3,00% + 6,79% = 9,79%), as licitantes poderão cotar percentuais para os custos indiretos e margem de lucro fora dos patamares definidos no edital, não ultrapassando o limite de 9,79%, conforme Acórdão n. 408/2019 – TCU - Plenário."]
[null,"(2) Os tributos (ISS, COFINS e PIS) foram definidos utilizando o regime de tributação de Lucro Presumido (Incidência cumulativa de PIS/COFINS). A licitante deve elaborar sua proposta e, por conseguinte, sua planilha com base no regime de tributação ao qual estará submetida durante a execução do contrato conforme Acórdão TCU-Plenário n. 2.647/2009 (3,60% para COFINS e 0,65% para o PIS)."]
[null,null,"2.1 Incidência não-cumulativa: Para a definição do percentual máximo de BDI, para o regime de incidência não-cumulativa, a empresa deve cotar os percentuais que representem a média das aliquotas efetivamente recolhidas nos últimos doze meses."]
[null,null,"2.2 Comprovação: Como comprovante a licitante deverá apresentar declaração pública de que os percentuais do PIS e do COFINS cotados correspondem à média dos recolhimentos dos últimos doze meses, apurada com base nos dados da Escrituração Fiscal Digital da Contribuição para o PIS/PASEP e para a COFINS (EFD-Contribuições), cujos respectivos registros deverão ser remetidos juntamente com a proposta e as planilhas. Caso a licitante tenha recolhido tributos pelo regime de incidência não-cumulativa em apenas alguns meses do período que deve ser considerado para o cálculo do percentual médio efetivo (12 meses anteriores à data da proposta), poderá apresentar o cálculo considerando apenas os meses em que houve recolhimento. "]
[null,"(3) Devido a aplicação da Lei 13.161/2015 (Desoneração da folha de pagamento), a contribuição previdenciária patronal (INSS) poderá não ser calculada no Submódulo 2.2, sendo substituída pela contribuição previdenciária sobre a receita bruta (CPRB) por meio de alíquota diferenciada de acordo com a atividade, incidindo sobre o faturamento (compondo o módulo 5)."]

{"sheet":"Dados Contratação","index":4,"n_rows":41,"n_cols":15,"rows_kept":41,"cut":false,"hidden":false,"merged":[[16,10,16,14],[40,10,40,14],[40,1,40,6],[11,1,11,3],[10,1,10,3],[16,1,16,9],[12,1,12,14],[13,1,13,14],[10,4,10,7],[11,4,11,7],[10,8,10,11],[11,8,11,11],[10,12,10,14],[11,12,11,14],[5,4,5,5],[4,6,4,8],[5,6,5,8],[8,1,8,14],[9,1,9,14],[4,11,4,12],[4,4,4,5],[4,1,4,2],[5,1,5,2],[4,9,4,10],[4,13,4,14],[5,11,5,12]]}
[]
[null,"1 - DADOS DA CONTRATAÇÃO"]
[]
[null,"Quadro 1.1 - Discriminação dos Serviços (dados referentes à contratação)"]
[null,"Nº do Processo Administrativo:",null,"Licitação nº:","Data:",null,"Horário:",null,null,"Vigência da Contratação:",null,"A Vigência é Prorrogável?",null,"Prazo Máximo de Vigência:"]
[null,"15940/2022",null,null,null,null,null,null,null,"12","meses","SIM",null,60,"meses"]
[]
[null,"Quadro 1.2 - Identificação do Serviço"]
[null,"Objeto da Contratação:"]
[null,"Prestação dos serviços de apoio Administrativo aos Gestores e Fiscais de Contratos"]
[null,"Tipo de Serviço",null,null,"Unidade de Medida:",null,null,null,"Quantidade Mínima a Contratar:",null,null,null,"Local da Prestação dos Serviços:"]
[null,"Apoio Administrativo aos Gestores e Fiscais de Contratos",null,null,"Postos de Trabalho",null,null,null,{"$f":"H41&\" \"&E12","v":"2 Postos de Trabalho"},null,null,null,"CAMPO GRANDE/MS"]
[null,"Categoria Profissional"]
[]
[]
[null,"Quadro 1.3 - Detalhamento do Objeto"]
[null,"DESCRIÇÃO E QUANTIFICAÇÃO DOS POSTOS DE TRABALHO",null,null,null,null,null,null,null,null,"COMPOSIÇÃO DA REMUNERAÇÃO"]
[null,"Item","Posto de Trabalho","Local do Posto de Trabalho","Tipo de Jornada de Trabalho","Período","Jornada de Trabalho Mensal","Quantidade Mínima de Postos","Ocupantes por Posto","Quantidade de Profissionais","Adicional de Periculosidade","Adicional de Insalubridade","Adicional Noturno","Adicional de Hora Extra","Intervalo Intrajornada"]
[null,1,{"$f":"IF(Apoio!$K$11=3,\"Mestre de Manutenção de Prédios\",\"Encarregado\")","v":"Encarregado"},"Prédio-Sede do TRT/24ª Região","44 horas semanais","Diurno",{"$f":"VLOOKUP(E19,Apoio!$A:$B,2,FALSE)","v":220},0,0,{"$f":"H19*I19","v":0},"Não","Não","Não","Não","Não"]
[null,{"$f":"B19+1","v":2},{"$f":"IF(Apoio!$K$11=3,\"Mestre de Manutenção de Prédios\",\"Encarregado\")","v":"Encarregado"},"Fórum Trabalhista de Campo Grande","44 horas semanais","Diurno",{"$f":"VLOOKUP(E20,Apoio!$A:$B,2,FALSE)","v":220},0,0,{"$f":"H20*I20","v":0},"Não","Não","Não","Não","Não"]
[null,1,{"$f":"IF(Apoio!$K$11=3,\"Técnico Eletrônico\",\"Contador\")","v":"Contador"},"Prédio-Sede do TRT/24ª Região","44 horas semanais","Diurno",{"$f":"VLOOKUP(E21,Apoio!$A:$B,2,FALSE)","v":220},2,1,2,"Não","Não","Não","Não","Não"]
[null,4,{"$f":"IF(Apoio!$K$11=3,\"Técnico Eletrônico\",\"Profissional\")","v":"Profissional"},{"$f":"IF(Apoio!$K$11=3,\"Prédio-Sede do TRT/24ª Região\",\"Fórum Trabalhista de Campo Grande\")","v":"Fórum Trabalhista de Campo Grande"},"44 horas semanais","Diurno",{"$f":"VLOOKUP(E22,Apoio!$A:$B,2,FALSE)","v":220},0,0,0,"Não","Não","Não","Não","Não"]
[null,5,{"$f":"IF(Apoio!$K$11=3,\"Eletricista\",\"Profissional\")","v":"Profissional"},{"$f":"IF(Apoio!$K$11=3,\"Prédio-Sede do TRT/24ª Região\",\"Fórum Trabalhista de Dourados\")","v":"Fórum Trabalhista de Dourados"},"44 horas semanais","Diurno",{"$f":"VLOOKUP(E23,Apoio!$A:$B,2,FALSE)","v":220},0,0,0,"Não","Não","Não","Não","Não"]
[null,6,{"$f":"IF(Apoio!$K$11=3,\"Oficial de Manutenção\",\"Profissional\")","v":"Profissional"},{"$f":"IF(Apoio!$K$11=3,\"Prédio-Sede do TRT/24ª Região\",\"Fórum Trabalhista de Três Lagoas\")","v":"Fórum Trabalhista de Três Lagoas"},"44 horas semanais","Diurno",{"$f":"VLOOKUP(E24,Apoio!$A:$B,2,FALSE)","v":220},0,0,0,"Não","Não","Não","Não","Não"]
[null,7,{"$f":"IF(Apoio!$K$11=3,\"Oficial de Manutenção 2\",\"Profissional\")","v":"Profissional"},{"$f":"IF(Apoio!$K$11=3,\"Prédio-Sede do TRT/24ª Região\",\"Vara do Trabalho de Amambaí\")","v":"Vara do Trabalho de Amambaí"},"44 horas semanais","Diurno",{"$f":"VLOOKUP(E25,Apoio!$A:$B,2,FALSE)","v":220},0,0,0,"Não","Não","Não","Não","Não"]
[null,8,{"$f":"IF(Apoio!$K$11=3,\"Encarregado de Manutenção\",\"Profissional\")","v":"Profissional"},{"$f":"IF(Apoio!$K$11=3,\"Fórum Trabalhista de Campo Grande\",\"Vara do Trabalho de Aquidauana\")","v":"Vara do Trabalho de Aquidauana"},"44 horas semanais","Diurno",{"$f":"VLOOKUP(E26,Apoio!$A:$B,2,FALSE)","v":220},0,0,0,"Não","Não","Não","Não","Não"]
[null,9,{"$f":"IF(Apoio!$K$11=3,\"Eletricista\",\"Profissional\")","v":"Profissional"},{"$f":"IF(Apoio!$K$11=3,\"Fórum Trabalhista de Campo Grande\",\"Vara do Trabalho de Bataguassu\")","v":"Vara do Trabalho de Bataguassu"},"44 horas semanais","Diurno",{"$f":"VLOOKUP(E27,Apoio!$A:$B,2,FALSE)","v":220},0,0,0,"Não","Não","Não","Não","Não"]
[null,10,{"$f":"IF(Apoio!$K$11=3,\"Oficial de Manutenção\",\"Profissional\")","v":"Profissional"},{"$f":"IF(Apoio!$K$11=3,\"Fórum Trabalhista de Campo Grande\",\"Posto Avançado de Cassilândia\")","v":"Posto Avançado de Cassilândia"},"44 horas semanais","Diurno",{"$f":"VLOOKUP(E28,Apoio!$A:$B,2,FALSE)","v":220},0,0,0,"Não","Não","Não","Não","Não"]
[null,11,"Profissional","Vara do Trabalho de Corumbá","44 horas semanais","Diurno",{"$f":"VLOOKUP(E29,Apoio!$A:$B,2,FALSE)","v":220},0,0,0,"Não","Não","Não","Não","Não"]
[null,12,"Profissional","Vara do Trabalho de Coxim","44 horas semanais","Diurno",{"$f":"VLOOKUP(E30,Apoio!$A:$B,2,FALSE)","v":220},0,0,0,"Não","Não","Não","Não","Não"]
[null,13,"Profissional","Vara do Trabalho de Fátima do Sul","44 horas semanais","Diurno",{"$f":"VLOOKUP(E31,Apoio!$A:$B,2,FALSE)","v":220},0,0,0,"Não","Não","Não","Não","Não"]
[null,14,"Profissional","Vara do Trabalho de Jardim","44 horas semanais","Diurno",{"$f":"VLOOKUP(E32,Apoio!$A:$B,2,FALSE)","v":220},0,0,0,"Não","Não","Não","Não","Não"]
[null,15,"Profissional","Vara do Trabalho de Mundo Novo","44 horas semanais","Diurno",{"$f":"VLOOKUP(E33,Apoio!$A:$B,2,FALSE)","v":220},0,0,0,"Não","Não","Não","Não","Não"]
[null,16,"Profissional","Vara do Trabalho de Naviraí","44 horas semanais","Diurno",{"$f":"VLOOKUP(E34,Apoio!$A:$B,2,FALSE)","v":220},0,0,0,"Não","Não","Não","Não","Não"]
[null,17,"Profissional","Vara do Trabalho de Nova Andradina","44 horas semanais","Diurno",{"$f":"VLOOKUP(E35,Apoio!$A:$B,2,FALSE)","v":220},0,0,0,"Não","Não","Não","Não","Não"]
[null,18,"Profissional","Vara do Trabalho de Paranaíba","44 horas semanais","Diurno",{"$f":"VLOOKUP(E36,Apoio!$A:$B,2,FALSE)","v":220},0,0,0,"Não","Não","Não","Não","Não"]
[null,19,"Profissional","Vara do Trabalho de Ponta Porã","44 horas semanais","Diurno",{"$f":"VLOOKUP(E37,Apoio!$A:$B,2,FALSE)","v":220},0,0,0,"Não","Não","Não","Não","Não"]
[null,20,"Profissional","Vara do Trabalho de Rio Brilhante","44 horas semanais","Diurno",{"$f":"VLOOKUP(E38,Apoio!$A:$B,2,FALSE)","v":220},0,0,0,"Não","Não","Não","Não","Não"]
[null,21,"Profissional","Vara do Trabalho de São Gabriel do Oeste","44 horas semanais","Diurno",{"$f":"VLOOKUP(E39,Apoio!$A:$B,2,FALSE)","v":220},0,0,0,"Não","Não","Não","Não","Não"]
[null,22,"Profissional","Vara do Trabalho de Chapadão do Sul","44 horas semanais","Diurno",{"$f":"VLOOKUP(E40,Apoio!$A:$B,2,FALSE)","v":220},0,0,0,"Não","Não","Não","Não","Não"]
[null,"TOTAL",null,null,null,null,null,{"$f":"SUM(H19:H40)","v":2},"n/a",{"$f":"SUM(J19:J40)","v":2}]

{"sheet":"Dados Proponente","index":5,"n_rows":55,"n_cols":9,"rows_kept":55,"cut":false,"hidden":false,"merged":[[40,1,40,8],[41,4,41,5],[41,6,41,7],[43,6,43,7],[45,6,45,7],[50,1,50,7],[51,1,51,7],[52,1,52,8],[53,4,53,7],[54,4,54,7],[53,1,53,3],[54,1,54,3],[46,1,46,8],[4,1,4,6],[4,7,4,8],[5,1,5,6],[5,7,5,8],[9,1,9,5],[9,7,9,8],[10,3,10,8],[11,3,11,8],[6,1,6,8],[7,1,7,8],[8,1,8,5],[8,7,8,8],[15,1,15,5],[15,7,15,8],[16,3,16,8],[17,3,17,8],[12,1,12,8],[13,1,13,8],[14,1,14,5],[14,7,14,8],[28,1,29,2],[31,1,37,8],[21,4,21,5],[21,6,21,7],[23,6,23,7],[24,6,24,7],[25,3,25,7],[27,6,27,7],[28,3,28,7],[29,6,29,7],[30,3,30,7]]}
[]
[null,"2 - DADOS DA PROPONENTE"]
[]
[null,"Quadro 2.1 - Dados da Proponente"]
[null,"Razão Social:",null,null,null,null,null,"CNPJ:"]
[]
[null,"Endereço da Matriz (digite o endereço no formato Logradouro, nº, Complemento - Bairro):"]
[]
[null,"Município:",null,null,null,null,"UF:","CEP:"]
[]
[null,"DDD:","Telefone:","E-mail"]
[]
[null,"Endereço do Escritório em Campo Grande / MS (digite o endereço no formato Logradouro, nº, Complemento - Bairro):"]
[]
[null,"Município:",null,null,null,null,"UF:","CEP:"]
[null,null,null,null,null,null,"MS"]
[null,"DDD:","Telefone:","E-mail"]
[null,67]
[]
[]
[null,"Quadro 2.2 - Regime de Tributação da Proponente"]
[null,"Lucro Real",null,"Item","Tributo",null,"Base de Cálculo",null,"Alíquota (%)"]
[null,null,null,"A","Tributos Federais"]
[null,"Lucro Presumido",null,"A.1","PIS",null,{"$f":"IF(Apoio!$E$7=0,\"\",IF(Apoio!$F$7=Apoio!$H$1,\"n/a\",\"Faturamento\"))","v":"Faturamento"},null,{"$f":"IF(Apoio!$E$7=0,0,HLOOKUP(Apoio!$F$7,Apoio!$E$1:$I$5,2,FALSE))","v":6.4999999999999997E-3}]
[null,null,null,"A.2","COFINS",null,{"$f":"IF(Apoio!$E$7=0,\"\",IF(Apoio!$F$7=Apoio!$H$1,\"Folha de Pagamento\",\"Faturamento\"))","v":"Faturamento"},null,{"$f":"IF(Apoio!$E$7=0,0,HLOOKUP(Apoio!$F$7,Apoio!$E$1:$I$4,3,FALSE))","v":0.03}]
[null,"Entidade Sem Fins Lucrativos",null,"Subtotal Tributos Federais",null,null,null,null,{"$f":"SUM(I23:I25)","v":3.6499999999999998E-2}]
[null,null,null,"B","Tributos Distritais"]
[null,"Optante pelo Simples Nacional",null,"B.1","ISS (ISSQN)",null,{"$f":"IF(Apoio!$E$7=0,\"\",IF(Apoio!$F$7=Apoio!$H$1,\"n/a\",\"Faturamento\"))","v":"Faturamento"},null,{"$f":"IF(Apoio!$E$7=0,0,HLOOKUP(Apoio!$F$7,Apoio!$E$1:$I$4,4,FALSE))","v":0.05}]
[null,"DIGITE A RECEITA BRUTA DOS ÚLTIMOS 12 MESES:",null,"TOTAL (COM ISSQN DE 5%)",null,null,null,null,{"$f":"SUM(I26,I28)","v":8.6499999999999994E-2}]
[null,null,null,"B.2","ISS (ISSQN)",null,{"$f":"IF(Apoio!$E$7=0,\"\",IF(Apoio!$F$7=Apoio!$H$1,\"n/a\",\"Faturamento\"))","v":"Faturamento"},null,{"$f":"IF(Apoio!$E$7=0,0,HLOOKUP(Apoio!$F$7,Apoio!$E$1:$I$5,5,FALSE))","v":0.03}]
[null,null,0,"TOTAL (COM ISSQN DE 3%)",null,null,null,null,{"$f":"SUM(I26,I30)","v":6.6500000000000004E-2}]
[null,"Obs.: As empresas optantes pelo Simples Nacional poderão participar deste pregão e terão direito ao tratamento diferenciado previsto na Lei Complementar nº 123/2006. No entanto, caso as empresas sejam vedadas ao ingresso no simples nacional, não poderão apresentar proposta com os benefícios da condição de optante e, caso venham a ser contratadas, estarão sujeitas à exclusão obrigatória do Simples Nacional, em consequência do que dispõem o art. 17, inciso XII, o art. 30, inciso II, e o art. 31, inciso II, da citada Lei."]
[]
[]
[]
[]
[]
[]
[]
[]
[null,"Quadro 2.3 - Substituição da Insidência da Contribuição Previdendiária sobre a Folha de Pagamento"]
[null,null,null,"Item","Tributo",null,"Base de Cálculo",null,"Alíquota (%)"]
[null,"Sim",null,"A","Folha de Pagamento"]
[null,null,null,"A.1","INSS",null,{"$f":"IF(Apoio!$E$12=0,\"\",IF(Apoio!$E$12=2,\"Folha de Pagamento\",\"\"))","v":"Folha de Pagamento"},null,{"$f":"IF(Apoio!$E$12=0,0,IF(Apoio!$E$12=1,0,HLOOKUP(Apoio!$F$12,Apoio!$F$10:$G$11,2,FALSE)))","v":0.2}]
[null,"Não",null,"B","Receita Bruta"]
[null,null,null,"B.1","INSS",null,{"$f":"IF(Apoio!$E$12=0,\"\",IF(Apoio!$E$12=1,\"Faturamento\",\"\"))","v":""},null,{"$f":"IF(Apoio!$E$12=0,0,IF(Apoio!$E$12=2,0,HLOOKUP(Apoio!$F$12,Apoio!$F$10:$G$11,2,FALSE)))","v":0}]
[null,"Obs.: As empresas abrangidas pela Lei nº 12.546/2011, que dispõe sobre a incidência das contribuições previdenciárias sobre o valor da receita bruta, em substituição às contribuições previstas em Lei específca."]
[]
[]
[null,"Quadro 2.4 - Custos Indiretos, Despesas Operacionais e Administrativas e Lucro"]
[null,"Custos Indiretos / Despesas Operacionais e Administrativas",null,null,null,null,null,null,0.03]
[null,"Lucro",null,null,null,null,null,null,6.7900000000000002E-2]
[]
[null,"Outros Tributos Estaduais (especificar):",null,null,null,null,null,null,0]
[null,"Outros Tributos Municipais (especificar):",null,null,null,null,null,null,0]

{"sheet":"Encargos_Benefícios","index":6,"n_rows":133,"n_cols":8,"rows_kept":133,"cut":false,"hidden":false,"merged":[[132,2,132,7],[121,7,124,7],[126,4,126,5],[127,7,130,7],[120,4,120,5],[3,1,3,3],[4,1,4,3],[3,5,3,6],[4,5,4,6],[74,2,76,2],[5,1,5,3],[5,5,5,7],[6,5,6,7],[109,2,111,2],[109,7,111,7],[116,2,118,2],[116,7,118,7],[95,2,97,2],[95,7,97,7],[102,2,104,2],[102,7,104,7],[81,2,83,2],[81,7,83,7],[88,2,90,2],[88,7,90,7],[6,1,6,3],[74,7,76,7],[63,7,64,7],[67,7,69,7],[53,7,54,7]]}
[null,"3 - ENCARGOS E BENEFÍCIOS"]
[]
[null,"Discriminação dos Serviços (dados referentes à contratação)"]
[null,"Nº do Processo Administrativo:",null,null,"Licitação nº:","Data:",null,"Horário:"]
[null,{"$f":"IF(ISBLANK('Dados Contratação'!$B$6),\"-\",'Dados Contratação'!$B$6)","v":"15940/2022"},null,null,{"$f":"IF(ISBLANK('Dados Contratação'!$D$6),\"-\",'Dados Contratação'!$D$6)","v":"-"},{"$f":"IF(ISBLANK('Dados Contratação'!$E$6),\"-\",'Dados Contratação'!$E$6)","v":"-"},null,{"$f":"IF(ISBLANK('Dados Contratação'!$F$6),\"-\",'Dados Contratação'!$F$6)","v":"-"}]
[null,"Local da Prestação dos Serviços:",null,null,"Vigência da Contratação:","Máximo de Vigência:"]
[null,{"$f":"IF(ISBLANK('Dados Contratação'!$M$12),\"-\",'Dados Contratação'!$M$12)","v":"CAMPO GRANDE/MS"},null,null,{"$f":"IF(ISBLANK('Dados Contratação'!$J$6),\"-\",CONCATENATE('Dados Contratação'!$J$6,\" \",'Dados Contratação'!$K$6))","v":"12 meses"},{"$f":"IF(ISBLANK('Dados Contratação'!$N$6),\"-\",CONCATENATE('Dados Contratação'!$N$6,\" \",'Dados Contratação'!$O$6))","v":"60 meses"}]
[]
[null,"DADOS GERAIS"]
[]
[null,null,"SALÁRIO MÍNIMO OFICIAL"]
[null,null,null,null,null,null,null,"SALÁRIO"]
[null,null,null,"Salário Mínimo Oficial Vigente:",null,null,null,1212]
[]
[]
[null,null,"SALÁRIO NORMATIVO (GERAL)"]
[null,null,null,null,null,null,null,"SALÁRIO"]
[null,null,null,"Salário Normativo da Categoria Profissional:",null,null,null,4189]
[null,null,null,"Salário Normativo da Categoria Profissional (Sábados, Domingos e Feriados):",null,null,null,{"$f":"ROUND($H$18/220*60,2)","v":1142.45}]
[]
[null,null,null,"Data Base da Categoria Profissional:",null,null,null,"2021-11-01"]
[]
[]
[null,null,"SALÁRIO NORMATIVO (ENGENHARIA)"]
[null,null,null,null,null,null,null,"SALÁRIO"]
[null,null,null,"Salário Normativo - CCT Sinduscon/MS: Mestre de Manutenção de Prédios",null,null,null,0]
[null,null,null,"Salário Normativo - CCT Sinduscon/MS: Encarregado de Manutenção",null,null,null,0]
[null,null,null,"Salário Normativo - CCT Sinduscon/MS: Técnico de Edificações",null,null,null,0]
[null,null,null,"Salário Normativo - CCT Sinduscon/MS: Técnico Eletrônico",null,null,null,0]
[null,null,null,"Salário Normativo - CCT STEAC/MS: Eletricista",null,null,null,0]
[null,null,null,"Salário Normativo - CCT STEAC/MS: Oficial de Manutenção",null,null,null,0]
[]
[null,null,null,"Data Base da Categoria Profissional:",null,null,null,"00/00/2021"]
[]
[]
[null,"ENCARGOS LEGAIS "]
[null,null,null,null,null,null,null,"PERCENTUAL"]
[null,null,"INSS",null,null,null,null,{"$f":"IF(Apoio!E12=0,0,IF(Apoio!E12=1,Apoio!F11,Apoio!G11))","v":0.2}]
[null,null,"SESI ou SESC",null,null,null,null,1.4999999999999999E-2]
[null,null,"SENAI ou SENAC",null,null,null,null,0.01]
[null,null,"INCRA",null,null,null,null,2E-3]
[null,null,"Salário Educação",null,null,null,null,2.5000000000000001E-2]
[null,null,"FGTS",null,null,null,null,0.08]
[null,null,"Seguro Acidente de Trabalho",null,null,null,null,0.03]
[null,null,"SEBRAE",null,null,null,null,6.0000000000000001E-3]
[]
[null,null,"13º Salário",null,null,null,null,8.3299999999999999E-2]
[null,null,"Adicional de Férias",null,null,null,null,2.7800000000000002E-2]
[null,null,"Incidência dos encargos previstos no Submódulo 2.2 sobre 13º (décimo terceiro) salário",null,null,null,null,{"$f":"SUM(H38:H45)","v":0.3680000000000001}]
[]
[null,"BENEFÍCIOS LEGAIS ACORDADOS"]
[null,null,null,null,null,null,null,"PROFISSIONAL"]
[null,null,"Benefício Social Familiar Sindical"]
[null,null,null,"Valor Unitário Mensal",null,0,null,{"$f":"$F54-$F55","v":0}]
[null,null,null,"Empregado",null,0]
[]
[null,null,"Assistência e Inclusão Social do Trabalhador"]
[null,null,null,"Valor Unitário Mensal",null,0,null,{"$f":"$F58","v":0}]
[]
[null,null,"Prêmio Cesta Básica"]
[null,null,null,"Valor Unitário Mensal",null,0,null,{"$f":"$F61","v":0}]
[]
[null,null,"Auxílio Creche"]
[null,null,null,"Valor Unitário Mensal",null,0,null,{"$f":"TRUNC(ROUND($F64*$F65,2),2)","v":0}]
[null,null,null,"Percentual de Ocorrência",null,0]
[]
[null,null,"Seguro de Vida em Grupo",null,"(Custo Total Mensal)"]
[null,null,null,"Valor Unitário Anual",null,0,null,{"$f":"$F69-$F70","v":0}]
[null,null,null,"Valor Unitário Mensal",null,{"$f":"F68/12","v":0}]
[null,null,null,"Custo Mensal do Empregado (10%)",null,{"$f":"ROUND(0.1*F69,2)","v":0}]
[]
[null,null,"Vale Transporte (Profissional)",null,"(Custo da Empresa Excedente aos 6%)"]
[null,null,null,"Base de cálculo (remuneração individual)",null,null,null,{"$f":"$H$18","v":4189}]
[null,null,null,"Empregado (6% do base de cálculo)",null,null,null,{"$f":"TRUNC(ROUND(6*H73/100,2),2)","v":251.34}]
[null,null,"Campo Grande","Número de bilhetes/dia",null,2,null,{"$f":"IF($F77=0,0,TRUNC(ROUND((($F75*$F76*$F77)-H$74),2),2))","v":0}]
[null,null,null,"Numero de dias","44 h / segunda a sexta-feira",{"$f":"VLOOKUP($E76,Apoio!$K:$M,3,FALSE)","v":20.7958}]
[null,null,null,"Valor da tarifa",null,0]
[]
[null,null,"Vale Transporte (Profissional)",null,"(Custo da Empresa Excedente aos 6%)"]
[null,null,null,"Base de cálculo (remuneração individual)",null,null,null,{"$f":"$H$18","v":4189}]
[null,null,null,"Empregado (6% do base de cálculo)",null,null,null,{"$f":"TRUNC(ROUND(6*H80/100,2),2)","v":251.34}]
[null,null,"Dourados","Número de bilhetes/dia",null,2,null,{"$f":"IF($F84=0,0,TRUNC(ROUND((($F82*$F83*$F84)-H$74),2),2))","v":0}]
[null,null,null,"Numero de dias","44 h / segunda a sexta-feira",{"$f":"VLOOKUP($E83,Apoio!$K:$M,3,FALSE)","v":20.7958}]
[null,null,null,"Valor da tarifa",null,0]
[]
[null,null,"Vale Transporte (Profissional)",null,"(Custo da Empresa Excedente aos 6%)"]
[null,null,null,"Base de cálculo (remuneração individual)",null,null,null,{"$f":"$H$18","v":4189}]
[null,null,null,"Empregado (6% do base de cálculo)",null,null,null,{"$f":"TRUNC(ROUND(6*H87/100,2),2)","v":251.34}]
[null,null,"Três Lagoas","Número de bilhetes/dia",null,2,null,{"$f":"IF($F91=0,0,TRUNC(ROUND((($F89*$F90*$F91)-H$74),2),2))","v":0}]
[null,null,null,"Numero de dias","44 h / segunda a sexta-feira",{"$f":"VLOOKUP($E90,Apoio!$K:$M,3,FALSE)","v":20.7958}]
[null,null,null,"Valor da tarifa",null,0]
[]
[null,null,"Vale Transporte (Profissional)",null,"(Custo da Empresa Excedente aos 6%)"]
[null,null,null,"Base de cálculo (remuneração individual)",null,null,null,{"$f":"$H$18","v":4189}]
[null,null,null,"Empregado (6% do base de cálculo)",null,null,null,{"$f":"TRUNC(ROUND(6*H94/100,2),2)","v":251.34}]
[null,null,"Corumbá","Número de bilhetes/dia",null,2,null,{"$f":"IF($F98=0,0,TRUNC(ROUND((($F96*$F97*$F98)-H$74),2),2))","v":0}]
[null,null,null,"Numero de dias","44 h / segunda a sexta-feira",{"$f":"VLOOKUP($E97,Apoio!$K:$M,3,FALSE)","v":20.7958}]
[null,null,null,"Valor da tarifa",null,0]
[]
[null,null,"Vale Transporte (Profissional)",null,"(Custo da Empresa Excedente aos 6%)"]
[null,null,null,"Base de cálculo (remuneração individual)",null,null,null,{"$f":"$H$18","v":4189}]
[null,null,null,"Empregado (6% do base de cálculo)",null,null,null,{"$f":"TRUNC(ROUND(6*H101/100,2),2)","v":251.34}]
[null,null,"Ponta Porã","Número de bilhetes/dia",null,2,null,{"$f":"IF($F105=0,0,TRUNC(ROUND((($F103*$F104*$F105)-H$74),2),2))","v":0}]
[null,null,null,"Numero de dias","44 h / segunda a sexta-feira",{"$f":"VLOOKUP($E104,Apoio!$K:$M,3,FALSE)","v":20.7958}]
[null,null,null,"Valor da tarifa",null,0]
[]
[null,null,"Vale Transporte (Profissional)",null,"(Custo da Empresa Excedente aos 6%)"]
[null,null,null,"Base de cálculo (remuneração individual)",null,null,null,{"$f":"$H$18","v":4189}]
[null,null,null,"Empregado (6% do base de cálculo)",null,null,null,{"$f":"TRUNC(ROUND(6*H108/100,2),2)","v":251.34}]
[null,null,"Amambai","Número de bilhetes/dia",null,2,null,{"$f":"IF($F112=0,0,TRUNC(ROUND((($F110*$F111*$F112)-H$74),2),2))","v":0}]
[null,null,null,"Numero de dias","44 h / segunda a sexta-feira",{"$f":"VLOOKUP($E111,Apoio!$K:$M,3,FALSE)","v":20.7958}]
[null,null,null,"Valor da tarifa",null,0]
[]
[null,null,"Vale Transporte (Profissional)",null,"(Custo da Empresa Excedente aos 6%)"]
[null,null,null,"Base de cálculo (remuneração individual)",null,null,null,{"$f":"$H$18","v":4189}]
[null,null,null,"Empregado (6% do base de cálculo)",null,null,null,{"$f":"TRUNC(ROUND(6*H115/100,2),2)","v":251.34}]
[null,null,"São Gabriel","Número de bilhetes/dia",null,2,null,{"$f":"IF($F119=0,0,TRUNC(ROUND((($F117*$F118*$F119)-H$74),2),2))","v":0}]
[null,null,null,"Numero de dias","44 h / segunda a sexta-feira",{"$f":"VLOOKUP($E118,Apoio!$K:$M,3,FALSE)","v":20.7958}]
[null,null,null,"Valor da tarifa",null,0]
[]
[null,null,"Auxílio Alimentação (Encarregado)",null,"(Custo Mensal da Empresa)"]
[null,null,null,"Número de refeições/dia",null,1,null,{"$f":"IF($F124=0,0,TRUNC(ROUND((($F122*$F123*$F124)-F$125),2),2))","v":0}]
[null,null,null,"Número de dias/mês","44 h / segunda a sexta-feira",{"$f":"VLOOKUP($E123,Apoio!$K:$M,3,FALSE)","v":20.7958}]
[null,null,null,"Valor unitário da refeição",null,0]
[null,null,null,"Custo do Empregado",null,0]
[]
[null,null,"Auxílio Alimentação (Profissional)",null,"(Custo Mensal da Empresa)"]
[null,null,null,"Número de refeições/dia",null,1,null,{"$f":"IF($F130=0,0,TRUNC(ROUND((($F128*$F129*$F130)-F$131),2),2))","v":345}]
[null,null,null,"Número de dias/mês","44 h / segunda a sexta-feira",{"$f":"VLOOKUP($E129,Apoio!$K:$M,3,FALSE)","v":20.7958}]
[null,null,null,"Valor unitário da refeição",null,16.59]
[null,null,null,"Custo do Empregado",null,0]
[]
[null,null,"Observação: A planilha está concebida para efetuar automaticamente os cálculos, devendo ser alimentados somente os valores nos campos em amarelo."]

{"sheet":"Certificação digital","index":7,"n_rows":29,"n_cols":9,"rows_kept":29,"cut":false,"hidden":false,"merged":[[3,1,3,3],[5,1,5,3],[6,1,6,3],[4,4,4,6],[3,4,3,6],[5,4,5,6],[6,4,6,6],[4,1,4,3],[8,4,8,8],[17,4,17,8],[28,2,28,8],[5,7,5,8],[6,7,6,8]]}
[null,"4 - Certificação Digital"]
[]
[null,"Discriminação dos Serviços (dados referentes à contratação)"]
[null,"Nº do Processo Administrativo:",null,null,"Licitação nº:",null,null,"Data:","Horário:"]
[null,{"$f":"IF(ISBLANK('Dados Contratação'!$B$6),\"-\",'Dados Contratação'!$B$6)","v":"15940/2022"},null,null,{"$f":"IF(ISBLANK('Dados Contratação'!$D$6),\"-\",'Dados Contratação'!$D$6)","v":"-"},null,null,{"$f":"IF(ISBLANK('Dados Contratação'!$E$6),\"-\",'Dados Contratação'!$E$6)","v":"-"},{"$f":"IF(ISBLANK('Dados Contratação'!$F$6),\"-\",'Dados Contratação'!$F$6)","v":"-"}]
[null,"Local da Prestação dos Serviços:",null,null,"Vigência da Contratação:",null,null,"Máximo de Vigência:"]
[null,{"$f":"IF(ISBLANK('Dados Contratação'!$M$12),\"-\",'Dados Contratação'!$M$12)","v":"CAMPO GRANDE/MS"},null,null,{"$f":"IF(ISBLANK('Dados Contratação'!$J$6),\"-\",CONCATENATE('Dados Contratação'!$J$6,\" \",'Dados Contratação'!$K$6))","v":"12 meses"},null,null,{"$f":"IF(ISBLANK('Dados Contratação'!$N$6),\"-\",CONCATENATE('Dados Contratação'!$N$6,\" \",'Dados Contratação'!$O$6))","v":"60 meses"}]
[]
[null,null,null,null,"PROFISSIONAL"]
[null,null,null,null,"Unidade","Qtd.","Vida Útil\n(meses)","Custo Unitário","Custo Total Mensal"]
[null,"   · ","Etoken CPF (12 meses)",null,"Peça",1,12,130.97,{"$f":"IF(H11=0,0,TRUNC(ROUND(F11*H11/G11,2),2))","v":10.91}]
[null,"   · ",null,null,"Peça",null,null,null,{"$f":"IF(H12=0,0,TRUNC(ROUND(F12*H12/G12,2),2))","v":0}]
[null,"   · ",null,null,"Par",null,null,null,0]
[null,"   · ",null,null,"Peça",null,null,null,0]
[null,"   · ",null,null,"Par",null,null,null,0]
[null,null,"Custo Total Mensal de Uniformes e equipamentos",null,null,null,null,null,{"$f":"SUM(I11:I15)","v":10.91}]
[]
[null,null,null,null,"ENCARREGADO"]
[null,null,null,null,"Unidade","Qtd.","Vida Útil\n(meses)","Custo Unitário","Custo Total Mensal"]
[null,"   · ","Blusa",null,"Peça",0,0,0,{"$f":"IF(H20=0,0,TRUNC(ROUND(F20*H20/G20,2),2))","v":0}]
[null,"   · ","Camisa",null,"Peça",0,0,0,{"$f":"IF(H21=0,0,TRUNC(ROUND(F21*H21/G21,2),2))","v":0}]
[null,"   · ","Calça",null,"Peça",0,0,0,0]
[null,"   · ","Meia (par)",null,"Par",0,0,0,0]
[null,"   · ","Coturno (par)",null,"Par",0,0,0,0]
[null,"   · ","Boné",null,"Peça",0,0,0,0]
[null,"   · ","Cinto",null,"Peça",0,0,0,0]
[null,null,"Custo Total Mensal de Uniformes",null,null,null,null,null,{"$f":"SUM(I20:I26)","v":0}]
[]
[null,null,"Observação: A planilha está concebida para efetuar automaticamente os cálculos, devendo ser alimentados somente os valores nos campos em amarelo."]

{"sheet":"Insumos - Brigadista","index":8,"n_rows":169,"n_cols":11,"rows_kept":169,"cut":false,"hidden":true,"merged":[[62,9,62,10],[63,9,63,10],[64,9,64,10],[79,9,79,10],[66,9,66,10],[67,9,67,10],[68,9,68,10],[60,9,60,10],[17,9,17,10],[38,9,38,10],[39,9,39,10],[40,9,40,10],[23,9,23,10],[18,9,18,10],[19,9,19,10],[21,9,21,10],[22,9,22,10],[42,9,42,10],[43,9,43,10],[44,9,44,10],[3,7,3,8],[4,7,4,8],[11,7,12,7],[11,8,12,8],[11,9,11,10],[15,9,15,10],[11,5,12,5],[11,6,12,6],[5,8,5,10],[6,8,6,10],[27,7,28,7],[27,8,28,8],[27,9,27,10],[36,9,36,10],[3,1,3,4],[4,1,4,4],[27,5,28,5],[27,6,28,6],[5,1,5,4],[6,1,6,4],[3,5,3,6],[4,5,4,6],[5,5,5,7],[6,5,6,7],[3,9,3,10],[4,9,4,10],[48,5,49,5],[48,6,49,6],[48,7,49,7],[48,8,49,8],[48,9,48,10],[72,5,73,5],[72,6,73,6],[72,7,73,7],[72,8,73,8],[72,9,72,10],[89,9,89,10],[90,9,90,10],[91,9,91,10],[80,9,80,10],[81,9,81,10],[83,9,83,10],[87,9,87,10],[74,3,74,4],[75,3,75,4],[76,3,76,4],[77,9,77,10],[85,3,85,4],[83,5,84,5],[83,6,84,6],[83,7,84,7],[83,8,84,8],[97,9,97,10],[126,9,126,10],[127,9,127,10],[128,9,128,10],[97,5,98,5],[97,6,98,6],[97,7,98,7],[97,8,98,8],[132,9,132,10],[166,9,166,10],[167,9,167,10],[168,9,168,10],[132,5,133,5],[132,6,133,6],[132,7,133,7],[132,8,133,8]]}
[null,"5 - EQUIPAMENTOS E INSUMOS DIVERSOS"]
[]
[null,"Discriminação dos Serviços (dados referentes à contratação)"]
[null,"Nº do Processo Administrativo:",null,null,null,"Licitação nº:",null,"Data:",null,"Horário:"]
[null,{"$f":"IF(ISBLANK('Dados Contratação'!$B$6),\"-\",'Dados Contratação'!$B$6)","v":"15940/2022"},null,null,null,{"$f":"IF(ISBLANK('Dados Contratação'!$D$6),\"-\",'Dados Contratação'!$D$6)","v":"-"},null,{"$f":"IF(ISBLANK('Dados Contratação'!$E$6),\"-\",'Dados Contratação'!$E$6)","v":"-"},null,{"$f":"IF(ISBLANK('Dados Contratação'!$F$6),\"-\",'Dados Contratação'!$F$6)","v":"-"}]
[null,"Local da Prestação dos Serviços:",null,null,null,"Vigência da Contratação:",null,null,"Máximo de Vigência:"]
[null,{"$f":"IF(ISBLANK('Dados Contratação'!$M$12),\"-\",'Dados Contratação'!$M$12)","v":"CAMPO GRANDE/MS"},null,null,null,{"$f":"IF(ISBLANK('Dados Contratação'!$J$6),\"-\",CONCATENATE('Dados Contratação'!$J$6,\" \",'Dados Contratação'!$K$6))","v":"12 meses"},null,null,{"$f":"IF(ISBLANK('Dados Contratação'!$N$6),\"-\",CONCATENATE('Dados Contratação'!$N$6,\" \",'Dados Contratação'!$O$6))","v":"60 meses"}]
[]
[null,null,"EQUIPAMENTOS"]
[]
[null,null,1,"MOBILIÁRIOS"]
[null,null,null,null,null,"Medida","Marca","Custo Unitário","Vida Útil (meses)","TRT e Fórum CG"]
[null,null,null,null,null,null,null,null,null,"Qtd.","Custo Mensal"]
[null,null,1,null,"Armário de aço, duas portas grandes, com chave, com pintura antiferrugem, com 5 compartimentos abertos para guarda dos materiais de primeiros socorros, materiais de escritório e materiais de arrombamento","unidade",null,0,60,0,{"$f":"TRUNC(ROUND(($H14*$J14)/$I14,2),2)","v":0}]
[null,null,2,null,"Roupeiros de aço, portas grandes, com pintura antiferrugem e total de 6(seis) compartimentos(portas) suficientes ao número de empregados, sendo um compartimento para cada, com fechadura a chave ou pitão para cadeado. Cada compartimento deverá possuir as seguintes medidas mínimas: Largura: 30 cm; Altura: 90 cm; Profundidade: 40 cm.","Unidade",null,0,60,0,{"$f":"TRUNC(ROUND(($H15*$J15)/$I15,2),2)","v":0}]
[null,null,"Custo Mensal dos Mobiliários",null,null,null,null,null,null,{"$f":"SUM(K14:K15)","v":0}]
[]
[null,null,null,"Custo de Capital Mensal (SELIC)",null,null,null,null,null,8.3630000000000006E-3]
[null,null,null,"Custo Financeiro Mensal",null,null,null,null,null,{"$f":"TRUNC(ROUND(J16*J18,2),2)","v":0}]
[null,null,"Custo Mensal Total dos Mobiliários",null,null,null,null,null,null,{"$f":"J16+J19","v":0}]
[]
[null,null,null,null,null,null,null,null,null,"TRT e Fórum CG"]
[null,null,null,"Quantidade Total de Empregados (Brigadista e Chefe de Brigada)",null,null,null,null,null,{"$f":"'Dados Contratação'!$J$41","v":2}]
[null,null,"Custo Mensal Total dos Mobiliários - por Empregado",null,null,null,null,null,null,{"$f":"IF(J23=0,0,TRUNC(ROUND(J20/J23,2),2))","v":0}]
[]
[]
[null,null,2,"EQUIPAMENTOS DE SEGURANÇA DE BRIGADISTA"]
[null,null,null,null,null,"Medida","Marca","Custo Unitário","Vida Útil (meses)","TRT e Fórum CG"]
[null,null,null,null,null,null,null,null,null,"Qtd.","Custo Mensal"]
[null,null,1,null,"Máscaras individuais com filtro de carvão","Unidade",null,0,20,0,{"$f":"TRUNC(ROUND(($H30*$J30)/$I30,2),2)","v":0}]
[null,null,2,null,"Lanterna de mão tipo farolete com capacidade de luminosidade de 500.000 velas, com uma bateria selada de 6V/4,2Ah recarregável, com recarregador, carregador veicular e transformador bivolt automático.","Unidade",null,0,60,0,{"$f":"TRUNC(ROUND(($H31*$J31)/$I31,2),2)","v":0}]
[null,null,3,null,"Luvas em rapa de couro para serviços diversos","Unidade",null,0,60,0,0]
[null,null,4,null,"Óculos transparente de proteção contra partículas","Unidade",null,0,24,0,0]
[null,null,5,null,"Abafador de ouvido tipo concha","Unidade",null,0,60,0,0]
[null,null,6,null,"Capas de chuva na cor amarela com fitas refletivas","Unidade",null,0,60,0,0]
[null,null,7,null,"Capacete de segurança para brigadista - C.A. 14816 - Capacete de Segurança Tipo III, Classe A, injetado em polipropileno","Unidade",null,0,60,0,0]
[null,null,"Custo Mensal dos Equipamentos de Segurança",null,null,null,null,null,null,{"$f":"SUM(K30:K36)","v":0}]
[]
[null,null,null,"Custo de Capital Mensal (SELIC)",null,null,null,null,null,8.3630000000000006E-3]
[null,null,null,"Custo Financeiro Mensal",null,null,null,null,null,{"$f":"TRUNC(ROUND(J37*J39,2),2)","v":0}]
[null,null,"Custo Mensal Total dos Equipamentos de Segurança",null,null,null,null,null,null,{"$f":"J37+J40","v":0}]
[]
[null,null,null,null,null,null,null,null,null,"TRT e Fórum CG"]
[null,null,null,"Quantidade Total de Empregados (Brigadista e Chefe de Brigada)",null,null,null,null,null,{"$f":"'Dados Contratação'!$J$41","v":2}]
[null,null,"Custo Mensal dos Equipamentos de Segurança - por Empregado",null,null,null,null,null,null,{"$f":"IF(J44=0,0,TRUNC(ROUND(J41/J44,2),2))","v":0}]
[]
[]
[null,null,3,"MATERIAIS DE ARROMBAMENTO - FERRAMENTAS"]
[null,null,null,null,null,"Unidade","Marca","Custo Unitário","Vida Útil (meses)","TRT e Fórum CG"]
[null,null,null,null,null,null,null,null,null,"Qtd","Custo Mensal"]
[null,null,1,null,"Escada prolongável em fibra de vidro ou em alumínio, medindo 4,8m quando fechada e 8,4 quando aberta. Montantes em perfil tipo U, não condutivos, degraus de alumínio estruturado, fixo à escada por meio de suporte em alumínio, com encaixe prensado. Corrediça de aço estampado, revestida com resina de PVC. Sapata articulável de alumínio, liga com solado de borracha. Catraca com base de aço estampada e gancho de aço forjado. Terminal de polietileno para alinhamento e deslizamento da escada. Suporte de apoio de aço, com tratamento anticorrosivo. Moitão de alumínio - liga, com corda de polipropileno de 3/8\", distância entre os degraus de 300mm. Peso aproximado de 29Kg. Número de degraus úteis: 27. Possuir nos montantes externos punhos laterais, rebatíveis, posicionados um de cada lado, altura de 1,5m para facilitar as atividades de armar e desarmar, comprimento de 16cm quando armado, possuindo encaixe para fixar o punho quando rebatido. Todas as medidas são aproximadas, tolerando-se 10% para mais ou para menos.","Unidade",null,0,60,0,{"$f":"TRUNC(ROUND(($H51*$J51)/$I51,2),2)","v":0}]
[null,null,2,null,"Alavanca de 1,5m ","Unidade",null,0,60,0,0]
[null,null,3,null,"Gancho crock","Unidade",null,0,60,0,0]
[null,null,4,null,"Machado que garanta resistência ao desgaste, com cabo de madeira reforçado.","Unidade",null,0,60,0,0]
[null,null,5,null,"Marretas de 2Kg e 5Kg, com base polida, cabo curto de madeira fixado com cunhas metálicas.","Unidade",null,0,60,0,0]
[null,null,6,null,"Martelo unha polido 25”, com cabo de madeira fixado com epóxi.","Unidade",null,0,60,0,0]
[null,null,7,null,"Arco de serra fixo de 12”. ","Unidade",null,0,60,0,0]
[null,null,8,null,"Lâmina para arco de serra para arco de serra fixo de 12”.","Unidade",null,0,60,0,0]
[null,null,9,null,"Facão de 18”, em aço, com cabo em polipropileno.","Unidade",null,0,60,0,0]
[null,null,10,null,"Pé de cabra 75 cm","Unidade",null,0,60,0,0]
[null,null,"Custo Mensal dos Materiais de Arrombamento",null,null,null,null,null,null,{"$f":"SUM(K51:K60)","v":0}]
[]
[null,null,null,"Custo de Capital Mensal (SELIC)",null,null,null,null,null,8.3630000000000006E-3]
[null,null,null,"Custo Financeiro Mensal",null,null,null,null,null,{"$f":"TRUNC(ROUND(J61*J63,2),2)","v":0}]
[null,null,"Custo Mensal Total dos Materiais de Arrombamento",null,null,null,null,null,null,{"$f":"J61+J64","v":0}]
[]
[null,null,null,null,null,null,null,null,null,"TRT e Fórum CG"]
[null,null,null,"Qtd. Estimada de Brigadista (Incluso o Chefe de Brigada)",null,null,null,null,null,{"$f":"'Dados Contratação'!$J$41","v":2}]
[null,null,"Custo Mensal dos Materiais de Arrombamento - Por Empregado",null,null,null,null,null,null,{"$f":"IF(J68=0,0,TRUNC(ROUND(J65/J68,2),2))","v":0}]
[]
[]
[null,null,4,"MATERIAL DE TRABALHO - COMUNICAÇÃO"]
[null,null,null,null,null,"Unidade","Marca","Custo Unitário","Vida Útil (meses)","TRT e Fórum CG"]
[null,null,null,null,null,null,null,null,null,"Qtd.","Custo Mensal"]
[null,null,1,"Serviço móvel celular, com fornecimento de aparelhos de comunicação móvel, habilitado, com carregador e manual do usuário",null,"Unidade",null,0,60,0,{"$f":"TRUNC(ROUND(($H75*$J75)/$I75,2),2)","v":0}]
[null,null,2,"Megafone com potência regulável nominal de 12 e máximo de 18 watts, com 230 x355mm, 1,6Kg (sem bateria), alcance de 1Km em zona rural e 500m em zona urbana, autonomia de 15 horas, alimentação: 8 pilhas R6.",null,"unidade",null,0,60,0,{"$f":"TRUNC(ROUND(($H76*$J76)/$I76,2),2)","v":0}]
[null,null,3,"Rádio transmissor (HT) para comunicação interpessoal.",null,"Unidade",null,0,60,0,{"$f":"TRUNC(ROUND(($H77*$J77)/$I77,2),2)","v":0}]
[null,null,"Custo Mensal dos Materiais de Comunicação",null,null,null,null,null,null,{"$f":"SUM(K75:K77)","v":0}]
[]
[null,null,null,"Custo de Capital Mensal (SELIC)",null,null,null,null,null,8.3630000000000006E-3]
[null,null,null,"Custo Financeiro Mensal",null,null,null,null,null,{"$f":"TRUNC(ROUND(J78*J80,2),2)","v":0}]
[null,null,"Custo Mensal dos Materiais de Comunicação",null,null,null,null,null,null,{"$f":"J78+J81","v":0}]
[]
[null,null,null,null,null,"Unidade","Marca","Custo Unitário","Vida Útil (meses)","TRT e Fórum CG"]
[null,null,null,null,null,null,null,null,null,"Qtd.","Custo Mensal"]
[null,null,4,"Plano pós-pago para o serviço móvel celular",null,"Mensalidade",null,0,1,0,{"$f":"TRUNC(ROUND(($H86*$J86)/$I86,2),2)","v":0}]
[]
[null,null,"Custo Mensal Total dos Materiais de Comunicação",null,null,null,null,null,null,{"$f":"J82+K86","v":0}]
[]
[null,null,null,null,null,null,null,null,null,"TRT e Fórum CG"]
[null,null,null,"Quantidade Estimada de Profissionais (Chefe de Brigada)",null,null,null,null,null,{"$f":"'Dados Contratação'!$J$41","v":2}]
[null,null,"Custo Mensal dos Materiais de Comunicação - por Empregado",null,null,null,null,null,null,{"$f":"IF(J91=0,0,TRUNC(ROUND(J88/J91,2),2))","v":0}]
[]
[]
[null,null,"INSUMOS DIVERSOS"]
[]
[null,null,5,"MATERIAIS DE ESCRITÓRIO"]
[null,null,null,null,null,"Unidade","Marca","Custo Unitário","Vida Útil","TRTe Fórum CG"]
[null,null,null,null,null,null,null,null,null,"Qtd.","Custo Mensal"]
[null,null,1,null,"Livros para anotação de ocorrência, com 100 (cem) folhas pautadas e numeradas","Unidade",null,0,12,0,{"$f":"($H100*J100)/I100","v":0}]
[null,null,2,null,"Apagadores para quadro branco","Unidade",null,0,60,0,{"$f":"($H101*J101)/I101","v":0}]
[null,null,3,null,"Borracha","Unidade",null,0,6,0,0]
[null,null,4,null,"Canetas esferográficas azuis","caixa",null,0,12,0,0]
[null,null,5,null,"Canetas esferográficas vermelha","caixa",null,0,12,0,0]
[null,null,6,null,"Clipes – 100 unidades","caixa",null,0,12,0,0]
[null,null,7,null,"Cola branca grande","Unidade",null,0,2,0,0]
[null,null,8,null,"Extrator para grampos","Unidade",null,0,60,0,0]
[null,null,9,null,"Elástico Latex N° 18 Caixa Com 25 Gramas","caixa",null,0,3,0,0]
[null,null,10,null,"Envelope para papel A4","Unidade",null,0,6,0,0]
[null,null,11,null,"Estilete grande e lâminas","unidade",null,0,6,0,0]
[null,null,12,null,"Fita adesiva transparente- 45mmx50m","unidade",null,0,12,0,0]
[null,null,13,null,"Prancheta em acrílico para folha A4","unidade",null,0,24,0,0]
[null,null,14,null,"Grampeador grande","unidade",null,0,24,0,0]
[null,null,15,null,"Furador de papéis","unidade",null,0,24,0,0]
[null,null,16,null,"Grampos para grampeador – 1000 unidades","caixa",null,0,12,0,0]
[null,null,17,null,"Lápis preto n. 2","caixa",null,0,12,0,0]
[null,null,18,null,"Pincel marca texto","Unidade",null,0,6,0,0]
[null,null,19,null,"Percevejo","caixa",null,0,12,0,0]
[null,null,20,null,"Bloco post-it amarelo 76x102 c/100 folhas","pacote",null,0,12,0,0]
[null,null,21,null,"Régua de 30cm","Unidade",null,0,24,0,0]
[null,null,22,null,"Quadro branco médio","Unidade",null,0,24,0,0]
[null,null,23,null,"Resma de papel A4","Unidade",null,0,12,0,0]
[null,null,24,null,"Tesoura grande em aço","Unidade",null,0,24,0,0]
[null,null,25,null,"Pasta AZ","Unidade",null,0,24,0,0]
[null,null,"Valor Estimado Mensal",null,null,null,null,null,null,null,{"$f":"SUM(K100:K124)","v":0}]
[]
[null,null,null,null,null,null,null,null,null,"TRTe Fórum CG"]
[null,null,null,"Qtd. Estimada de Brigadista (Incluso o Chefe de Brigada)",null,null,null,null,null,{"$f":"'Dados Contratação'!$J$41","v":2}]
[null,null,"Valor Mensal dos Materiais de Escritório Por Empregado",null,null,null,null,null,null,{"$f":"IF(J128=0,0,TRUNC(ROUND(K125/J128,2),2))","v":0}]
[]
[]
[null,null,6,"MATERIAIS DE PRIMEIROS SOCORROS"]
[null,null,null,null,null,"Unidade","Marca","Custo Unitário","Vida Útil","TRTe Fórum CG"]
[null,null,null,null,null,null,null,null,null,"Qtd.","Custo Mensal"]
[null,null,1,null,"Bolsa para transporte de material de emergência Médica Pré-Hospitalar, fabricada em nylon, a prova d'água na cor vermelha, medindo aproximadamente 62 cm de comprimento, 30 cm de largura por 24 cm de altura. Com quatro bolsos externos, dois nas laterais, um na parte da frente e um na parte de trás.","Unidade",null,0,24,0,{"$f":"($H135*J135)/I135","v":0}]
[null,null,2,null,"Abaixador de língua (espátula de madeira), descartável, formato convencional liso, superfície e bordas perfeitamente acabadas, espessura e largura uniforme em toda a sua extensão. Procedência nacional. Dispensado de Registro no MS.\nMedidas: Aproximadamente 14 cm de comprimento; 1,4 cm de largura; 0,5 mm de espessura, embalado em pacote com 100 peças,","Unidade",null,0,6,0,0]
[null,null,3,null,"água oxigenada vol.10","litro",null,0,12,0,0]
[null,null,4,null,"algodão hidrófilo em bolinhas 500g. ","pacote",null,0,12,0,0]
[null,null,5,null,"álcool a 70% INPM ","litro",null,0,12,0,0]
[null,null,6,null,"gelol spray ","Unidade",null,0,12,0,0]
[null,null,7,null,"band-aid de tamanhos e formas variadas","caixa",null,0,12,0,0]
[null,null,8,null,"colar cervical de resgate (rígido e higienizável) P/M/G/ ","Unidade",null,0,60,0,0]
[null,null,9,null,"compressas gazes esterilizadas ","Unidade",null,0,24,0,0]
[null,null,10,null,"compressas de gaze esterelizada 7,50cm x 7,50cm 13 fios, pacote com 500 unidades;","unidade",null,0,24,0,0]
[null,null,11,null,"Hastes de polipropileno, corante atóxicos, flexíveis e inquebráveis, 100%algodão,  caixa com 75 unidades","caixa",null,0,12,0,0]
[null,null,12,null,"estabilizadores (imobilizadores) de cabeça para prancha ","Unidade",null,0,60,0,0]
[null,null,13,null,"Estetoscópio","Unidade",null,0,60,0,0]
[null,null,14,null,"Plástico protetor de queimaduras e eviscerações (01m x 01m) esterelizado","Unidade",null,0,24,0,0]
[null,null,15,null,"fita microporos a 50mmx10m cor da pele","Unidade",null,0,12,0,0]
[null,null,16,null,"lanterna para avaliar pupilas com pilhas","Unidade",null,0,60,0,0]
[null,null,17,null,"luvas em látex para procedimentos M/G ","Unidade",null,0,12,0,0]
[null,null,18,null,"pinças de secção com serrilha 16cm ","Unidade",null,0,60,0,0]
[null,null,19,null,"pochetes tipo cartucheira para transportes de materiais de primeiros socorros ","Unidade",null,0,60,0,0]
[null,null,20,null,"ressuscitador digital (reanimador) pulmonar adulto em silicone","Unidade",null,0,60,0,0]
[null,null,21,null,"solução fisiológica de cloreto de sódio 0,9% 125 ml ","Unidade",null,0,12,0,0]
[null,null,22,null,"rolo de gaze hidrófila circular 500g. ","Unidade",null,0,12,0,0]
[null,null,23,null,"máscara cirúrgica descartável, formato retangular, com elástico, cor branca, com 50 unidades","caixa",null,0,12,0,0]
[null,null,24,null,"tala moldável para dedo","Unidade",null,0,60,0,0]
[null,null,25,null,"talas moldáveis aramadas P/M/G/","Unidade",null,0,60,0,0]
[null,null,26,null,"sabão degermante líquido","Unidade",null,0,12,0,0]
[null,null,27,null,"tesoura sem ponta","Unidade",null,0,60,0,0]
[null,null,28,null,"termômetro","Unidade",null,0,60,0,0]
[null,null,29,null,"tintura de iodo, povidine ou álcool iodado","litro",null,0,12,0,0]
[null,null,30,null,"prancha longa de madeira ou material similar resistência (185/190 x 45 cm)","litro",null,0,60,0,0]
[null,null,"Valor Estimado Mensal",null,null,null,null,null,null,null,{"$f":"SUM(K135:K164)","v":0}]
[]
[null,null,null,null,null,null,null,null,null,"TRTe Fórum CG"]
[null,null,null,"Qtd. Estimada de Brigadista (Incluso o Chefe de Brigada)",null,null,null,null,null,{"$f":"'Dados Contratação'!$J$41","v":2}]
[null,null,"Valor Mensal dos Materiais de Primeiros Socorros Por Empregado",null,null,null,null,null,null,{"$f":"IF(J168=0,0,TRUNC(ROUND(K165/J168,2),2))","v":0}]

{"sheet":"Insumos - Motorista","index":9,"n_rows":35,"n_cols":11,"rows_kept":35,"cut":false,"hidden":true,"merged":[[3,1,3,4],[3,5,3,6],[3,7,3,8],[3,9,3,10],[4,1,4,4],[4,5,4,6],[4,7,4,8],[4,9,4,10],[13,3,13,4],[5,1,5,4],[5,5,5,7],[5,8,5,10],[6,1,6,4],[6,5,6,7],[6,8,6,10],[11,5,12,5],[11,6,12,6],[11,7,12,7],[11,8,12,8],[11,9,11,10],[16,9,16,10],[18,9,18,10],[19,9,19,10],[20,9,20,10],[26,5,27,5],[26,6,27,6],[26,7,27,7],[26,8,27,8],[26,9,26,10],[33,9,33,10],[34,9,34,10],[28,3,28,4],[29,3,29,4],[30,9,30,10],[31,3,31,8],[32,4,32,8],[32,9,32,10]]}
[null,"5 - EQUIPAMENTOS E INSUMOS DIVERSOS"]
[]
[null,"Discriminação dos Serviços (dados referentes à contratação)"]
[null,"Nº do Processo Administrativo:",null,null,null,"Licitação nº:",null,"Data:",null,"Horário:"]
[null,{"$f":"IF(ISBLANK('Dados Contratação'!$B$6),\"-\",'Dados Contratação'!$B$6)","v":"15940/2022"},null,null,null,{"$f":"IF(ISBLANK('Dados Contratação'!$D$6),\"-\",'Dados Contratação'!$D$6)","v":"-"},null,{"$f":"IF(ISBLANK('Dados Contratação'!$E$6),\"-\",'Dados Contratação'!$E$6)","v":"-"},null,{"$f":"IF(ISBLANK('Dados Contratação'!$F$6),\"-\",'Dados Contratação'!$F$6)","v":"-"}]
[null,"Local da Prestação dos Serviços:",null,null,null,"Vigência da Contratação:",null,null,"Máximo de Vigência:"]
[null,{"$f":"IF(ISBLANK('Dados Contratação'!$M$12),\"-\",'Dados Contratação'!$M$12)","v":"CAMPO GRANDE/MS"},null,null,null,{"$f":"IF(ISBLANK('Dados Contratação'!$J$6),\"-\",CONCATENATE('Dados Contratação'!$J$6,\" \",'Dados Contratação'!$K$6))","v":"12 meses"},null,null,{"$f":"IF(ISBLANK('Dados Contratação'!$N$6),\"-\",CONCATENATE('Dados Contratação'!$N$6,\" \",'Dados Contratação'!$O$6))","v":"60 meses"}]
[]
[null,null,"MATERIAIS E EQUIPAMENTOS"]
[]
[null,null,1,"Material de Escritório"]
[null,null,null,null,null,"Unidade","Marca","Custo Unitário","Vida Útil (meses)","TRT"]
[null,null,null,null,null,null,null,null,null,"Qtd.","Custo Mensal"]
[null,null,1,"Livros anotação de ocorrência, contendo 100 (cem) folhas pautadas",null,"Unidade",null,0,30,0,{"$f":"TRUNC(ROUND((H14*J14)/I14,2),2)","v":0}]
[null,null,2,"Caneta esferográfica azul ou preta",null,"Unidade",null,0,30,0,{"$f":"TRUNC(ROUND((H15*J15)/I15,2),2)","v":0}]
[null,null,3,"Lápis grafite para anotações",null,"Unidade",null,0,30,0,0]
[null,null,"Valor Estimado Mensal",null,null,null,null,null,null,{"$f":"SUM(K14:K16)","v":0}]
[]
[null,null,null,null,null,null,null,null,null,"TRT"]
[null,null,null,"Quantidade Estimada de Profissionais",null,null,null,null,null,{"$f":"'Dados Contratação'!$J$41","v":2}]
[null,null,"Valor Mensal dos Materiais de Consumo por Empregado",null,null,null,null,null,null,{"$f":"IF(J20=0,0,TRUNC(ROUND(J17/J20,2),2))","v":0}]
[]
[]
[]
[]
[null,null,2,"Material de Comunicação"]
[null,null,null,null,null,"Unidade","Marca","Custo Unitário","Vida Útil (meses)","TRT"]
[null,null,null,null,null,null,null,null,null,"Qtd.","Custo Mensal"]
[null,null,1,"Fornecimento de aparelhos de comunicação móvel, habilitado, com carregador e manual do usuário",null,"Unidade","Multilaser MS 45",0,60,0,{"$f":"TRUNC(ROUND((H29*J29)/I29,2),2)","v":0}]
[null,null,2,"Plano pós-pago para o serviço móvel celular (1)",null,"Mensalidade","(Tim) Linha ilimitado para qualquer operadora (fixo e móvel) + 6 GB de internet",0,1,0,{"$f":"TRUNC(ROUND((H30*J30)/I30,2),2)","v":0}]
[null,null,"Valor Estimado Mensal",null,null,null,null,null,null,{"$f":"SUM(K29:K30)","v":0}]
[null,null,null,"Obs.:  o valor estimado se dá conforme o programa pós-pago das operadoras, normalmente média de 50 minutos para outras operadoras e ilimitado quando as ligações são para a mesma operadora"]
[null,null,null,null,null,null,null,null,null,"TRT"]
[null,null,null,"Quantidade Estimada de Profissionais",null,null,null,null,null,{"$f":"'Dados Contratação'!$J$41","v":2}]
[null,null,"Valor Mensal dos Materiais de Trabalho por Empregado",null,null,null,null,null,null,{"$f":"IF(J34=0,0,TRUNC(ROUND(J31/J34,2),2))","v":0}]

{"sheet":"Insumos - Manutenção","index":10,"n_rows":72,"n_cols":11,"rows_kept":72,"cut":false,"hidden":true,"merged":[[3,1,3,4],[3,5,3,6],[3,7,3,8],[3,9,3,10],[4,1,4,4],[4,5,4,6],[4,7,4,8],[4,9,4,10],[29,9,29,10],[5,1,5,4],[5,5,5,7],[5,8,5,10],[6,1,6,4],[6,5,6,7],[6,8,6,10],[11,5,12,5],[11,6,12,6],[11,7,12,7],[11,8,12,8],[11,9,11,10],[36,5,37,5],[36,6,37,6],[36,7,37,7],[36,8,37,8],[36,9,36,10],[67,9,67,10],[69,9,69,10],[70,9,70,10],[71,9,71,10],[31,9,31,10],[32,9,32,10],[33,9,33,10]]}
[null,"5 - EQUIPAMENTOS E INSUMOS DIVERSOS"]
[]
[null,"Discriminação dos Serviços (dados referentes à contratação)"]
[null,"Nº do Processo Administrativo:",null,null,null,"Licitação nº:",null,"Data:",null,"Horário:"]
[null,{"$f":"IF(ISBLANK('Dados Contratação'!$B$6),\"-\",'Dados Contratação'!$B$6)","v":"15940/2022"},null,null,null,{"$f":"IF(ISBLANK('Dados Contratação'!$D$6),\"-\",'Dados Contratação'!$D$6)","v":"-"},null,{"$f":"IF(ISBLANK('Dados Contratação'!$E$6),\"-\",'Dados Contratação'!$E$6)","v":"-"},null,{"$f":"IF(ISBLANK('Dados Contratação'!$F$6),\"-\",'Dados Contratação'!$F$6)","v":"-"}]
[null,"Local da Prestação dos Serviços:",null,null,null,"Vigência da Contratação:",null,null,"Máximo de Vigência:"]
[null,{"$f":"IF(ISBLANK('Dados Contratação'!$M$12),\"-\",'Dados Contratação'!$M$12)","v":"CAMPO GRANDE/MS"},null,null,null,{"$f":"IF(ISBLANK('Dados Contratação'!$J$6),\"-\",CONCATENATE('Dados Contratação'!$J$6,\" \",'Dados Contratação'!$K$6))","v":"12 meses"},null,null,{"$f":"IF(ISBLANK('Dados Contratação'!$N$6),\"-\",CONCATENATE('Dados Contratação'!$N$6,\" \",'Dados Contratação'!$O$6))","v":"60 meses"}]
[]
[null,null,"EQUIPAMENTOS DE PROTEÇÃO INDIVIDUAL (EPI's) E FERRAMENTAS"]
[]
[null,null,1,"EQUIPAMENTOS DE PROTEÇÃO INDIVIDUAL (EPI's)"]
[null,null,null,null,null,"Unidade","Marca","Custo Unitário","Vida Útil (meses)","TRT"]
[null,null,null,null,null,null,null,null,null,"Qtd.","Custo Mensal"]
[null,null,1,null,"Abafador de ruídos tipo concha; arco que gira 360º, possibilitando sua utilização em três posições diferentes, permitindo o uso simultâneo com outros E.P.I.s; fabricado em plástico não condutor de eletricidade; almofada em espuma revestida com vinil; permite a reposição de todas as peças; NRRsf 21 dB. Modelo de referência: MSA Mark V","Unidade",null,0,30,0,{"$f":"TRUNC(ROUND((H14*J14)/I14,2),2)","v":0}]
[null,null,2,null,"Capa para chuva descartável; medidas mínimas para adulto 1,75 m altura x 100 kg; fecho com botão de pressão; cor transparente, translúcida ou branca.","Unidade",null,0,30,0,{"$f":"TRUNC(ROUND((H15*J15)/I15,2),2)","v":0}]
[null,null,3,null,"Cinto de segurança tipo pára-quedista; almofadado; com cinta larga e reforçada na cintura; com mosquetão frontal e 03 olhal; fornecer com corda de segurança tipo \"cordão umbilical\". Modelo de referência: Carbografite CG 790E.","Unidade",null,0,30,0,0]
[null,null,4,null,"Óculos de segurança âmbar; com camada anti-embaçante e anti-risco; ampla visão periférica; apoio nasal em silicone macio; orifícios para cordão; capacidade de filtrar 99,9% dos raios ultravioletas; formato conforme foto abaixo. Modelo de ref.: Carbografite Cayman Âmbar Anti-Embaçante cód 012299012","Unidade",null,0,30,0,0]
[null,null,5,null,"Óculos de segurança cinza; com camada anti-embaçante e anti-risco; ampla visão periférica; apoio nasal em silicone macio; orifícios para cordão; capacidade de filtrar 99,9% dos raios ultravioletas; formato conforme foto abaixo. Modelo de ref.: Carbografite Cayman Cinza Anti-Embaçante cód 012298812","Unidade",null,0,30,0,0]
[null,null,6,null,"Óculos de segurança incolor; com camada anti-embaçante e anti-risco; ampla visão periférica; apoio nasal em silicone macio; orifícios para cordão; capacidade de filtrar 99,9% dos raios ultravioletas; formato conforme foto abaixo. Modelo de ref.: Carbografite Cayman Incolor Anti-Embaçante cód 012298912","Unidade",null,0,30,0,0]
[null,null,7,null,"Respirador descartável com válvula de exalação para respiração confortável; com tratamento eletrostático; classe PFF-1; para proteção respiratória contra particulados na forma de poeiras e névoas; espuma na área do nariz; embalagem individual; dobrável em 3 paineis; compatível com outros EPIs; uso indicado para proteção das vias respiratórias contra poeiras e névoas nao oleosas, tais como: minério de ferro, carvao, fibras, texteis, cal, cimento refinado, poeiras vegetais, poeiras de lixamento e esmerilhamento, névoas de ácido sulfúrico, soda cáustica, entre outras, em concentração até 10 vezes o limite de exposição ocupacional dessas substâncias. Modelo de ref.: 3M cód 9312.","Unidade",null,0,30,0,0]
[null,null,8,null,"luva de malha pigmentada; fabricada em fios de algodão e poliéster; palma com pigmentos de PVC; com elástico para o punho; 4 fios. Modelo de referência: Carbografite código 012348212","Par",null,0,30,0,0]
[null,null,9,null,"Botina de segurança confeccionado em 100% microfibra; atende a NR 10, sem componentes metálicos; proteção elétrica e mecânica; colarinho forrado respirável; forração da gáspea respirável; fechamento em cadarço; palmilha de montagem em tanino dublado ou têxtil resistente à perfuração fixada/costurada junto ao cabedal (processo Strobel); solado com sistema de absorção de impacto; injetado diretamente ao cabedal; modelo transpirável e que possibilita a absorção e dessorção do suor, fácil higienização; não propaga chamas; lavável, impermeável, resistente a produtos químicos; biqueira de composite: leve, antimagnética, anticorrosiva e ultraresistente; palmilha resistente à perfuração: superflexível e cobre 100% da planta do pé; solado isolante em PU bidensidade. Modelo de referência Marluvas 70S29 C ou CPAP.","Par",null,0,30,0,0]
[null,null,10,null,"Capacete de segurança, cor branca. CARACTERÍSTICAS DO CASCO: rígido; leve; balanceado para um dia inteiro de uso confortável; injetado em uma única peça em polietileno de alta densidade; sem porosidade; não sendo condutor de corrente elétrica e com alta resistência dielétrica; possuir fendas lateriais (Slot) para que sejam acoplados protetores faciais e auditivos; com aba frontal. CARACTERÍSTICAS DA SUSPENSÃO: sistema com catraca de ajuste rápido; com ajuste de precisão, com tira de nuca, para manter o capacete no lugar mesmo quando o usuário inclinar a cabeça; testeira absorvedora de suor, produzida em laminado de PVC atóxico, dublado com espuma multiperfurada em poliuretano, na cor cinza; carneira ajustável para todas as medidas de cabeça, confeccionada em polietileno de baixa densidade, de alta resistência; sistema de amortecimento com cinta dupla posicionada na forma de cruz, para receber o impacto e deslizar entre as fendas dos clips de fixação, da Suspensão ao Capacete, formando um inteligente sistema de amortecimento; GRAVAÇÃO DE LOGOTIPO NO CASCO: alta qualidade; colorido; feita pelo fabricante do capacete. Fabricante / modelo de referência: MSA Capacete V-Gard Aba Frontal com Suspensão Fas-Trac.","Par",null,0,30,0,0]
[null,null,11,null,"Luva de segurança vaqueta petroleiro em couro, confeccionada em vaqueta total, com reforço, costurada com linha de nylon ou algodão, elástico para ajuste no dorso, proteção de couro embutida nas principais costuras do polegar e dedos, modelo Petroleiro.","Par",null,0,30,0,0]
[null,null,12,null,"Luva de segurança raspa em couro, confeccionada em raspa total, com reforço, costurada com linha de nylon ou algodão, elástico para ajuste no dorso, proteção de couro embutida nas principais costuras do polegar e dedos, modelo Petroleiro.","Par",null,0,30,0,0]
[null,null,13,null,"Luva de borracha p/ tensão 20 kV; classe II.","Par",null,0,30,0,0]
[null,null,14,null,"Proteção de couro para luva isolante classe II.","Par",null,0,30,0,0]
[null,null,15,null,"Uniforme eletricista retardante-chama NR10 com faixa refletiva.","Jogo",null,0,30,0,0]
[null,null,16,null,"Protetor Facial V-Gard® 190 ARC Plus","Par",null,0,30,0,0]
[null,null,"Valor Estimado Mensal",null,null,null,null,null,null,{"$f":"SUM(K14:K29)","v":0}]
[]
[null,null,null,null,null,null,null,null,null,"TRT"]
[null,null,null,null,null,null,null,null,null,{"$f":"'Dados Contratação'!$J$41","v":2}]
[null,null,"Valor Mensal dos Materiais de Consumo por Empregado",null,null,null,null,null,null,{"$f":"IF(J33=0,0,TRUNC(ROUND(J30/J33,2),2))","v":0}]
[]
[null,null,2,"FERRAMENTAS DE TELECOMUNICAÇÃO"]
[null,null,null,null,null,"Unidade","Marca","Custo Unitário","Vida Útil (meses)","TRT"]
[null,null,null,null,null,null,null,null,null,"Qtd.","Custo Mensal"]
[null,null,1,null,"Alicate de crimpagem RJ-45; padrão RoHS Compliant; corpo de aço com revestimento termoplástico; executa a inserção das garras de contato do conector RJ-45 macho e aciona o prensa-cabo; conectorização de conectores RJ-45 macho CAT 5e e CAT 6; metal na cor preta e termoplástico na cor azul; dimensões 265 x 100 x 100 mm; ferramenta de alta qualidade. Modelo de referência Furukawa ET1698 da família de produtos FISACESSO ou Fluke Crimpadora Modular 11212530.","Unidade",null,0,60,0,{"$f":"TRUNC(ROUND((H39*J39)/I39,2),2)","v":0}]
[null,null,2,null,"Kit de gerador de tom e sonda digital que rastreia e localiza cabos em uma rede ativa com acessórios; itens inclusos: a) gerador de tom de sinal digital codificado e sinal analógico 500 a 1200 Hz de 4 sons com desligamento automático, b) sonda detectora de sinal digital codificado e sinal analógico 500 a 1200 Hz com desligamento automático, c) adaptador de conector coaxial F, d) 2 cabos de acoplamento RJ11, e) 2 cabos de acoplamento RJ45, f) pontas de teste com garras jacaré, g) coletores, h) CD do proprietário, i) guia de início rápido, j) 2 baterias de 9 volts, k) estojo reforçado com acolchoado e passadores para cinto, l) pontas de teste com jogo cama de pregos, duas pontas de teste tipo banana do tipo cama de pregos, com garras jacaré do tipo cama de pregos e protetores de vinil, m) pontas de teste com jogo de garras jacaré, duas pontas de teste banana, com garras jacaré comuns e protetores de vinil; características: diagnostica informações essenciais de cabos com polaridade, continuidade e talkbattery; identifica e diagnostica POTS com serviço e polaridade de linha telefônica 1 e 2; identifica e diagnostica conectividade de link Ethernet de 10/100/1 Gb com NIC/indicação de hub; verifica instalação de par trançado com CableMap, identificando fiação mal feita de cabo comum; rejeição de ruídos e sinais falsos; localiza cabos em redes ativas, mesmo que estejam conectados a um switch; isola cabos e fiações dentro de um grupo, apesar do vazamento do cabo; confirma o local do cabo, verifica a continuidade e detecta falhas (aberturas, curtos e pares torcidos) de uma só vez; isola pares de fios individuais precisamente, alterando o tom quando em curto; controla e localiza cabos de voz, áudio e vídeo de maneira eficiente; sinalização digital e analógica; localização de cabos ocultos em pisos, telhados, paredes e grupos; verifica a continuidade do cabo; gera tom em redes vivas; identifica serviços de telecomunicações; verifica o serviço de Ethernet. Modelo de referência Fluke IntelliTone 200 Pro Toner and Probe MT-8200-60A e acessórios MT-8202-05, MT-8203-20 e MT-8203-22.","Unidade",null,0,60,0,{"$f":"TRUNC(ROUND((H40*J40)/I40,2),2)","v":0}]
[null,null,3,null,"Kit detector de tensão portátil; especificações do detector de tensão: 30,5 x 3,8 cm / 450 g / LED indicativo para 50 - 20.000 VAC RMS e 6 - 2.000 VDC; o kit deve incluir: a) protetor de sonda; b) bolsa de guarda; c) conexão temporária; d) fio terra; e) plug de teste; f) manual. Modelo de referência Fluke Kit Detector de Voltagem C9974.","Unidade",null,0,60,0,0]
[null,null,4,null,"Alicate amperímetro; medição de corrente CA e CC escalas 40A e 400A, true RMS, precisão 2% +- 5 dígitos; medição de tensão CA e CC até 600V, true RMS, precisão 1,5% +- 5 dígitos; medição de resistência até 40 kOhms, precisão 1% +- 5 dígitos; detecção de continuidade <= 30 Ohms; medição de temperatura -10 a 400°C; medição de capacitância; medição de frequência 5 a 500 Hz; luz de fundo; design ergonômico; monitor amplo; botão de retenção; classificação CAT III 600V e CAT IV 300V; c/ maleta flexível para transporte; c/ terminais de teste. Modelo de referência Fluke 325.","Unidade",null,0,60,0,0]
[null,null,5,null,"Escada ajustável multiuso; fabricado em alumínio aeronáutico; ajustável em 14 posições; sistema de travas seguras; 12 degraus (distância entre eles de 28cm); pés de borracha; capacidade 150 Kg; altura da escada reta 3,40m; altura da escada dobrada em 4 partes: 85 cm; altura da escada auxiliar: 1,57m; distância entre os degraus: 28 cm; peso aproximado: 11 kg; 2 barras estabilizadoras com pés de borracha; fornecido com: 1 chapa longa de andaime; 1 chapa curta de andaime, 8 parafusos, 16 arruelas, 8 porcas, 1 plataforma, 1 manual de instruções. Modelo de referência: Super Ladder.","Unidade",null,0,60,0,0]
[null,null,6,null,"Escada Telescópica multi-uso; fabricada em aço-carbono fosfotizado; pintura eletrostática epóxi-pó; altura fechada: 1,27m e 4 degraus; altura cavalete: 2,05m e 4 a 7 degraus; altura vertical: 4,10m e 8 a 14 degraus; peso 14,5 Kg; com plataforma universal em polipropileno; com prolongador 1,6m; com kit andaime; possibilidade de uso em piso irregular; capacidade 120Kg. Modelo de referência: Zeus ref. 8055.","Unidade",null,0,60,0,0]
[null,null,7,null,"Combo Furadeira Parafusadeira e Parafusadeira de impacto à bateria de 12 volts, rotação de 0 - 1300 rpm, torque máximo de 24 N.m. e mandril de aperto rápido de 3/8\", com maleta. Modelo de referência: Makita LCT204","Unidade",null,0,60,0,0]
[null,null,8,null,"Furadeira e Parafusadeira de Impacto 20,0 Volts Max com mandril de 1/2\" (13 mm) sem chave (aperto rápido), luz de Led, 03 velocidades mecânicas e gatilho eletrônico com velocidade variável e reversível. Acompanha 02 baterias de lítio (li-ion)de 3,0 amperes , carregador rápido, empunhadura, clip para cinto e maleta para transporte. • Luz de Led de 20s. • Controle de Torque. • Gatilho eletrônico com velocidade variável e reversível. • 03 velocidades mecânicas. • Empunhadura ergonômica.. Modelo de referência: DeWalt DCD985L2","Par",null,0,60,0,0]
[null,null,9,null,"Carrinho para ferramentas 5 gavetas e 1 porta 115 ferramentas. Descrição: Armazenamento e transporte de ferramentas manuais, peças e acessórios. Capacidade de carga dinâmica máxima no carrinho: 400-450 kg. Capacidade de carga estática máxima no carrinho: 500 kg. Espessura das chapas: Gavetas e portas: 0.80 mm; Estrutura: 1.20 mm. Acompanha puxador ergonômico e cobertura de borracha. Pintura eletrostática. Especificações:\nEstrutura com paredes reforçadas; Cinco gavetas com corrediças telescópicas; Quatro gavetas com 75 mm de altura; Uma gaveta com 154 mm de altura; Uma porta na parte inferior do carro; Trancas para as gavetas e portas; Rodas dianteiras fixas de borracha com 125 mm de diâmetro; Rodas traseiras giratórias de borracha com 125 mm de diâmetro; Rodas traseiras providas de freio individual; Capacidade de carga máxima por gaveta: 40 kg. Itens Inclusos:\nGaveta 1 - 44980/001 - Jogo de Chaves Combinadas - 14 Peças; Gaveta 1 - 44980/002 - Jogo de Chaves Fixas e Hexagonais - 19 Peças; Gaveta 1 - 44980/011 - Jogo de Soquetes 1/2\" - 20 Peças; Gaveta 2 - 44980/005 - Jogo de Chaves de Fenda - Cabo Verde - 8 Peças; Gaveta 2 - 44980/010 - Jogo de Martelos, Talhadeiras / Punções - 9 Peças; Gaveta 3 - 44980/024 - Jogo Chaves Tipo L; Gaveta 3 - 44980/009 - Jogo de Alicates - 5 Peças; Gaveta 4 - 44980/007 - Jogo de Alicates para Anéis - 4 Peças; Gaveta 4 - 44980/012 - Módulos para Objetos Diversos; Gaveta 4 - 44980/014 - 3 unidades; Gaveta 1 - 44980/026 - 3 unidades; Gaveta2 - 44980/026 - 3 Unidades; Gaveta 3 - 44980/026 - 3 Unidades; Gaveta 4 - 44980/026 - 3 Unidades. Modelo de referência: ”ADVANTAGE” - Tramontina pro","Par",null,0,60,0,0]
[null,null,10,null,"Martelete Perfurador Rompedor para serviços pesados em concreto armado e alvenaria; executa rapidamente perfurações e pequenos trabalhos de rompimento; sistema de encaixe SDS-Plus; velocidade variável; vários Lock (36 posições); embreagem de segurança; empunhadeira auxiliar ajustável à 360º com limitador de profundidade regulável; capacidade de perfurar concreto 24mm, metal 13mm, madeira 30mm; potência 680W; rotação max. 870 rpm; velocidade de impactos máx. 4850 / min; força de impacto 2,4 Joules; massa 2,4 Kg; 127V; com maleta própria; fornecer com 06 unidades de brocas SDS Plus nas medidas (mm) 6x210, 6x260, 8x210, 8x300, 10x300 e 12x300. Modelo de referência Bosch GBH 2-24 DSE ou DSR ou Makita.","Par",null,0,60,0,0]
[null,null,11,null,"Esmerilhadeira angular 4.1/2\" 800 watts rotação de 12.000 rpm; empunhadura lateral em duas posições e cabo elétrico emborrachado de 2,5 metros;  Modelo de referencia: Dewalt DWE4020B2B, Makita GA4530, Bosch GWS8-115.","Par",null,0,60,0,0]
[null,null,12,null,"Jogo De Ferramentas Com 23 Peças; Estojo Em Lona Com Zíper; 1 Alicate Universal 7; 1 Alicate Bomba Dagua 10\"; - 1 Trena 3 Metros; - 1 Estilete 18mm;  1 Chave De Fenda 5x75mm; 1 Chave Phillips 1x75mm;  2 Chaves De Precisão 2,4x40mm; 9 Chaves Hexagonais / Allen 1,5 A 10mm; 6 Chaves Combinadas 8 A 19mm","Par",null,0,60,0,0]
[null,null,13,null,"Arco de serra para metais; cabo ergonômico fechado para maior proteção; profundidade de corte 90mm; para lâminas de 12\"; largura 435mm; peso máximo 360g; pode ser usado com lâmina na vertical ou com ângulo de 40° em relação ao arco; cabo em alumínio com pintura eletrostática; magazine (suporte) para armazenar 3 lâminas reservas dentro do tubo do arco; fornecer com 4 lâminas do mesmo fabricante do arco de serra. Modelo de referência: Gedore cód 039.010 / ref 403.","Par",null,0,60,0,0]
[null,null,14,null,"Broca SDS-plus diâmetro 8mm; comprimento útil 90mm; comprimento total 150mm; broca de percussão mais resistente ao impacto, com maior durabilidade em concreto e granito, extremamente resistente à torção; forma em espiral com ranhura de avanço em forma de U, impedindo a obstrução pelo pó, com maior rendimento da perfuração; formato largo e a posição aprofundada da pastilha de metal duro para evitar a quebra da ponta; arestas de metal duro afiadas com diamante, soldadas a alta temperatura para furar de forma rápida, precisa e segura; apropriada para furos em granito, concreto, alvenaria, arenito calcário, pedras naturais e artificiais. Modelo de referência Bosch Blue Granite, número de tipo 2 608 597 743 e código de barras 3165140187558.","Par",null,0,60,0,0]
[null,null,15,null,"Broca SDS-plus diâmetro 10mm; comprimento útil 300mm; comprimento total 365mm; ponta centradora cônica para centramento durante a perfuração de diâmetros precisos; aresta de corte com formato especial para alta velocidade de perfuração constante; marca de desgaste fácil de checar; precisão constante das perfurações; pastilha de metal duro maciço com geometria de quatro lâminas para prolongamento da vida útil em concreto e concreto armado; superfície e geometria em espiral de alta performance para transferência de força máxima e rápida remoção de pó. Modelo de referência Bosch, número de tipo 2 2608680273 e código de barras 3165140440202.","Par",null,0,60,0,0]
[null,null,16,null,"Broca SDS-plus diâmetro 12mm; comprimento útil 300mm; comprimento total 365mm; ponta centradora cônica para centramento durante a perfuração de diâmetros precisos; aresta de corte com formato especial para alta velocidade de perfuração constante; marca de desgaste fácil de checar; precisão constante das perfurações; pastilha de metal duro maciço com geometria de quatro lâminas para prolongamento da vida útil em concreto e concreto armado; superfície e geometria em espiral de alta performance para transferência de força máxima e rápida remoção de pó. Modelo de referência Bosch, número de tipo 2 608 585 053 e código de barras 3165140440202.","Par",null,0,60,0,0]
[null,null,17,null,"Broca SDS-plus diâmetro 14mm; comprimento útil 300mm; comprimento total 365mm; ponta centradora cônica para centramento durante a perfuração de diâmetros precisos; aresta de corte com formato especial para alta velocidade de perfuração constante; marca de desgaste fácil de checar; precisão constante das perfurações; pastilha de metal duro maciço com geometria de quatro lâminas para prolongamento da vida útil em concreto e concreto armado; superfície e geometria em espiral de alta performance para transferência de força máxima e rápida remoção de pó. Modelo de referência Bosch, número de tipo 2 608 585 947 e código de barras 3165140522212.","Par",null,0,60,0,0]
[null,null,18,null,"Corda 8mm - 30 metros","Par",null,0,60,0,0]
[null,null,19,null,"Fita Isolante Autofusão 10 Metros Preto 3M","Par",null,0,60,0,0]
[null,null,20,null,"Passa fio com alma de aço proagua 20 metros profissional","Par",null,0,60,0,0]
[null,null,21,null,"Fita isolante antichama - rolo 20 metros; PVC auto-extinguível à chama; antiflam; não perecível; para isolação até 750V; classe de temperatura 90°C; largura 19mm, espessura 0,18 a 0,19mm; norma NBR 5037; cor preta; cada unidade em uma embalagem plástica rígida; validade impressa no rolo da fita com pelo menos 18 meses; fabricante e modelo impresso em auto-relevo na fita. Modelos de referência: Pirelli Prysmian P44, 3M Scotch 33+ e Tigre Pro Classe A.","Par",null,0,60,0,0]
[null,null,22,null,"Trena de precisão, 5 metros, fita de aço inoxidável, em caixa ergonômica resistente a impactos, fita de fácil leitura, extremidade da fita duplamente rebitada, graduações em milímetro e polegada tipo S9; largura da fita 19mm. Modelo de referência: Starrett VI34-5.","Par",null,0,60,0,0]
[null,null,23,null,"Medidor de Distância - Trena a Laser Especificações Técnicas: Distância de trabalho: 0,15 ? 40 m; Precisão de medição: ± 1,5 mm; Pilhas: 2 x 1,5 V LR03 (AAA); Classe e tipo do laser: Class 2, 635 nm, <1mW; Modelo de referencia : GLM40 Bosch","Par",null,0,60,0,0]
[null,null,24,null,"Ventosa; material ABS; utilizada no manuseio de placas de vidro de até 60 kg; sistema de aspiração e trava de segurança; os discos de aspiração são fixos. Modelo de referência Vonder 35.99.303.303","Par",null,0,60,0,0]
[null,null,25,null,"Jogo X-Line Titânio Com 100 Peças. Contendo: 1 Adaptador magnético universal, 1 Chave de catraca angular (frente/reverso), 1 Adaptador de soquete, 1 Adaptador p/ serra copo, 1 Chave allen, 1 Nível de bolha, 1 Guia p/ broca, 1 Lanterna, 1 Limitador de profundidade, 18 Brocas p/ metal titânio 1-10mm, 7 Brocas p/ concreto 3-8mm, 7 Brocas p/ madeira 3-10mm, 3 Brocas chatas titânio 16/22/32mm, 40 Pontas 25mm: SL 4/4/6/6/7/7 - Hex 3/4/5/6 - PH 0/0/1/1/2/2/2/3/3/3 - PZ 0/0/1/1/2/2/2/3/3/3 - Torx T10/T10/T15/T15/T20/T20/T25/T25/T30. Modelo de referência:  BOSCH","Par",null,0,60,0,0]
[null,null,26,null,"Notebook Intel Core i5-7200U 8GB 1TB Tela 15.6” Windows 10; wifi; bluetooth; saída HDMI; fornecido com mouse sem fio, 2,4GHz 1000dpi, 3 botóes e scroll, com mousepad. Modelo de referência: Dell Inspiron I15-3567-A40P","Par",null,0,60,0,0]
[null,null,27,null,"Smartphone 4G; processador octa-core 1.4GHz; 3GB memória RAM; armazenamento 32GB; tela full HD entre 5 e 6,5 polegadas de diagonal; tela com proteção de vidro à prova de riscos (Gorilla Glass 3 ou similar); capacidade mín. bateria 3200 mAh; redes GSM / GPRS / EDGE / 3G / 4G nas bandas em uso no MS; com função de compartilhamento de internet wifi; câmera traseira mín. 12 MP com flash; câmera frontal mín. 2 MP; captura de vídeo em full HD; bluetooth; Wi-Fi 802.11a/g/b/n/ac; GPS / Glonass; sistema operacional Android 7 ou superior; modelos de referência: Samsung Galaxy S8, Samsung Galaxy A5+, Motorola Moto G6 play; fornecer com capa resistente a quedas.","Par",null,0,30,0,0]
[null,null,28,null,"Alicate de Inserção Punch Down, faz inserção e corte excesso, permite ajuste de impacto, cabo anatômico e regulagem de pressão. Modelo de referência: GC-314B","Jogo",null,0,60,0,0]
[null,null,29,null,"Plano de dados e voz, cuja cobertura abranja todos os pavimentos do prédio sede e todas as cidades que abrigam prédios do TRT24: mín. de 100 minutos de voz outras operadoras, voz ilimitado entre mesma operadora, mín. de 2GB de tráfego mensal, banda de dados mín. de 7Mbps, torpedos ilimitados.","Par",null,0,1,0,0]
[null,null,"Valor Estimado Mensal",null,null,null,null,null,null,{"$f":"SUM(K39:K67)","v":0}]
[]
[null,null,null,null,null,null,null,null,null,"TRT"]
[null,null,null,null,null,null,null,null,null,{"$f":"'Dados Contratação'!$J$41","v":2}]
[null,null,"Valor Mensal dos Materiais de Consumo por Empregado",null,null,null,null,null,null,{"$f":"IF(J71=0,0,TRUNC(ROUND(J68/J71,2),2))","v":0}]

{"sheet":"Insumos - Limpeza","index":11,"n_rows":60,"n_cols":49,"rows_kept":60,"cut":false,"hidden":true,"merged":[[3,1,3,4],[3,5,3,6],[3,7,3,8],[3,9,3,10],[4,1,4,4],[4,5,4,6],[4,7,4,8],[4,9,4,10],[11,5,12,5],[11,6,12,6],[11,7,12,7],[11,8,12,8],[11,9,11,10],[11,11,11,12],[5,1,5,4],[5,5,5,7],[5,8,5,10],[6,1,6,4],[6,5,6,7],[6,8,6,10],[11,47,11,48],[11,25,11,26],[11,27,11,28],[11,29,11,30],[11,31,11,32],[11,33,11,34],[11,35,11,36],[11,13,11,14],[11,15,11,16],[11,17,11,18],[11,19,11,20],[11,21,11,22],[11,23,11,24],[25,13,25,14],[25,15,25,16],[25,17,25,18],[25,19,25,20],[11,37,11,38],[11,39,11,40],[11,41,11,42],[11,43,11,44],[11,45,11,46],[25,45,25,46],[25,47,25,48],[27,9,27,10],[27,11,27,12],[27,13,27,14],[27,15,27,16],[27,17,27,18],[27,19,27,20],[27,21,27,22],[27,23,27,24],[25,33,25,34],[25,35,25,36],[25,37,25,38],[25,39,25,40],[25,41,25,42],[25,43,25,44],[25,21,25,22],[25,23,25,24],[25,25,25,26],[25,27,25,28],[25,29,25,30],[25,31,25,32],[25,9,25,10],[25,11,25,12],[27,37,27,38],[27,39,27,40],[27,41,27,42],[27,43,27,44],[27,45,27,46],[27,47,27,48],[27,25,27,26],[27,27,27,28],[27,29,27,30],[27,31,27,32],[27,33,27,34],[27,35,27,36],[30,9,30,10],[30,11,30,12],[30,13,30,14],[30,15,30,16],[30,17,30,18],[30,19,30,20],[30,21,30,22],[30,23,30,24],[28,33,28,34],[28,21,28,22],[28,23,28,24],[28,25,28,26],[28,27,28,28],[28,29,28,30],[28,31,28,32],[28,9,28,10],[28,11,28,12],[28,13,28,14],[28,15,28,16],[28,17,28,18],[28,19,28,20],[30,47,30,48],[30,25,30,26],[30,27,30,28],[30,29,30,30],[30,31,30,32],[30,33,30,34],[30,35,30,36],[28,45,28,46],[28,47,28,48],[28,35,28,36],[28,37,28,38],[28,39,28,40],[28,41,28,42],[28,43,28,44],[31,13,31,14],[31,15,31,16],[31,17,31,18],[31,19,31,20],[30,37,30,38],[30,39,30,40],[30,41,30,42],[30,43,30,44],[30,45,30,46],[31,45,31,46],[31,47,31,48],[32,9,32,10],[32,11,32,12],[32,13,32,14],[32,15,32,16],[32,17,32,18],[32,19,32,20],[32,21,32,22],[32,23,32,24],[31,33,31,34],[31,35,31,36],[31,37,31,38],[31,39,31,40],[31,41,31,42],[31,43,31,44],[31,21,31,22],[31,23,31,24],[31,25,31,26],[31,27,31,28],[31,29,31,30],[31,31,31,32],[31,9,31,10],[31,11,31,12],[32,37,32,38],[32,39,32,40],[32,41,32,42],[32,43,32,44],[32,45,32,46],[32,47,32,48],[32,25,32,26],[32,27,32,28],[32,29,32,30],[32,31,32,32],[32,33,32,34],[32,35,32,36],[36,13,36,14],[36,15,36,16],[36,17,36,18],[36,19,36,20],[36,21,36,22],[36,23,36,24],[36,5,37,5],[36,6,37,6],[36,7,37,7],[36,8,37,8],[36,9,36,10],[36,11,36,12],[36,37,36,38],[36,39,36,40],[36,41,36,42],[36,43,36,44],[36,45,36,46],[36,47,36,48],[36,25,36,26],[36,27,36,28],[36,29,36,30],[36,31,36,32],[36,33,36,34],[36,35,36,36],[57,9,57,10],[57,11,57,12],[57,13,57,14],[57,15,57,16],[57,17,57,18],[57,19,57,20],[57,21,57,22],[57,23,57,24],[55,33,55,34],[55,21,55,22],[55,23,55,24],[55,25,55,26],[55,27,55,28],[55,29,55,30],[55,31,55,32],[55,9,55,10],[55,11,55,12],[55,13,55,14],[55,15,55,16],[55,17,55,18],[55,19,55,20],[57,47,57,48],[57,25,57,26],[57,27,57,28],[57,29,57,30],[57,31,57,32],[57,33,57,34],[57,35,57,36],[55,45,55,46],[55,47,55,48],[55,35,55,36],[55,37,55,38],[55,39,55,40],[55,41,55,42],[55,43,55,44],[58,13,58,14],[58,15,58,16],[58,17,58,18],[58,19,58,20],[57,37,57,38],[57,39,57,40],[57,41,57,42],[57,43,57,44],[57,45,57,46],[58,45,58,46],[58,47,58,48],[59,9,59,10],[59,11,59,12],[59,13,59,14],[59,15,59,16],[59,17,59,18],[59,19,59,20],[59,21,59,22],[59,23,59,24],[58,33,58,34],[58,35,58,36],[58,37,58,38],[58,39,58,40],[58,41,58,42],[58,43,58,44],[58,21,58,22],[58,23,58,24],[58,25,58,26],[58,27,58,28],[58,29,58,30],[58,31,58,32],[58,9,58,10],[58,11,58,12],[59,37,59,38],[59,39,59,40],[59,41,59,42],[59,43,59,44],[59,45,59,46],[59,47,59,48],[59,25,59,26],[59,27,59,28],[59,29,59,30],[59,31,59,32],[59,33,59,34],[59,35,59,36]]}
[null,"5 - EQUIPAMENTOS E INSUMOS DIVERSOS"]
[]
[null,"Discriminação dos Serviços (dados referentes à contratação)"]
[null,"Nº do Processo Administrativo:",null,null,null,"Licitação nº:",null,"Data:",null,"Horário:"]
[null,{"$f":"IF(ISBLANK('Dados Contratação'!$B$6),\"-\",'Dados Contratação'!$B$6)","v":"15940/2022"},null,null,null,{"$f":"IF(ISBLANK('Dados Contratação'!$D$6),\"-\",'Dados Contratação'!$D$6)","v":"-"},null,{"$f":"IF(ISBLANK('Dados Contratação'!$E$6),\"-\",'Dados Contratação'!$E$6)","v":"-"},null,{"$f":"IF(ISBLANK('Dados Contratação'!$F$6),\"-\",'Dados Contratação'!$F$6)","v":"-"}]
[null,"Local da Prestação dos Serviços:",null,null,null,"Vigência da Contratação:",null,null,"Máximo de Vigência:"]
[null,{"$f":"IF(ISBLANK('Dados Contratação'!$M$12),\"-\",'Dados Contratação'!$M$12)","v":"CAMPO GRANDE/MS"},null,null,null,{"$f":"IF(ISBLANK('Dados Contratação'!$J$6),\"-\",CONCATENATE('Dados Contratação'!$J$6,\" \",'Dados Contratação'!$K$6))","v":"12 meses"},null,null,{"$f":"IF(ISBLANK('Dados Contratação'!$N$6),\"-\",CONCATENATE('Dados Contratação'!$N$6,\" \",'Dados Contratação'!$O$6))","v":"60 meses"}]
[]
[null,null,"MÁQUINAS, EQUIPAMENTOS E FERRAMENTAS"]
[]
[null,null,1,"MÁQUINAS E EQUIPAMENTOS"]
[null,null,null,null,null,"Unidade","Marca","Custo Unitário","Vida Útil (meses)","TRT - SEDE",null,"FÓRUM C. GRANDE",null,"FÓRUM DOURADOS",null,"FÓRUM TRÊS LAGOAS",null,"VT. AMAMBAI",null,"VT. AQUIDAUANA",null,"VT. BATAGUASSU",null,"VT. CASSILÂNDIA",null,"VT. CORUMBÁ",null,"VT. COXIM",null,"VT. FÁTIMA DO SUL",null,"VT. JARDIM",null,"VT. MUNDO NOVO",null,"VT. NAVIRAÍ",null,"VT. NOVA ANDRADINA",null,"VT. PARANAÍBA",null,"VT. PONTA PORÃ",null,"VT. RIO BRILHANTE",null,"VT. SÃO GABRIEL",null,"VT. CHAPADÃO DO SUL"]
[null,null,null,null,null,null,null,null,null,"Qtd.","Custo Mensal","Qtd.","Custo Mensal","Qtd.","Custo Mensal","Qtd.","Custo Mensal","Qtd.","Custo Mensal","Qtd.","Custo Mensal","Qtd.","Custo Mensal","Qtd.","Custo Mensal","Qtd.","Custo Mensal","Qtd.","Custo Mensal","Qtd.","Custo Mensal","Qtd.","Custo Mensal","Qtd.","Custo Mensal","Qtd.","Custo Mensal","Qtd.","Custo Mensal","Qtd.","Custo Mensal","Qtd.","Custo Mensal","Qtd.","Custo Mensal","Qtd.","Custo Mensal","Qtd.","Custo Mensal"]
[null,null,1,"Balde com rodas para limpeza profissional",null,"Unidade",null,0,30,0,{"$f":"TRUNC(ROUND(($H14*J14)/$I14,2),2)","v":0},0,{"$f":"TRUNC(ROUND(($H14*L14)/$I14,2),2)","v":0},0,{"$f":"TRUNC(ROUND(($H14*N14)/$I14,2),2)","v":0},0,{"$f":"TRUNC(ROUND(($H14*P14)/$I14,2),2)","v":0},0,{"$f":"TRUNC(ROUND(($H14*R14)/$I14,2),2)","v":0},0,{"$f":"TRUNC(ROUND(($H14*T14)/$I14,2),2)","v":0},0,{"$f":"TRUNC(ROUND(($H14*V14)/$I14,2),2)","v":0},0,{"$f":"TRUNC(ROUND(($H14*X14)/$I14,2),2)","v":0},0,{"$f":"TRUNC(ROUND(($H14*Z14)/$I14,2),2)","v":0},0,{"$f":"TRUNC(ROUND(($H14*AB14)/$I14,2),2)","v":0},0,{"$f":"TRUNC(ROUND(($H14*AD14)/$I14,2),2)","v":0},0,{"$f":"TRUNC(ROUND(($H14*AF14)/$I14,2),2)","v":0},0,{"$f":"TRUNC(ROUND(($H14*AH14)/$I14,2),2)","v":0},0,{"$f":"TRUNC(ROUND(($H14*AJ14)/$I14,2),2)","v":0},0,{"$f":"TRUNC(ROUND(($H14*AL14)/$I14,2),2)","v":0},0,{"$f":"TRUNC(ROUND(($H14*AN14)/$I14,2),2)","v":0},0,{"$f":"TRUNC(ROUND(($H14*AP14)/$I14,2),2)","v":0},0,{"$f":"TRUNC(ROUND(($H14*AR14)/$I14,2),2)","v":0},0,{"$f":"TRUNC(ROUND(($H14*AT14)/$I14,2),2)","v":0},0,{"$f":"TRUNC(ROUND(($H14*AV14)/$I14,2),2)","v":0}]
[null,null,2,"Enceradeira industrial",null,"Unidade",null,0,60,0,{"$f":"TRUNC(ROUND(($H15*J15)/$I15,2),2)","v":0},0,{"$f":"TRUNC(ROUND(($H15*L15)/$I15,2),2)","v":0},0,{"$f":"TRUNC(ROUND(($H15*N15)/$I15,2),2)","v":0},0,{"$f":"TRUNC(ROUND(($H15*P15)/$I15,2),2)","v":0},0,{"$f":"TRUNC(ROUND(($H15*R15)/$I15,2),2)","v":0},0,{"$f":"TRUNC(ROUND(($H15*T15)/$I15,2),2)","v":0},0,{"$f":"TRUNC(ROUND(($H15*V15)/$I15,2),2)","v":0},0,{"$f":"TRUNC(ROUND(($H15*X15)/$I15,2),2)","v":0},0,{"$f":"TRUNC(ROUND(($H15*Z15)/$I15,2),2)","v":0},0,{"$f":"TRUNC(ROUND(($H15*AB15)/$I15,2),2)","v":0},0,{"$f":"TRUNC(ROUND(($H15*AD15)/$I15,2),2)","v":0},0,{"$f":"TRUNC(ROUND(($H15*AF15)/$I15,2),2)","v":0},0,{"$f":"TRUNC(ROUND(($H15*AH15)/$I15,2),2)","v":0},0,{"$f":"TRUNC(ROUND(($H15*AJ15)/$I15,2),2)","v":0},0,{"$f":"TRUNC(ROUND(($H15*AL15)/$I15,2),2)","v":0},0,{"$f":"TRUNC(ROUND(($H15*AN15)/$I15,2),2)","v":0},0,{"$f":"TRUNC(ROUND(($H15*AP15)/$I15,2),2)","v":0},0,{"$f":"TRUNC(ROUND(($H15*AR15)/$I15,2),2)","v":0},0,{"$f":"TRUNC(ROUND(($H15*AT15)/$I15,2),2)","v":0},0,{"$f":"TRUNC(ROUND(($H15*AV15)/$I15,2),2)","v":0}]
[null,null,3,"Escada de 5/6 degraus com proteção nos pés",null,"Unidade",null,0,60,0,0,0,0,0,0,0,0,0,0,0,0,0,0,0,0,0,0,0,0,0,0,0,0,0,0,0,0,0,0,0,0,0,0,0,0,0,0,0,0]
[null,null,4,"Lavadora a jato de alta pressão profissional",null,"Unidade",null,0,60,0,0,0,0,0,0,0,0,0,0,0,0,0,0,0,0,0,0,0,0,0,0,0,0,0,0,0,0,0,0,0,0,0,0,0,0,0,0,0,0]
[null,null,5,"Carro funcional para limpeza",null,"Unidade",null,0,60,0,0,0,0,0,0,0,0,0,0,0,0,0,0,0,0,0,0,0,0,0,0,0,0,0,0,0,0,0,0,0,0,0,0,0,0,0,0,0,0]
[null,null,6,"Soprador de ar 600 W",null,"Unidade",null,0,60,0,0,0,0,0,0,0,0,0,0,0,0,0,0,0,0,0,0,0,0,0,0,0,0,0,0,0,0,0,0,0,0,0,0,0,0,0,0,0,0]
[null,null,7,"Aspirador de pó e água profissional 1200W",null,"Unidade",null,0,60,0,0,0,0,0,0,0,0,0,0,0,0,0,0,0,0,0,0,0,0,0,0,0,0,0,0,0,0,0,0,0,0,0,0,0,0,0,0,0,0]
[null,null,8,"Extensão elétrica (40/50 metros)",null,"Unidade",null,0,30,0,0,0,0,0,0,0,0,0,0,0,0,0,0,0,0,0,0,0,0,0,0,0,0,0,0,0,0,0,0,0,0,0,0,0,0,0,0,0,0]
[null,null,9,"Enxada",null,"Unidade",null,0,30,0,0,0,0,0,0,0,0,0,0,0,0,0,0,0,0,0,0,0,0,0,0,0,0,0,0,0,0,0,0,0,0,0,0,0,0,0,0,0,0]
[null,null,10,"Rastelo",null,"Unidade",null,0,30,0,0,0,0,0,0,0,0,0,0,0,0,0,0,0,0,0,0,0,0,0,0,0,0,0,0,0,0,0,0,0,0,0,0,0,0,0,0,0,0]
[null,null,11,"Mop Abrasivo Esfrebom com cabo",null,"Unidade",null,0,10,0,0,0,0,0,0,0,0,0,0,0,0,0,0,0,0,0,0,0,0,0,0,0,0,0,0,0,0,0,0,0,0,0,0,0,0,0,0,0,0]
[null,null,12,"Rodo Mop Sekito",null,"Unidade",null,0,10,0,0,0,0,0,0,0,0,0,0,0,0,0,0,0,0,0,0,0,0,0,0,0,0,0,0,0,0,0,0,0,0,0,0,0,0,0,0,0,0]
[null,null,"Valor Estimado Mensal - Depreciação",null,null,null,null,null,null,{"$f":"SUM(K14:K25)","v":0},null,{"$f":"SUM(M14:M25)","v":0},null,{"$f":"SUM(O14:O25)","v":0},null,{"$f":"SUM(Q14:Q25)","v":0},null,{"$f":"SUM(S14:S25)","v":0},null,{"$f":"SUM(U14:U25)","v":0},null,{"$f":"SUM(W14:W25)","v":0},null,{"$f":"SUM(Y14:Y25)","v":0},null,{"$f":"SUM(AA14:AA25)","v":0},null,{"$f":"SUM(AC14:AC25)","v":0},null,{"$f":"SUM(AE14:AE25)","v":0},null,{"$f":"SUM(AG14:AG25)","v":0},null,{"$f":"SUM(AI14:AI25)","v":0},null,{"$f":"SUM(AK14:AK25)","v":0},null,{"$f":"SUM(AM14:AM25)","v":0},null,{"$f":"SUM(AO14:AO25)","v":0},null,{"$f":"SUM(AQ14:AQ25)","v":0},null,{"$f":"SUM(AS14:AS25)","v":0},null,{"$f":"SUM(AU14:AU25)","v":0},null,{"$f":"SUM(AW14:AW25)","v":0}]
[]
[null,null,null,"Custo Estimado Com Manutenção dos Equipamentos (0,5%)",null,null,null,null,null,{"$f":"TRUNC(ROUND(J26*0.5%,2),2)","v":0},null,{"$f":"TRUNC(ROUND(L26*0.5%,2),2)","v":0},null,{"$f":"TRUNC(ROUND(N26*0.5%,2),2)","v":0},null,{"$f":"TRUNC(ROUND(P26*0.5%,2),2)","v":0},null,{"$f":"TRUNC(ROUND(R26*0.5%,2),2)","v":0},null,{"$f":"TRUNC(ROUND(T26*0.5%,2),2)","v":0},null,{"$f":"TRUNC(ROUND(V26*0.5%,2),2)","v":0},null,{"$f":"TRUNC(ROUND(X26*0.5%,2),2)","v":0},null,{"$f":"TRUNC(ROUND(Z26*0.5%,2),2)","v":0},null,{"$f":"TRUNC(ROUND(AB26*0.5%,2),2)","v":0},null,{"$f":"TRUNC(ROUND(AD26*0.5%,2),2)","v":0},null,{"$f":"TRUNC(ROUND(AF26*0.5%,2),2)","v":0},null,{"$f":"TRUNC(ROUND(AH26*0.5%,2),2)","v":0},null,{"$f":"TRUNC(ROUND(AJ26*0.5%,2),2)","v":0},null,{"$f":"TRUNC(ROUND(AL26*0.5%,2),2)","v":0},null,{"$f":"TRUNC(ROUND(AN26*0.5%,2),2)","v":0},null,{"$f":"TRUNC(ROUND(AP26*0.5%,2),2)","v":0},null,{"$f":"TRUNC(ROUND(AR26*0.5%,2),2)","v":0},null,{"$f":"TRUNC(ROUND(AT26*0.5%,2),2)","v":0},null,{"$f":"TRUNC(ROUND(AV26*0.5%,2),2)","v":0}]
[null,null,"Custo Mensal das Máquinas e Equipamentos por Posto",null,null,null,null,null,null,{"$f":"J26+J28","v":0},null,{"$f":"L26+L28","v":0},null,{"$f":"N26+N28","v":0},null,{"$f":"P26+P28","v":0},null,{"$f":"R26+R28","v":0},null,{"$f":"T26+T28","v":0},null,{"$f":"V26+V28","v":0},null,{"$f":"X26+X28","v":0},null,{"$f":"Z26+Z28","v":0},null,{"$f":"AB26+AB28","v":0},null,{"$f":"AD26+AD28","v":0},null,{"$f":"AF26+AF28","v":0},null,{"$f":"AH26+AH28","v":0},null,{"$f":"AJ26+AJ28","v":0},null,{"$f":"AL26+AL28","v":0},null,{"$f":"AN26+AN28","v":0},null,{"$f":"AP26+AP28","v":0},null,{"$f":"AR26+AR28","v":0},null,{"$f":"AT26+AT28","v":0},null,{"$f":"AV26+AV28","v":0}]
[]
[null,null,null,null,null,null,null,null,null,"TRT - SEDE",null,"FÓRUM C. GRANDE",null,"FÓRUM DOURADOS",null,"FÓRUM TRÊS LAGOAS",null,"VT. AMAMBAI",null,"VT. AQUIDAUANA",null,"VT. BATAGUASSU",null,"VT. CASSILÂNDIA",null,"VT. CORUMBÁ",null,"VT. COXIM",null,"VT. FÁTIMA DO SUL",null,"VT. JARDIM",null,"VT. MUNDO NOVO",null,"VT. NAVIRAÍ",null,0,null,"VT. PARANAÍBA",null,"VT. PONTA PORÃ",null,"VT. RIO BRILHANTE",null,"VT. SÃO GABRIEL",null,"VT. CHAPADÃO DO SUL"]
[null,null,null,"Quantidade Total de Empregados",null,null,null,null,null,{"$f":"SUM('Dados Contratação'!$J$19,'Dados Contratação'!$J$21)","v":2},null,{"$f":"SUM('Dados Contratação'!$J$20,'Dados Contratação'!$J$22)","v":0},null,{"$f":"'Dados Contratação'!$J$23","v":0},null,{"$f":"'Dados Contratação'!$J$24","v":0},null,{"$f":"'Dados Contratação'!$J$25","v":0},null,{"$f":"'Dados Contratação'!$J$26","v":0},null,{"$f":"'Dados Contratação'!$J$27","v":0},null,{"$f":"'Dados Contratação'!$J$28","v":0},null,{"$f":"'Dados Contratação'!$J$29","v":0},null,{"$f":"'Dados Contratação'!$J$30","v":0},null,{"$f":"'Dados Contratação'!$J$31","v":0},null,{"$f":"'Dados Contratação'!$J$32","v":0},null,{"$f":"'Dados Contratação'!$J$33","v":0},null,{"$f":"'Dados Contratação'!$J$34","v":0},null,{"$f":"'Dados Contratação'!$J$35","v":0},null,{"$f":"'Dados Contratação'!$J$36","v":0},null,{"$f":"'Dados Contratação'!$J$37","v":0},null,{"$f":"'Dados Contratação'!$J$38","v":0},null,{"$f":"'Dados Contratação'!$J$39","v":0},null,{"$f":"'Dados Contratação'!$J$40","v":0}]
[null,null,"Custo Mensal das Máquinas e Equipamentos por Empregado",null,null,null,null,null,null,{"$f":"IF(J32=0,0,TRUNC(ROUND(J29/J32,2),2))","v":0},null,{"$f":"IF(L32=0,0,TRUNC(ROUND(L29/L32,2),2))","v":0},null,{"$f":"IF(N32=0,0,TRUNC(ROUND(N29/N32,2),2))","v":0},null,{"$f":"IF(P32=0,0,TRUNC(ROUND(P29/P32,2),2))","v":0},null,{"$f":"IF(R32=0,0,TRUNC(ROUND(R29/R32,2),2))","v":0},null,{"$f":"IF(T32=0,0,TRUNC(ROUND(T29/T32,2),2))","v":0},null,{"$f":"IF(V32=0,0,TRUNC(ROUND(V29/V32,2),2))","v":0},null,{"$f":"IF(X32=0,0,TRUNC(ROUND(X29/X32,2),2))","v":0},null,{"$f":"IF(Z32=0,0,TRUNC(ROUND(Z29/Z32,2),2))","v":0},null,{"$f":"IF(AB32=0,0,TRUNC(ROUND(AB29/AB32,2),2))","v":0},null,{"$f":"IF(AD32=0,0,TRUNC(ROUND(AD29/AD32,2),2))","v":0},null,{"$f":"IF(AF32=0,0,TRUNC(ROUND(AF29/AF32,2),2))","v":0},null,{"$f":"IF(AH32=0,0,TRUNC(ROUND(AH29/AH32,2),2))","v":0},null,{"$f":"IF(AJ32=0,0,TRUNC(ROUND(AJ29/AJ32,2),2))","v":0},null,{"$f":"IF(AL32=0,0,TRUNC(ROUND(AL29/AL32,2),2))","v":0},null,{"$f":"IF(AN32=0,0,TRUNC(ROUND(AN29/AN32,2),2))","v":0},null,{"$f":"IF(AP32=0,0,TRUNC(ROUND(AP29/AP32,2),2))","v":0},null,{"$f":"IF(AR32=0,0,TRUNC(ROUND(AR29/AR32,2),2))","v":0},null,{"$f":"IF(AT32=0,0,TRUNC(ROUND(AT29/AT32,2),2))","v":0},null,{"$f":"IF(AV32=0,0,TRUNC(ROUND(AV29/AV32,2),2))","v":0}]
[]
[]
[null,null,2,"EQUIPAMENTOS E FERRAMENTAS"]
[null,null,null,null,null,"Unidade","Marca","Custo Unitário","Vida Útil (meses)","TRT - SEDE",null,"FÓRUM C. GRANDE",null,"FÓRUM DOURADOS",null,"FÓRUM TRÊS LAGOAS",null,"VT. AMAMBAI",null,"VT. AQUIDAUANA",null,"VT. BATAGUASSU",null,"VT. CASSILÂNDIA",null,"VT. CORUMBÁ",null,"VT. COXIM",null,"VT. FÁTIMA DO SUL",null,"VT. JARDIM",null,"VT. MUNDO NOVO",null,"VT. NAVIRAÍ",null,"VT. NOVA ANDRADINA",null,"VT. PARANAÍBA",null,"VT. PONTA PORÃ",null,"VT. RIO BRILHANTE",null,"VT. SÃO GABRIEL",null,"VT. CHAPADÃO DO SUL"]
[null,null,null,null,null,null,null,null,null,"Qtd.","Custo Mensal","Qtd.","Custo Mensal","Qtd.","Custo Mensal","Qtd.","Custo Mensal","Qtd.","Custo Mensal","Qtd.","Custo Mensal","Qtd.","Custo Mensal","Qtd.","Custo Mensal","Qtd.","Custo Mensal","Qtd.","Custo Mensal","Qtd.","Custo Mensal","Qtd.","Custo Mensal","Qtd.","Custo Mensal","Qtd.","Custo Mensal","Qtd.","Custo Mensal","Qtd.","Custo Mensal","Qtd.","Custo Mensal","Qtd.","Custo Mensal","Qtd.","Custo Mensal","Qtd.","Custo Mensal"]
[null,null,1,"Balde para água com cap. para 10/15 litros",null,"Unidade",null,0,6,0,{"$f":"TRUNC(ROUND(($H39*J39)/$I39,2),2)","v":0},0,{"$f":"TRUNC(ROUND(($H39*L39)/$I39,2),2)","v":0},0,{"$f":"TRUNC(ROUND(($H39*N39)/$I39,2),2)","v":0},0,{"$f":"TRUNC(ROUND(($H39*P39)/$I39,2),2)","v":0},0,{"$f":"TRUNC(ROUND(($H39*R39)/$I39,2),2)","v":0},0,{"$f":"TRUNC(ROUND(($H39*T39)/$I39,2),2)","v":0},0,{"$f":"TRUNC(ROUND(($H39*V39)/$I39,2),2)","v":0},0,{"$f":"TRUNC(ROUND(($H39*X39)/$I39,2),2)","v":0},0,{"$f":"TRUNC(ROUND(($H39*Z39)/$I39,2),2)","v":0},0,{"$f":"TRUNC(ROUND(($H39*AB39)/$I39,2),2)","v":0},0,{"$f":"TRUNC(ROUND(($H39*AD39)/$I39,2),2)","v":0},0,{"$f":"TRUNC(ROUND(($H39*AF39)/$I39,2),2)","v":0},0,{"$f":"TRUNC(ROUND(($H39*AH39)/$I39,2),2)","v":0},0,{"$f":"TRUNC(ROUND(($H39*AJ39)/$I39,2),2)","v":0},0,{"$f":"TRUNC(ROUND(($H39*AL39)/$I39,2),2)","v":0},0,{"$f":"TRUNC(ROUND(($H39*AN39)/$I39,2),2)","v":0},0,{"$f":"TRUNC(ROUND(($H39*AP39)/$I39,2),2)","v":0},0,{"$f":"TRUNC(ROUND(($H39*AR39)/$I39,2),2)","v":0},0,{"$f":"TRUNC(ROUND(($H39*AT39)/$I39,2),2)","v":0},0,{"$f":"TRUNC(ROUND(($H39*AV39)/$I39,2),2)","v":0}]
[null,null,2,"Desentupidor para pia",null,"Unidade",null,0,6,0,{"$f":"TRUNC(ROUND(($H40*J40)/$I40,2),2)","v":0},0,{"$f":"TRUNC(ROUND(($H40*L40)/$I40,2),2)","v":0},0,{"$f":"TRUNC(ROUND(($H40*N40)/$I40,2),2)","v":0},0,{"$f":"TRUNC(ROUND(($H40*P40)/$I40,2),2)","v":0},0,{"$f":"TRUNC(ROUND(($H40*R40)/$I40,2),2)","v":0},0,{"$f":"TRUNC(ROUND(($H40*T40)/$I40,2),2)","v":0},0,{"$f":"TRUNC(ROUND(($H40*V40)/$I40,2),2)","v":0},0,{"$f":"TRUNC(ROUND(($H40*X40)/$I40,2),2)","v":0},0,{"$f":"TRUNC(ROUND(($H40*Z40)/$I40,2),2)","v":0},0,{"$f":"TRUNC(ROUND(($H40*AB40)/$I40,2),2)","v":0},0,{"$f":"TRUNC(ROUND(($H40*AD40)/$I40,2),2)","v":0},0,{"$f":"TRUNC(ROUND(($H40*AF40)/$I40,2),2)","v":0},0,{"$f":"TRUNC(ROUND(($H40*AH40)/$I40,2),2)","v":0},0,{"$f":"TRUNC(ROUND(($H40*AJ40)/$I40,2),2)","v":0},0,{"$f":"TRUNC(ROUND(($H40*AL40)/$I40,2),2)","v":0},0,{"$f":"TRUNC(ROUND(($H40*AN40)/$I40,2),2)","v":0},0,{"$f":"TRUNC(ROUND(($H40*AP40)/$I40,2),2)","v":0},0,{"$f":"TRUNC(ROUND(($H40*AR40)/$I40,2),2)","v":0},0,{"$f":"TRUNC(ROUND(($H40*AT40)/$I40,2),2)","v":0},0,{"$f":"TRUNC(ROUND(($H40*AV40)/$I40,2),2)","v":0}]
[null,null,3,"Desentupidor para vaso sanitário",null,"Unidade",null,0,6,0,0,0,0,0,0,0,0,0,0,0,0,0,0,0,0,0,0,0,0,0,0,0,0,0,0,0,0,0,0,0,0,0,0,0,0,0,0,0,0]
[null,null,4,"Escova de mão",null,"Unidade",null,0,6,0,0,0,0,0,0,0,0,0,0,0,0,0,0,0,0,0,0,0,0,0,0,0,0,0,0,0,0,0,0,0,0,0,0,0,0,0,0,0,0]
[null,null,5,"Kit limpeza de vidro",null,"Unidade",null,0,6,0,0,0,0,0,0,0,0,0,0,0,0,0,0,0,0,0,0,0,0,0,0,0,0,0,0,0,0,0,0,0,0,0,0,0,0,0,0,0,0]
[null,null,6,"Mangueira ¾ (100 metros)",null,"Unidade",null,0,15,0,0,0,0,0,0,0,0,0,0,0,0,0,0,0,0,0,0,0,0,0,0,0,0,0,0,0,0,0,0,0,0,0,0,0,0,0,0,0,0]
[null,null,7,"Pá para lixo com cabo longo",null,"Unidade",null,0,6,0,0,0,0,0,0,0,0,0,0,0,0,0,0,0,0,0,0,0,0,0,0,0,0,0,0,0,0,0,0,0,0,0,0,0,0,0,0,0,0]
[null,null,8,"Placa de sinalização para piso molhado",null,"Unidade",null,0,15,0,0,0,0,0,0,0,0,0,0,0,0,0,0,0,0,0,0,0,0,0,0,0,0,0,0,0,0,0,0,0,0,0,0,0,0,0,0,0,0]
[null,null,9,"Rodo duplo 40 cm",null,"Unidade",null,0,6,0,0,0,0,0,0,0,0,0,0,0,0,0,0,0,0,0,0,0,0,0,0,0,0,0,0,0,0,0,0,0,0,0,0,0,0,0,0,0,0]
[null,null,10,"Rodo duplo 60 cm",null,"Unidade",null,0,6,0,0,0,0,0,0,0,0,0,0,0,0,0,0,0,0,0,0,0,0,0,0,0,0,0,0,0,0,0,0,0,0,0,0,0,0,0,0,0,0]
[null,null,11,"Vassoura de nylon comum",null,"Unidade",null,0,6,0,0,0,0,0,0,0,0,0,0,0,0,0,0,0,0,0,0,0,0,0,0,0,0,0,0,0,0,0,0,0,0,0,0,0,0,0,0,0,0]
[null,null,12,"Vassoura de pelo tamanho grande",null,"Unidade",null,0,6,0,0,0,0,0,0,0,0,0,0,0,0,0,0,0,0,0,0,0,0,0,0,0,0,0,0,0,0,0,0,0,0,0,0,0,0,0,0,0,0]
[null,null,13,"Vassoura de pelo tamanho pequeno",null,"Unidade",null,0,6,0,0,0,0,0,0,0,0,0,0,0,0,0,0,0,0,0,0,0,0,0,0,0,0,0,0,0,0,0,0,0,0,0,0,0,0,0,0,0,0]
[null,null,14,"Vassoura de piaçava",null,"Unidade",null,0,6,0,0,0,0,0,0,0,0,0,0,0,0,0,0,0,0,0,0,0,0,0,0,0,0,0,0,0,0,0,0,0,0,0,0,0,0,0,0,0,0]
[null,null,15,"Vassoura limpa teto",null,"Unidade",null,0,6,0,0,0,0,0,0,0,0,0,0,0,0,0,0,0,0,0,0,0,0,0,0,0,0,0,0,0,0,0,0,0,0,0,0,0,0,0,0,0,0]
[null,null,16,"Vassoura para limpeza de vaso",null,"Unidade",null,0,6,0,0,0,0,0,0,0,0,0,0,0,0,0,0,0,0,0,0,0,0,0,0,0,0,0,0,0,0,0,0,0,0,0,0,0,0,0,0,0,0]
[null,null,17,"Cabo de Alumínio Prolongador 46 cm",null,"Unidade",null,0,6,0,0,0,0,0,0,0,0,0,0,0,0,0,0,0,0,0,0,0,0,0,0,0,0,0,0,0,0,0,0,0,0,0,0,0,0,0,0,0,0]
[null,null,"Valor Estimado Mensal",null,null,null,null,null,null,{"$f":"SUM(K39:K55)","v":0},null,{"$f":"SUM(M39:M55)","v":0},null,{"$f":"SUM(O39:O55)","v":0},null,{"$f":"SUM(Q39:Q55)","v":0},null,{"$f":"SUM(S39:S55)","v":0},null,{"$f":"SUM(U39:U55)","v":0},null,{"$f":"SUM(W39:W55)","v":0},null,{"$f":"SUM(Y39:Y55)","v":0},null,{"$f":"SUM(AA39:AA55)","v":0},null,{"$f":"SUM(AC39:AC55)","v":0},null,{"$f":"SUM(AE39:AE55)","v":0},null,{"$f":"SUM(AG39:AG55)","v":0},null,{"$f":"SUM(AI39:AI55)","v":0},null,{"$f":"SUM(AK39:AK55)","v":0},null,{"$f":"SUM(AM39:AM55)","v":0},null,{"$f":"SUM(AO39:AO55)","v":0},null,{"$f":"SUM(AQ39:AQ55)","v":0},null,{"$f":"SUM(AS39:AS55)","v":0},null,{"$f":"SUM(AU39:AU55)","v":0},null,{"$f":"SUM(AW39:AW55)","v":0}]
[]
[null,null,null,null,null,null,null,null,null,"TRT - SEDE",null,"FÓRUM C. GRANDE",null,"FÓRUM DOURADOS",null,"FÓRUM TRÊS LAGOAS",null,"VT. AMAMBAI",null,"VT. AQUIDAUANA",null,"VT. BATAGUASSU",null,"VT. CASSILÂNDIA",null,"VT. CORUMBÁ",null,"VT. COXIM",null,"VT. FÁTIMA DO SUL",null,"VT. JARDIM",null,"VT. MUNDO NOVO",null,"VT. NAVIRAÍ",null,"VT. NOVA ANDRADINA",null,"VT. PARANAÍBA",null,"VT. PONTA PORÃ",null,"VT. RIO BRILHANTE",null,"VT. SÃO GABRIEL",null,"VT. CHAPADÃO DO SUL"]
[null,null,null,"Quantidade Total de Empregados",null,null,null,null,null,{"$f":"SUM('Dados Contratação'!$J$19,'Dados Contratação'!$J$21)","v":2},null,{"$f":"SUM('Dados Contratação'!$J$20,'Dados Contratação'!$J$22)","v":0},null,{"$f":"'Dados Contratação'!$J$23","v":0},null,{"$f":"'Dados Contratação'!$J$24","v":0},null,{"$f":"'Dados Contratação'!$J$25","v":0},null,{"$f":"'Dados Contratação'!$J$26","v":0},null,{"$f":"'Dados Contratação'!$J$27","v":0},null,{"$f":"'Dados Contratação'!$J$28","v":0},null,{"$f":"'Dados Contratação'!$J$29","v":0},null,{"$f":"'Dados Contratação'!$J$30","v":0},null,{"$f":"'Dados Contratação'!$J$31","v":0},null,{"$f":"'Dados Contratação'!$J$32","v":0},null,{"$f":"'Dados Contratação'!$J$33","v":0},null,{"$f":"'Dados Contratação'!$J$34","v":0},null,{"$f":"'Dados Contratação'!$J$35","v":0},null,{"$f":"'Dados Contratação'!$J$36","v":0},null,{"$f":"'Dados Contratação'!$J$37","v":0},null,{"$f":"'Dados Contratação'!$J$38","v":0},null,{"$f":"'Dados Contratação'!$J$39","v":0},null,{"$f":"'Dados Contratação'!$J$40","v":0}]
[null,null,"Custo Mensal dos Materiais de Consumo por Empregado",null,null,null,null,null,null,{"$f":"IF(J59=0,0,TRUNC(ROUND(J56/J59,2),2))","v":0},null,{"$f":"IF(L59=0,0,TRUNC(ROUND(L56/L59,2),2))","v":0},null,{"$f":"IF(N59=0,0,TRUNC(ROUND(N56/N59,2),2))","v":0},null,{"$f":"IF(P59=0,0,TRUNC(ROUND(P56/P59,2),2))","v":0},null,{"$f":"IF(R59=0,0,TRUNC(ROUND(R56/R59,2),2))","v":0},null,{"$f":"IF(T59=0,0,TRUNC(ROUND(T56/T59,2),2))","v":0},null,{"$f":"IF(V59=0,0,TRUNC(ROUND(V56/V59,2),2))","v":0},null,{"$f":"IF(X59=0,0,TRUNC(ROUND(X56/X59,2),2))","v":0},null,{"$f":"IF(Z59=0,0,TRUNC(ROUND(Z56/Z59,2),2))","v":0},null,{"$f":"IF(AB59=0,0,TRUNC(ROUND(AB56/AB59,2),2))","v":0},null,{"$f":"IF(AD59=0,0,TRUNC(ROUND(AD56/AD59,2),2))","v":0},null,{"$f":"IF(AF59=0,0,TRUNC(ROUND(AF56/AF59,2),2))","v":0},null,{"$f":"IF(AH59=0,0,TRUNC(ROUND(AH56/AH59,2),2))","v":0},null,{"$f":"IF(AJ59=0,0,TRUNC(ROUND(AJ56/AJ59,2),2))","v":0},null,{"$f":"IF(AL59=0,0,TRUNC(ROUND(AL56/AL59,2),2))","v":0},null,{"$f":"IF(AN59=0,0,TRUNC(ROUND(AN56/AN59,2),2))","v":0},null,{"$f":"IF(AP59=0,0,TRUNC(ROUND(AP56/AP59,2),2))","v":0},null,{"$f":"IF(AR59=0,0,TRUNC(ROUND(AR56/AR59,2),2))","v":0},null,{"$f":"IF(AT59=0,0,TRUNC(ROUND(AT56/AT59,2),2))","v":0},null,{"$f":"IF(AV59=0,0,TRUNC(ROUND(AV56/AV59,2),2))","v":0}]

{"sheet":"Insumos - Vigilância","index":12,"n_rows":35,"n_cols":11,"rows_kept":35,"cut":false,"hidden":true,"merged":[[3,1,3,4],[3,5,3,6],[3,7,3,8],[3,9,3,10],[4,1,4,4],[4,5,4,6],[4,7,4,8],[4,9,4,10],[5,1,5,4],[5,5,5,7],[5,8,5,10],[6,1,6,4],[6,5,6,7],[6,8,6,10],[34,9,34,10],[11,5,12,5],[11,6,12,6],[11,7,12,7],[11,8,12,8],[11,9,11,10],[26,9,26,10],[28,9,28,10],[29,9,29,10],[30,9,30,10],[32,9,32,10],[33,9,33,10]]}
[null,"5 - EQUIPAMENTOS E INSUMOS DIVERSOS"]
[]
[null,"Discriminação dos Serviços (dados referentes à contratação)"]
[null,"Nº do Processo Administrativo:",null,null,null,"Licitação nº:",null,"Data:",null,"Horário:"]
[null,{"$f":"IF(ISBLANK('Dados Contratação'!$B$6),\"-\",'Dados Contratação'!$B$6)","v":"15940/2022"},null,null,null,{"$f":"IF(ISBLANK('Dados Contratação'!$D$6),\"-\",'Dados Contratação'!$D$6)","v":"-"},null,{"$f":"IF(ISBLANK('Dados Contratação'!$E$6),\"-\",'Dados Contratação'!$E$6)","v":"-"},null,{"$f":"IF(ISBLANK('Dados Contratação'!$F$6),\"-\",'Dados Contratação'!$F$6)","v":"-"}]
[null,"Local da Prestação dos Serviços:",null,null,null,"Vigência da Contratação:",null,null,"Máximo de Vigência:"]
[null,{"$f":"IF(ISBLANK('Dados Contratação'!$M$12),\"-\",'Dados Contratação'!$M$12)","v":"CAMPO GRANDE/MS"},null,null,null,{"$f":"IF(ISBLANK('Dados Contratação'!$J$6),\"-\",CONCATENATE('Dados Contratação'!$J$6,\" \",'Dados Contratação'!$K$6))","v":"12 meses"},null,null,{"$f":"IF(ISBLANK('Dados Contratação'!$N$6),\"-\",CONCATENATE('Dados Contratação'!$N$6,\" \",'Dados Contratação'!$O$6))","v":"60 meses"}]
[]
[null,null,"EQUIPAMENTOS"]
[]
[null,null,1,"EQUIPAMENTOS DE SEGURANÇA"]
[null,null,null,null,null,"Medida","Marca","Custo Unitário","Vida Útil (meses)","TRT"]
[null,null,null,null,null,null,null,null,null,"Qtd.","Custo Mensal"]
[null,null,1,"Cassetete",null,"unidade",null,0,60,0,{"$f":"TRUNC(ROUND(($H14*$J14)/$I14,2),2)","v":0}]
[null,null,2,"Detector de metal portátil bateria recarregavel",null,"Unidade",null,0,60,0,{"$f":"TRUNC(ROUND(($H15*$J15)/$I15,2),2)","v":0}]
[null,null,3,"Porta cassetete",null,"Unidade",null,0,30,0,{"$f":"TRUNC(ROUND(($H16*$J16)/$I16,2),2)","v":0}]
[null,null,4,"Apito",null,"Unidade",null,0,12,0,{"$f":"TRUNC(ROUND(($H17*$J17)/$I17,2),2)","v":0}]
[null,null,5,"Cordão de apito",null,"Unidade",null,0,12,0,0]
[null,null,6,"Capa de nylon",null,"Unidade",null,0,12,0,0]
[null,null,7,"Revólver calibre 38",null,"Unidade",null,0,60,0,0]
[null,null,8,"Cinto com coldre e baleiro",null,"Unidade",null,0,30,0,0]
[null,null,9,"Munição calibre 38",null,"Unidade",null,0,24,0,0]
[null,null,10,"Colete balístico, categoria II / II-A, no tamanho do vigilante",null,"Unidade",null,0,60,0,0]
[null,null,11,"Livro de Ocorrência",null,"Unidade",null,0,12,0,0]
[null,null,12,"Lanterna 3 pilhas",null,"Unidade",null,0,60,0,0]
[null,null,13,"Pilhas para lanterna (3 un.)",null,"Unidade",null,0,6,0,0]
[null,null,"Custo Mensal dos Mobiliários",null,null,null,null,null,null,{"$f":"SUM(K14:K26)","v":0}]
[]
[null,null,null,"Custo de Capital Mensal (SELIC)",null,null,null,null,null,8.3630000000000006E-3]
[null,null,null,"Custo Financeiro Mensal",null,null,null,null,null,{"$f":"TRUNC(ROUND(J27*J29,2),2)","v":0}]
[null,null,"Custo Mensal Total dos Mobiliários",null,null,null,null,null,null,{"$f":"J27+J30","v":0}]
[]
[null,null,null,null,null,null,null,null,null,"TRT"]
[null,null,null,"Quantidade Total de Empregados",null,null,null,null,null,{"$f":"'Dados Contratação'!$J$41","v":2}]
[null,null,"Custo Mensal Total dos Mobiliários - por Empregado",null,null,null,null,null,null,{"$f":"IF(J34=0,0,TRUNC(ROUND(J31/J34,2),2))","v":0}]

{"sheet":"Encarregado","index":13,"n_rows":162,"n_cols":11,"rows_kept":162,"cut":false,"hidden":true,"merged":[[3,1,3,3],[3,9,3,10],[3,4,3,5],[17,9,17,10],[4,4,4,10],[8,4,8,10],[10,4,10,8],[13,1,13,5],[13,6,13,8],[14,1,14,5],[14,6,14,8],[13,9,13,12],[14,9,14,12],[17,6,17,8],[17,1,17,5],[29,6,29,9],[18,9,18,10],[161,2,161,10],[160,2,160,10],[159,2,159,10],[158,2,158,10],[28,6,28,9],[41,6,41,9],[74,6,74,9],[118,5,118,9],[144,6,144,8],[140,6,140,8],[18,6,18,8],[18,1,18,5]]}
[null,"6 - PLANILHA DE CUSTOS E FORMAÇÃO DE PREÇOS"]
[]
[]
[null,"Processo nº:",null,null,{"$f":"IF(ISBLANK('Dados Contratação'!$B$6),\"000/2014\",'Dados Contratação'!$B$6)","v":"15940/2022"},null,null,null,"Licitação:",{"$f":"IF(ISBLANK('Dados Contratação'!$D$6),\"(NÚMERO DA LICITAÇÃO)\",'Dados Contratação'!$D$6)","v":"(NÚMERO DA LICITAÇÃO)"}]
[null,"Descrição:",null,null,{"$f":"'Dados Contratação'!B10","v":"Prestação dos serviços de apoio Administrativo aos Gestores e Fiscais de Contratos"}]
[]
[null,"Data Pregão:",null,null,{"$f":"IF(ISBLANK('Dados Contratação'!$E$6),\"dd/mm/aaaa\",'Dados Contratação'!$E$6)","v":"dd/mm/aaaa"},null,null,"Horário do Pregão:",{"$f":"IF(ISBLANK('Dados Contratação'!$F$6),\"00:00\",'Dados Contratação'!$F$6)","v":"00:00"}]
[]
[null,"Empresa:",null,null,{"$f":"IF(ISBLANK('Dados Proponente'!$B$6),\"(NOME DA EMPRESA)\",'Dados Proponente'!$B$6)","v":"(NOME DA EMPRESA)"}]
[]
[null,"CNPJ:   ",null,null,{"$f":"IF(ISBLANK('Dados Proponente'!$H$6),\"(CNPJ)\",'Dados Proponente'!$H$6)","v":"(CNPJ)"}]
[]
[]
[null,"Local da Prestação dos Serviços",null,null,null,null,"Escala de Trabalho",null,null,"Profissional"]
[null,"Campo Grande / MS",null,null,null,null,{"$f":"'Dados Contratação'!E19","v":"44 horas semanais"},null,null,{"$f":"'Dados Contratação'!C19","v":"Encarregado"}]
[]
[]
[null,"Data Base\n(dd/mm/aaaa):",null,null,null,null,"Salário Mínimo \nOficial Vigente:",null,null,"Salário Normativo da  \nCategoria Profissional:"]
[null,{"$f":"IF(ISBLANK(Encargos_Benefícios!$H$21),\"dd/mm/aaaa\",Encargos_Benefícios!$H$21)","v":"2021-11-01"},null,null,null,null,{"$f":"Encargos_Benefícios!H13","v":1212},null,null,{"$f":"IF(Apoio!K11=0,0,IF(Apoio!K11=3,Encargos_Benefícios!H26,Encargos_Benefícios!H18))","v":4189}]
[]
[null,null,null,null,null,null,null,null,{"$f":"ROUND(((($J$19+K27+K28+K29+K30)/220)*1.75),2)","v":33.32},{"$f":"ROUND(((($J$19+K28+K29+K30)/220)*1.5),2)","v":28.56},{"$f":"ROUND(((($J$19+K28+K30)/220)*2),2)","v":38.08}]
[null,null,"MÓDULO 1 - COMPOSIÇÃO DA REMUNERAÇÃO",null,null,null,null,null,{"$f":"(ROUND(((($J$19+K27+K28+K29+K30)/220)*1.75),2)*1.25)","v":41.65},{"$f":"(ROUND(((($J$19+K27+K28+K29+K30)/220)*1.5),2)*1.25)","v":35.699999999999996},{"$f":"(ROUND(((($J$19+K27+K28+K29+K30)/220)*2),2)*1.25)","v":47.599999999999994}]
[null,null,null,null,null,null,null,null,null,null,"Valor"]
[null,null,null,"Salário Base",null,null,null,null,null,null,{"$f":"$J$19","v":4189}]
[null,null,null,"Adicional de Periculosidade",null,null,null,null,null,0,{"$f":"IF((OR('Dados Contratação'!K19=\"Sim\",'Dados Contratação'!K20=\"Sim\")),TRUNC(ROUND($J25*K$24,2),2),0)","v":0}]
[null,null,null,"Adicional de Insalubridade",null,null,null,null,null,0,{"$f":"IF((OR('Dados Contratação'!L19=\"Sim\",'Dados Contratação'!L20=\"Sim\")),TRUNC(ROUND($J26*G19,2),2),0)","v":0}]
[null,null,null,"Gratificação Adicional de Risco de Vida",null,null,null,null,null,0,{"$f":"TRUNC(ROUND($J27*K$24,2),2)","v":0}]
[null,null,null,"Gratificação por Cargo de Confiança",null,null,null,null,null,0,{"$f":"TRUNC(ROUND($J28*K$24,2),2)","v":0}]
[null,null,null,"Gratificação por Cargo de Confiança:",null,null,null,null,null,null,0]
[null,null,null,"Outros: ",null,null,null,null,null,null,0]
[null,null,null,"Subtotal de Remuneração",null,null,null,null,null,null,{"$f":"TRUNC(ROUND(SUM(K24:K30),2),2)","v":4189}]
[null,null,null,"Adicional Noturno",null,null,null,null,null,0,{"$f":"IF((OR('Dados Contratação'!M19=\"Sim\",'Dados Contratação'!M20=\"Sim\")),TRUNC((ROUND(($K$24+$K$27)*$J$32*(8/12),2)),2),0)","v":0}]
[null,null,null,"Repercussão do Adicional Noturno no DSR",null,null,null,null,null,{"$f":"IF((OR('Dados Contratação'!M19=\"Sim\",'Dados Contratação'!M20=\"Sim\")),((365+(366-365)/4)/12)*(1-(5/7)),0)","v":0},{"$f":"TRUNC((ROUND($K32/30.4375*$J33/2,2)),2)","v":0}]
[null,null,null,"Hora Noturna Adicional",null,null,null,null,null,{"$f":"IF((OR('Dados Contratação'!M19=\"Sim\",'Dados Contratação'!M20=\"Sim\")),(((8*60/52.5)+4)/12)-1,0)","v":0},{"$f":"TRUNC((ROUND(($K$24+$K27)*$J34*1.2,2)),2)","v":0}]
[null,null,null,"Repercussão da Hora Noturna Adicional no DSR",null,null,null,null,null,{"$f":"IF((OR('Dados Contratação'!M19=\"Sim\",'Dados Contratação'!M20=\"Sim\")),((365+(366-365)/4)/12)*(1-(5/7)),)","v":0},{"$f":"TRUNC((ROUND($K34/30.4375*$J35/2,2)),2)","v":0}]
[null,null,null,"Adicional de Hora Extra",null,null,null,null,null,{"$f":"IF((OR('Dados Contratação'!N19=\"Sim\",'Dados Contratação'!N20=\"Sim\")),13.14*12/2/12,0)","v":0},{"$f":"TRUNC((ROUND(($K$24+$K27+$K32+$K33+$K34+$K35)/220*$J36,2)),2)","v":0}]
[null,null,null,"Repercussão do Adicional de Hora Extra no DSR",null,null,null,null,null,{"$f":"IF((OR('Dados Contratação'!N19=\"Sim\",'Dados Contratação'!N20=\"Sim\")),((365+(366-365)/4)/12)*(1-(5/7)),0)","v":0},{"$f":"TRUNC((ROUND($K36/30.4375*$J37/2,2)),2)","v":0}]
[null,null,null,"Adicional de Hora Extra (Domingos e Feriados)",null,null,null,null,null,{"$f":"IF((OR('Dados Contratação'!N21=\"Sim\",'Dados Contratação'!N22=\"Sim\")),13.14*12/2/12,0)","v":0},{"$f":"TRUNC((ROUND((($K$24+$K29+$K34+$K35+$K36+$K37)/220)*2*$J38,2)),2)","v":0}]
[null,null,null,"Repercussão do Adicional de Hora Extra no DSR (Domingos e Feriados)",null,null,null,null,null,{"$f":"IF((OR('Dados Contratação'!N21=\"Sim\",'Dados Contratação'!N22=\"Sim\")),((365+(366-365)/4)/12)*(1-(5/7)),0)","v":0},{"$f":"TRUNC((ROUND($K38/30.4375*$J39/2,2)),2)","v":0}]
[null,null,null,"Subtotal de Remuneração - Base de Cálculo para Encargos Trabalhistas",null,null,null,null,null,null,{"$f":"TRUNC(ROUND(SUM(K31:K39),2),2)","v":4189}]
[null,null,null,"Intervalo Intrajornada",null,null,null,null,null,0,{"$f":"IF((OR('Dados Contratação'!O19=\"Sim\",'Dados Contratação'!O20=\"Sim\")),TRUNC(ROUND(J41*J21,2),2),0)","v":0}]
[null,null,null,"Outros: ",null,null,null,null,null,null,0]
[null,null,null,"Total de Remuneração",null,null,null,null,null,null,{"$f":"TRUNC(ROUND(SUM(K40:K42),2),2)","v":4189}]
[]
[null,null,"MÓDULO 2 - ENCARGOS E BENEFÍCIOS"]
[null,null,null,"SUBMÓDULO 2.1 - 13º SALÁRIO E ADICIONAL DE FÉRIAS"]
[null,null,null,null,null,null,null,null,null,null,"Valor"]
[null,null,null,null,"13º Salário",null,null,null,null,null,{"$f":"TRUNC(ROUND(Encargos_Benefícios!$H47*$K$40,2),2)","v":348.94}]
[null,null,null,null,"Adicional de Férias",null,null,null,null,null,{"$f":"TRUNC(ROUND(Encargos_Benefícios!$H48*$K$40,2),2)","v":116.45}]
[null,null,null,"Subtotal do 13º Salário e Adicional de Férias",null,null,null,null,null,null,{"$f":"TRUNC(ROUND(SUM(K48,K49),2),2)","v":465.39}]
[null,null,null,null,"Incidência dos encargos previstos no Submódulo 2.2",null,null,null,null,null,{"$f":"TRUNC(ROUND(Encargos_Benefícios!$H49*$K$50,2),2)","v":171.26}]
[null,null,null,"Total do Submódulo 2.1 com a Incidência dos encargos previstos no Submódulo 2.2",null,null,null,null,null,null,{"$f":"TRUNC(ROUND(SUM(K50,K51),2),2)","v":636.65}]
[]
[null,null,null,"SUBMÓDULO 2.2 - ENCARGOS PREVIDENCIÁRIOS, FGTS E OUTRAS CONTRIBUIÇÕES"]
[null,null,null,null,null,null,null,null,null,null,"Valor"]
[null,null,null,null,"INSS",null,null,null,null,null,{"$f":"TRUNC(ROUND(Encargos_Benefícios!$H38*($K$40),2),2)","v":837.8}]
[null,null,null,null,"SESI ou SESC",null,null,null,null,null,{"$f":"TRUNC(ROUND(Encargos_Benefícios!$H39*($K$40),2),2)","v":62.84}]
[null,null,null,null,"SENAI ou SENAC",null,null,null,null,null,{"$f":"TRUNC(ROUND(Encargos_Benefícios!$H40*($K$40),2),2)","v":41.89}]
[null,null,null,null,"INCRA",null,null,null,null,null,{"$f":"TRUNC(ROUND(Encargos_Benefícios!$H41*($K$40),2),2)","v":8.3800000000000008}]
[null,null,null,null,"Salário Educação",null,null,null,null,null,{"$f":"TRUNC(ROUND(Encargos_Benefícios!$H42*($K$40),2),2)","v":104.73}]
[null,null,null,null,"FGTS",null,null,null,null,null,{"$f":"TRUNC(ROUND(Encargos_Benefícios!$H43*($K$40),2),2)","v":335.12}]
[null,null,null,null,"Seguro Acidente de Trabalho",null,null,null,null,null,{"$f":"TRUNC(ROUND(Encargos_Benefícios!$H44*($K$40),2),2)","v":125.67}]
[null,null,null,null,"SEBRAE",null,null,null,null,null,{"$f":"TRUNC(ROUND(Encargos_Benefícios!$H45*($K$40),2),2)","v":25.13}]
[null,null,null,"Total de Encargos Previdenciários e FGTS",null,null,null,null,null,null,{"$f":"TRUNC(ROUND(SUM(K56:K63),2),2)","v":1541.56}]
[]
[null,null,null,"SUBMÓDULO 2.3 - BENEFÍCIOS MENSAIS E DIÁRIOS"]
[null,null,null,null,null,null,null,null,null,null,"Valor"]
[null,null,null,null,"Vale Transporte",null,null,null,null,null,0]
[null,null,null,null,"Auxílio Alimentação (Vales, cesta básica, etc.)",null,null,null,null,null,{"$f":"Encargos_Benefícios!$H122","v":0}]
[null,null,null,null,"Benefício Social Familiar Sindical",null,null,null,null,null,{"$f":"Encargos_Benefícios!$H54","v":0}]
[null,null,null,null,"Assistência e Inclusão Social do Trabalhador",null,null,null,null,null,{"$f":"Encargos_Benefícios!$H58","v":0}]
[null,null,null,null,"Prêmio Cesta Básica",null,null,null,null,null,{"$f":"Encargos_Benefícios!$H61","v":0}]
[null,null,null,null,"Auxílio Creche",null,null,null,null,null,{"$f":"Encargos_Benefícios!$H64","v":0}]
[null,null,null,null,"Seguro de Vida, Invalidez e Funeral",null,null,null,null,null,{"$f":"Encargos_Benefícios!$H68","v":0}]
[null,null,null,null,"Outros (Especificar)",null,null,null,null,null,0]
[null,null,null,"Total de Encargos Previdenciários e FGTS",null,null,null,null,null,null,{"$f":"TRUNC(ROUND(SUM(K68:K75),2),2)","v":0}]
[]
[]
[null,null,null,"QUADRO RESUMO - ENCARGOS E BENEFÍCIOS"]
[null,null,null,null,null,null,null,null,null,null,"Valor"]
[null,null,null,null,"13º Salário e Adicional de Férias",null,null,null,null,null,{"$f":"K52","v":636.65}]
[null,null,null,null,"Encargos Previdenciários, FGTS e Outras Contribuições",null,null,null,null,null,{"$f":"K64","v":1541.56}]
[null,null,null,null,"Benefìcios Mensais e Diários",null,null,null,null,null,{"$f":"K76","v":0}]
[null,null,null,"Total de Encargos e Benefícios",null,null,null,null,null,null,{"$f":"TRUNC(ROUND(SUM(K81:K83),2),2)","v":2178.21}]
[]
[null,null,"MÓDULO 3 - PROVISÃO PARA RESCISÃO"]
[null,null,null,null,null,null,null,null,null,null,"Valor"]
[null,null,null,"Aviso Prévio Indenizado",null,null,null,null,null,null,{"$f":"TRUNC(ROUND($K$40*'Notas Explicativas'!D66,2),2)","v":17.45}]
[null,null,null,"Insidência do FGTS sobre o Aviso Prévio Indenizado",null,null,null,null,null,null,{"$f":"TRUNC(ROUND($K$40*'Notas Explicativas'!D67,2),2)","v":1.4}]
[null,null,null,"Multa do FGTS do Aviso Prévio Indenizado",null,null,null,null,null,null,{"$f":"TRUNC(ROUND($K$40*'Notas Explicativas'!D68,2),2)","v":144.1}]
[null,null,null,"Aviso Prévio Trabalhado",null,null,null,null,null,null,{"$f":"TRUNC(ROUND($K$40*'Notas Explicativas'!D69,2),2)","v":52.13}]
[null,null,null,"Insidência do Módulo Encargos Previdenciários, FGTS e Outras Cont. s/ Aviso Prévio Trab.",null,null,null,null,null,null,{"$f":"TRUNC(ROUND($K$40*'Notas Explicativas'!D71,2),2)","v":19.18}]
[null,null,null,"Multa do FGTS do Aviso Prévio Trabalhado",null,null,null,null,null,null,{"$f":"TRUNC(ROUND($K$40*'Notas Explicativas'!D73,2),2)","v":1.67}]
[null,null,null,"Total de Provisão para Rescisão",null,null,null,null,null,null,{"$f":"TRUNC(ROUND(SUM(K88:K93),2),2)","v":235.93}]
[]
[null,null,"MÓDULO 4 - CUSTO DE REPOSIÇÃO DO PROFISSIONAL AUSENTE"]
[null,null,null,null,null,null,null,null,null,null,"Valor"]
[null,null,null,"Substituição Durante Férias",null,null,null,null,null,null,{"$f":"TRUNC(ROUND($K$43*'Notas Explicativas'!D85,2),2)","v":0}]
[null,null,null,"Substituição Durante Ausência por Doença",null,null,null,null,null,null,{"$f":"TRUNC(ROUND($K$43*'Notas Explicativas'!D86,2),2)","v":58.18}]
[null,null,null,"Substituição Durante Licença Maternidade",null,null,null,null,null,null,{"$f":"TRUNC(ROUND($K$43*'Notas Explicativas'!D87,2),2)","v":5.48}]
[null,null,null,"Substituição Durante Licença Paternidade",null,null,null,null,null,null,{"$f":"TRUNC(ROUND($K$43*'Notas Explicativas'!D88,2),2)","v":0.87}]
[null,null,null,"Substituição Durante Ausências Legais",null,null,null,null,null,null,{"$f":"TRUNC(ROUND($K$43*'Notas Explicativas'!D89,2),2)","v":11.64}]
[null,null,null,"Substituição Durante Ausência por Acidente de Trabalho",null,null,null,null,null,null,{"$f":"TRUNC(ROUND($K$43*'Notas Explicativas'!D90,2),2)","v":2.72}]
[null,null,null,"Subtotal Antes da Incidência de Proporcional de Férias, 1/3 e 13º s/ Custos de Reposição",null,null,null,null,null,null,{"$f":"TRUNC(ROUND(SUM(K98:K103),2),2)","v":78.89}]
[null,null,null,"Proporcional de Férias, 1/3 e 13º Sobre Custo de Reposição (Exceto Licença Maternidade)",null,null,null,null,null,null,{"$f":"TRUNC(ROUND($K$43*'Notas Explicativas'!D96,2),2)","v":14.27}]
[null,null,null,"Subtotal Antes de Incidência do Módulo Encargos Previdenciários, FGTS e Outras Cont.",null,null,null,null,null,null,{"$f":"TRUNC(ROUND(SUM(K104:K105),2),2)","v":93.16}]
[null,null,null,"Incidência do Módulo Encargos Previdenciários, FGTS e Outras Cont. s/ Custo de Reposição",null,null,null,null,null,null,{"$f":"TRUNC(ROUND($K$43*'Notas Explicativas'!D98,2),2)","v":34.28}]
[null,null,null,"Total do Custo de Reposição do Profissional Ausente",null,null,null,null,null,null,{"$f":"TRUNC(ROUND(SUM(K106:K107),2),2)","v":127.44}]
[]
[null,null,"MÓDULO 5 - UNIFORMES E EQUIPAMENTOS"]
[null,null,null,null,null,null,null,null,null,null,"Valor"]
[null,null,null,"Uniformes",null,null,null,null,null,null,{"$f":"IF(Apoio!$K$11=0,0,'Certificação digital'!$I$27)","v":0}]
[null,null,null,{"$f":"IF(Apoio!$K$11=0,\"Equipamentos\",IF(Apoio!$K$11=1,\"Mobiliários\",IF(Apoio!$K$11=8,\"Materiais de Escrtitório\",IF(Apoio!$K$11=3,\"Equipamentos de Proteção Individual (EPI's)\",IF(Apoio!$K$11=7,\"Máquinas e Equipamentos\",IF(Apoio!$K$11=5,\"Equipamentos de Segurança\",\"\"))))))","v":""},null,null,null,null,null,null,{"$f":"IF(Apoio!$K$11=0,0,IF(Apoio!$K$11=1,'Insumos - Brigadista'!$J$24,IF(Apoio!$K$11=8,'Insumos - Motorista'!$J21,IF(Apoio!$K$11=3,'Insumos - Manutenção'!$J34,IF(Apoio!$K$11=7,'Insumos - Limpeza'!$J33,IF(Apoio!$K$11=5,'Insumos - Vigilância'!$J35,0))))))","v":0}]
[null,null,null,{"$f":"IF(Apoio!$K$11=0,\"Equipamentos\",IF(Apoio!$K$11=1,\"Equipamentos de Segurança de Brigadista\",IF(Apoio!$K$11=8,\"Material de Comunicação\",IF(Apoio!$K$11=3,\"Ferramentas de Telecomunicação\",IF(Apoio!$K$11=7,\"Equipamentos e Ferramentas\",IF(Apoio!$K$11=5,\"\",\"\"))))))","v":""},null,null,null,null,null,null,{"$f":"IF(Apoio!$K$11=0,0,IF(Apoio!$K$11=1,'Insumos - Brigadista'!$J$45,IF(Apoio!$K$11=8,'Insumos - Motorista'!$J35,IF(Apoio!$K$11=3,'Insumos - Manutenção'!$J72,IF(Apoio!$K$11=7,'Insumos - Limpeza'!$J60,IF(Apoio!$K$11=5,0,0))))))","v":0}]
[null,null,null,{"$f":"IF(Apoio!$K$11=0,\"Equipamentos\",IF(Apoio!$K$11=1,\"Materiais de Arrombamento - Ferramentas\",\"\"))","v":""},null,null,null,null,null,null,{"$f":"IF(Apoio!$K$11=0,0,IF(Apoio!$K$11=1,'Insumos - Brigadista'!$J$69,0))","v":0}]
[null,null,null,{"$f":"IF(Apoio!$K$11=0,\"Equipamentos\",IF(Apoio!$K$11=1,\"Materiais de Comunicação\",\"\"))","v":""},null,null,null,null,null,null,{"$f":"IF(Apoio!$K$11=0,0,IF(Apoio!$K$11=1,'Insumos - Brigadista'!$J$92,0))","v":0}]
[null,null,null,{"$f":"IF(Apoio!$K$11=0,\"Equipamentos\",IF(Apoio!$K$11=1,\"Materiais de Escritório\",\"\"))","v":""},null,null,null,null,null,null,{"$f":"IF(Apoio!$K$11=0,0,IF(Apoio!$K$11=1,'Insumos - Brigadista'!$J$129,0))","v":0}]
[null,null,null,{"$f":"IF(Apoio!$K$11=0,\"Equipamentos\",IF(Apoio!$K$11=1,\"Materiais de Primeiros Socorros\",\"\"))","v":""},null,null,null,null,null,null,{"$f":"IF(Apoio!$K$11=0,0,IF(Apoio!$K$11=1,'Insumos - Brigadista'!$J$169,0))","v":0}]
[null,null,null,"Outros (Especificar)",null,null,null,null,null,null,0]
[null,null,null,"Total de Uniformes e Equipamentos",null,null,null,null,null,null,{"$f":"TRUNC(ROUND(SUM(K112:K119),2),2)","v":0}]
[]
[null,null,"VALOR DA PROPOSTA POR EMPREGADO"]
[null,null,null,null,null,null,null,null,null,null,"Valor"]
[null,null,null,"Remuneração",null,null,null,null,null,null,{"$f":"K43","v":4189}]
[null,null,null,"Encargos e Benefícios",null,null,null,null,null,null,{"$f":"K84","v":2178.21}]
[null,null,null,"Provisão para Rescisão",null,null,null,null,null,null,{"$f":"K94","v":235.93}]
[null,null,null,"Custo de Reposição do Profissional Ausente",null,null,null,null,null,null,{"$f":"K108","v":127.44}]
[null,null,null,"Uniformes e Equipamentos",null,null,null,null,null,null,{"$f":"K120","v":0}]
[null,null,null,"Custo Total por Empregado",null,null,null,null,null,null,{"$f":"TRUNC(ROUND(SUM(K124:K128),2),2)","v":6730.58}]
[]
[null,null,"MÓDULO 6 - CUSTOS INDIRETOS, LUCRO E TRIBUTOS"]
[null,null,null,null,null,null,null,null,null,null,"Valor"]
[null,null,null,"Custo Total por Empregado",null,null,null,null,null,null,{"$f":"K129","v":6730.58}]
[null,null,null,"Custos Indiretos / Despesas Operacionais e Administrativas",null,null,null,null,null,{"$f":"'Dados Proponente'!$I$51","v":0.03},{"$f":"TRUNC(ROUND($J134*$K$133,2),2)","v":201.92}]
[null,null,null,"Lucro",null,null,null,null,null,{"$f":"'Dados Proponente'!$I$52","v":6.7900000000000002E-2},{"$f":"TRUNC(ROUND($J135*($K$133+$K$134),2),2)","v":470.72}]
[null,null,null,"Tributos"]
[null,null,null,null,"Tributos Federais:",null,null,null,null,{"$f":"SUM(J138:J139)","v":3.6499999999999998E-2},{"$f":"SUM(K138:K139)","v":295.80463054187192}]
[null,null,null,null,null,null,null,null,"COFINS",{"$f":"'Dados Proponente'!$I$25","v":0.03},{"$f":"$J138*K$146","v":243.12709359605913}]
[null,null,null,null,null,null,null,null,"PIS",{"$f":"'Dados Proponente'!$I$24","v":6.4999999999999997E-3},{"$f":"$J139*K$146","v":52.677536945812811}]
[null,null,null,null,"  ",null,"Obs.: Vedada a inclusão de IRPJ e CSLL."]
[null,null,null,null,"Tributos Estaduais (especificar):",null,{"$f":"IF('Dados Proponente'!$E$54=\"\",\" \",'Dados Proponente'!$E$54)","v":" "},null,null,{"$f":"'Dados Proponente'!$I$54","v":0},{"$f":"$J141*K$146","v":0}]
[null,null,null,null,"Tributos Municipais:"]
[null,null,null,null,null,null,null,null,"ISSQN",{"$f":"'Dados Proponente'!$I$28","v":0.05},{"$f":"J143*K$146","v":405.21182266009856}]
[]
[null,null,null,null,"Outros Tributos (especificar):",null,{"$f":"IF('Dados Proponente'!$E$55=\"\",\" \",'Dados Proponente'!$E$55)","v":" "},null,null,{"$f":"'Dados Proponente'!$I$55","v":0},{"$f":"$J145*K$146","v":0}]
[null,null,null,"Total dos Custos Indiretos, Lucro e Tributos",null,null,null,null,null,null,{"$f":"SUM(K133:K135)/(1-J137-J143)","v":8104.236453201971}]
[]
[null,null,"QUADRO RESUMO"]
[null,null,null,null,null,null,null,null,null,null,"Valor por Empregado"]
[null,null,null,"Total de Remuneração",null,null,null,null,null,null,{"$f":"K124","v":4189}]
[null,null,null,"Total de Encargos e Benefícios",null,null,null,null,null,null,{"$f":"K125","v":2178.21}]
[null,null,null,"Total de Provisão para Rescisão",null,null,null,null,null,null,{"$f":"K126","v":235.93}]
[null,null,null,"Total do Custo de Reposição do Profissional Ausente",null,null,null,null,null,null,{"$f":"K127","v":127.44}]
[null,null,null,"Total de Uniformes e Equipamentos",null,null,null,null,null,null,{"$f":"K128","v":0}]
[null,null,null,"Total dos Custos Indiretos, Lucro e Tributos",null,null,null,null,null,null,{"$f":"TRUNC(ROUND(SUM(K134,K135,K137,K141,K143,K145),2),2)","v":1373.66}]
[null,null,null,"Valor Mensal do Serviço",null,null,null,null,null,null,{"$f":"SUM(K150:K155)","v":8104.24}]
[]
[]
[null,null,"Observações: A planilha está concebida para efetuar automaticamente os cálculos, devendo ser alimentados somente os valores nos campos em amarelo."]
[null,null,"(Informações Gerais - IG) Informar a data do pregão, horário do pregão, razão social da empresa licitante, CNPJ da empresa licitante e data base da categoria profissional."]
[null,null,"(Módulo Remuneração - MR)  Informar somente os adicionais previstos na Convenção Coletiva de Trabalho-CCT ou os decorrentes do local de trabalho."]
[null,null,"(Módulo Tributos) Informar os percentuais dos Tributos Federais: COFINS e PIS ou SIMPLES, Tributos Estaduais: especificar caso exista tributo, Tributos Municipais: ISSQN, e Outros Tributos: especificar caso exista outro tributo."]

{"sheet":"Profissional","index":14,"n_rows":162,"n_cols":16383,"rows_kept":162,"cut":false,"hidden":false,"merged":[[10,4,10,8],[3,1,3,3],[3,4,3,5],[3,9,3,10],[4,4,4,10],[8,4,8,10],[13,1,13,5],[13,6,13,8],[14,1,14,5],[14,6,14,8],[13,9,13,12],[14,9,14,12],[17,9,17,10],[18,9,18,10],[17,1,17,5],[18,1,18,5],[17,6,17,8],[18,6,18,8],[161,2,161,10],[28,6,28,9],[29,6,29,9],[41,6,41,9],[74,6,74,9],[118,5,118,9],[140,6,140,8],[144,6,144,8],[158,2,158,10],[159,2,159,10],[160,2,160,10]],"flags":["row_too_large"]}
[null,"6 - PLANILHA DE CUSTOS E FORMAÇÃO DE PREÇOS"]
[]
[]
[null,"Processo nº:",null,null,{"$f":"IF(ISBLANK('Dados Contratação'!$B$6),\"000/2014\",'Dados Contratação'!$B$6)","v":"15940/2022"},null,null,null,"Licitação:",{"$f":"IF(ISBLANK('Dados Contratação'!D6),\"(NÚMERO DA LICITAÇÃO)\",'Dados Contratação'!D6)","v":"(NÚMERO DA LICITAÇÃO)"}]
[null,"Descrição:",null,null,{"$f":"'Dados Contratação'!B10","v":"Prestação dos serviços de apoio Administrativo aos Gestores e Fiscais de Contratos"}]
[]
[null,"Data Pregão:",null,null,{"$f":"IF(ISBLANK('Dados Contratação'!$E$6),\"dd/mm/aaaa\",'Dados Contratação'!$E$6)","v":"dd/mm/aaaa"},null,null,"Horário do Pregão:",{"$f":"IF(ISBLANK('Dados Contratação'!$F$6),\"00:00\",'Dados Contratação'!$F$6)","v":"00:00"}]
[]
[null,"Empresa:",null,null,{"$f":"IF(ISBLANK('Dados Proponente'!$B$6),\"(NOME DA EMPRESA)\",'Dados Proponente'!$B$6)","v":"(NOME DA EMPRESA)"}]
[]
[null,"CNPJ:   ",null,null,{"$f":"IF(ISBLANK('Dados Proponente'!$H$6),\"(CNPJ)\",'Dados Proponente'!$H$6)","v":"(CNPJ)"}]
[]
[]
[null,"Local da Prestação dos Serviços",null,null,null,null,"Escala de Trabalho",null,null,"Profissional"]
[null,{"$f":"'Dados Contratação'!D21","v":"Prédio-Sede do TRT/24ª Região"},null,null,null,null,{"$f":"'Dados Contratação'!E21","v":"44 horas semanais"},null,null,{"$f":"'Dados Contratação'!C21","v":"Contador"}]
[]
[]
[null,"Data Base\n(dd/mm/aaaa):",null,null,null,null,"Salário Mínimo \nOficial Vigente:",null,null,"Salário Normativo da  \nCategoria Profissional:"]
[null,{"$f":"IF(ISBLANK(Encargos_Benefícios!$H$21),\"dd/mm/aaaa\",Encargos_Benefícios!$H$21)","v":"2021-11-01"},null,null,null,null,{"$f":"Encargos_Benefícios!H13","v":1212},null,null,{"$f":"IF(Apoio!K11=0,0,IF(Apoio!K11=3,Encargos_Benefícios!H27,Encargos_Benefícios!H18))","v":4189}]
[]
[null,null,null,null,null,null,null,null,{"$f":"ROUND(((($J$19+K27+K28+K29+K30)/220)*1.75),2)","v":33.32},{"$f":"ROUND(((($J$19+K28+K29+K30)/220)*1.5),2)","v":28.56},{"$f":"ROUND(((($J$19+K28+K30)/220)*2),2)","v":38.08}]
[null,null,"MÓDULO 1 - COMPOSIÇÃO DA REMUNERAÇÃO",null,null,null,null,null,{"$f":"(ROUND(((($J$19+K27+K28+K29+K30)/220)*1.75),2)*1.25)","v":41.65},{"$f":"(ROUND(((($J$19+K27+K28+K29+K30)/220)*1.5),2)*1.25)","v":35.699999999999996},{"$f":"(ROUND(((($J$19+K27+K28+K29+K30)/220)*2),2)*1.25)","v":47.599999999999994}]
[null,null,null,null,null,null,null,null,null,null,"Valor"]
[null,null,null,"Salário Base",null,null,null,null,null,null,{"$f":"$J$19","v":4189}]
[null,null,null,"Adicional de Periculosidade",null,null,null,null,null,0,{"$f":"IF((OR('Dados Contratação'!K21=\"Sim\",'Dados Contratação'!K22=\"Sim\",'Dados Contratação'!K23=\"Sim\",'Dados Contratação'!K24=\"Sim\",'Dados Contratação'!K25=\"Sim\",'Dados Contratação'!K26=\"Sim\",'Dados Contratação'!K27=\"Sim\",'Dados Contratação'!K28=\"Sim\",'Dados Contratação'!K29=\"Sim\",'Dados Contratação'!K30=\"Sim\",'Dados Contratação'!K31=\"Sim\",'Dados Contratação'!K32=\"Sim\",'Dados Contratação'!K33=\"Sim\",'Dados Contratação'!K34=\"Sim\",'Dados Contratação'!K35=\"Sim\",'Dados Contratação'!K36=\"Sim\",'Dados Contratação'!K37=\"Sim\",'Dados Contratação'!K38=\"Sim\",'Dados Contratação'!K39=\"Sim\",'Dados Contratação'!K40=\"Sim\")),TRUNC(ROUND($J25*K$24,2),2),0)","v":0}]
[null,null,null,"Adicional de Insalubridade",null,null,null,null,null,0,{"$f":"IF((OR('Dados Contratação'!L21=\"Sim\",'Dados Contratação'!L22=\"Sim\",'Dados Contratação'!L23=\"Sim\",'Dados Contratação'!L24=\"Sim\",'Dados Contratação'!L25=\"Sim\",'Dados Contratação'!L26=\"Sim\",'Dados Contratação'!L27=\"Sim\",'Dados Contratação'!L28=\"Sim\",'Dados Contratação'!L29=\"Sim\",'Dados Contratação'!L30=\"Sim\",'Dados Contratação'!L31=\"Sim\",'Dados Contratação'!L32=\"Sim\",'Dados Contratação'!L33=\"Sim\",'Dados Contratação'!L34=\"Sim\",'Dados Contratação'!L35=\"Sim\",'Dados Contratação'!L36=\"Sim\",'Dados Contratação'!L37=\"Sim\",'Dados Contratação'!L38=\"Sim\",'Dados Contratação'!L39=\"Sim\",'Dados Contratação'!L40=\"Sim\")),TRUNC(ROUND($J26*G19,2),2),0)","v":0}]
[null,null,null,"Gratificação Adicional de Risco de Vida",null,null,null,null,null,0,{"$f":"TRUNC(ROUND($J27*K$24,2),2)","v":0}]
[null,null,null,"Gratificação por Cargo de Confiança",null,null,null,null,null,0,{"$f":"TRUNC(ROUND($J28*K$24,2),2)","v":0}]
[{"$cut":{"chars":2295371,"head":""}}]
[null,null,null,"Outros: ",null,null,null,null,null,null,0]
[null,null,null,"Subtotal de Remuneração",null,null,null,null,null,null,{"$f":"TRUNC(ROUND(SUM(K24:K30),2),2)","v":4189}]
[null,null,null,"Adicional Noturno",null,null,null,null,null,0,{"$f":"IF((OR('Dados Contratação'!M21=\"Sim\",'Dados Contratação'!M22=\"Sim\",'Dados Contratação'!M23=\"Sim\",'Dados Contratação'!M24=\"Sim\",'Dados Contratação'!M25=\"Sim\",'Dados Contratação'!M26=\"Sim\",'Dados Contratação'!M27=\"Sim\",'Dados Contratação'!M28=\"Sim\",'Dados Contratação'!M29=\"Sim\",'Dados Contratação'!M30=\"Sim\",'Dados Contratação'!M31=\"Sim\",'Dados Contratação'!M32=\"Sim\",'Dados Contratação'!M33=\"Sim\",'Dados Contratação'!M34=\"Sim\",'Dados Contratação'!M35=\"Sim\",'Dados Contratação'!M36=\"Sim\",'Dados Contratação'!M37=\"Sim\",'Dados Contratação'!M38=\"Sim\",'Dados Contratação'!M39=\"Sim\",'Dados Contratação'!M40=\"Sim\")),TRUNC((ROUND(($K$24+$K$27)*$J$32*(8/12),2)),2),0)","v":0}]
[null,null,null,"Repercussão do Adicional Noturno no DSR",null,null,null,null,null,{"$f":"IF((OR('Dados Contratação'!M21=\"Sim\",'Dados Contratação'!M22=\"Sim\",'Dados Contratação'!M23=\"Sim\",'Dados Contratação'!M24=\"Sim\",'Dados Contratação'!M25=\"Sim\",'Dados Contratação'!M26=\"Sim\",'Dados Contratação'!M27=\"Sim\",'Dados Contratação'!M28=\"Sim\",'Dados Contratação'!M29=\"Sim\",'Dados Contratação'!M30=\"Sim\",'Dados Contratação'!M31=\"Sim\",'Dados Contratação'!M32=\"Sim\",'Dados Contratação'!M33=\"Sim\",'Dados Contratação'!M34=\"Sim\",'Dados Contratação'!M35=\"Sim\",'Dados Contratação'!M36=\"Sim\",'Dados Contratação'!M37=\"Sim\",'Dados Contratação'!M38=\"Sim\",'Dados Contratação'!M39=\"Sim\",'Dados Contratação'!M40=\"Sim\")),((365+(366-365)/4)/12)*(1-(5/7)),0)","v":0},{"$f":"TRUNC((ROUND($K32/30.4375*$J33/2,2)),2)","v":0}]
[null,null,null,"Hora Noturna Adicional",null,null,null,null,null,{"$f":"IF((OR('Dados Contratação'!M21=\"Sim\",'Dados Contratação'!M22=\"Sim\",'Dados Contratação'!M23=\"Sim\",'Dados Contratação'!M24=\"Sim\",'Dados Contratação'!M25=\"Sim\",'Dados Contratação'!M26=\"Sim\",'Dados Contratação'!M27=\"Sim\",'Dados Contratação'!M28=\"Sim\",'Dados Contratação'!M29=\"Sim\",'Dados Contratação'!M30=\"Sim\",'Dados Contratação'!M31=\"Sim\",'Dados Contratação'!M32=\"Sim\",'Dados Contratação'!M33=\"Sim\",'Dados Contratação'!M34=\"Sim\",'Dados Contratação'!M35=\"Sim\",'Dados Contratação'!M36=\"Sim\",'Dados Contratação'!M37=\"Sim\",'Dados Contratação'!M38=\"Sim\",'Dados Contratação'!M39=\"Sim\",'Dados Contratação'!M40=\"Sim\")),(((8*60/52.5)+4)/12)-1,0)","v":0},{"$f":"TRUNC((ROUND(($K$24+$K27)*$J34*1.2,2)),2)","v":0}]
[null,null,null,"Repercussão da Hora Noturna Adicional no DSR",null,null,null,null,null,{"$f":"IF((OR('Dados Contratação'!M21=\"Sim\",'Dados Contratação'!M22=\"Sim\",'Dados Contratação'!M23=\"Sim\",'Dados Contratação'!M24=\"Sim\",'Dados Contratação'!M25=\"Sim\",'Dados Contratação'!M26=\"Sim\",'Dados Contratação'!M27=\"Sim\",'Dados Contratação'!M28=\"Sim\",'Dados Contratação'!M29=\"Sim\",'Dados Contratação'!M30=\"Sim\",'Dados Contratação'!M31=\"Sim\",'Dados Contratação'!M32=\"Sim\",'Dados Contratação'!M33=\"Sim\",'Dados Contratação'!M34=\"Sim\",'Dados Contratação'!M35=\"Sim\",'Dados Contratação'!M36=\"Sim\",'Dados Contratação'!M37=\"Sim\",'Dados Contratação'!M38=\"Sim\",'Dados Contratação'!M39=\"Sim\",'Dados Contratação'!M40=\"Sim\")),((365+(366-365)/4)/12)*(1-(5/7)),)","v":0},{"$f":"TRUNC((ROUND($K34/30.4375*$J35/2,2)),2)","v":0}]
[null,null,null,"Adicional de Hora Extra",null,null,null,null,null,{"$f":"IF((OR('Dados Contratação'!N21=\"Sim\",'Dados Contratação'!N22=\"Sim\",'Dados Contratação'!N23=\"Sim\",'Dados Contratação'!N24=\"Sim\",'Dados Contratação'!N25=\"Sim\",'Dados Contratação'!N26=\"Sim\",'Dados Contratação'!N27=\"Sim\",'Dados Contratação'!N28=\"Sim\",'Dados Contratação'!N29=\"Sim\",'Dados Contratação'!N30=\"Sim\",'Dados Contratação'!N31=\"Sim\",'Dados Contratação'!N32=\"Sim\",'Dados Contratação'!N33=\"Sim\",'Dados Contratação'!N34=\"Sim\",'Dados Contratação'!N35=\"Sim\",'Dados Contratação'!N36=\"Sim\",'Dados Contratação'!N37=\"Sim\",'Dados Contratação'!N38=\"Sim\",'Dados Contratação'!N39=\"Sim\",'Dados Contratação'!N40=\"Sim\")),13.14*12/2/12,0)","v":0},{"$f":"TRUNC((ROUND(($K$24+$K27+$K32+$K33+$K34+$K35)/220*$J36,2)),2)","v":0}]
[null,null,null,"Repercussão do Adicional de Hora Extra no DSR",null,null,null,null,null,{"$f":"IF((OR('Dados Contratação'!N21=\"Sim\",'Dados Contratação'!N22=\"Sim\",'Dados Contratação'!N23=\"Sim\",'Dados Contratação'!N24=\"Sim\",'Dados Contratação'!N25=\"Sim\",'Dados Contratação'!N26=\"Sim\",'Dados Contratação'!N27=\"Sim\",'Dados Contratação'!N28=\"Sim\",'Dados Contratação'!N29=\"Sim\",'Dados Contratação'!N30=\"Sim\",'Dados Contratação'!N31=\"Sim\",'Dados Contratação'!N32=\"Sim\",'Dados Contratação'!N33=\"Sim\",'Dados Contratação'!N34=\"Sim\",'Dados Contratação'!N35=\"Sim\",'Dados Contratação'!N36=\"Sim\",'Dados Contratação'!N37=\"Sim\",'Dados Contratação'!N38=\"Sim\",'Dados Contratação'!N39=\"Sim\",'Dados Contratação'!N40=\"Sim\")),((365+(366-365)/4)/12)*(1-(5/7)),0)","v":0},{"$f":"TRUNC((ROUND($K36/30.4375*$J37/2,2)),2)","v":0}]
[null,null,null,"Adicional de Hora Extra (Domingos e Feriados)",null,null,null,null,null,{"$f":"IF((OR('Dados Contratação'!N23=\"Sim\",'Dados Contratação'!N24=\"Sim\",'Dados Contratação'!N25=\"Sim\",'Dados Contratação'!N26=\"Sim\",'Dados Contratação'!N27=\"Sim\",'Dados Contratação'!N28=\"Sim\",'Dados Contratação'!N29=\"Sim\",'Dados Contratação'!N30=\"Sim\",'Dados Contratação'!N31=\"Sim\",'Dados Contratação'!N32=\"Sim\",'Dados Contratação'!N33=\"Sim\",'Dados Contratação'!N34=\"Sim\",'Dados Contratação'!N35=\"Sim\",'Dados Contratação'!N36=\"Sim\",'Dados Contratação'!N37=\"Sim\",'Dados Contratação'!N38=\"Sim\",'Dados Contratação'!N39=\"Sim\",'Dados Contratação'!N40=\"Sim\",'Dados Contratação'!N41=\"Sim\",'Dados Contratação'!N42=\"Sim\")),13.14*12/2/12,0)","v":0},{"$f":"TRUNC((ROUND((($K$24+$K29+$K34+$K35+$K36+$K37)/220)*2*$J38,2)),2)","v":0}]
[null,null,null,"Repercussão do Adicional de Hora Extra no DSR (Domingos e Feriados)",null,null,null,null,null,{"$f":"IF((OR('Dados Contratação'!N23=\"Sim\",'Dados Contratação'!N24=\"Sim\",'Dados Contratação'!N25=\"Sim\",'Dados Contratação'!N26=\"Sim\",'Dados Contratação'!N27=\"Sim\",'Dados Contratação'!N28=\"Sim\",'Dados Contratação'!N29=\"Sim\",'Dados Contratação'!N30=\"Sim\",'Dados Contratação'!N31=\"Sim\",'Dados Contratação'!N32=\"Sim\",'Dados Contratação'!N33=\"Sim\",'Dados Contratação'!N34=\"Sim\",'Dados Contratação'!N35=\"Sim\",'Dados Contratação'!N36=\"Sim\",'Dados Contratação'!N37=\"Sim\",'Dados Contratação'!N38=\"Sim\",'Dados Contratação'!N39=\"Sim\",'Dados Contratação'!N40=\"Sim\",'Dados Contratação'!N41=\"Sim\",'Dados Contratação'!N42=\"Sim\")),((365+(366-365)/4)/12)*(1-(5/7)),0)","v":0},{"$f":"TRUNC((ROUND($K38/30.4375*$J39/2,2)),2)","v":0}]
[null,null,null,"Subtotal de Remuneração - Base de Cálculo para Encargos Trabalhistas",null,null,null,null,null,null,{"$f":"TRUNC(ROUND(SUM(K31:K39),2),2)","v":4189}]
[null,null,null,"Intervalo Intrajornada",null,null,null,null,null,0,{"$f":"IF((OR('Dados Contratação'!O21=\"Sim\",'Dados Contratação'!O22=\"Sim\",'Dados Contratação'!O23=\"Sim\",'Dados Contratação'!O24=\"Sim\",'Dados Contratação'!O25=\"Sim\",'Dados Contratação'!O26=\"Sim\",'Dados Contratação'!O27=\"Sim\",'Dados Contratação'!O28=\"Sim\",'Dados Contratação'!O29=\"Sim\",'Dados Contratação'!O30=\"Sim\",'Dados Contratação'!O31=\"Sim\",'Dados Contratação'!O32=\"Sim\",'Dados Contratação'!O33=\"Sim\",'Dados Contratação'!O34=\"Sim\",'Dados Contratação'!O35=\"Sim\",'Dados Contratação'!O36=\"Sim\",'Dados Contratação'!O37=\"Sim\",'Dados Contratação'!O38=\"Sim\",'Dados Contratação'!O39=\"Sim\",'Dados Contratação'!O40=\"Sim\")),TRUNC(ROUND(J41*J21,2),2),0)","v":0}]
[null,null,null,"Outros: ",null,null,null,null,null,null,0]
[null,null,null,"Total de Remuneração",null,null,null,null,null,null,{"$f":"TRUNC(ROUND(SUM(K40:K42),2),2)","v":4189}]
[{"$cut":{"chars":2295369,"head":""}}]
[null,null,"MÓDULO 2 - ENCARGOS E BENEFÍCIOS"]
[null,null,null,"SUBMÓDULO 2.1 - 13º SALÁRIO E ADICIONAL DE FÉRIAS"]
[null,null,null,null,null,null,null,null,null,null,"Valor"]
[null,null,null,null,"13º Salário",null,null,null,null,null,{"$f":"TRUNC(ROUND(Encargos_Benefícios!$H47*$K$40,2),2)","v":348.94}]
[null,null,null,null,"Adicional de Férias",null,null,null,null,null,{"$f":"TRUNC(ROUND(Encargos_Benefícios!$H48*$K$40,2),2)","v":116.45}]
[null,null,null,"Subtotal do 13º Salário e Adicional de Férias",null,null,null,null,null,null,{"$f":"TRUNC(ROUND(SUM(K48,K49),2),2)","v":465.39}]
[null,null,null,null,"Incidência dos encargos previstos no Submódulo 2.2",null,null,null,null,null,{"$f":"TRUNC(ROUND(Encargos_Benefícios!$H49*$K$50,2),2)","v":171.26}]
[null,null,null,"Total do Submódulo 2.1 com a Incidência dos encargos previstos no Submódulo 2.2",null,null,null,null,null,null,{"$f":"TRUNC(ROUND(SUM(K50,K51),2),2)","v":636.65}]
[]
[null,null,null,"SUBMÓDULO 2.2 - ENCARGOS PREVIDENCIÁRIOS, FGTS E OUTRAS CONTRIBUIÇÕES"]
[null,null,null,null,null,null,null,null,null,null,"Valor"]
[null,null,null,null,"INSS",null,null,null,null,null,{"$f":"TRUNC(ROUND(Encargos_Benefícios!$H38*($K$40),2),2)","v":837.8}]
[null,null,null,null,"SESI ou SESC",null,null,null,null,null,{"$f":"TRUNC(ROUND(Encargos_Benefícios!$H39*($K$40),2),2)","v":62.84}]
[null,null,null,null,"SENAI ou SENAC",null,null,null,null,null,{"$f":"TRUNC(ROUND(Encargos_Benefícios!$H40*($K$40),2),2)","v":41.89}]
[null,null,null,null,"INCRA",null,null,null,null,null,{"$f":"TRUNC(ROUND(Encargos_Benefícios!$H41*($K$40),2),2)","v":8.3800000000000008}]
[null,null,null,null,"Salário Educação",null,null,null,null,null,{"$f":"TRUNC(ROUND(Encargos_Benefícios!$H42*($K$40),2),2)","v":104.73}]
[null,null,null,null,"FGTS",null,null,null,null,null,{"$f":"TRUNC(ROUND(Encargos_Benefícios!$H43*($K$40),2),2)","v":335.12}]
[null,null,null,null,"Seguro Acidente de Trabalho",null,null,null,null,null,{"$f":"TRUNC(ROUND(Encargos_Benefícios!$H44*($K$40),2),2)","v":125.67}]
[null,null,null,null,"SEBRAE",null,null,null,null,null,{"$f":"TRUNC(ROUND(Encargos_Benefícios!$H45*($K$40),2),2)","v":25.13}]
[null,null,null,"Total de Encargos Previdenciários e FGTS",null,null,null,null,null,null,{"$f":"TRUNC(ROUND(SUM(K56:K63),2),2)","v":1541.56}]
[]
[null,null,null,"SUBMÓDULO 2.3 - BENEFÍCIOS MENSAIS E DIÁRIOS"]
[null,null,null,null,null,null,null,null,null,null,"Valor"]
[null,null,null,null,"Vale Transporte",null,null,null,null,null,0]
[null,null,null,null,"Auxílio Alimentação (Vales, cesta básica, etc.)",null,null,null,null,null,{"$f":"Encargos_Benefícios!$H128","v":345}]
[null,null,null,null,"Benefício Social Familiar Sindical",null,null,null,null,null,{"$f":"Encargos_Benefícios!$H54","v":0}]
[null,null,null,null,"Assistência e Inclusão Social do Trabalhador",null,null,null,null,null,{"$f":"Encargos_Benefícios!$H58","v":0}]
[null,null,null,null,"Prêmio Cesta Básica",null,null,null,null,null,{"$f":"Encargos_Benefícios!$H61","v":0}]
[null,null,null,null,"Auxílio Creche",null,null,null,null,null,{"$f":"Encargos_Benefícios!$H64","v":0}]
[null,null,null,null,"Seguro de Vida, Invalidez e Funeral",null,null,null,null,null,{"$f":"Encargos_Benefícios!$H68","v":0}]
[null,null,null,null,"Outros (Especificar)",null,null,null,null,null,0]
[null,null,null,"Total de Encargos Previdenciários e FGTS",null,null,null,null,null,null,{"$f":"TRUNC(ROUND(SUM(K68:K75),2),2)","v":345}]
[]
[]
[null,null,null,"QUADRO RESUMO - ENCARGOS E BENEFÍCIOS"]
[null,null,null,null,null,null,null,null,null,null,"Valor"]
[null,null,null,null,"13º Salário e Adicional de Férias",null,null,null,null,null,{"$f":"K52","v":636.65}]
[null,null,null,null,"Encargos Previdenciários, FGTS e Outras Contribuições",null,null,null,null,null,{"$f":"K64","v":1541.56}]
[null,null,null,null,"Benefìcios Mensais e Diários",null,null,null,null,null,{"$f":"K76","v":345}]
[null,null,null,"Total de Encargos e Benefícios",null,null,null,null,null,null,{"$f":"TRUNC(ROUND(SUM(K81:K83),2),2)","v":2523.21}]
[]
[null,null,"MÓDULO 3 - PROVISÃO PARA RESCISÃO"]
[null,null,null,null,null,null,null,null,null,null,"Valor"]
[null,null,null,"Aviso Prévio Indenizado",null,null,null,null,null,null,{"$f":"TRUNC(ROUND($K$40*'Notas Explicativas'!D66,2),2)","v":17.45}]
[null,null,null,"Insidência do FGTS sobre o Aviso Prévio Indenizado",null,null,null,null,null,null,{"$f":"TRUNC(ROUND($K$40*'Notas Explicativas'!D67,2),2)","v":1.4}]
[null,null,null,"Multa do FGTS do Aviso Prévio Indenizado",null,null,null,null,null,null,{"$f":"TRUNC(ROUND($K$40*'Notas Explicativas'!D68,2),2)","v":144.1}]
[null,null,null,"Aviso Prévio Trabalhado",null,null,null,null,null,null,{"$f":"TRUNC(ROUND($K$40*'Notas Explicativas'!D69,2),2)","v":52.13}]
[null,null,null,"Insidência do Módulo Encargos Previdenciários, FGTS e Outras Cont. s/ Aviso Prévio Trab.",null,null,null,null,null,null,{"$f":"TRUNC(ROUND($K$40*'Notas Explicativas'!D71,2),2)","v":19.18}]
[null,null,null,"Multa do FGTS do Aviso Prévio Trabalhado",null,null,null,null,null,null,{"$f":"TRUNC(ROUND($K$40*'Notas Explicativas'!D73,2),2)","v":1.67}]
[null,null,null,"Total de Provisão para Rescisão",null,null,null,null,null,null,{"$f":"TRUNC(ROUND(SUM(K88:K93),2),2)","v":235.93}]
[]
[null,null,"MÓDULO 4 - CUSTO DE REPOSIÇÃO DO PROFISSIONAL AUSENTE"]
[null,null,null,null,null,null,null,null,null,null,"Valor"]
[null,null,null,"Substituição Durante Férias",null,null,null,null,null,null,{"$f":"TRUNC(ROUND($K$43*'Notas Explicativas'!D85,2),2)","v":0}]
[null,null,null,"Substituição Durante Ausência por Doença",null,null,null,null,null,null,{"$f":"TRUNC(ROUND($K$43*'Notas Explicativas'!D86,2),2)","v":58.18}]
[null,null,null,"Substituição Durante Licença Maternidade",null,null,null,null,null,null,{"$f":"TRUNC(ROUND($K$43*'Notas Explicativas'!D87,2),2)","v":5.48}]
[null,null,null,"Substituição Durante Licença Paternidade",null,null,null,null,null,null,{"$f":"TRUNC(ROUND($K$43*'Notas Explicativas'!D88,2),2)","v":0.87}]
[null,null,null,"Substituição Durante Ausências Legais",null,null,null,null,null,null,{"$f":"TRUNC(ROUND($K$43*'Notas Explicativas'!D89,2),2)","v":11.64}]
[null,null,null,"Substituição Durante Ausência por Acidente de Trabalho",null,null,null,null,null,null,{"$f":"TRUNC(ROUND($K$43*'Notas Explicativas'!D90,2),2)","v":2.72}]
[null,null,null,"Subtotal Antes da Incidência de Proporcional de Férias, 1/3 e 13º s/ Custos de Reposição",null,null,null,null,null,null,{"$f":"TRUNC(ROUND(SUM(K98:K103),2),2)","v":78.89}]
[null,null,null,"Proporcional de Férias, 1/3 e 13º Sobre Custo de Reposição (Exceto Licença Maternidade)",null,null,null,null,null,null,{"$f":"TRUNC(ROUND($K$43*'Notas Explicativas'!D96,2),2)","v":14.27}]
[null,null,null,"Subtotal Antes de Incidência do Módulo Encargos Previdenciários, FGTS e Outras Cont.",null,null,null,null,null,null,{"$f":"TRUNC(ROUND(SUM(K104:K105),2),2)","v":93.16}]
[null,null,null,"Incidência do Módulo Encargos Previdenciários, FGTS e Outras Cont. s/ Custo de Reposição",null,null,null,null,null,null,{"$f":"TRUNC(ROUND($K$43*'Notas Explicativas'!D98,2),2)","v":34.28}]
[null,null,null,"Total do Custo de Reposição do Profissional Ausente",null,null,null,null,null,null,{"$f":"TRUNC(ROUND(SUM(K106:K107),2),2)","v":127.44}]
[]
[null,null,"MÓDULO 5 - UNIFORMES E EQUIPAMENTOS"]
[null,null,null,null,null,null,null,null,null,null,"Valor"]
[null,null,null,"Uniformes e equipamentos",null,null,null,null,null,null,{"$f":"IF(Apoio!$K$11=0,0,'Certificação digital'!$I$16)","v":10.91}]
[null,null,null,{"$f":"IF(Apoio!$K$11=0,\"Equipamentos\",IF(Apoio!$K$11=1,\"Mobiliários\",IF(Apoio!$K$11=8,\"Materiais de Escrtitório\",IF(Apoio!$K$11=3,\"Equipamentos de Proteção Individual (EPI's)\",IF(Apoio!$K$11=7,\"Máquinas e Equipamentos\",IF(Apoio!$K$11=5,\"Equipamentos de Segurança\",\"\"))))))","v":""},null,null,null,null,null,null,{"$f":"IF(Apoio!$K$11=0,0,IF(Apoio!$K$11=1,'Insumos - Brigadista'!$J$24,IF(Apoio!$K$11=8,'Insumos - Motorista'!$J21,IF(Apoio!$K$11=3,'Insumos - Manutenção'!$J34,IF(Apoio!$K$11=7,'Insumos - Limpeza'!$J33,IF(Apoio!$K$11=5,'Insumos - Vigilância'!$J35,0))))))","v":0}]
[null,null,null,{"$f":"IF(Apoio!$K$11=0,\"Equipamentos\",IF(Apoio!$K$11=1,\"Equipamentos de Segurança de Brigadista\",IF(Apoio!$K$11=8,\"Material de Comunicação\",IF(Apoio!$K$11=3,\"Ferramentas de Telecomunicação\",IF(Apoio!$K$11=7,\"Equipamentos e Ferramentas\",IF(Apoio!$K$11=5,\"\",\"\"))))))","v":""},null,null,null,null,null,null,{"$f":"IF(Apoio!$K$11=0,0,IF(Apoio!$K$11=1,'Insumos - Brigadista'!$J$45,IF(Apoio!$K$11=8,'Insumos - Motorista'!$J35,IF(Apoio!$K$11=3,'Insumos - Manutenção'!$J72,IF(Apoio!$K$11=7,'Insumos - Limpeza'!$J60,IF(Apoio!$K$11=5,0,0))))))","v":0}]
[null,null,null,{"$f":"IF(Apoio!$K$11=0,\"Equipamentos\",IF(Apoio!$K$11=1,\"Materiais de Arrombamento - Ferramentas\",\"\"))","v":""},null,null,null,null,null,null,{"$f":"IF(Apoio!$K$11=0,0,IF(Apoio!$K$11=1,'Insumos - Brigadista'!$J$69,0))","v":0}]
[null,null,null,{"$f":"IF(Apoio!$K$11=0,\"Equipamentos\",IF(Apoio!$K$11=1,\"Materiais de Comunicação\",\"\"))","v":""},null,null,null,null,null,null,{"$f":"IF(Apoio!$K$11=0,0,IF(Apoio!$K$11=1,'Insumos - Brigadista'!$J$92,0))","v":0}]
[null,null,null,{"$f":"IF(Apoio!$K$11=0,\"Equipamentos\",IF(Apoio!$K$11=1,\"Materiais de Escritório\",\"\"))","v":""},null,null,null,null,null,null,{"$f":"IF(Apoio!$K$11=0,0,IF(Apoio!$K$11=1,'Insumos - Brigadista'!$J$129,0))","v":0}]
[null,null,null,{"$f":"IF(Apoio!$K$11=0,\"Equipamentos\",IF(Apoio!$K$11=1,\"Materiais de Primeiros Socorros\",\"\"))","v":""},null,null,null,null,null,null,{"$f":"IF(Apoio!$K$11=0,0,IF(Apoio!$K$11=1,'Insumos - Brigadista'!$J$169,0))","v":0}]
[null,null,null,"Outros (Especificar)",null,null,null,null,null,null,0]
[null,null,null,"Total de Uniformes e Equipamentos",null,null,null,null,null,null,{"$f":"TRUNC(ROUND(SUM(K112:K119),2),2)","v":10.91}]
[]
[null,null,"VALOR DA PROPOSTA POR EMPREGADO"]
[null,null,null,null,null,null,null,null,null,null,"Valor"]
[null,null,null,"Remuneração",null,null,null,null,null,null,{"$f":"K43","v":4189}]
[null,null,null,"Encargos e Benefícios",null,null,null,null,null,null,{"$f":"K84","v":2523.21}]
[null,null,null,"Provisão para Rescisão",null,null,null,null,null,null,{"$f":"K94","v":235.93}]
[null,null,null,"Custo de Reposição do Profissional Ausente",null,null,null,null,null,null,{"$f":"K108","v":127.44}]
[null,null,null,"Uniformes e Equipamentos",null,null,null,null,null,null,{"$f":"K120","v":10.91}]
[null,null,null,"Custo Total por Empregado",null,null,null,null,null,null,{"$f":"TRUNC(ROUND(SUM(K124:K128),2),2)","v":7086.49}]
[]
[null,null,"MÓDULO 6 - CUSTOS INDIRETOS, LUCRO E TRIBUTOS"]
[null,null,null,null,null,null,null,null,null,null,"Valor"]
[null,null,null,"Custo Total por Empregado",null,null,null,null,null,null,{"$f":"K129","v":7086.49}]
[null,null,null,"Custos Indiretos / Despesas Operacionais e Administrativas",null,null,null,null,null,{"$f":"'Dados Proponente'!$I$51","v":0.03},{"$f":"TRUNC(ROUND($J134*$K$133,2),2)","v":212.59}]
[null,null,null,"Lucro",null,null,null,null,null,{"$f":"'Dados Proponente'!$I$52","v":6.7900000000000002E-2},{"$f":"TRUNC(ROUND($J135*($K$133+$K$134),2),2)","v":495.61}]
[null,null,null,"Tributos"]
[null,null,null,null,"Tributos Federais:",null,null,null,null,{"$f":"SUM(J138:J139)","v":3.6499999999999998E-2},{"$f":"SUM(K138:K139)","v":311.44}]
[null,null,null,null,null,null,null,null,"COFINS",{"$f":"'Dados Proponente'!$I$25","v":0.03},{"$f":"TRUNC(ROUND($J138*K$146,2),2)","v":255.98}]
[null,null,null,null,null,null,null,null,"PIS",{"$f":"'Dados Proponente'!$I$24","v":6.4999999999999997E-3},{"$f":"TRUNC(ROUND($J139*K$146,2),2)","v":55.46}]
[null,null,null,null,"  ",null,"Obs.: Vedada a inclusão de IRPJ e CSLL."]
[null,null,null,null,"Tributos Estaduais (especificar):",null,{"$f":"IF('Dados Proponente'!$E$54=\"\",\" \",'Dados Proponente'!$E$54)","v":" "},null,null,{"$f":"'Dados Proponente'!$I$54","v":0},{"$f":"TRUNC(ROUND($J141*K$146,2),2)","v":0}]
[null,null,null,null,"Tributos Municipais:"]
[null,null,null,null,null,null,null,null,"ISSQN",{"$f":"'Dados Proponente'!$I$28","v":0.05},{"$f":"TRUNC(ROUND(J143*K$146,2),2)","v":426.64}]
[]
[null,null,null,null,"Outros Tributos (especificar):",null,{"$f":"IF('Dados Proponente'!$E$55=\"\",\" \",'Dados Proponente'!$E$55)","v":" "},null,null,{"$f":"'Dados Proponente'!$I$55","v":0},{"$f":"TRUNC(ROUND($J145*K$146,2),2)","v":0}]
[null,null,null,"Total dos Custos Indiretos, Lucro e Tributos",null,null,null,null,null,null,{"$f":"TRUNC(ROUND(SUM(K133:K135)/(1-J137-J143),2),2)","v":8532.7800000000007}]
[]
[null,null,"QUADRO RESUMO"]
[null,null,null,null,null,null,null,null,null,null,"Valor por Empregado"]
[null,null,null,"Total de Remuneração",null,null,null,null,null,null,{"$f":"K124","v":4189}]
[null,null,null,"Total de Encargos e Benefícios",null,null,null,null,null,null,{"$f":"K125","v":2523.21}]
[null,null,null,"Total de Provisão para Rescisão",null,null,null,null,null,null,235.93]
[null,null,null,"Total do Custo de Reposição do Profissional Ausente",null,null,null,null,null,null,127.44]
[null,null,null,"Total de Uniformes e Equipamentos",null,null,null,null,null,null,10.91]
[null,null,null,"Total dos Custos Indiretos, Lucro e Tributos",null,null,null,null,null,null,{"$f":"TRUNC(ROUND(SUM(K134,K135,K137,K141,K143,K145),2),2)","v":1446.28}]
[null,null,null,"Valor Mensal do Serviço",null,null,null,null,null,null,{"$f":"SUM(K150:K155)","v":8532.77}]
[]
[]
[null,null,"Observações: A planilha está concebida para efetuar automaticamente os cálculos, devendo ser alimentados somente os valores nos campos em amarelo."]
[null,null,"(Informações Gerais - IG) Informar a data do pregão, horário do pregão, razão social da empresa licitante, CNPJ da empresa licitante e data base da categoria profissional."]
[null,null,"(Módulo Remuneração - MR)  Informar somente os adicionais previstos na Convenção Coletiva de Trabalho-CCT ou os decorrentes do local de trabalho."]
[null,null,"(Módulo Tributos) Informar os percentuais dos Tributos Federais: COFINS e PIS ou SIMPLES, Tributos Estaduais: especificar caso exista tributo, Tributos Municipais: ISSQN, e Outros Tributos: especificar caso exista outro tributo."]

{"sheet":"Vale Transporte","index":15,"n_rows":46,"n_cols":31,"rows_kept":46,"cut":false,"hidden":false,"merged":[[40,6,40,7],[44,6,44,7],[21,1,21,8],[22,1,22,8],[17,1,17,4],[17,5,17,6],[17,7,17,8],[17,9,17,10],[18,1,18,4],[18,5,18,6],[18,7,18,8],[18,9,18,10],[13,1,13,5],[13,6,13,8],[13,9,13,10],[14,1,14,5],[14,6,14,8],[14,9,14,10],[10,4,10,8],[3,1,3,3],[3,4,3,5],[3,9,3,10],[4,4,4,10],[8,4,8,10]]}
[null,"7 - VALE TRANSPORTE"]
[]
[]
[null,"Processo nº:",null,null,{"$f":"IF(ISBLANK('Dados Contratação'!$B$6),\"000/2014\",'Dados Contratação'!$B$6)","v":"15940/2022"},null,null,null,"Licitação:",{"$f":"IF(ISBLANK('Dados Contratação'!D6),\"(NÚMERO DA LICITAÇÃO)\",'Dados Contratação'!D6)","v":"(NÚMERO DA LICITAÇÃO)"}]
[null,"Descrição:",null,null,{"$f":"'Dados Contratação'!B10","v":"Prestação dos serviços de apoio Administrativo aos Gestores e Fiscais de Contratos"}]
[]
[null,"Data Pregão:",null,null,{"$f":"IF(ISBLANK('Dados Contratação'!$E$6),\"dd/mm/aaaa\",'Dados Contratação'!$E$6)","v":"dd/mm/aaaa"},null,null,"Horário do Pregão:",{"$f":"IF(ISBLANK('Dados Contratação'!$F$6),\"00:00\",'Dados Contratação'!$F$6)","v":"00:00"}]
[]
[null,"Empresa:",null,null,{"$f":"IF(ISBLANK('Dados Proponente'!$B$6),\"(NOME DA EMPRESA)\",'Dados Proponente'!$B$6)","v":"(NOME DA EMPRESA)"}]
[]
[null,"CNPJ:   ",null,null,{"$f":"IF(ISBLANK('Dados Proponente'!$H$6),\"(CNPJ)\",'Dados Proponente'!$H$6)","v":"(CNPJ)"}]
[]
[]
[null,"Local da Prestação dos Serviços",null,null,null,null,"Escala de Trabalho",null,null,"Número de Profissionais"]
[null,"Campo Grande / MS",null,null,null,null,{"$f":"'Dados Contratação'!E19","v":"44 horas semanais"},null,null,{"$f":"'Dados Contratação'!J19","v":0}]
[]
[]
[null,"Profissional",null,null,null,"Data Base\n(dd/mm/aaaa):",null,"Salário Mínimo \nOficial Vigente:",null,"Salário Normativo da  \nCategoria Profissional:"]
[null,{"$f":"'Dados Contratação'!C19","v":"Encarregado"},null,null,null,{"$f":"IF(ISBLANK(Encargos_Benefícios!$H$21),\"dd/mm/aaaa\",Encargos_Benefícios!$H$21)","v":"2021-11-01"},null,{"$f":"Encargos_Benefícios!H13","v":1212},null,{"$f":"Encargos_Benefícios!H18","v":4189}]
[]
[]
[null,"Posto de Trabalho",null,null,null,null,null,null,null,{"$f":"'Dados Contratação'!$C19","v":"Encarregado"},{"$f":"'Dados Contratação'!$C20","v":"Encarregado"},{"$f":"'Dados Contratação'!$C21","v":"Contador"},{"$f":"'Dados Contratação'!$C22","v":"Profissional"},{"$f":"'Dados Contratação'!$C23","v":"Profissional"},{"$f":"'Dados Contratação'!$C24","v":"Profissional"},{"$f":"'Dados Contratação'!$C25","v":"Profissional"},{"$f":"'Dados Contratação'!$C26","v":"Profissional"},{"$f":"'Dados Contratação'!$C27","v":"Profissional"},{"$f":"'Dados Contratação'!$C28","v":"Profissional"},{"$f":"'Dados Contratação'!$C29","v":"Profissional"},{"$f":"'Dados Contratação'!$C30","v":"Profissional"},{"$f":"'Dados Contratação'!$C31","v":"Profissional"},{"$f":"'Dados Contratação'!$C32","v":"Profissional"},{"$f":"'Dados Contratação'!$C33","v":"Profissional"},{"$f":"'Dados Contratação'!$C34","v":"Profissional"},{"$f":"'Dados Contratação'!$C35","v":"Profissional"},{"$f":"'Dados Contratação'!$C36","v":"Profissional"},{"$f":"'Dados Contratação'!$C37","v":"Profissional"},{"$f":"'Dados Contratação'!$C38","v":"Profissional"},{"$f":"'Dados Contratação'!$C39","v":"Profissional"},{"$f":"'Dados Contratação'!$C40","v":"Profissional"}]
[null,"Local do Posto de Trabalho",null,null,null,null,null,null,null,{"$f":"'Dados Contratação'!$D19","v":"Prédio-Sede do TRT/24ª Região"},{"$f":"'Dados Contratação'!$D20","v":"Fórum Trabalhista de Campo Grande"},{"$f":"'Dados Contratação'!$D21","v":"Prédio-Sede do TRT/24ª Região"},{"$f":"'Dados Contratação'!$D22","v":"Fórum Trabalhista de Campo Grande"},{"$f":"'Dados Contratação'!$D23","v":"Fórum Trabalhista de Dourados"},{"$f":"'Dados Contratação'!$D24","v":"Fórum Trabalhista de Três Lagoas"},{"$f":"'Dados Contratação'!$D25","v":"Vara do Trabalho de Amambaí"},{"$f":"'Dados Contratação'!$D26","v":"Vara do Trabalho de Aquidauana"},{"$f":"'Dados Contratação'!$D27","v":"Vara do Trabalho de Bataguassu"},{"$f":"'Dados Contratação'!$D28","v":"Posto Avançado de Cassilândia"},{"$f":"'Dados Contratação'!$D29","v":"Vara do Trabalho de Corumbá"},{"$f":"'Dados Contratação'!$D30","v":"Vara do Trabalho de Coxim"},{"$f":"'Dados Contratação'!$D31","v":"Vara do Trabalho de Fátima do Sul"},{"$f":"'Dados Contratação'!$D32","v":"Vara do Trabalho de Jardim"},{"$f":"'Dados Contratação'!$D33","v":"Vara do Trabalho de Mundo Novo"},{"$f":"'Dados Contratação'!$D34","v":"Vara do Trabalho de Naviraí"},{"$f":"'Dados Contratação'!$D35","v":"Vara do Trabalho de Nova Andradina"},{"$f":"'Dados Contratação'!$D36","v":"Vara do Trabalho de Paranaíba"},{"$f":"'Dados Contratação'!$D37","v":"Vara do Trabalho de Ponta Porã"},{"$f":"'Dados Contratação'!$D38","v":"Vara do Trabalho de Rio Brilhante"},{"$f":"'Dados Contratação'!$D39","v":"Vara do Trabalho de São Gabriel do Oeste"},{"$f":"'Dados Contratação'!$D40","v":"Vara do Trabalho de Chapadão do Sul"}]
[]
[]
[null,null,"COMPOSIÇÃO DOS CUSTOS COM FORNECIMENTO DE VALE TRANSPORTE"]
[null,null,null,null,null,null,null,null,null,"Valor","Valor","Valor","Valor","Valor","Valor","Valor","Valor","Valor","Valor","Valor","Valor","Valor","Valor","Valor","Valor","Valor","Valor","Valor","Valor","Valor","Valor"]
[null,null,null,"Vale Transporte",null,null,null,null,null,{"$f":"IF(Apoio!$K$11=0,0,IF('Dados Contratação'!$J$19=0,0,Encargos_Benefícios!$H$75))","v":0},{"$f":"IF(Apoio!$K$11=0,0,IF('Dados Contratação'!$J$20=0,0,Encargos_Benefícios!$H$75))","v":0},{"$f":"IF(Apoio!$K$11=0,0,IF('Dados Contratação'!$J$21=0,0,Encargos_Benefícios!$H$75))","v":0},{"$f":"IF(Apoio!$K$11=0,0,IF('Dados Contratação'!$J$22=0,0,Encargos_Benefícios!$H$75))","v":0},{"$f":"IF(Apoio!$K$11=0,0,IF('Dados Contratação'!$J$23=0,0,Encargos_Benefícios!$H$75))","v":0},{"$f":"IF(Apoio!$K$11=0,0,IF('Dados Contratação'!$J$24=0,0,Encargos_Benefícios!$H$89))","v":0},{"$f":"Encargos_Benefícios!$H$110","v":0},0,0,0,{"$f":"Encargos_Benefícios!$H$96","v":0},0,0,0,0,0,0,0,{"$f":"Encargos_Benefícios!$H$103","v":0},0,{"$f":"Encargos_Benefícios!$H$117","v":0},0]
[]
[]
[null,null,"CUSTOS INDIRETOS, LUCRO E TRIBUTOS SOBRE O VALE TRANSPORTE"]
[null,null,null,null,null,null,null,null,null,"Valor","Valor","Valor","Valor","Valor","Valor","Valor","Valor","Valor","Valor","Valor","Valor","Valor","Valor","Valor","Valor","Valor","Valor","Valor","Valor","Valor","Valor"]
[null,null,null,"Custo Total por Empregado",null,null,null,null,null,{"$f":"J28","v":0},0,0,0,0,0,0,0,0,0,0,0,0,0,0,0,0,0,0,0,0,0]
[null,null,null,"Custos Indiretos / Despesas Operacionais e Administrativas",null,null,null,null,{"$f":"'Dados Proponente'!$I$51","v":0.03},{"$f":"TRUNC(ROUND($I34*J$33,2),2)","v":0},{"$f":"TRUNC(ROUND($I34*K$33,2),2)","v":0},0,0,{"$f":"TRUNC(ROUND($I34*N$33,2),2)","v":0},0,0,0,0,0,0,0,0,0,0,0,0,0,0,0,0,0]
[null,null,null,"Lucro",null,null,null,null,{"$f":"'Dados Proponente'!$I$52","v":6.7900000000000002E-2},{"$f":"TRUNC(ROUND($I35*(J$33+J$34),2),2)","v":0},{"$f":"TRUNC(ROUND($I35*(K$33+K$34),2),2)","v":0},0,0,{"$f":"TRUNC(ROUND($I35*(N$33+N$34),2),2)","v":0},0,0,0,0,0,0,0,0,0,0,0,0,0,0,0,0,0]
[null,null,null,"Tributos"]
[null,null,null,null,"Tributos Federais:",null,null,null,{"$f":"SUM(I38:I39)","v":3.6499999999999998E-2},{"$f":"SUM(J38:J39)","v":0},{"$f":"SUM(K38:K39)","v":0},0,0,0,0,0,0,0,0,0,0,0,0,0,0,0,0,0,0,0,0]
[null,null,null,null,null,null,null,"COFINS",{"$f":"'Dados Proponente'!$I$25","v":0.03},{"$f":"TRUNC(ROUND($I38*J$46,2),2)","v":0},{"$f":"TRUNC(ROUND($I38*K$46,2),2)","v":0},0,0,0,0,0,0,0,0,0,0,0,0,0,0,0,{"$f":"TRUNC(ROUND($I38*AA$46,2),2)","v":0},0,0,0,{"$f":"TRUNC(ROUND($I38*AE$46,2),2)","v":0}]
[null,null,null,null,null,null,null,"PIS",{"$f":"'Dados Proponente'!$I$24","v":6.4999999999999997E-3},{"$f":"TRUNC(ROUND($I39*J$46,2),2)","v":0},0,0,0,0,0,0,0,0,0,0,0,0,0,0,0,0,0,0,0,0,0]
[null,null,null,null,"  ",null,"Obs.: Vedada a inclusão de IRPJ e CSLL."]
[null,null,null,null,"Tributos Estaduais (especificar):",null,{"$f":"IF('Dados Proponente'!$E$54=\"\",\" \",'Dados Proponente'!$E$54)","v":" "},null,{"$f":"'Dados Proponente'!$I$54","v":0},{"$f":"TRUNC(ROUND($I41*J$46,2),2)","v":0},{"$f":"TRUNC(ROUND($I41*K$46,2),2)","v":0},0,0,0,0,0,0,0,0,0,0,0,0,0,0,0,0,0,0,0,0]
[null,null,null,null,"Tributos Municipais:"]
[null,null,null,null,null,null,null,"ISSQN",{"$f":"Encarregado!J143","v":0.05},{"$f":"TRUNC(ROUND($I43*J$46,2),2)","v":0},{"$f":"TRUNC(ROUND($I43*K$46,2),2)","v":0},0,0,0,0,0,0,0,0,0,0,0,0,0,0,0,0,0,0,0,0]
[]
[null,null,null,null,"Outros Tributos (especificar):",null,{"$f":"IF('Dados Proponente'!$E$55=\"\",\" \",'Dados Proponente'!$E$55)","v":" "},null,{"$f":"'Dados Proponente'!$I$55","v":0},{"$f":"TRUNC(ROUND($I45*J$46,2),2)","v":0},{"$f":"TRUNC(ROUND($I45*K$46,2),2)","v":0},0,0,0,0,0,0,0,0,0,0,0,0,0,0,0,0,0,0,0,0]
[null,null,null,"Total dos Custos Indiretos, Lucro e Tributos",null,null,null,null,null,{"$f":"TRUNC(ROUND(SUM(J33:J35)/(1-$I37-$I43),2),2)","v":0},{"$f":"TRUNC(ROUND(SUM(K33:K35)/(1-$I37-$I43),2),2)","v":0},0,{"$f":"TRUNC(ROUND(SUM(M33:M35)/(1-$I37-$I43),2),2)","v":0},0,0,0,0,0,0,0,0,0,0,0,0,0,0,0,0,0,0]

{"sheet":"Hora Extra","index":16,"n_rows":31,"n_cols":31,"rows_kept":31,"cut":false,"hidden":true,"merged":[[10,4,10,8],[3,1,3,3],[3,4,3,5],[3,9,3,10],[4,4,4,10],[8,4,8,10],[13,1,13,5],[13,6,13,8],[13,9,13,10],[14,1,14,5],[14,6,14,8],[14,9,14,10],[17,9,17,10],[18,1,18,4],[18,5,18,6],[18,7,18,8],[18,9,18,10],[21,1,21,8],[22,1,22,8],[17,1,17,4],[17,5,17,6],[17,7,17,8]]}
[null,"8 - HORA EXTRA"]
[]
[]
[null,"Processo nº:",null,null,{"$f":"IF(ISBLANK('Dados Contratação'!$B$6),\"000/2014\",'Dados Contratação'!$B$6)","v":"15940/2022"},null,null,null,"Licitação:",{"$f":"IF(ISBLANK('Dados Contratação'!D6),\"(NÚMERO DA LICITAÇÃO)\",'Dados Contratação'!D6)","v":"(NÚMERO DA LICITAÇÃO)"}]
[null,"Descrição:",null,null,{"$f":"'Dados Contratação'!B10","v":"Prestação dos serviços de apoio Administrativo aos Gestores e Fiscais de Contratos"}]
[]
[null,"Data Pregão:",null,null,{"$f":"IF(ISBLANK('Dados Contratação'!$E$6),\"dd/mm/aaaa\",'Dados Contratação'!$E$6)","v":"dd/mm/aaaa"},null,null,"Horário do Pregão:",{"$f":"IF(ISBLANK('Dados Contratação'!$F$6),\"00:00\",'Dados Contratação'!$F$6)","v":"00:00"}]
[]
[null,"Empresa:",null,null,{"$f":"IF(ISBLANK('Dados Proponente'!$B$6),\"(NOME DA EMPRESA)\",'Dados Proponente'!$B$6)","v":"(NOME DA EMPRESA)"}]
[]
[null,"CNPJ:   ",null,null,{"$f":"IF(ISBLANK('Dados Proponente'!$H$6),\"(CNPJ)\",'Dados Proponente'!$H$6)","v":"(CNPJ)"}]
[]
[]
[null,"Local da Prestação dos Serviços",null,null,null,null,"Escala de Trabalho",null,null,"Número de Profissionais"]
[null,"Campo Grande / MS",null,null,null,null,{"$f":"'Dados Contratação'!E19","v":"44 horas semanais"},null,null,{"$f":"'Dados Contratação'!J19","v":0}]
[]
[]
[null,"Profissional",null,null,null,"Data Base\n(dd/mm/aaaa):",null,"Salário Mínimo \nOficial Vigente:",null,"Salário Normativo da  \nCategoria Profissional:"]
[null,{"$f":"'Dados Contratação'!C19","v":"Encarregado"},null,null,null,{"$f":"IF(ISBLANK(Encargos_Benefícios!$H$21),\"dd/mm/aaaa\",Encargos_Benefícios!$H$21)","v":"2021-11-01"},null,{"$f":"Encargos_Benefícios!H13","v":1212},null,{"$f":"Encargos_Benefícios!H18","v":4189}]
[]
[]
[null,"Posto de Trabalho",null,null,null,null,null,null,null,{"$f":"'Dados Contratação'!$C19","v":"Encarregado"},{"$f":"'Dados Contratação'!$C20","v":"Encarregado"},{"$f":"'Dados Contratação'!$C21","v":"Contador"},{"$f":"'Dados Contratação'!$C22","v":"Profissional"},{"$f":"'Dados Contratação'!$C23","v":"Profissional"},{"$f":"'Dados Contratação'!$C24","v":"Profissional"},{"$f":"'Dados Contratação'!$C25","v":"Profissional"},{"$f":"'Dados Contratação'!$C26","v":"Profissional"},{"$f":"'Dados Contratação'!$C27","v":"Profissional"},{"$f":"'Dados Contratação'!$C28","v":"Profissional"},{"$f":"'Dados Contratação'!$C29","v":"Profissional"},{"$f":"'Dados Contratação'!$C30","v":"Profissional"},{"$f":"'Dados Contratação'!$C31","v":"Profissional"},{"$f":"'Dados Contratação'!$C32","v":"Profissional"},{"$f":"'Dados Contratação'!$C33","v":"Profissional"},{"$f":"'Dados Contratação'!$C34","v":"Profissional"},{"$f":"'Dados Contratação'!$C35","v":"Profissional"},{"$f":"'Dados Contratação'!$C36","v":"Profissional"},{"$f":"'Dados Contratação'!$C37","v":"Profissional"},{"$f":"'Dados Contratação'!$C38","v":"Profissional"},{"$f":"'Dados Contratação'!$C39","v":"Profissional"},{"$f":"'Dados Contratação'!$C40","v":"Profissional"}]
[null,"Local do Posto de Trabalho",null,null,null,null,null,null,null,{"$f":"'Dados Contratação'!$D19","v":"Prédio-Sede do TRT/24ª Região"},{"$f":"'Dados Contratação'!$D20","v":"Fórum Trabalhista de Campo Grande"},{"$f":"'Dados Contratação'!$D21","v":"Prédio-Sede do TRT/24ª Região"},{"$f":"'Dados Contratação'!$D22","v":"Fórum Trabalhista de Campo Grande"},{"$f":"'Dados Contratação'!$D23","v":"Fórum Trabalhista de Dourados"},{"$f":"'Dados Contratação'!$D24","v":"Fórum Trabalhista de Três Lagoas"},{"$f":"'Dados Contratação'!$D25","v":"Vara do Trabalho de Amambaí"},{"$f":"'Dados Contratação'!$D26","v":"Vara do Trabalho de Aquidauana"},{"$f":"'Dados Contratação'!$D27","v":"Vara do Trabalho de Bataguassu"},{"$f":"'Dados Contratação'!$D28","v":"Posto Avançado de Cassilândia"},{"$f":"'Dados Contratação'!$D29","v":"Vara do Trabalho de Corumbá"},{"$f":"'Dados Contratação'!$D30","v":"Vara do Trabalho de Coxim"},{"$f":"'Dados Contratação'!$D31","v":"Vara do Trabalho de Fátima do Sul"},{"$f":"'Dados Contratação'!$D32","v":"Vara do Trabalho de Jardim"},{"$f":"'Dados Contratação'!$D33","v":"Vara do Trabalho de Mundo Novo"},{"$f":"'Dados Contratação'!$D34","v":"Vara do Trabalho de Naviraí"},{"$f":"'Dados Contratação'!$D35","v":"Vara do Trabalho de Nova Andradina"},{"$f":"'Dados Contratação'!$D36","v":"Vara do Trabalho de Paranaíba"},{"$f":"'Dados Contratação'!$D37","v":"Vara do Trabalho de Ponta Porã"},{"$f":"'Dados Contratação'!$D38","v":"Vara do Trabalho de Rio Brilhante"},{"$f":"'Dados Contratação'!$D39","v":"Vara do Trabalho de São Gabriel do Oeste"},{"$f":"'Dados Contratação'!$D40","v":"Vara do Trabalho de Chapadão do Sul"}]
[]
[]
[null,null,"COMPOSIÇÃO DOS CUSTOS COM FORNECIMENTO DE VALE TRANSPORTE"]
[null,null,null,null,null,null,null,null,null,"Valor","Valor","Valor","Valor","Valor","Valor","Valor","Valor","Valor","Valor","Valor","Valor","Valor","Valor","Valor","Valor","Valor","Valor","Valor","Valor","Valor","Valor"]
[null,null,null,"Adicional de Hora Extra / Semanal (Diurna - 50%)",null,null,null,null,null,"00:00:00","00:00:00","00:00:00","00:00:00","00:00:00","00:00:00","00:00:00","00:00:00","00:00:00","00:00:00","00:00:00","00:00:00","00:00:00","00:00:00","00:00:00","00:00:00","00:00:00","00:00:00","00:00:00","00:00:00","00:00:00","00:00:00"]
[null,null,null,"Adicional de Hora Extra / Semanal (Noturna - 50% + 20%)",null,null,null,null,null,"00:00:00","00:00:00","00:00:00","00:00:00","00:00:00","00:00:00","00:00:00","00:00:00","00:00:00","00:00:00","00:00:00","00:00:00","00:00:00","00:00:00","00:00:00","00:00:00","00:00:00","00:00:00","00:00:00","00:00:00","00:00:00","00:00:00"]
[null,null,null,"Adicional de Hora Extra / Domingo e Feriado (Diurna - 100%)",null,null,null,null,null,"00:00:00","00:00:00","00:00:00","00:00:00","00:00:00","00:00:00","00:00:00","00:00:00","00:00:00","00:00:00","00:00:00","00:00:00","00:00:00","00:00:00","00:00:00","00:00:00","00:00:00","00:00:00","00:00:00","00:00:00","00:00:00","00:00:00"]
[null,null,null,"Adicional de Hora Extra / Domingo e Feriado Noturna - 100% + 20%)",null,null,null,null,null,"00:00:00","00:00:00","00:00:00","00:00:00","00:00:00","00:00:00","00:00:00","00:00:00","00:00:00","00:00:00","00:00:00","00:00:00","00:00:00","00:00:00","00:00:00","00:00:00","00:00:00","00:00:00","00:00:00","00:00:00","00:00:00","00:00:00"]

{"sheet":"Diária, Passagem e Combustível","index":17,"n_rows":62,"n_cols":11,"rows_kept":62,"cut":false,"hidden":true,"merged":[[53,6,53,8],[57,6,57,8],[61,2,61,9],[3,1,3,3],[3,4,3,5],[3,9,3,10],[4,4,4,10],[8,4,8,10],[10,4,10,9],[38,4,38,5],[29,4,29,6],[30,4,30,6],[17,4,17,6],[18,4,18,6]]}
[null,"9 - DIÁRIA, PASSAGEM E COMBUSTÍVEL"]
[]
[]
[null,"Processo nº:",null,null,{"$f":"IF(ISBLANK('Dados Contratação'!$B$6),\"000/2014\",'Dados Contratação'!$B$6)","v":"15940/2022"},null,null,null,"Licitação:",{"$f":"IF(ISBLANK('Dados Contratação'!D6),\"(NÚMERO DA LICITAÇÃO)\",'Dados Contratação'!D6)","v":"(NÚMERO DA LICITAÇÃO)"}]
[null,"Descrição:",null,null,{"$f":"'Dados Contratação'!B10","v":"Prestação dos serviços de apoio Administrativo aos Gestores e Fiscais de Contratos"}]
[]
[null,"Data Pregão:",null,null,{"$f":"IF(ISBLANK('Dados Contratação'!$E$6),\"dd/mm/aaaa\",'Dados Contratação'!$E$6)","v":"dd/mm/aaaa"},null,null,null,"Horário do Pregão:",{"$f":"IF(ISBLANK('Dados Contratação'!$F$6),\"00:00\",'Dados Contratação'!$F$6)","v":"00:00"}]
[]
[null,"Empresa:",null,null,{"$f":"IF(ISBLANK('Dados Proponente'!$B$6),\"(NOME DA EMPRESA)\",'Dados Proponente'!$B$6)","v":"(NOME DA EMPRESA)"}]
[]
[null,"CNPJ:   ",null,null,{"$f":"IF(ISBLANK('Dados Proponente'!$H$6),\"(CNPJ)\",'Dados Proponente'!$H$6)","v":"(CNPJ)"}]
[]
[]
[null,null,"INDENIZAÇÃO DE DIÁRIAS DE VIAGENS"]
[]
[null,null,null,"DIÁRIAS DE VIAGENS - Diárias calculadas a partir do Decreto do Governo federal 5992/2006."]
[null,null,null,null,null,null,null,null,"Quantidade","Custo Unitário","Custo Mensal"]
[null,null,null,1,"Diária com pernoite",null,null,null,0,0,{"$f":"I18*J18","v":0}]
[null,null,null,2,"Diária sem pernoite",null,null,null,0,0,{"$f":"I19*J19","v":0}]
[null,null,null,"Valor Estimado Mensal",null,null,null,null,null,null,{"$f":"SUM(K18:K19)","v":0}]
[]
[]
[null,null,null,"PASSAGENS RODOVIÁRIAS"]
[null,null,null,null,null,null,null,null,null,null,"Custo Mensal"]
[null,null,null,3,"Passagens",null,null,null,null,null,{"$f":"I25*J25","v":0}]
[]
[]
[null,null,null,"QUADRO RESUMO"]
[null,null,null,null,null,null,null,null,null,null,"Valor"]
[null,null,null,4,"Diária com pernoite",null,null,null,null,null,{"$f":"K20","v":0}]
[null,null,null,5,"Diária sem pernoite",null,null,null,null,null,{"$f":"K25","v":0}]
[null,null,null,"Total de Indenização de Diárias de Viagens",null,null,null,null,null,null,{"$f":"SUM(K30:K31)","v":0}]
[]
[]
[null,null,"DESPESAS COM TRANSPORTE"]
[]
[null,null,null,"COMBUSTÍVEL"]
[null,null,null,null,null,null,"Consumo Estimado (Km/L)","Valor do Combustível","Preço do Combustível por Quilômetro","Quilômetro Rodado Mensal","Custo Mensal"]
[null,null,null,6,"km rodado Sinduscom MS",null,0,0,{"$f":"IF(G39=0,0,TRUNC(ROUND(H39/G39,2),2))","v":0},0,{"$f":"TRUNC(ROUND(I39*J39,2),2)","v":0}]
[null,null,null,"Total deDespesa com Transporte",null,null,null,null,null,null,{"$f":"K39","v":0}]
[]
[]
[]
[null,null,"CUSTOS INDIRETOS, LUCRO E TRIBUTOS"]
[null,null,null,null,null,null,null,null,null,null,"Valor"]
[null,null,null,"Custo Total por Empregado",null,null,null,null,null,null,{"$f":"SUM(K32,K40)","v":0}]
[null,null,null,"Custos Indiretos / Despesas Operacionais e Administrativas",null,null,null,null,null,{"$f":"'Dados Proponente'!$I$51","v":0.03},{"$f":"TRUNC(ROUND($J47*K$46,2),2)","v":0}]
[null,null,null,"Lucro",null,null,null,null,null,{"$f":"'Dados Proponente'!$I$52","v":6.7900000000000002E-2},{"$f":"TRUNC(ROUND($J48*(K$46+K$47),2),2)","v":0}]
[null,null,null,"Tributos"]
[null,null,null,null,"Tributos Federais:",null,null,null,null,{"$f":"SUM(J51:J52)","v":3.6499999999999998E-2},{"$f":"SUM(K51:K52)","v":0}]
[null,null,null,null,null,null,null,null,"COFINS",{"$f":"'Dados Proponente'!$I$25","v":0.03},{"$f":"TRUNC(ROUND($J51*K$59,2),2)","v":0}]
[null,null,null,null,null,null,null,null,"PIS",{"$f":"'Dados Proponente'!$I$24","v":6.4999999999999997E-3},{"$f":"TRUNC(ROUND($J52*K$59,2),2)","v":0}]
[null,null,null,null,"  ",null,"Obs.: Vedada a inclusão de IRPJ e CSLL."]
[null,null,null,null,"Tributos Estaduais (especificar):",null,{"$f":"IF('Dados Proponente'!$E$54=\"\",\" \",'Dados Proponente'!$E$54)","v":" "},null,null,{"$f":"'Dados Proponente'!$I$54","v":0},{"$f":"TRUNC(ROUND($J54*K$59,2),2)","v":0}]
[null,null,null,null,"Tributos Municipais:"]
[null,null,null,null,null,null,null,null,"ISSQN",{"$f":"'Dados Proponente'!$I$28","v":0.05},{"$f":"TRUNC(ROUND($J56*K$59,2),2)","v":0}]
[]
[null,null,null,null,"Outros Tributos (especificar):",null,{"$f":"IF('Dados Proponente'!$E$55=\"\",\" \",'Dados Proponente'!$E$55)","v":" "},null,null,{"$f":"'Dados Proponente'!$I$55","v":0},{"$f":"TRUNC(ROUND($J58*K$59,2),2)","v":0}]
[null,null,null,"Total dos Custos Indiretos, Lucro e Tributos",null,null,null,null,null,null,{"$f":"TRUNC(ROUND(SUM(K46:K48)/(1-$J50-$J56),2),2)","v":0}]
[]
[]
[null,null,"Observação: A planilha está concebida para efetuar automaticamente os cálculos, devendo ser alimentados somente os valores nos campos em amarelo."]

{"sheet":"Consumo - Manutenção (TRT)","index":18,"n_rows":111,"n_cols":10,"rows_kept":111,"cut":false,"hidden":true,"merged":[[103,5,103,7],[107,5,107,7],[110,2,110,9],[3,1,3,3],[3,4,3,5],[3,8,3,9],[8,4,8,9],[10,4,10,5],[16,5,17,5],[16,6,17,6],[16,7,17,7],[16,8,16,9]]}
[null,"10 - MATERIAIS PARA MANUTENÇÃO (PREÇO TRT)"]
[]
[]
[null,"Processo nº:",null,null,{"$f":"IF(ISBLANK('Dados Contratação'!$B$6),\"000/2014\",'Dados Contratação'!$B$6)","v":"15940/2022"},null,null,"Licitação:",{"$f":"IF(ISBLANK('Dados Contratação'!D6),\"(NÚMERO DA LICITAÇÃO)\",'Dados Contratação'!D6)","v":"(NÚMERO DA LICITAÇÃO)"}]
[null,"Descrição:",null,null,{"$f":"'Dados Contratação'!B10","v":"Prestação dos serviços de apoio Administrativo aos Gestores e Fiscais de Contratos"}]
[]
[null,"Data Pregão:",null,null,{"$f":"IF(ISBLANK('Dados Contratação'!$E$6),\"dd/mm/aaaa\",'Dados Contratação'!$E$6)","v":"dd/mm/aaaa"},null,null,"Horário do Pregão:",{"$f":"IF(ISBLANK('Dados Contratação'!$F$6),\"00:00\",'Dados Contratação'!$F$6)","v":"00:00"}]
[]
[null,"Empresa:",null,null,{"$f":"IF(ISBLANK('Dados Proponente'!$B$6),\"(NOME DA EMPRESA)\",'Dados Proponente'!$B$6)","v":"(NOME DA EMPRESA)"}]
[]
[null,"CNPJ:   ",null,null,{"$f":"IF(ISBLANK('Dados Proponente'!$H$6),\"(CNPJ)\",'Dados Proponente'!$H$6)","v":"(CNPJ)"}]
[]
[]
[null,null,"MATERIAIS PARA MANUTENÇÃO (PREÇO TRT)"]
[]
[null,null,null,"MATERIAIS TRT (QTDE: PREVISÃO ANUAL)"]
[null,null,null,null,null,"Unidade","Marca","Custo Unitário","TRT"]
[null,null,null,null,null,null,null,null,"Qtd.","Custo Mensal"]
[null,null,1,null,"Canaleta sistema X rígida 2,10mX20mmX10mm; canaleta sistema X; rígida; em material termoplástico auto-extinguível; com divisória; com selo do INMETRO; medidas 2,10m x 20mm x 10mm; cor branca. Modelo de referência: Tigre ou Alumbra","unid.",null,0,0,{"$f":"TRUNC(ROUND((H19*I19)/12,2),2)","v":0}]
[null,null,2,null,"Fita dupla-face espumada resistente (rolo 1,5m); fita dupla face de espuma; USO EXTERNO; suporta até 2,2Kg; para superfície lisa e rugosa; superaderente; alta resistência; medida 24mm X 1,50m. Modelo de refer.: 3M Scotch 4411","unid.",null,0,0,{"$f":"TRUNC(ROUND((H20*I20)/12,2),2)","v":0}]
[null,null,3,null,"Adesivo de contato; embalagem 730g; à base de solvente alifático, solventes oxigenados, resinas sintéticas, borrachas sintéticas e aditivos; sem substâncias consideradas inalantes com potencial de abuso que podem desencadear a autoadministração; secagem entre 5 e 10 minutos; temperatura de aplicação 18°C e 25°C; rendimento 250 a 300 g/m²; suporta temperaturas de até 70°C; para uso em porcelanato e piso elevado; validade 1 ano à partir do recebimento do material. Modelo de referência Cascola Adesivo de Contato Tradicional.","unid.",null,0,0,0]
[null,null,4,null,"Cola madeira; adesivo à base de PVA 100g; composto de poliacetato de vinila (PVA) em dispersão aquosa; desenvolvido para reparos e consertos de móveis e objetos em madeira, laminados plásticos, aglomerados, MDF e HDF; utilizado pelos processos convencionados de colagem (prensagem a frio e quente); adere ainda úmido; pronto para uso, sem a necessidade de preparo ou adição de outros componentes; tecnologia à base d'água, isento de solventes; fácil manuseio e limpeza; odor suave; produto sem características tóxicas; alta força de colagem; excelente flexibilidade, ideal para a colagem de materiais que sofrem esforço mecânico. Modelo de referência CascolaCascorez Cola Madeira 100g.","unid.",null,0,0,0]
[null,null,5,null,"Fita vermelha de demarcação de solo 48mm x 15m; composta de PVC e adesivo acrílico de alta resistência; para uso externo e interno; resistente; fácil de aplicar, fornecida em rolo. Modelo de referência Kapazi Fita de Demarcação de Solo.","unid.",null,0,0,0]
[null,null,6,null,"Fita amarela de demarcação de solo 48mm x 15m; composta de PVC e adesivo acrílico de alta resistência; para uso externo e interno; resistente; fácil de aplicar, fornecida em rolo. Modelo de referência Kapazi Fita de Demarcação de Solo.","unid.",null,0,0,0]
[null,null,7,null,"Fita antiderrapante para pisos; com faixa fosforescente que emite luz até 6 horas; largura 50mm; rolo de 5 metros; cor preta; fórmula à base d'água; material antiderrapante óxido de alumínio; resina para adesão poliuretana. Modelo de referência 3M Fita Antiderrapante Safety-Walk Fosforescente.","unid.",null,0,0,0]
[null,null,8,null,"Graxa de cavidade 400 ml /  280 g; cor branca; a base de parafina com alto grau de destilação, sabão de lítio, antioxidante e espessante; alta resistência; estável a extremas pressões, ambientes úmidos, cargas altas e choques; não contem CFC; sem silicone, chumbo e zinco; viscosidade cinemática a 40°C 150mm²/seg; ponto de fulgor >220°C; temperatura de ignição 330°C; limite de explosividadeinf-sup 2,8 a 11,5 vol.%. Graxa Branca de Lítio Specialist 400ml","unid.",null,0,0,0]
[null,null,9,null,"Malha costurada tipo pastelão 20x20cm para limpeza, em tecido de algodão.","unid.",null,0,0,0]
[null,null,10,null,"Micro-óleo anticorrosivo multiuso; embalagem de 500ml; finalidades: lubrifica, penetra, limpa, protege, elimina umidade, solta parafusos, destrava mecanismos, evita corrosão, evita ferrugem, imunizar máquinas de injeção e moldes plásticos de vapores corrosivos; conservar peças em processo de fabricação, remove cola de linóleo, entre outros; uso em máquinas e equipamentos elétricos e eletrônicos; com bico inteligente fácil e prático de aplicar, funcionando como spray e como jato, com canudo extensor; composição (concentração p/p): óleo básico de petróleo (<40), hidrocarboneto alifático (<40), butano (<30), propano (<30); propriedades físico-químicas: líquido premido, cor levemente amarelada, odor característico, ponto de fulgor -60°C, insolúvel na água, não conduz eletricidade até 12kV; produto estável a temperatura ambiente, não ocorre polimerização; reage com cloratos, peróxidos, ácidos e outros. Modelo de referência: WD-40 Produto Multiusos FlexTop 500ml Bico Inteligente.","unid.",null,0,0,0]
[null,null,11,null,"Piso Porcelanato 60 x 60 cm; espessura 9 mm; superfície polida; junta de assentamento 2mm; variação de tonalidade de uma mesma produção mínima; classe de atrito I; recomendado para uso em áreas comerciais com acesso para rua; acabamento retificado; grupo de absorção BIA; caixa com 4 peças / 1,44 m² / 28,5 kg; conforme padronização da nova sede do TRT24. Modelo de referência Eliane Panna Plus PO.","unid.",null,0,0,0]
[null,null,12,null,"Assento sanitário com abertura frontal para acessibilidade; em poliéster; cor branca; fixação cromada; medidas externas 435 x 360 x 40mm; em conformidade com as normas aplicáveis; modelo de referência Deca AP.52.","unid.",null,0,0,0]
[null,null,13,null,"Assento sanitário sem abertura frontal; em poliéster; cor branca; fixação cromada; medidas externas 435 x 360 x 40mm; em conformidade com as normas aplicáveis; modelo de referência Deca.","unid.",null,0,0,0]
[null,null,14,null,"Dispenser para papel higienico interfolhas branco","unid.",null,0,0,0]
[null,null,15,null,"Ducha higiênica Deca; mangueira de metal, comprimento da mangueira 120 cm; dimensões 6,30x6,30x11,90cm; acionamento à gatilho. referência DECA 1984.C84.ACT.CR","unid.",null,0,0,0]
[null,null,16,null,"Sifão para pia 1 1/2\"x2\"x30cm cromado com copo. Modelo de referência: Sigma/Econoline.","unid.",null,0,0,0]
[null,null,17,null,"Suporte p/ papel higiênico comum; em inox","unid.",null,0,0,0]
[null,null,18,null,"Torneira bica alta de parede; em metal de boa qualidade; cromado; altura total 200mm; diâmmáx da base 58mm; altura da bica em relação à base 156mm. Modelo de ref.: Docol código Trio 00503206","unid.",null,0,0,0]
[null,null,19,null,"Torneira de mesa em metal cromada com arejador volta completa cruzeta. Modelo de referência: Docol Torneira para Cozinha de Mesa 1/2\" Trio Cód. 00512206.","unid.",null,0,0,0]
[null,null,20,null,"Torneira para lavatório; acionamento hidromecânico com leve pressão manual; dimensões: diâmetro corpo da torneira 34,5mm / altura visível 93mm / largura 134mm / altura da saída d'água 63mm / projeção da água inclinada em 25º em relação ao eixo do corpo da torneira / distância entre eixo do corpo com o eixo da saída de água 102mm; deve atender as exigências da especificação LEED, proporcionando redução média de consumo de 70%; arejador embutido que evita o vandalismo e facilita a limpeza do produto; acabamento superficial cromado, alta resistência a corrosão e riscos; fechamento em aproximadamente 6 segundos; bitola de 1/2\"; temperatura máxima da água: 70ºC; para pressões acima de 1 Kgf/cm² para obter a vazão constante de 1,8 litros/minuto; funcionamento perfeito de: 1 a 4 kgf/cm² ou 14,23 a 57 psi. Modelo de ref.: DOCOL Torneira para Lavatório de Mesa Pressmatic Alfa cód. 00592606.","unid.",null,0,0,0]
[null,null,21,null,"Lâmpada fluorescente compacta twist 13 a 15W; Tensão 110-130V; fluxo luminoso 830 lm; temp cor 4000; diâmetro 42mm; comprimento 123mm; base E-27; vida útil 6.000 horas; formato espiral (twist) ; as especificações devem estar obrigatoriamente disponíveis em catálogo técnico na internet. Modelo de ref.: OsramDuluxstarMiniTwist 14W/840","unid.",null,0,0,0]
[null,null,22,null,"Lâmpada Led de Alta Potência a100 50w Bivolt 6500k Luz Branca","unid.",null,0,0,0]
[null,null,23,null,"Lâmpada halopar 110-130V 50W; base E-27; 1250 lm; 2.000 horas; ângulo de iluminação 30°; diâmetro 64,5 mm; comprimento 91 mm; modelo de referência OsramHalopar 20 cód 64832 Flood.","unid.",null,0,0,0]
[null,null,24,null,"Lâmpada halopar 110-130V 90W; base E-27; 3680 lm; 2.000 horas; ângulo de iluminação 30°; diâmetro 121 mm; comprimento 135 mm; modelo de referência OsramHalopar 38 NFL.","unid.",null,0,0,0]
[null,null,25,null,"Fita Impermeável auto-adesiva 10 cm x 10 m à base de asfalto modificado para vedação em telhas, calhas e rufos; composta de uma camada de adesivo asfáltico, coberto com uma lâmina de alumínio e protegido por um filme plástico; utilizado para vedar e reparar: telhas metálicas, de fibrocimento e de concreto, junção de parede com telhado ou lajes, passagens de tubulações em lajes e telhados, união entre materiais de diferentes naturezas; reparo de trincas em concreto e alvenaria, cumieiras, calhas, dutos e rufos; aplicação rápida e fácil; impermeável e resistente à água; boa resistência aos raios solares; flexível; aderência na maioria dos materiais utilizados na construção civil, como concreto, argamassa, pedra, tijolos, madeiras, cerâmica, telhas, alumínio, etc; não necessita de ferramentas especiais para a aplicação; resistência a tração 85 N; cor alumínio; fornecido em rolo; validade mínima de 20 meses à partir do recebimento provisório no TRT.. Modelo de referência SikaMultiSeal S.","unid.",null,0,0,0]
[null,null,26,null,"Bateria alcalina ultra 9V; sistema de carga em zinco e dióxido de manganês, 60% mais energia que as alcalinas comuns; validade maior que 4 anos à partir do recebimento provisório no TRT. Modelo de ref.: Duracell Duralock.","unid.",null,0,0,0]
[null,null,27,null,"Pilha palito alcalina ultra AAA 1,5V; sistema de carga em zinco e dióxido de manganês, 60% mais energia que as alcalinas comuns; com indicador de carga em cada pilha, pressionando dois dedos na mesma; norma IEC LR80425; validade maior que 8 anos à partir do recebimento provisório no TRT. Modelo de ref.: Duracell Alcalina Ultra Power.","unid.",null,0,0,0]
[null,null,28,null,"Pilha alcalina ultra AA 1,5V; sistema de carga em zinco e dióxido de manganês, 60% mais energia que as alcalinas comuns; com indicador de carga em cada pilha, pressionando dois dedos na mesma; norma IEC LR80425; validade maior que 8 anos à partir do recebimento provisório no TRT. Modelo de ref.: Duracell Alcalina Ultra Power.","unid.",null,0,0,0]
[null,null,29,null,"Caçamba plástica para pintura 14 litros; com alça e gancho; alta resistência; qualidade superior; multiuso; modelo de referência Tigre 1309.","unid.",null,0,0,0]
[null,null,30,null,"Espátula de aço inox 2 ½ polegadas; com olhal no cabo de madeira; alta qualidade; próprio para preparação de paredes; modelo de referência Tigre 2153.","unid.",null,0,0,0]
[null,null,31,null,"Fita crepe 19mm x 50 metros; papel crepe especialmente tratado de gramatura 35g/m²; espessura 0,11 mm; alongamento da ruptura 5%; alta resistência a tração 6 kgf/12mm de largura; alta conformabilidade; alta resistência a umidade; alta resistência ao cisalhamento, cisalhamento ao papelão 60 minutos; desenrolamento 9,4N/100mm; alta coesão; resistente até 50º; indicada para mascaramento de pintura; adesivo composto por resina e borracha sintética, sensível a pressão; adesão a placa de aço 380 gf/12mm de largura; modelo de referência: 3M Fita 2314-C.","unid.",null,0,0,0]
[null,null,32,null,"Pincel trincha cerda gris 1 polegada; próprio para tintas acrílica e látex; com qualidade, cabo e aparência semelhante ao modelo Tigre 695.","unid.",null,0,0,0]
[null,null,33,null,"Pincel trincha cerda gris 1/2 polegada; próprio para tintas acrílica e látex; com qualidade, cabo e aparência semelhante ao modelo Tigre 695.","unid.",null,0,0,0]
[null,null,34,null,"Pincel trincha cerda gris 2 ½ polegada; próprio para tintas acrílica e látex; com qualidade, cabo e aparência semelhante ao modelo Tigre 695.","unid.",null,0,0,0]
[null,null,35,null,"Rolo para pintura 23 cm com suporte; altura da lã 22mm; desempenho superior; qualidade premium; tecido especial lã natural; próprio para pintura paredes ásperas e rugosas (grafiato), com tinta látex e acrílica; modelo de referência: Tigre Rolo 1391.","unid.",null,0,0,0]
[null,null,36,null,"Rolo para pintura 23 cm com suporte; antirrespingo; altura da lã 15mm; pinta 30% mais e desempenho superior; tecido especial lã sintética de cor mesclada amarela e branca; próprio para pintura em tetos, paredes lisas e ásperas, com tinta látex e acrílica; modelo de referência: Tigre Rolo 1369.","unid.",null,0,0,0]
[null,null,37,null,"Selador acrílico; acabamento fosco; próprio para paredes; aplicação em exteriores e interiores, reboco, blocos de concreto, concreto aparente, fibro-cimento e massa fina; composto à base de dispersão aquosa de copolímero estireno-acrílico, pigmentos isentos de metais pesados, cargas minerais inertes, hidrocarbonetos alifáticos, glicóis e tensoativosetoxilados; diluição 10% com água potável; rendimento 16 a 24 m² com 3,6litros ou 80 a 120 m² com 18litros; secagem ao toque em 2 horas e secagem total em 6 horas; modelo de referência Suvinil Selador Acrílico. Embalagem lata com 18l.","unid.",null,0,0,0]
[null,null,38,null,"Tinta acrílica fosco branco neve; acabamento fosco; próprio para paredes; aplicação em exteriores e interiores, reboco, massa acrílica, texturas, concreto, fibrocimento e superfícies internas de massa corrida, gesso e repintura sobre tintas PVA ou acrílicas; composto de resina à base de dispersão aquosa de copolímero estireno acrílico, pigmentos isentos de metais pesados, cargas minerais inertes, hidrocarbonetos alifáticos, glicóis e tensoativosetoxilados e carboxilados; sem cheiro; diluição 1ª demão 20 a 30% (10 a 20% nas demais) com água potável; rendimento até 76 m² com 3,6litros ou 380 m² com 18litros; secagem ao toque em 2 horas e secagem total em 12 horas; modelo de referência Suvinil Acrílico Premium Fosco. Embalagem lata com 18l.","unid.",null,0,0,0]
[null,null,39,null,"Tinta acrílico semi-brilho branco fosco; próprio para paredes; aplicação em exteriores e interiores, reboco, massa acrílica, texturas, concreto, fibrocimento e superfícies internas de massa corrida, gesso e repintura sobre tintas PVA ou acrílicas; composto de resina à base de dispersão aquosa de copolímero estireno acrílico, pigmentos isentos de metais pesados, cargas minerais inertes, hidrocarbonetos alifáticos, glicóis e tensoativosetoxilados e carboxilados; sem cheiro e menos sujeira; diluição na 1ª demão 20 a 30% (demais 10 a 20%) com água potável; rendimento até 64 m² com 3,6litros ou 320 m² com 18litros; secagem ao toque em 2 horas e secagem total em 12 horas; modelo de referência Suvinil Acrílico Premium Semi-Brilho. Embalagem lata com 18l.","unid.",null,0,0,0]
[null,null,40,null,"Tinta para piso amarela; aplicação em pisos, cimentados, áreas de lazer, escadas, varandas, quadras poliesportivas e outras superfícies de concreto rústico, liso ou ainda para repintura de pisos; composto de resina à base de dispersão aquosa de copolímero estireno-acrílico, pigmentos isentos de metais pesados, cargas minerais inertes, glicóis, tensoativoscarboxilados, bactericidas e fungicidas (a base de isotiazolonas); diluição 10% (30% na 1ª demão) com água potável; rendimento até 55 m² com 3,6litros e até 275 m² com 18litros; secagem ao toque em 2 horas e secagem total em 72 horas; modelo de referência Suvinil Piso. Galão de 3,6l.","unid.",null,0,0,0]
[null,null,41,null,"Plugue 3 saídas (3 tomadas) 2P+T 10A/250V; cinza; acabamento de alta qualidade sem rebarbas. Modelo de referência Fame 1491.","unid.",null,0,0,0]
[null,null,42,null,"Plugue 3 saídas (3 tomadas) 2P+T 20A/250V; cinza; acabamento de alta qualidade sem rebarbas. Modelo de referência Fame 1492.","unid.",null,0,0,0]
[null,null,43,null,"Plugue macho tomada 2P+T 20A/250V; tipo profissional e reforçado; acabamento de alta qualidade sem rebarbas; plugue com saída ajustável lateral e axial; com prensa-cabo ajustável por parafuso, para cabos com diâmetro externo até 13 mm; cor preto. Referência PIAL LEGRAND 6158 53.","unid.",null,0,0,0]
[null,null,44,null,"Anel de vedação de bacia sanitária, prazo de validade para estocagem: 2 anos. Certificação NBR 15491. Modelo de referência Deca anel.","unid.",null,0,0,0]
[null,null,45,null,"Painel para forro modular 625 x 1250 x 15 mm; caixa com 10 placas; branco; com micro-furos espalhados pela superfície; fabricado a partir de lãs minerais bio-solúveis, argila, perlita e aglomerados orgânicos; resistente ao fogo; ótima performance acústica; classe de material A2-s1, d0 segundo EM 13501-1; combustibilidade Classe II-A conforme NBR 9442 e IT-10; absorção sonora EM ISSO 354, alfaW = 0,60 conforme EM ISSO 11654, NRC = 0,60 conforme ASTM C 423; atenuação sonora Dncw = 34 dB conforme EM 20140-9; reflexão luminosa 90%; condutividade térmica 0,052 - 0,057 W/mK conforme DIN 52612; resistência até 95% de umidade relativa do ar; o fornecedor deve estar atento para fornecer o mesmo padrão de forro existente na sede do TRT24. Modelo de referência AMF Thermatex Star (borda SK)","unid.",null,0,0,0]
[null,null,46,null,"Extensor telescópio para rolo de pintura; 3000mm; fabricado em aço metálico revestido de plástico azul com adaptador; multiuso; alta resistência; qualidade superior; modelo de referencia Tigre 1307.","unid.",null,0,0,0]
[null,null,47,null,"Plugue macho tomada 2P+T 10A/250V; tipo profissional e reforçado; acabamento de alta qualidade sem rebarbas; plugue com saída ajustável lateral e axial; com prensa-cabo ajustável por parafuso, para cabos com diâmetro externo até 13 mm; cor branco. Referência PIAL LEGRAND 6158 32.","unid.",null,0,0,0]
[null,null,48,null,"Tomada móvel múltipla 2P+T 10A/250V quádrupla (4 tomadas); cinza; acabamento de alta qualidade sem rebarbas. Modelo de referência Fame 2701.","unid.",null,0,0,0]
[null,null,49,null,"Selante de Silicone Resistente à Intempérie COR CINZA; selante de cura RTV de cura neutra, monocomponente; excelente resistência à intempérie, não sendo afetado pela luz do sol, chuva, neve ou ozônio; ideal para juntas de expansão, conexão, selos perimetrais, juntas de movimentação, vidros em geral e vedação em fachadas de edificações; na classe de selante arquitetônico; validade mínima 10 meses à partir da entrega no TRT; embalagem em cartucho descartável de 310ml;","unid.",null,0,0,0]
[null,null,50,null,"Bucha para gesso acartonado 8mm (parede dry-wall), em nailon ou poliamida, espessura do material de base de até 16mm, carga máxima recomendada mínima de 10kgf. Modelo de referência Bucha Wurth código 3903 9 ou Bucha Ancora KWIK TOG Médio.","unid.",null,0,0,0]
[null,null,51,null,"Bateria Selada 12v UP12 Compacta Alarme. Modelo de referência: UNI-06C213 Unipower","unid.",null,0,0,0]
[null,null,52,null,"Central de Alarme JFL Active 20 Ultra LCD. Modelo de referência: DOU-1027 JFL","unid.",null,0,0,0]
[null,null,53,null,"Central Pabx Digital Impacta 16 Intelbras","unid.",null,0,0,0]
[null,null,54,null,"Placa 2 trocos Analogicos Impacta 16/68 Intelbras","unid.",null,0,0,0]
[null,null,55,null,"Placa Ramal Misto Impecta 16/40/68 Intelbras","unid.",null,0,0,0]
[null,null,56,null,"Placa 4 ramais Analógicos Impacta 16/40/68 Intelbras","unid.",null,0,0,0]
[null,null,57,null,"Receptor 2 canais XAR 3060 UM (Universal) Intelbras","unid.",null,0,0,0]
[null,null,58,null,"Controle Remotop/ Portão, Alarme 433 Mhz RC TX4-R JFL Preto","unid.",null,0,0,0]
[null,null,59,null,"Cancela Automática Reta","unid.",null,0,0,0]
[null,null,60,null,"Cancela Automática Articulada","unid.",null,0,0,0]
[null,null,61,null,"Motor corrente para portão de elevação - Industrial 1/2cv 220V","unid.",null,0,0,0]
[null,null,62,null,"Motor para portão de Elevação Garen 1/3 CV","unid.",null,0,0,0]
[null,null,63,null,"Motor para portão de correr Garen 1/3CV","unid.",null,0,0,0]
[null,null,{"$f":"C81+1","v":64},null,"PAINEL METALICO (ANDAIME) 1.00x1.50m","diária",null,0,0,0]
[null,null,{"$f":"C82+1","v":65},null,"BETONEIRA 400L 220V","diária",null,0,0,0]
[null,null,66,null,"COMPRESSOR DE AR DIRETO 110/220V","diária",null,0,0,{"$f":"TRUNC(ROUND((H84*I84)/12,2),2)","v":0}]
[null,null,67,null,"MARTELETE PERFURADOR\\ROMP 2.6KG 220V","diária",null,0,0,0]
[null,null,68,null,"ROÇADEIRA COSTAL GASOLINA","diária",null,0,0,0]
[null,null,69,null,"ASPIRADOR DE PÓ 220V","diária",null,0,0,0]
[null,null,70,null,"ROMPEDOR 10KG 220V","diária",null,0,0,0]
[null,null,71,null,"SERRA MADEIRA 110V","diária",null,0,0,0]
[null,null,{"$f":"C89+1","v":72},null,"CAÇAMBA GRANDE DE 4 METROS","mensal",null,0,0,0]
[null,null,"Valor Estimado Anual",null,null,null,null,null,null,{"$f":"SUM(J19:J90)","v":0}]
[]
[]
[null,null,"CUSTOS INDIRETOS, LUCRO E TRIBUTOS"]
[null,null,null,null,null,null,null,null,null,"Valor"]
[null,null,null,"Custo Total por Empregado",null,null,null,null,null,{"$f":"J91","v":0}]
[null,null,null,"Custos Indiretos / Despesas Operacionais e Administrativas",null,null,null,null,{"$f":"'Dados Proponente'!$I$51","v":0.03},{"$f":"TRUNC(ROUND($I97*J$96,2),2)","v":0}]
[null,null,null,"Lucro",null,null,null,null,{"$f":"'Dados Proponente'!$I$52","v":6.7900000000000002E-2},{"$f":"TRUNC(ROUND($I98*(J$96+J$97),2),2)","v":0}]
[null,null,null,"Tributos"]
[null,null,null,null,"Tributos Federais:",null,null,null,{"$f":"SUM(I101:I102)","v":3.6499999999999998E-2},{"$f":"SUM(J101:J102)","v":0}]
[null,null,null,null,null,null,null,"COFINS",{"$f":"'Dados Proponente'!$I$25","v":0.03},{"$f":"TRUNC(ROUND($I101*J$109,2),2)","v":0}]
[null,null,null,null,null,null,null,"PIS",{"$f":"'Dados Proponente'!$I$24","v":6.4999999999999997E-3},{"$f":"TRUNC(ROUND($I102*J$109,2),2)","v":0}]
[null,null,null,null,"  ","Obs.: Vedada a inclusão de IRPJ e CSLL."]
[null,null,null,null,"Tributos Estaduais (especificar):"," ",null,null,{"$f":"'Dados Proponente'!$I$54","v":0},{"$f":"TRUNC(ROUND($I104*J$109,2),2)","v":0}]
[null,null,null,null,"Tributos Municipais:"]
[null,null,null,null,null,null,null,"ISSQN",{"$f":"'Dados Proponente'!$I$28","v":0.05},{"$f":"TRUNC(ROUND($I106*J$109,2),2)","v":0}]
[]
[null,null,null,null,"Outros Tributos (especificar):"," ",null,null,{"$f":"'Dados Proponente'!$I$55","v":0},{"$f":"TRUNC(ROUND($I108*J$109,2),2)","v":0}]
[null,null,null,"Total dos Custos Indiretos, Lucro e Tributos",null,null,null,null,null,{"$f":"TRUNC(ROUND(SUM(J96:J98)/(1-$I100-$I106),2),2)","v":0}]
[]
[null,null,"Observação: A planilha está concebida para efetuar automaticamente os cálculos, devendo ser alimentados somente os valores nos campos em amarelo."]

{"sheet":"Consumo - Manutenção (SINAPI)","index":19,"n_rows":3374,"n_cols":11,"rows_kept":3374,"cut":false,"hidden":true,"merged":[[10,4,10,5],[3,1,3,3],[3,4,3,5],[3,9,3,10],[4,4,4,10],[8,4,8,10],[3366,6,3366,8],[3370,6,3370,8],[3373,2,3373,9],[16,5,17,5],[16,6,17,6],[16,7,17,7],[16,8,17,8],[16,9,16,10],[3353,2,3353,9]]}
[null,"10 - MATERIAIS PARA MANUTENÇÃO (PREÇO SINAPI)"]
[]
[]
[null,"Processo nº:",null,null,{"$f":"IF(ISBLANK('Dados Contratação'!$B$6),\"000/2014\",'Dados Contratação'!$B$6)","v":"15940/2022"},null,null,null,{"$f":"IF(ISBLANK('Dados Contratação'!D6),\"(NÚMERO DA LICITAÇÃO)\",'Dados Contratação'!D6)","v":"(NÚMERO DA LICITAÇÃO)"},{"$f":"IF(ISBLANK('Dados Contratação'!D6),\"(NÚMERO DA LICITAÇÃO)\",'Dados Contratação'!D6)","v":"(NÚMERO DA LICITAÇÃO)"}]
[null,"Descrição:",null,null,{"$f":"'Dados Contratação'!B10","v":"Prestação dos serviços de apoio Administrativo aos Gestores e Fiscais de Contratos"}]
[]
[null,"Data Pregão:",null,null,{"$f":"IF(ISBLANK('Dados Contratação'!$E$6),\"dd/mm/aaaa\",'Dados Contratação'!$E$6)","v":"dd/mm/aaaa"},null,null,null,"Horário do Pregão:",{"$f":"IF(ISBLANK('Dados Contratação'!$F$6),\"00:00\",'Dados Contratação'!$F$6)","v":"00:00"}]
[]
[null,"Empresa:",null,null,{"$f":"IF(ISBLANK('Dados Proponente'!$B$6),\"(NOME DA EMPRESA)\",'Dados Proponente'!$B$6)","v":"(NOME DA EMPRESA)"}]
[]
[null,"CNPJ:   ",null,null,{"$f":"IF(ISBLANK('Dados Proponente'!$H$6),\"(CNPJ)\",'Dados Proponente'!$H$6)","v":"(CNPJ)"}]
[]
[]
[null,null,"MATERIAIS PARA MANUTENÇÃO (PREÇO SINAPI)"]
[]
[null,null,null,"MATERIAIS SINAPI  (QTDE: PREVISÃO ANUAL)"]
[null,null,null,null,null,"Código SINAPI","Unidade","Marca","Custo Unitário","TRT"]
[null,null,null,null,null,null,null,null,null,"Qtd.","Custo Mensal"]
[null,null,1,null,"ABERTURA PARA ENCAIXE DE CUBA OU LAVATORIO EM BANCADA DE MARMORE/ GRANITO OU OUTRO TIPO DE PEDRA NATURAL",38605,"UN",null,0,0,{"$f":"TRUNC(ROUND((I19*J19)/12,2),2)","v":0}]
[null,null,2,null,"ABRACADEIRA DE LATAO PARA FIXACAO DE CABO PARA-RAIO, DIMENSOES 32 X 24 X 24 MM",11270,"UN",null,0,0,{"$f":"TRUNC(ROUND((I20*J20)/12,2),2)","v":0}]
[null,null,3,null,"ABRACADEIRA DE NYLON PARA AMARRACAO DE CABOS, COMPRIMENTO DE *230* X *7,6* MM",412,"UN",null,0,0,0]
[null,null,4,null,"ABRACADEIRA DE NYLON PARA AMARRACAO DE CABOS, COMPRIMENTO DE 100 X 2,5 MM",414,"UN",null,0,0,0]
[null,null,5,null,"ABRACADEIRA DE NYLON PARA AMARRACAO DE CABOS, COMPRIMENTO DE 150 X *3,6* MM",410,"UN",null,0,0,0]
[null,null,6,null,"ABRACADEIRA DE NYLON PARA AMARRACAO DE CABOS, COMPRIMENTO DE 200 X *4,6* MM",411,"UN",null,0,0,0]
[null,null,7,null,"ABRACADEIRA DE NYLON PARA AMARRACAO DE CABOS, COMPRIMENTO DE 390 X *4,6* MM",408,"UN",null,0,0,0]
[null,null,8,null,"ABRACADEIRA EM ACO PARA AMARRACAO DE ELETRODUTOS, TIPO D, COM 1 1/2\" E CUNHA DE FIXACAO",39131,"UN",null,0,0,0]
[null,null,9,null,"ABRACADEIRA EM ACO PARA AMARRACAO DE ELETRODUTOS, TIPO D, COM 1 1/2\" E PARAFUSO DE FIXACAO",394,"UN",null,0,0,0]
[null,null,10,null,"ABRACADEIRA EM ACO PARA AMARRACAO DE ELETRODUTOS, TIPO D, COM 1 1/4\" E CUNHA DE FIXACAO",39130,"UN",null,0,0,0]
[null,null,11,null,"ABRACADEIRA EM ACO PARA AMARRACAO DE ELETRODUTOS, TIPO D, COM 1 1/4\" E PARAFUSO DE FIXACAO",395,"UN",null,0,0,0]
[null,null,12,null,"ABRACADEIRA EM ACO PARA AMARRACAO DE ELETRODUTOS, TIPO D, COM 1\" E CUNHA DE FIXACAO",39129,"UN",null,0,0,0]
[null,null,13,null,"ABRACADEIRA EM ACO PARA AMARRACAO DE ELETRODUTOS, TIPO D, COM 1\" E PARAFUSO DE FIXACAO",393,"UN",null,0,0,0]
[null,null,14,null,"ABRACADEIRA EM ACO PARA AMARRACAO DE ELETRODUTOS, TIPO D, COM 1/2\" E CUNHA DE FIXACAO",39127,"UN",null,0,0,0]
[null,null,15,null,"ABRACADEIRA EM ACO PARA AMARRACAO DE ELETRODUTOS, TIPO D, COM 1/2\" E PARAFUSO DE FIXACAO",392,"UN",null,0,0,0]
[null,null,16,null,"ABRACADEIRA EM ACO PARA AMARRACAO DE ELETRODUTOS, TIPO D, COM 2 1/2\" E CUNHA DE FIXACAO",39133,"UN",null,0,0,0]
[null,null,17,null,"ABRACADEIRA EM ACO PARA AMARRACAO DE ELETRODUTOS, TIPO D, COM 2 1/2\" E PARAFUSO DE FIXACAO",397,"UN",null,0,0,0]
[null,null,18,null,"ABRACADEIRA EM ACO PARA AMARRACAO DE ELETRODUTOS, TIPO D, COM 2\" E CUNHA DE FIXACAO",39132,"UN",null,0,0,0]
[null,null,19,null,"ABRACADEIRA EM ACO PARA AMARRACAO DE ELETRODUTOS, TIPO D, COM 2\" E PARAFUSO DE FIXACAO",396,"UN",null,0,0,0]
[null,null,20,null,"ABRACADEIRA EM ACO PARA AMARRACAO DE ELETRODUTOS, TIPO D, COM 3 1/2\" E CUNHA DE FIXACAO",39135,"UN",null,0,0,0]
[null,null,21,null,"ABRACADEIRA EM ACO PARA AMARRACAO DE ELETRODUTOS, TIPO D, COM 3/4\" E CUNHA DE FIXACAO",39128,"UN",null,0,0,0]
[null,null,22,null,"ABRACADEIRA EM ACO PARA AMARRACAO DE ELETRODUTOS, TIPO D, COM 3/4\" E PARAFUSO DE FIXACAO",400,"UN",null,0,0,0]
[null,null,23,null,"ABRACADEIRA EM ACO PARA AMARRACAO DE ELETRODUTOS, TIPO D, COM 3/8\" E PARAFUSO DE FIXACAO",39125,"UN",null,0,0,0]
[null,null,24,null,"ABRACADEIRA EM ACO PARA AMARRACAO DE ELETRODUTOS, TIPO ECONOMICA (GOTA), COM 8\"",39158,"UN",null,0,0,0]
[null,null,25,null,"ABRACADEIRA PVC, PARA CALHA PLUVIAL, DIAMETRO ENTRE 80 E 100 MM, PARA DRENAGEM PREDIAL",12615,"UN",null,0,0,0]
[null,null,26,null,"ABRACADEIRA, GALVANIZADA/ZINCADA, ROSCA SEM FIM, PARAFUSO INOX, LARGURA  FITA *12,6 A *14 MM, D = 2\" A 2 1/2\"",11927,"UN",null,0,0,0]
[null,null,27,null,"ACABAMENTO CROMADO PARA REGISTRO PEQUENO, 1/2 \" OU 3/4 \"",36801,"UN",null,0,0,0]
[null,null,28,null,"ACABAMENTO SIMPLES/CONVENCIONAL PARA FORRO PVC, TIPO \"U\" OU \"C\", COR BRANCA, COMPRIMENTO 6 M",36246,"M",null,0,0,0]
[null,null,29,null,"ACETILENO (RECARGA PARA CILINDRO DE CONJUNTO OXICORTE GRANDE)",1,"KG",null,0,0,0]
[null,null,30,null,"ACIDO MURIATICO, DILUICAO 10% A 12% PARA USO EM LIMPEZA",3,"L",null,0,0,0]
[null,null,31,null,"ACO CA-25, 10,0 MM, VERGALHAO",26,"KG",null,0,0,0]
[null,null,32,null,"ACO CA-25, 12,5 MM, VERGALHAO",20,"KG",null,0,0,0]
[null,null,33,null,"ACO CA-25, 6,3 MM, VERGALHAO",22,"KG",null,0,0,0]
[null,null,34,null,"ACO CA-25, 8,0 MM, VERGALHAO",23,"KG",null,0,0,0]
[null,null,35,null,"ACO CA-50, 10,0 MM, VERGALHAO",34,"KG",null,0,0,0]
[null,null,36,null,"ACO CA-50, 12,5 MM, VERGALHAO",31,"KG",null,0,0,0]
[null,null,37,null,"ACO CA-50, 16,0 MM, VERGALHAO",27,"KG",null,0,0,0]
[null,null,38,null,"ACO CA-50, 20,0 MM, VERGALHAO",29,"KG",null,0,0,0]
[null,null,39,null,"ACO CA-50, 25,0 MM, VERGALHAO",28,"KG",null,0,0,0]
[null,null,40,null,"ACO CA-50, 6,3 MM, VERGALHAO",32,"KG",null,0,0,0]
[null,null,41,null,"ACO CA-50, 8,0 MM, VERGALHAO",33,"KG",null,0,0,0]
[null,null,42,null,"ACO CA-60, 4,2 MM, VERGALHAO",36,"KG",null,0,0,0]
[null,null,43,null,"ACO CA-60, 5,0 MM, VERGALHAO",39,"KG",null,0,0,0]
[null,null,44,null,"ACO CA-60, 6,0 MM, VERGALHAO",40,"KG",null,0,0,0]
[null,null,45,null,"ACO CA-60, 7,0 MM, VERGALHAO",42,"KG",null,0,0,0]
[null,null,46,null,"ACO CA-60, 8,0 MM, VERGALHAO",38,"KG",null,0,0,0]
[null,null,47,null,"ACO CA-60, VERGALHAO, 9,5 MM",34343,"KG",null,0,0,0]
[null,null,48,null,"ACO-FIO PARA PROTENSAO, CP-150 RB L, 8 MM",34344,"KG",null,0,0,0]
[null,null,49,null,"ACOPLAMENTO DE CONDUTOR PLUVIAL, EM PVC, DIAMETRO ENTRE 80 E 100 MM, PARA DRENAGEM PREDIAL",20063,"UN",null,0,0,0]
[null,null,50,null,"ACOPLAMENTO RIGIDO EM FERRO FUNDIDO PARA SISTEMA DE TUBULACAO RANHURADA, DN 50 MM (2\")",40410,"UN",null,0,0,0]
[null,null,51,null,"ACOPLAMENTO RIGIDO EM FERRO FUNDIDO PARA SISTEMA DE TUBULACAO RANHURADA, DN 65 MM (2 1/2\")",40411,"UN",null,0,0,0]
[null,null,52,null,"ADAPTADOR DE COMPRESSAO EM POLIPROPILENO (PP), PARA TUBO EM PEAD, 20 MM X 1/2\", PARA LIGACAO PREDIAL DE AGUA (NTS 179)",55,"UN",null,0,0,0]
[null,null,53,null,"ADAPTADOR DE COMPRESSAO EM POLIPROPILENO (PP), PARA TUBO EM PEAD, 20 MM X 3/4\", PARA LIGACAO PREDIAL DE AGUA (NTS 179)",61,"UN",null,0,0,0]
[null,null,54,null,"ADAPTADOR DE COMPRESSAO EM POLIPROPILENO (PP), PARA TUBO EM PEAD, 32 MM X 1\", PARA LIGACAO PREDIAL DE AGUA (NTS 179)",62,"UN",null,0,0,0]
[null,null,55,null,"ADAPTADOR PVC PARA SIFAO METALICO, SOLDAVEL, COM ANEL BORRACHA (JE), 40 MM X 1 1/2\"",77,"UN",null,0,0,0]
[null,null,56,null,"ADAPTADOR PVC PARA SIFAO, ROSCAVEL, 40 MM X 1 1/4\"",76,"UN",null,0,0,0]
[null,null,57,null,"ADAPTADOR PVC ROSCAVEL, COM FLANGES E ANEL DE VEDACAO, 1\", PARA CAIXA D' AGUA",71,"UN",null,0,0,0]
[null,null,58,null,"ADAPTADOR PVC ROSCAVEL, COM FLANGES E ANEL DE VEDACAO, 1/2\", PARA CAIXA D' AGUA",67,"UN",null,0,0,0]
[null,null,59,null,"ADAPTADOR PVC ROSCAVEL, COM FLANGES E ANEL DE VEDACAO, 3/4\", PARA CAIXA D' AGUA",73,"UN",null,0,0,0]
[null,null,60,null,"ADAPTADOR PVC SOLDAVEL CURTO COM BOLSA E ROSCA, 20 MM X 1/2\", PARA AGUA FRIA",107,"UN",null,0,0,0]
[null,null,61,null,"ADAPTADOR PVC SOLDAVEL CURTO COM BOLSA E ROSCA, 25 MM X 3/4\", PARA AGUA FRIA",65,"UN",null,0,0,0]
[null,null,62,null,"ADAPTADOR PVC SOLDAVEL CURTO COM BOLSA E ROSCA, 32 MM X 1\", PARA AGUA FRIA",108,"UN",null,0,0,0]
[null,null,63,null,"ADAPTADOR PVC SOLDAVEL CURTO COM BOLSA E ROSCA, 40 MM X 1 1/2\", PARA AGUA FRIA",110,"UN",null,0,0,0]
[null,null,64,null,"ADAPTADOR PVC SOLDAVEL CURTO COM BOLSA E ROSCA, 40 MM X 1 1/4\", PARA AGUA FRIA",109,"UN",null,0,0,0]
[null,null,65,null,"ADAPTADOR PVC SOLDAVEL CURTO COM BOLSA E ROSCA, 50 MM X 1 1/4\", PARA AGUA FRIA",111,"UN",null,0,0,0]
[null,null,66,null,"ADAPTADOR PVC SOLDAVEL CURTO COM BOLSA E ROSCA, 50 MM X1 1/2\", PARA AGUA FRIA",112,"UN",null,0,0,{"$f":"TRUNC(ROUND((I84*J84)/12,2),2)","v":0}]
[null,null,67,null,"ADAPTADOR PVC SOLDAVEL CURTO COM BOLSA E ROSCA, 60 MM X 2\", PARA AGUA FRIA",113,"UN",null,0,0,0]
[null,null,68,null,"ADAPTADOR PVC SOLDAVEL CURTO COM BOLSA E ROSCA, 75 MM X 2 1/2\", PARA AGUA FRIA",104,"UN",null,0,0,0]
[null,null,69,null,"ADAPTADOR PVC SOLDAVEL, COM FLANGE E ANEL DE VEDACAO, 20 MM X 1/2\", PARA CAIXA D'AGUA",95,"UN",null,0,0,0]
[null,null,70,null,"ADAPTADOR PVC SOLDAVEL, COM FLANGE E ANEL DE VEDACAO, 25 MM X 3/4\", PARA CAIXA D'AGUA",96,"UN",null,0,0,0]
[null,null,71,null,"ADAPTADOR PVC SOLDAVEL, COM FLANGE E ANEL DE VEDACAO, 32 MM X 1\", PARA CAIXA D'AGUA",97,"UN",null,0,0,0]
[null,null,72,null,"ADAPTADOR PVC SOLDAVEL, COM FLANGE E ANEL DE VEDACAO, 40 MM X 1 1/4\", PARA CAIXA D'AGUA",98,"UN",null,0,0,0]
[null,null,73,null,"ADAPTADOR PVC SOLDAVEL, COM FLANGE E ANEL DE VEDACAO, 50 MM X 1 1/2\", PARA CAIXA D'AGUA",99,"UN",null,0,0,0]
[null,null,74,null,"ADAPTADOR PVC SOLDAVEL, COM FLANGES E ANEL DE VEDACAO, 60 MM X 2\", PARA CAIXA D' AGUA",100,"UN",null,0,0,0]
[null,null,75,null,"ADAPTADOR PVC SOLDAVEL, COM FLANGES LIVRES, 110 MM X 4\", PARA CAIXA D' AGUA",75,"UN",null,0,0,0]
[null,null,76,null,"ADAPTADOR PVC SOLDAVEL, COM FLANGES LIVRES, 25 MM X 3/4\", PARA CAIXA D' AGUA",114,"UN",null,0,0,0]
[null,null,77,null,"ADAPTADOR PVC SOLDAVEL, COM FLANGES LIVRES, 32 MM X 1\", PARA CAIXA D' AGUA",68,"UN",null,0,0,0]
[null,null,78,null,"ADAPTADOR PVC SOLDAVEL, COM FLANGES LIVRES, 40 MM X 1  1/4\", PARA CAIXA D' AGUA",86,"UN",null,0,0,0]
[null,null,79,null,"ADAPTADOR PVC SOLDAVEL, COM FLANGES LIVRES, 50 MM X 1  1/2\", PARA CAIXA D' AGUA",66,"UN",null,0,0,0]
[null,null,80,null,"ADAPTADOR PVC SOLDAVEL, COM FLANGES LIVRES, 60 MM X 2\", PARA CAIXA D' AGUA",69,"UN",null,0,0,0]
[null,null,81,null,"ADAPTADOR PVC SOLDAVEL, COM FLANGES LIVRES, 75 MM X 2  1/2\", PARA CAIXA D' AGUA",83,"UN",null,0,0,0]
[null,null,82,null,"ADAPTADOR PVC SOLDAVEL, LONGO, COM FLANGE LIVRE,  110 MM X 4\", PARA CAIXA D' AGUA",106,"UN",null,0,0,0]
[null,null,83,null,"ADAPTADOR PVC SOLDAVEL, LONGO, COM FLANGE LIVRE,  25 MM X 3/4\", PARA CAIXA D' AGUA",87,"UN",null,0,0,0]
[null,null,84,null,"ADAPTADOR PVC SOLDAVEL, LONGO, COM FLANGE LIVRE,  32 MM X 1\", PARA CAIXA D' AGUA",88,"UN",null,0,0,0]
[null,null,85,null,"ADAPTADOR PVC SOLDAVEL, LONGO, COM FLANGE LIVRE,  40 MM X 1 1/4\", PARA CAIXA D' AGUA",89,"UN",null,0,0,0]
[null,null,86,null,"ADAPTADOR PVC SOLDAVEL, LONGO, COM FLANGE LIVRE,  50 MM X 1 1/2\", PARA CAIXA D' AGUA",90,"UN",null,0,0,0]
[null,null,87,null,"ADAPTADOR PVC SOLDAVEL, LONGO, COM FLANGE LIVRE,  60 MM X 2\", PARA CAIXA D' AGUA",81,"UN",null,0,0,0]
[null,null,88,null,"ADAPTADOR PVC SOLDAVEL, LONGO, COM FLANGE LIVRE,  75 MM X 2 1/2\", PARA CAIXA D' AGUA",82,"UN",null,0,0,0]
[null,null,89,null,"ADAPTADOR PVC, COM REGISTRO, PARA PEAD, 20 MM X 3/4\", PARA LIGACAO PREDIAL DE AGUA",60,"UN",null,0,0,0]
[null,null,90,null,"ADAPTADOR PVC, ROSCAVEL, COM FLANGES E ANEL DE VEDACAO, 1 1/2\", PARA CAIXA D'AGUA",72,"UN",null,0,0,0]
[null,null,91,null,"ADAPTADOR PVC, ROSCAVEL, COM FLANGES E ANEL DE VEDACAO, 1 1/4\", PARA CAIXA D' AGUA",70,"UN",null,0,0,0]
[null,null,92,null,"ADAPTADOR PVC, ROSCAVEL, COM FLANGES E ANEL DE VEDACAO, 2\", PARA CAIXA D' AGUA",85,"UN",null,0,0,0]
[null,null,93,null,"ADAPTADOR PVC, ROSCAVEL, PARA VALVULA PIA OU LAVATORIO, 40 MM",84,"UN",null,0,0,0]
[null,null,94,null,"ADAPTADOR, EM LATAO, ENGATE RAPIDO 2 1/2\" X ROSCA INTERNA 5 FIOS 2 1/2\",  PARA INSTALACAO PREDIAL DE COMBATE A INCENDIO",10899,"UN",null,0,0,0]
[null,null,95,null,"ADAPTADOR, EM LATAO, ENGATE RAPIDO1 1/2\" X ROSCA INTERNA 5 FIOS 2 1/2\",  PARA INSTALACAO PREDIAL DE COMBATE A INCENDIO",10900,"UN",null,0,0,0]
[null,null,96,null,"ADAPTADOR, PVC PBA,  BOLSA/ROSCA, JE, DN 75 / DE  85 MM",46,"UN",null,0,0,0]
[null,null,97,null,"ADAPTADOR, PVC PBA, A BOLSA DEFOFO, JE, DN 100 / DE 110 MM",51,"UN",null,0,0,0]
[null,null,98,null,"ADAPTADOR, PVC PBA, A BOLSA DEFOFO, JE, DN 50 / DE 60 MM",12863,"UN",null,0,0,0]
[null,null,99,null,"ADAPTADOR, PVC PBA, A BOLSA DEFOFO, JE, DN 75 / DE  85 MM",50,"UN",null,0,0,0]
[null,null,100,null,"ADAPTADOR, PVC PBA, BOLSA/ROSCA, JE, DN 100 / DE 110 MM",47,"UN",null,0,0,0]
[null,null,101,null,"ADAPTADOR, PVC PBA, BOLSA/ROSCA, JE, DN 50 / DE 60 MM",48,"UN",null,0,0,0]
[null,null,102,null,"ADAPTADOR, PVC PBA, PONTA/ROSCA, JE, DN 50 / DE  60 MM",52,"UN",null,0,0,0]
[null,null,103,null,"ADAPTADOR, PVC PBA, PONTA/ROSCA, JE, DN 75 / DE  85 MM",43,"UN",null,0,0,0]
[null,null,104,null,"ADESIVO ACRILICO/COLA DE CONTATO",4791,"KG",null,0,0,0]
[null,null,105,null,"ADESIVO ESTRUTURAL A BASE DE RESINA EPOXI PARA INJECAO EM TRINCAS, BICOMPONENTE, BAIXA VISCOSIDADE",157,"KG",null,0,0,0]
[null,null,106,null,"ADESIVO ESTRUTURAL A BASE DE RESINA EPOXI, BICOMPONENTE, FLUIDO",156,"KG",null,0,0,0]
[null,null,107,null,"ADESIVO ESTRUTURAL A BASE DE RESINA EPOXI, BICOMPONENTE, PASTOSO (TIXOTROPICO)",131,"KG",null,0,0,0]
[null,null,108,null,"ADESIVO LIQUIDO A BASE DE RESINAS PARA COLAGEM DE ESPUMA DE ISOLAMENTO TERMICO FLEXIVEL",39719,"L",null,0,0,0]
[null,null,109,null,"ADESIVO PLASTICO PARA PVC, BISNAGA COM 75 GR",119,"UN",null,0,0,0]
[null,null,110,null,"ADESIVO PLASTICO PARA PVC, FRASCO COM 175 GR",20080,"UN",null,0,0,0]
[null,null,111,null,"ADESIVO PLASTICO PARA PVC, FRASCO COM 850 GR",122,"UN",null,0,0,0]
[null,null,112,null,"ADESIVO/COLA PARA EPS (ISOPOR) E OUTROS MATERIAIS",3410,"KG",null,0,0,0]
[null,null,113,null,"ADITIVO ACELERADOR DE PEGA E ENDURECIMENTO PARA ARGAMASSAS E CONCRETOS",124,"L",null,0,0,0]
[null,null,114,null,"ADITIVO ADESIVO LIQUIDO PARA ARGAMASSAS DE REVESTIMENTOS CIMENTICIOS",7334,"L",null,0,0,0]
[null,null,115,null,"ADITIVO IMPERMEABILIZANTE DE PEGA NORMAL PARA ARGAMASSAS E  CONCRETOS SEM ARMACAO",7325,"KG",null,0,0,0]
[null,null,116,null,"ADITIVO IMPERMEABILIZANTE DE PEGA NORMAL PARA ARGAMASSAS E CONCRETOS SEM ARMACAO",123,"L",null,0,0,0]
[null,null,117,null,"ADITIVO IMPERMEABILIZANTE DE PEGA ULTRARRAPIDA",127,"L",null,0,0,0]
[null,null,118,null,"ADITIVO LIQUIDO INCORPORADOR DE AR PARA CONCRETO E ARGAMASSA",133,"L",null,0,0,0]
[null,null,119,null,"ADITIVO PLASTIFICANTE E ESTABILIZADOR PARA ARGAMASSAS DE ASSENTAMENTO E REBOCO",37538,"18L",null,0,0,0]
[null,null,120,null,"ADITIVO PLASTIFICANTE RETARDADOR DE PEGA E REDUTOR DE AGUA PARA CONCRETO",132,"L",null,0,0,0]
[null,null,121,null,"ADITIVO SUPERPLASTIFICANTE DE PEGA NORMAL PARA CONCRETO (TAMBOR 200 KG)",13408,"200KG",null,0,0,0]
[null,null,122,null,"AFASTADOR PARA TELHA DE FIBROCIMENTO CANALETE 90 OU KALHETAO",4319,"UN",null,0,0,0]
[null,null,123,null,"AGREGADO RECICLADO (RCD), CLASSE A, CINZA, TIPO RACHAO RECICLADO",40553,"M3",null,0,0,0]
[null,null,124,null,"AGUA SANITARIA",13003,"L",null,0,0,0]
[null,null,125,null,"ALUMINIO ANODIZADO",583,"KG",null,0,0,0]
[null,null,126,null,"ANEL BORRACHA DN 100 MM, PARA TUBO SERIE REFORCADA ESGOTO PREDIAL",299,"UN",null,0,0,0]
[null,null,127,null,"ANEL BORRACHA DN 75 MM, PARA TUBO SERIE REFORCADA ESGOTO PREDIAL",298,"UN",null,0,0,0]
[null,null,128,null,"ANEL BORRACHA PARA TUBO ESGOTO PREDIAL DN 40 MM (NBR 5688)",295,"UN",null,0,0,0]
[null,null,129,null,"ANEL BORRACHA PARA TUBO ESGOTO PREDIAL DN 50 MM (NBR 5688)",296,"UN",null,0,0,0]
[null,null,130,null,"ANEL BORRACHA PARA TUBO ESGOTO PREDIAL DN 75 MM (NBR 5688)",297,"UN",null,0,0,{"$f":"TRUNC(ROUND((I148*J148)/12,2),2)","v":0}]
[null,null,131,null,"ANEL BORRACHA PARA TUBO ESGOTO PREDIAL, DN 100 MM (NBR 5688)",301,"UN",null,0,0,0]
[null,null,132,null,"ANEL BORRACHA, DN 150 MM, PARA TUBO SERIE REFORCADA ESGOTO PREDIAL",300,"UN",null,0,0,0]
[null,null,133,null,"ANEL BORRACHA, DN 40 MM, PARA TUBO SERIE REFORCADA ESGOTO PREDIAL",20084,"UN",null,0,0,0]
[null,null,134,null,"ANEL BORRACHA, DN 50 MM, PARA TUBO SERIE REFORCADA ESGOTO PREDIAL",20085,"UN",null,0,0,0]
[null,null,135,null,"ANEL BORRACHA, PARA TUBO PVC DEFOFO, DN 100 MM (NBR 7665)",311,"UN",null,0,0,0]
[null,null,136,null,"ANEL BORRACHA, PARA TUBO PVC DEFOFO, DN 150 MM (NBR 7665)",318,"UN",null,0,0,0]
[null,null,137,null,"ANEL BORRACHA, PARA TUBO PVC DEFOFO, DN 200 MM (NBR 7665)",319,"UN",null,0,0,0]
[null,null,138,null,"ANEL BORRACHA, PARA TUBO PVC DEFOFO, DN 250 MM (NBR 7665)",320,"UN",null,0,0,0]
[null,null,139,null,"ANEL BORRACHA, PARA TUBO PVC DEFOFO, DN 300 MM (NBR 7665)",314,"UN",null,0,0,0]
[null,null,140,null,"ANEL BORRACHA, PARA TUBO PVC, REDE COLETOR ESGOTO, DN 100 MM (NBR 7362)",303,"UN",null,0,0,0]
[null,null,141,null,"ANEL BORRACHA, PARA TUBO PVC, REDE COLETOR ESGOTO, DN 125 MM (NBR 7362)",304,"UN",null,0,0,0]
[null,null,142,null,"ANEL BORRACHA, PARA TUBO PVC, REDE COLETOR ESGOTO, DN 150 MM (NBR 7362)",305,"UN",null,0,0,0]
[null,null,143,null,"ANEL BORRACHA, PARA TUBO PVC, REDE COLETOR ESGOTO, DN 200 MM (NBR 7362)",306,"UN",null,0,0,0]
[null,null,144,null,"ANEL BORRACHA, PARA TUBO/CONEXAO PVC PBA, DN 100 MM, PARA REDE AGUA",328,"UN",null,0,0,0]
[null,null,145,null,"ANEL BORRACHA, PARA TUBO/CONEXAO PVC PBA, DN 50 MM, PARA REDE AGUA",325,"UN",null,0,0,0]
[null,null,146,null,"ANEL BORRACHA, PARA TUBO/CONEXAO PVC PBA, DN 60 MM, PARA REDE AGUA",20326,"UN",null,0,0,0]
[null,null,147,null,"ANEL BORRACHA, PARA TUBO/CONEXAO PVC PBA, DN 75 MM, PARA REDE AGUA",329,"UN",null,0,0,0]
[null,null,148,null,"ANEL DE BORRACHA PARA VEDACAO DE DUTO PEAD CORRUGADO PARA ELETRICA, DN 1 1/2\"",39642,"UN",null,0,0,0]
[null,null,149,null,"ANEL DE BORRACHA PARA VEDACAO DE DUTO PEAD CORRUGADO PARA ELETRICA, DN 1 1/4\"",39641,"UN",null,0,0,0]
[null,null,150,null,"ANEL DE BORRACHA PARA VEDACAO DE DUTO PEAD CORRUGADO PARA ELETRICA, DN 2\"",39643,"UN",null,0,0,0]
[null,null,151,null,"ANEL DE BORRACHA PARA VEDACAO DE DUTO PEAD CORRUGADO PARA ELETRICA, DN 4\"",39645,"UN",null,0,0,0]
[null,null,152,null,"ANEL DE DISTRIBUICAO EM ACO GALVANIZADO PARA FIO FE-160",11789,"UN",null,0,0,0]
[null,null,153,null,"ANEL DE EXPANSAO EM COBRE, ENGATE RAPIDO 1 1/2\", PARA EMPATACAO MANGUEIRA DE COMBATE A INCENDIO PREDIAL",20975,"UN",null,0,0,0]
[null,null,154,null,"ANEL DE EXPANSAO EM COBRE, ENGATE RAPIDO 2 1/2\", PARA EMPATACAO MANGUEIRA DE COMBATE A INCENDIO PREDIAL",20976,"UN",null,0,0,0]
[null,null,155,null,"APARELHO SINALIZADOR LUMINOSO COM LED, PARA SAIDA GARAGEM, COM 2 LENTES EM POLICARBONATO, BIVOLT (INCLUI SUPORTE DE FIXACAO)",4814,"UN",null,0,0,0]
[null,null,156,null,"ARAME DE ACO OVALADO 15 X 17 ( 45,7 KG, 700 KGF), ROLO 1000 M",346,"KG",null,0,0,0]
[null,null,157,null,"ARAME DE AMARRACAO PARA GABIAO GALVANIZADO, DIAMETRO 2,2 MM",3312,"KG",null,0,0,0]
[null,null,158,null,"ARAME GALVANIZADO 16 BWG, 1,65MM (0,0166 KG/M)",344,"KG",null,0,0,0]
[null,null,159,null,"ARAME GALVANIZADO 18 BWG, 1,24MM (0,009 KG/M)",341,"M",null,0,0,0]
[null,null,160,null,"ARAME PROTEGIDO COM PVC PARA GABIAO, DIAMETRO 2,2 MM",3313,"KG",null,0,0,0]
[null,null,161,null,"ARAME RECOZIDO 16 BWG, 1,60 MM (0,016 KG/M)",34562,"KG",null,0,0,0]
[null,null,162,null,"ARAME RECOZIDO 18 BWG, 1,25 MM (0,01 KG/M)",337,"KG",null,0,0,0]
[null,null,163,null,"AREIA AMARELA, AREIA BARRADA OU ARENOSO (RETIRADA NO AREAL, SEM TRANSPORTE)",369,"M3",null,0,0,0]
[null,null,164,null,"AREIA FINA - POSTO JAZIDA/FORNECEDOR (RETIRADO NA JAZIDA, SEM TRANSPORTE)",366,"M3",null,0,0,0]
[null,null,165,null,"AREIA GROSSA - POSTO JAZIDA/FORNECEDOR (RETIRADO NA JAZIDA, SEM TRANSPORTE)",367,"M3",null,0,0,0]
[null,null,166,null,"AREIA MEDIA - POSTO JAZIDA/FORNECEDOR (RETIRADO NA JAZIDA, SEM TRANSPORTE)",370,"M3",null,0,0,0]
[null,null,167,null,"AREIA PARA ATERRO - POSTO JAZIDA/FORNECEDOR (RETIRADO NA JAZIDA, SEM TRANSPORTE)",368,"M3",null,0,0,0]
[null,null,168,null,"AREIA PARA LEITO FILTRANTE (0,42 A 1,68 MM) - POSTO JAZIDA/FORNECEDOR (RETIRADO NA JAZIDA, SEM TRANSPORTE)",11075,"M3",null,0,0,0]
[null,null,169,null,"AREIA PRETA PARA EMBOCO - POSTO JAZIDA/FORNECEDOR (RETIRADO NA JAZIDA, SEM TRANSPORTE)",11076,"M3",null,0,0,0]
[null,null,170,null,"ARGAMASSA COLANTE AC I PARA CERAMICAS",1381,"KG",null,0,0,0]
[null,null,171,null,"ARGAMASSA COLANTE AC-II",34353,"KG",null,0,0,0]
[null,null,172,null,"ARGAMASSA COLANTE TIPO ACIII",37595,"KG",null,0,0,0]
[null,null,173,null,"ARGAMASSA COLANTE TIPO ACIII E",37596,"KG",null,0,0,0]
[null,null,174,null,"ARGAMASSA INDUSTRIALIZADA PARA CHAPISCO COLANTE",37553,"KG",null,0,0,0]
[null,null,175,null,"ARGAMASSA INDUSTRIALIZADA PARA CHAPISCO ROLADO",37552,"KG",null,0,0,0]
[null,null,176,null,"ARGAMASSA PARA REVESTIMENTO DECORATIVO MONOCAMADA, CORES CLARAS",36880,"KG",null,0,0,0]
[null,null,177,null,"ARGAMASSA PISO SOBRE PISO",34355,"KG",null,0,0,0]
[null,null,178,null,"ARGAMASSA POLIMERICA DE REPARO ESTRUTURAL, BICOMPONENTE",130,"KG",null,0,0,0]
[null,null,179,null,"ARGAMASSA POLIMERICA IMPERMEABILIZANTE SEMIFLEXIVEL, BICOMPONENTE (MEMBRANA IMPERMEABILIZANTE ACRILICA)",135,"KG",null,0,0,0]
[null,null,180,null,"ARGAMASSA PRONTA PARA CONTRAPISO",36886,"KG",null,0,0,0]
[null,null,181,null,"ARGAMASSA PRONTA PARA REVESTIMENTO INTERNO EM PAREDES",374,"KG",null,0,0,0]
[null,null,182,null,"ARGAMASSA USINADA AUTOADENSAVEL E AUTONIVELANTE PARA CONTRAPISO, INCLUI BOMBEAMENTO",38546,"M3",null,0,0,0]
[null,null,183,null,"ARGILA EXPANDIDA, GRANULOMETRIA 2215",34549,"M3",null,0,0,0]
[null,null,184,null,"ARGILA OU BARRO PARA ATERRO/REATERRO (COM TRANSPORTE ATE 10 KM)",6081,"M3",null,0,0,0]
[null,null,185,null,"ARGILA OU BARRO PARA ATERRO/REATERRO (RETIRADO NA JAZIDA, SEM TRANSPORTE)",6077,"M3",null,0,0,0]
[null,null,186,null,"ARGILA, ARGILA VERMELHA OU ARGILA ARENOSA (RETIRADA NA JAZIDA, SEM TRANSPORTE)",6079,"M3",null,0,0,0]
[null,null,187,null,"ARRUELA  EM ACO GALVANIZADO, DIAMETRO EXTERNO = 35MM, ESPESSURA = 3MM, DIAMETRO DO FURO= 18MM",13348,"UN",null,0,0,0]
[null,null,188,null,"ARRUELA EM ALUMINIO, COM ROSCA, DE  1 1/4\", PARA ELETRODUTO",39211,"UN",null,0,0,0]
[null,null,189,null,"ARRUELA EM ALUMINIO, COM ROSCA, DE 1 1/2\", PARA ELETRODUTO",39212,"UN",null,0,0,0]
[null,null,190,null,"ARRUELA EM ALUMINIO, COM ROSCA, DE 1\", PARA ELETRODUTO",39210,"UN",null,0,0,0]
[null,null,191,null,"ARRUELA EM ALUMINIO, COM ROSCA, DE 1/2\", PARA ELETRODUTO",39208,"UN",null,0,0,0]
[null,null,192,null,"ARRUELA EM ALUMINIO, COM ROSCA, DE 2 1/2\", PARA ELETRODUTO",39214,"UN",null,0,0,0]
[null,null,193,null,"ARRUELA EM ALUMINIO, COM ROSCA, DE 2\", PARA ELETRODUTO",39213,"UN",null,0,0,0]
[null,null,194,null,"ARRUELA EM ALUMINIO, COM ROSCA, DE 3/4\", PARA ELETRODUTO",39209,"UN",null,0,0,{"$f":"TRUNC(ROUND((I212*J212)/12,2),2)","v":0}]
[null,null,195,null,"ARRUELA EM ALUMINIO, COM ROSCA, DE 3/8\", PARA ELETRODUTO",39207,"UN",null,0,0,0]
[null,null,196,null,"ASFALTO DILUIDO DE PETROLEO CM-30 (COLETADO CAIXA NA ANP ACRESCIDO DE ICMS)",41901,"KG",null,0,0,0]
[null,null,197,null,"ASFALTO MODIFICADO TIPO I - NBR 9910 (ASFALTO OXIDADO PARA IMPERMEABILIZACAO, COEFICIENTE DE PENETRACAO 25-40)",510,"KG",null,0,0,0]
[null,null,198,null,"ASFALTO MODIFICADO TIPO II - NBR 9910 (ASFALTO OXIDADO PARA IMPERMEABILIZACAO, COEFICIENTE DE PENETRACAO 20-35)",516,"KG",null,0,0,0]
[null,null,199,null,"ASFALTO MODIFICADO TIPO III - NBR 9910 (ASFALTO OXIDADO PARA IMPERMEABILIZACAO, COEFICIENTE DE PENETRACAO 15-25)",509,"KG",null,0,0,0]
[null,null,200,null,"ASSENTO SANITARIO DE PLASTICO, TIPO CONVENCIONAL",377,"UN",null,0,0,0]
[null,null,201,null,"AUTOMATICO DE BOIA SUPERIOR / INFERIOR, *15* A / 250 V",7588,"UN",null,0,0,0]
[null,null,202,null,"AVENTAL DE SEGURANCA DE RASPA DE COURO 1,00 X 0,60 M",36150,"UN",null,0,0,0]
[null,null,203,null,"BACIA SANITARIA (VASO) COM CAIXA ACOPLADA, DE LOUCA BRANCA",10422,"UN",null,0,0,0]
[null,null,204,null,"BACIA SANITARIA (VASO) CONVENCIONAL DE LOUCA BRANCA",10420,"UN",null,0,0,0]
[null,null,205,null,"BACIA SANITARIA (VASO) CONVENCIONAL PARA PCD SEM FURO FRONTAL, DE LOUCA BRANCA, SEM ASSENTO",36520,"UN",null,0,0,0]
[null,null,206,null,"BALDE PLASTICO CAPACIDADE *10* L",10,"UN",null,0,0,0]
[null,null,207,null,"BALDE VERMELHO PARA SINALIZACAO DE VIAS",4815,"UN",null,0,0,0]
[null,null,208,null,"BANCADA DE MARMORE SINTETICO COM UMA CUBA, 150 X *60* CM",542,"UN",null,0,0,0]
[null,null,209,null,"BANCADA DE MARMORE SINTETICO COM UMA CUBA, 200 X *60* CM",540,"UN",null,0,0,0]
[null,null,210,null,"BANCADA/ BANCA EM GRANITO, POLIDO, TIPO ANDORINHA/ QUARTZ/ CASTELO/ CORUMBA OU OUTROS EQUIVALENTES DA REGIAO, COM CUBA INOX, FORMATO *120 X 60* CM, E=  *2* CM",38364,"UN",null,0,0,0]
[null,null,211,null,"BANCADA/ BANCA EM MARMORE, POLIDO, BRANCO COMUM, E=  *3* CM",11692,"M2",null,0,0,0]
[null,null,212,null,"BANCADA/BANCA/PIA DE ACO INOXIDAVEL (AISI 430) COM 1 CUBA CENTRAL, COM VALVULA, ESCORREDOR DUPLO, DE *0,55 X 1,40* M",1748,"UN",null,0,0,0]
[null,null,213,null,"BANCADA/BANCA/PIA DE ACO INOXIDAVEL (AISI 430) COM 1 CUBA CENTRAL, COM VALVULA, ESCORREDOR DUPLO, DE *0,55 X 1,80* M",1749,"UN",null,0,0,0]
[null,null,214,null,"BANCADA/BANCA/PIA DE ACO INOXIDAVEL (AISI 430) COM 2 CUBAS, COM VALVULAS, ESCORREDOR DUPLO, DE *0,55 X 2,00* M",1750,"UN",null,0,0,0]
[null,null,215,null,"BANCADA/TAMPO LISO (SEM CUBA) EM MARMORE SINTETICO",11693,"M2",null,0,0,0]
[null,null,216,null,"BANDEJA DE PINTURA PARA ROLO 23 CM",38381,"UN",null,0,0,0]
[null,null,217,null,"BARRA ANTIPANICO DUPLA, CEGA LADO OPOSTO, COR CINZA",39621,"PAR",null,0,0,0]
[null,null,218,null,"BARRA ANTIPANICO DUPLA, PARA PORTA DE VIDRO, COR CINZA",39624,"PAR",null,0,0,0]
[null,null,219,null,"BARRA ANTIPANICO SIMPLES, CEGA LADO OPOSTO, COR CINZA",39615,"UN",null,0,0,0]
[null,null,220,null,"BARRA ANTIPANICO SIMPLES, COM FECHADURA LADO OPOSTO, COR CINZA",39620,"UN",null,0,0,0]
[null,null,221,null,"BARRA ANTIPANICO SIMPLES, PARA PORTA DE VIDRO, COR CINZA",39623,"UN",null,0,0,0]
[null,null,222,null,"BARRA DE APOIO ANGULAR, 60 CM, EM ACO INOX POLIDO, DIAMETRO MINIMO 3 CM",36214,"UN",null,0,0,0]
[null,null,223,null,"BARRA DE APOIO EM \"L\", EM ACO INOX POLIDO 70 X 70 CM, DIAMETRO MINIMO 3 CM",36207,"UN",null,0,0,0]
[null,null,224,null,"BARRA DE APOIO EM \"L\", EM ACO INOX POLIDO 80 X 80 CM, DIAMETRO MINIMO 3 CM",36209,"UN",null,0,0,0]
[null,null,225,null,"BARRA DE APOIO LATERAL ARTICULADA, COM TRAVA, EM ACO INOX POLIDO, 70 CM, DIAMETRO MINIMO 3 CM",36210,"UN",null,0,0,0]
[null,null,226,null,"BARRA DE APOIO LAVATORIO DE CANTO, EM ACO INOX POLIDO, DIAMETRO MINIMO 3 CM.",36212,"UN",null,0,0,0]
[null,null,227,null,"BARRA DE APOIO LAVATORIO, EM ACO INOX POLIDO, *40 X 50* CM,  DIAMETRO MINIMO 3 CM",36211,"UN",null,0,0,0]
[null,null,228,null,"BARRA DE APOIO RETA, EM ACO INOX POLIDO, COMPRIMENTO 60CM, DIAMETRO MINIMO 3 CM",36204,"UN",null,0,0,0]
[null,null,229,null,"BARRA DE APOIO RETA, EM ACO INOX POLIDO, COMPRIMENTO 70CM, DIAMETRO MINIMO 3 CM",36205,"UN",null,0,0,0]
[null,null,230,null,"BARRA DE APOIO RETA, EM ACO INOX POLIDO, COMPRIMENTO 80CM, DIAMETRO MINIMO 3 CM",36081,"UN",null,0,0,0]
[null,null,231,null,"BARRA DE APOIO RETA, EM ACO INOX POLIDO, COMPRIMENTO 90 CM, DIAMETRO MINIMO 3 CM",36206,"UN",null,0,0,0]
[null,null,232,null,"BARRA DE APOIO RETA, EM ALUMINIO, COMPRIMENTO 60CM, DIAMETRO MINIMO 3 CM",36218,"UN",null,0,0,0]
[null,null,233,null,"BARRA DE APOIO RETA, EM ALUMINIO, COMPRIMENTO 70CM, DIAMETRO MINIMO 3 CM",36220,"UN",null,0,0,0]
[null,null,234,null,"BARRA DE APOIO RETA, EM ALUMINIO, COMPRIMENTO 80 CM, DIAMETRO MINIMO 3 CM",36080,"UN",null,0,0,0]
[null,null,235,null,"BARRA DE APOIO RETA, EM ALUMINIO, COMPRIMENTO 90 CM, DIAMETRO MINIMO 3 CM",36223,"UN",null,0,0,0]
[null,null,236,null,"BARRA DE FERRO RETANGULAR, BARRA CHATA (QUALQUER DIMENSAO)",546,"KG",null,0,0,0]
[null,null,237,null,"BARRA DE FERRO RETANGULAR, BARRA CHATA, 1 1/2\"  X 1/2\" (L X E), 3,79 KG/M",557,"M",null,0,0,0]
[null,null,238,null,"BARRA DE FERRO RETANGULAR, BARRA CHATA, 1 1/2\" X 1/4\" (L X E), 1,89 KG/M",552,"M",null,0,0,0]
[null,null,239,null,"BARRA DE FERRO RETANGULAR, BARRA CHATA, 1\" X 1/4\" (L X E), 1,2265 KG/M",555,"M",null,0,0,0]
[null,null,240,null,"BARRA DE FERRO RETANGULAR, BARRA CHATA, 1\" X 3/16\" (L X E), 1,73 KG/M",565,"M",null,0,0,0]
[null,null,241,null,"BARRA DE FERRO RETANGULAR, BARRA CHATA, 2\" X 1\" (L X E), 10,12 KG/M",551,"M",null,0,0,0]
[null,null,242,null,"BARRA DE FERRO RETANGULAR, BARRA CHATA, 2\" X 1/2\" (L X E), 5,06 KG/M",549,"M",null,0,0,0]
[null,null,243,null,"BARRA DE FERRO RETANGULAR, BARRA CHATA, 2\" X 1/4\" (L X E), 2,53 KG/M",559,"M",null,0,0,0]
[null,null,244,null,"BARRA DE FERRO RETANGULAR, BARRA CHATA, 2\" X 3/8\" (L X E), 3,79KG/M",547,"M",null,0,0,0]
[null,null,245,null,"BARRA DE FERRO RETANGULAR, BARRA CHATA, 2\" X 5/16\" (L X E), 3,162 KG/M",560,"M",null,0,0,0]
[null,null,246,null,"BARRA DE FERRO RETANGULAR, BARRA CHATA, 3/4\" X 1/8\" (L X E), 0,47 KG/M",566,"M",null,0,0,0]
[null,null,247,null,"BARRA DE FERRO RETANGULAR, BARRA CHATA, 3/8\" X 1 1/2\" (L X E), 2,84 KG/M",563,"M",null,0,0,0]
[null,null,248,null,"BASE PARA MASTRO DE PARA-RAIOS DIAMETRO NOMINAL 1 1/2\"",38060,"UN",null,0,0,0]
[null,null,249,null,"BASE PARA MASTRO DE PARA-RAIOS DIAMETRO NOMINAL 2\"",10956,"UN",null,0,0,0]
[null,null,250,null,"BASE PARA RELE COM SUPORTE METALICO",39380,"UN",null,0,0,0]
[null,null,251,null,"BASE UNIPOLAR PARA FUSIVEL NH1, CORRENTE NOMINAL DE 250 A, SEM CAPA",13374,"UN",null,0,0,0]
[null,null,252,null,"BATENTE/ PORTAL/ADUELA/ MARCO MACICO, E= *3* CM, L= *15* CM, *60 CM A 120* CM  X *210* CM,  EM CEDRINHO/ ANGELIM COMERCIAL/  EUCALIPTO/ CURUPIXA/ PEROBA/ CUMARU OU EQUIVALENTE DA REGIAO (NAO INCLUI ALIZARES)",181,"JG",null,0,0,0]
[null,null,253,null,"BATENTE/PORTAL/ADUELA/MARCO, EM MDF/PVC WOOD/POLIESTIRENO OU MADEIRA LAMINADA, L = *9,0* CM COM GUARNICAO REGULAVEL 2 FACES = *35* MM, PRIMER",39837,"JG",null,0,0,0]
[null,null,254,null,"BLOCO CERAMICO (ALVENARIA DE VEDACAO), 8 FUROS, DE 9 X 19 X 19 CM",7271,"UN",null,0,0,0]
[null,null,255,null,"BLOCO CERAMICO (ALVENARIA DE VEDACAO), 8 FUROS, DE 9 X 19 X 29 CM",7268,"UN",null,0,0,0]
[null,null,256,null,"BLOCO CERAMICO (ALVENARIA DE VEDACAO), DE 9 X 19 X 19 CM",7266,"MIL",null,0,0,0]
[null,null,257,null,"BLOCO CERAMICO DE VEDACAO COM FUROS NA HORIZONTAL, 11,5 X 19 X 19 CM - 4,5 MPA (NBR 15270)",38783,"UN",null,0,0,0]
[null,null,258,null,"BLOCO CERAMICO DE VEDACAO COM FUROS NA VERTICAL, 14 X 19 X 39 CM - 4,5 MPA (NBR 15270)",37593,"UN",null,0,0,{"$f":"TRUNC(ROUND((I276*J276)/12,2),2)","v":0}]
[null,null,259,null,"BLOCO CERAMICO DE VEDACAO COM FUROS NA VERTICAL, 19 X 19 X 39 CM - 4,5 MPA (NBR 15270)",37594,"UN",null,0,0,0]
[null,null,260,null,"BLOCO CERAMICO DE VEDACAO COM FUROS NA VERTICAL, 9 X 19 X 39 CM - 4,5 MPA (NBR 15270)",37592,"UN",null,0,0,0]
[null,null,261,null,"BLOCO CONCRETO ESTRUTURAL 14 X 19 X 39 CM, FBK 8 MPA (NBR 6136)",34573,"UN",null,0,0,0]
[null,null,262,null,"BLOCO CONCRETO ESTRUTURAL 14 X 19 X 39, FCK 16 MPA - NBR 6136/2007",37107,"UN",null,0,0,0]
[null,null,263,null,"BLOCO CONCRETO ESTRUTURAL 19 X 19 X 39 CM, FBK 14 MPA (NBR 6136)",34578,"UN",null,0,0,0]
[null,null,264,null,"BLOCO CONCRETO ESTRUTURAL 19 X 19 X 39 CM, FBK 16 MPA (NBR 6136)",34579,"UN",null,0,0,0]
[null,null,265,null,"BLOCO DE ESPUMA MULTIUSO *23 X 13 X 8* CM",38395,"UN",null,0,0,0]
[null,null,266,null,"BLOCO DE GESSO COMPACTO, BRANCO, E = 10 CM, *67 X 50* CM",34583,"M2",null,0,0,0]
[null,null,267,null,"BLOCO DE GESSO VAZADO BRANCO, E = *7* CM, *67 X 50* CM",34584,"M2",null,0,0,0]
[null,null,268,null,"BLOCO DE POLIETILENO ALTA DENSIDADE, *27* X *30* X *100* CM, ACOMPANHADOS PLACAS  TERMINAIS  E LONGARINAS, PARA FUNDO DE FILTRO",709,"M2",null,0,0,0]
[null,null,269,null,"BLOCO DE VIDRO INCOLOR XADREZ, DE *20 X 20 X 10* CM",716,"UN",null,0,0,0]
[null,null,270,null,"BLOCO DE VIDRO INCOLOR, CANELADO, DE *19 X 19 X 8* CM",715,"UN",null,0,0,0]
[null,null,271,null,"BLOCO DE VIDRO/ELEMENTO VAZADO INCOLOR, VENEZIANA, DE *20 X 20 X 6* CM",718,"UN",null,0,0,0]
[null,null,272,null,"BLOCO DE VIDRO/ELEMENTO VAZADO, INCOLOR, VENEZIANA, *20 X 10 X 8* CM",11981,"UN",null,0,0,0]
[null,null,273,null,"BLOCO ESTRUTURAL CERAMICO - 14 X 19 X 29 CM - 4,0 MPA -  NBR 15270",10610,"UN",null,0,0,0]
[null,null,274,null,"BLOCO ESTRUTURAL CERAMICO 14 X 19 X 29 CM, 3,0 MPA (NBR 15270)",34585,"UN",null,0,0,0]
[null,null,275,null,"BLOCO ESTRUTURAL CERAMICO 14 X 19 X 29 CM, 6,0 MPA (NBR 15270)",34586,"UN",null,0,0,0]
[null,null,276,null,"BLOCO ESTRUTURAL CERAMICO 14 X 19 X 34 CM, 6,0 MPA (NBR 15270)",38603,"UN",null,0,0,0]
[null,null,277,null,"BLOCO ESTRUTURAL CERAMICO 14 X 19 X 39 CM, 6,0 MPA (NBR 15270)",34588,"UN",null,0,0,0]
[null,null,278,null,"BLOCO ESTRUTURAL CERAMICO 19 X 19 X 29 CM, 6,0 MPA (NBR 15270)",34590,"UN",null,0,0,0]
[null,null,279,null,"BLOCO ESTRUTURAL CERAMICO 19 X 19 X 39 CM, 6,0 MPA (NBR 15270)",34591,"UN",null,0,0,0]
[null,null,280,null,"BLOCO VEDACAO CONCRETO 14 X 19 X 29 CM (CLASSE C - NBR 6136)",34592,"UN",null,0,0,0]
[null,null,281,null,"BLOCO VEDACAO CONCRETO 14 X 19 X 39 CM (CLASSE C - NBR 6136)",651,"UN",null,0,0,0]
[null,null,282,null,"BLOCO VEDACAO CONCRETO 19 X 19 X 39 CM (CLASSE C - NBR 6136)",654,"UN",null,0,0,0]
[null,null,283,null,"BLOCO VEDACAO CONCRETO 9 X 19 X 39 CM (CLASSE C - NBR 6136)",650,"UN",null,0,0,0]
[null,null,284,null,"BLOCO VEDACAO CONCRETO APARENTE 14 X 19 X 39 CM (CLASSE C - NBR 6136)",37103,"UN",null,0,0,0]
[null,null,285,null,"BLOCO VEDACAO CONCRETO APARENTE 19 X 19 X 39 CM  (CLASSE C - NBR 6136)",34555,"UN",null,0,0,0]
[null,null,286,null,"BLOCO VEDACAO CONCRETO APARENTE 9 X 19 X 39 CM (CLASSE C - NBR 6136)",34599,"UN",null,0,0,0]
[null,null,287,null,"BLOQUETE/PISO DE CONCRETO - MODELO BLOCO PISOGRAMA/CONCREGRAMA 2 FUROS, *35  CM X 15* CM, E =  *6* CM, COR NATURAL",40517,"M2",null,0,0,0]
[null,null,288,null,"BLOQUETE/PISO DE CONCRETO - MODELO BLOCO PISOGRAMA/CONCREGRAMA 2 FUROS, *35  CM X 15* CM, E =  *8* CM, COR NATURAL",40520,"M2",null,0,0,0]
[null,null,289,null,"BLOQUETE/PISO DE CONCRETO - MODELO PISOGRAMA/CONCREGRAMA/PAVI-GRADE/GRAMEIRO, *60  CM X 45* CM, E =  *7* CM, COR NATURAL",40515,"M2",null,0,0,0]
[null,null,290,null,"BLOQUETE/PISO DE CONCRETO - MODELO PISOGRAMA/CONCREGRAMA/PAVI-GRADE/GRAMEIRO, *60  CM X 45* CM, E =  *9* CM, COR NATURAL",40516,"M2",null,0,0,0]
[null,null,291,null,"BLOQUETE/PISO INTERTRAVADO DE CONCRETO - MODELO ONDA/16 FACES/UNISTEIN/PAVIS, *22 CM X *11 CM, E = 10 CM, RESISTENCIA DE 35 MPA (NBR 9781), COR NATURAL",40525,"M2",null,0,0,0]
[null,null,292,null,"BLOQUETE/PISO INTERTRAVADO DE CONCRETO - MODELO ONDA/16 FACES/UNISTEIN/PAVIS, *22 CM X *11 CM, E = 10 CM, RESISTENCIA DE 50 MPA (NBR 9781), COR NATURAL",40529,"M2",null,0,0,0]
[null,null,293,null,"BLOQUETE/PISO INTERTRAVADO DE CONCRETO - MODELO RAQUETE, *22 CM X 13,5* CM, E = 6 CM, RESISTENCIA DE 35 MPA (NBR 9781), COR NATURAL",695,"M2",null,0,0,0]
[null,null,294,null,"BLOQUETE/PISO INTERTRAVADO DE CONCRETO - MODELO RETANGULAR/TIJOLINHO/PAVER/HOLANDES/PARALELEPIPEDO, 20 CM X 10 CM, E = 10 CM, RESISTENCIA DE 35 MPA (NBR 9781), COR NATURAL",40524,"M2",null,0,0,0]
[null,null,295,null,"BLOQUETE/PISO INTERTRAVADO DE CONCRETO - MODELO SEXTAVADO, 25 CM X 25 CM, E = 10 CM, RESISTENCIA DE 35 MPA (NBR 9781), COR NATURAL",679,"M2",null,0,0,0]
[null,null,296,null,"BLOQUETE/PISO INTERTRAVADO DE CONCRETO - ONDA/16 FACES/UNISTEIN/PAVIS, *22 CM X 11* CM, E = 8 CM, RESISTENCIA DE 35 MPA (NBR 9781), COR NATURAL",36170,"M2",null,0,0,0]
[null,null,297,null,"BOCAL PVC, PARA CALHA PLUVIAL, DIAMETRO DA SAIDA ENTRE 80 E 100 MM, PARA DRENAGEM PREDIAL",12614,"UN",null,0,0,0]
[null,null,298,null,"BOLSA DE LIGACAO EM PVC FLEXIVEL PARA VASO SANITARIO 1.1/2 \" (40 MM)",6140,"UN",null,0,0,0]
[null,null,299,null,"BOMBA CENTRIFUGA MOTOR ELETRICO MONOFASICO 0,49 HP  BOCAIS 1\" X 3/4\", DIAMETRO DO ROTOR 110 MM, HM/Q: 6 M / 8,3 M3/H A 20 M / 1,2 M3/H",731,"UN",null,0,0,0]
[null,null,300,null,"BOMBA SUBMERSIVEL, ELETRICA, TRIFASICA, POTENCIA 3,75 HP, DIAMETRO DO ROTOR 90 MM SEMIABERTO, BOCAL DE SAIDA DIAMETRO DE 2 POLEGADAS, HM/Q = 5 M / 61,2 M3/H A 25,5 M / 3,6 M3/H",754,"UN",null,0,0,0]
[null,null,301,null,"BORBOLETA EM LATAO FUNDIDO CROMADO, PARA TRAVAR JANELA TIPO GUILHOTINA",5081,"PAR",null,0,0,0]
[null,null,302,null,"BORBOLETA EM ZAMAC CROMADO, PARA TRAVAR JANELA TIPO GUILHOTINA",38167,"PAR",null,0,0,0]
[null,null,303,null,"BRACO / CANO PARA CHUVEIRO ELETRICO, EM ALUMINIO, 30 CM X 1/2 \"",11685,"UN",null,0,0,0]
[null,null,304,null,"BRACO OU HASTE COM CANOPLA PLASTICA, 1/2 \", PARA CHUVEIRO ELETRICO",11679,"UN",null,0,0,0]
[null,null,305,null,"BRACO OU HASTE COM CANOPLA PLASTICA, 1/2 \", PARA CHUVEIRO SIMPLES",11680,"UN",null,0,0,0]
[null,null,306,null,"BRACO P/ LUMINARIA PUBLICA 1 X 1,50M ROMAGNOLE OU EQUIV",2512,"UN",null,0,0,0]
[null,null,307,null,"BUCHA DE NYLON SEM ABA S10",4374,"UN",null,0,0,0]
[null,null,308,null,"BUCHA DE NYLON SEM ABA S10, COM PARAFUSO DE 6,10 X 65 MM EM ACO ZINCADO COM ROSCA SOBERBA, CABECA CHATA E FENDA PHILLIPS",7568,"UN",null,0,0,0]
[null,null,309,null,"BUCHA DE NYLON SEM ABA S12, COM PARAFUSO DE 5/16\" X 80 MM EM ACO ZINCADO COM ROSCA SOBERBA E CABECA SEXTAVADA",7584,"UN",null,0,0,0]
[null,null,310,null,"BUCHA DE NYLON SEM ABA S4",11945,"UN",null,0,0,0]
[null,null,311,null,"BUCHA DE NYLON SEM ABA S5",11946,"UN",null,0,0,0]
[null,null,312,null,"BUCHA DE NYLON SEM ABA S6",4375,"UN",null,0,0,0]
[null,null,313,null,"BUCHA DE NYLON SEM ABA S6, COM PARAFUSO DE 4,20 X 40 MM EM ACO ZINCADO COM ROSCA SOBERBA, CABECA CHATA E FENDA PHILLIPS",11950,"UN",null,0,0,0]
[null,null,314,null,"BUCHA DE NYLON SEM ABA S8",4376,"UN",null,0,0,0]
[null,null,315,null,"BUCHA DE NYLON SEM ABA S8, COM PARAFUSO DE 4,80 X 50 MM EM ACO ZINCADO COM ROSCA SOBERBA, CABECA CHATA E FENDA PHILLIPS",7583,"UN",null,0,0,0]
[null,null,316,null,"BUCHA DE NYLON, DIAMETRO DO FURO 8 MM, COMPRIMENTO 40 MM, COM PARAFUSO DE ROSCA SOBERBA, CABECA CHATA, FENDA SIMPLES, 4,8 X 50 MM",4350,"UN",null,0,0,0]
[null,null,317,null,"BUCHA DE REDUCAO DE FERRO GALVANIZADO, COM ROSCA BSP, DE 1 1/2\" X 1 1/4\"",790,"UN",null,0,0,0]
[null,null,318,null,"BUCHA DE REDUCAO DE FERRO GALVANIZADO, COM ROSCA BSP, DE 1 1/2\" X 1\"",791,"UN",null,0,0,0]
[null,null,319,null,"BUCHA DE REDUCAO DE FERRO GALVANIZADO, COM ROSCA BSP, DE 1 1/2\" X 1/2\"",766,"UN",null,0,0,0]
[null,null,320,null,"BUCHA DE REDUCAO DE FERRO GALVANIZADO, COM ROSCA BSP, DE 1 1/2\" X 3/4\"",767,"UN",null,0,0,0]
[null,null,321,null,"BUCHA DE REDUCAO DE FERRO GALVANIZADO, COM ROSCA BSP, DE 1 1/4\" X 1\"",789,"UN",null,0,0,0]
[null,null,322,null,"BUCHA DE REDUCAO DE FERRO GALVANIZADO, COM ROSCA BSP, DE 1 1/4\" X 1/2\"",768,"UN",null,0,0,{"$f":"TRUNC(ROUND((I340*J340)/12,2),2)","v":0}]
[null,null,323,null,"BUCHA DE REDUCAO DE FERRO GALVANIZADO, COM ROSCA BSP, DE 1 1/4\" X 3/4\"",769,"UN",null,0,0,0]
[null,null,324,null,"BUCHA DE REDUCAO DE FERRO GALVANIZADO, COM ROSCA BSP, DE 1\" X 1/2\"",764,"UN",null,0,0,0]
[null,null,325,null,"BUCHA DE REDUCAO DE FERRO GALVANIZADO, COM ROSCA BSP, DE 1\" X 3/4\"",765,"UN",null,0,0,0]
[null,null,326,null,"BUCHA DE REDUCAO DE FERRO GALVANIZADO, COM ROSCA BSP, DE 1/2\" X 1/4\"",770,"UN",null,0,0,0]
[null,null,327,null,"BUCHA DE REDUCAO DE FERRO GALVANIZADO, COM ROSCA BSP, DE 1/2\" X 3/8\"",12394,"UN",null,0,0,0]
[null,null,328,null,"BUCHA DE REDUCAO DE FERRO GALVANIZADO, COM ROSCA BSP, DE 2 1/2\" X 1 1/2\"",787,"UN",null,0,0,0]
[null,null,329,null,"BUCHA DE REDUCAO DE FERRO GALVANIZADO, COM ROSCA BSP, DE 2 1/2\" X 1 1/4\"",774,"UN",null,0,0,0]
[null,null,330,null,"BUCHA DE REDUCAO DE FERRO GALVANIZADO, COM ROSCA BSP, DE 2 1/2\" X 1\"",773,"UN",null,0,0,0]
[null,null,331,null,"BUCHA DE REDUCAO DE FERRO GALVANIZADO, COM ROSCA BSP, DE 2 1/2\" X 2\"",775,"UN",null,0,0,0]
[null,null,332,null,"BUCHA DE REDUCAO DE FERRO GALVANIZADO, COM ROSCA BSP, DE 2\" X 1 1/2\"",788,"UN",null,0,0,0]
[null,null,333,null,"BUCHA DE REDUCAO DE FERRO GALVANIZADO, COM ROSCA BSP, DE 2\" X 1 1/4\"",772,"UN",null,0,0,0]
[null,null,334,null,"BUCHA DE REDUCAO DE FERRO GALVANIZADO, COM ROSCA BSP, DE 2\" X 1\"",771,"UN",null,0,0,0]
[null,null,335,null,"BUCHA DE REDUCAO DE FERRO GALVANIZADO, COM ROSCA BSP, DE 3\" X 1 1/2\"",776,"UN",null,0,0,0]
[null,null,336,null,"BUCHA DE REDUCAO DE FERRO GALVANIZADO, COM ROSCA BSP, DE 3\" X 1 1/4\"",777,"UN",null,0,0,0]
[null,null,337,null,"BUCHA DE REDUCAO DE FERRO GALVANIZADO, COM ROSCA BSP, DE 3\" X 2 1/2\"",780,"UN",null,0,0,0]
[null,null,338,null,"BUCHA DE REDUCAO DE FERRO GALVANIZADO, COM ROSCA BSP, DE 3\" X 2\"",778,"UN",null,0,0,0]
[null,null,339,null,"BUCHA DE REDUCAO DE FERRO GALVANIZADO, COM ROSCA BSP, DE 3/4\" X 1/2\"",779,"UN",null,0,0,0]
[null,null,340,null,"BUCHA DE REDUCAO DE PVC, SOLDAVEL, CURTA, COM 110 X 85 MM, PARA AGUA FRIA PREDIAL",831,"UN",null,0,0,0]
[null,null,341,null,"BUCHA DE REDUCAO DE PVC, SOLDAVEL, CURTA, COM 25 X 20 MM, PARA AGUA FRIA PREDIAL",828,"UN",null,0,0,0]
[null,null,342,null,"BUCHA DE REDUCAO DE PVC, SOLDAVEL, CURTA, COM 32 X 25 MM, PARA AGUA FRIA PREDIAL",829,"UN",null,0,0,0]
[null,null,343,null,"BUCHA DE REDUCAO DE PVC, SOLDAVEL, CURTA, COM 40 X 32 MM, PARA AGUA FRIA PREDIAL",812,"UN",null,0,0,0]
[null,null,344,null,"BUCHA DE REDUCAO DE PVC, SOLDAVEL, CURTA, COM 50 X 40 MM, PARA AGUA FRIA PREDIAL",819,"UN",null,0,0,0]
[null,null,345,null,"BUCHA DE REDUCAO DE PVC, SOLDAVEL, CURTA, COM 60 X 50 MM, PARA AGUA FRIA PREDIAL",818,"UN",null,0,0,0]
[null,null,346,null,"BUCHA DE REDUCAO DE PVC, SOLDAVEL, CURTA, COM 75 X 60 MM, PARA AGUA FRIA PREDIAL",823,"UN",null,0,0,0]
[null,null,347,null,"BUCHA DE REDUCAO DE PVC, SOLDAVEL, CURTA, COM 85 X 75 MM, PARA AGUA FRIA PREDIAL",830,"UN",null,0,0,0]
[null,null,348,null,"BUCHA DE REDUCAO DE PVC, SOLDAVEL, LONGA, 50 X 40 MM, PARA ESGOTO PREDIAL",20086,"UN",null,0,0,0]
[null,null,349,null,"BUCHA DE REDUCAO DE PVC, SOLDAVEL, LONGA, COM 110 X 60 MM, PARA AGUA FRIA PREDIAL",826,"UN",null,0,0,0]
[null,null,350,null,"BUCHA DE REDUCAO DE PVC, SOLDAVEL, LONGA, COM 110 X 75 MM, PARA AGUA FRIA PREDIAL",827,"UN",null,0,0,0]
[null,null,351,null,"BUCHA DE REDUCAO DE PVC, SOLDAVEL, LONGA, COM 32 X 20 MM, PARA AGUA FRIA PREDIAL",832,"UN",null,0,0,0]
[null,null,352,null,"BUCHA DE REDUCAO DE PVC, SOLDAVEL, LONGA, COM 40 X 20 MM, PARA AGUA FRIA PREDIAL",833,"UN",null,0,0,0]
[null,null,353,null,"BUCHA DE REDUCAO DE PVC, SOLDAVEL, LONGA, COM 40 X 25 MM, PARA AGUA FRIA PREDIAL",834,"UN",null,0,0,0]
[null,null,354,null,"BUCHA DE REDUCAO DE PVC, SOLDAVEL, LONGA, COM 50 X 20 MM, PARA AGUA FRIA PREDIAL",825,"UN",null,0,0,0]
[null,null,355,null,"BUCHA DE REDUCAO DE PVC, SOLDAVEL, LONGA, COM 50 X 25 MM, PARA AGUA FRIA PREDIAL",813,"UN",null,0,0,0]
[null,null,356,null,"BUCHA DE REDUCAO DE PVC, SOLDAVEL, LONGA, COM 50 X 32 MM, PARA AGUA FRIA PREDIAL",820,"UN",null,0,0,0]
[null,null,357,null,"BUCHA DE REDUCAO DE PVC, SOLDAVEL, LONGA, COM 60 X 25 MM, PARA AGUA FRIA PREDIAL",816,"UN",null,0,0,0]
[null,null,358,null,"BUCHA DE REDUCAO DE PVC, SOLDAVEL, LONGA, COM 60 X 32 MM, PARA AGUA FRIA PREDIAL",814,"UN",null,0,0,0]
[null,null,359,null,"BUCHA DE REDUCAO DE PVC, SOLDAVEL, LONGA, COM 60 X 40 MM, PARA AGUA FRIA PREDIAL",815,"UN",null,0,0,0]
[null,null,360,null,"BUCHA DE REDUCAO DE PVC, SOLDAVEL, LONGA, COM 60 X 50 MM, PARA AGUA FRIA PREDIAL",822,"UN",null,0,0,0]
[null,null,361,null,"BUCHA DE REDUCAO DE PVC, SOLDAVEL, LONGA, COM 75 X 50 MM, PARA AGUA FRIA PREDIAL",821,"UN",null,0,0,0]
[null,null,362,null,"BUCHA DE REDUCAO DE PVC, SOLDAVEL, LONGA, COM 85 X 60 MM, PARA AGUA FRIA PREDIAL",817,"UN",null,0,0,0]
[null,null,363,null,"BUCHA DE REDUCAO EM ALUMINIO, COM ROSCA, DE 1 1/2\" X 1 1/4\", PARA ELETRODUTO",39191,"UN",null,0,0,0]
[null,null,364,null,"BUCHA DE REDUCAO EM ALUMINIO, COM ROSCA, DE 1 1/2\" X 1\", PARA ELETRODUTO",39190,"UN",null,0,0,0]
[null,null,365,null,"BUCHA DE REDUCAO EM ALUMINIO, COM ROSCA, DE 1 1/2\" X 3/4\", PARA ELETRODUTO",39189,"UN",null,0,0,0]
[null,null,366,null,"BUCHA DE REDUCAO EM ALUMINIO, COM ROSCA, DE 1 1/4\" X 1\", PARA ELETRODUTO",39188,"UN",null,0,0,0]
[null,null,367,null,"BUCHA DE REDUCAO EM ALUMINIO, COM ROSCA, DE 1 1/4\" X 1/2\", PARA ELETRODUTO",39186,"UN",null,0,0,0]
[null,null,368,null,"BUCHA DE REDUCAO EM ALUMINIO, COM ROSCA, DE 1 1/4\" X 3/4\", PARA ELETRODUTO",39187,"UN",null,0,0,0]
[null,null,369,null,"BUCHA DE REDUCAO EM ALUMINIO, COM ROSCA, DE 1\" X 1/2\", PARA ELETRODUTO",39184,"UN",null,0,0,0]
[null,null,370,null,"BUCHA DE REDUCAO EM ALUMINIO, COM ROSCA, DE 1\" X 3/4\", PARA ELETRODUTO",39185,"UN",null,0,0,0]
[null,null,371,null,"BUCHA DE REDUCAO EM ALUMINIO, COM ROSCA, DE 2 1/2\" X 1 1/2\", PARA ELETRODUTO",39198,"UN",null,0,0,0]
[null,null,372,null,"BUCHA DE REDUCAO EM ALUMINIO, COM ROSCA, DE 2 1/2\" X 1 1/4\", PARA ELETRODUTO",39197,"UN",null,0,0,0]
[null,null,373,null,"BUCHA DE REDUCAO EM ALUMINIO, COM ROSCA, DE 2 1/2\" X 1\", PARA ELETRODUTO",39196,"UN",null,0,0,0]
[null,null,374,null,"BUCHA DE REDUCAO EM ALUMINIO, COM ROSCA, DE 2 1/2\" X 2\", PARA ELETRODUTO",39199,"UN",null,0,0,0]
[null,null,375,null,"BUCHA DE REDUCAO EM ALUMINIO, COM ROSCA, DE 2\" X 1 1/2\", PARA ELETRODUTO",39195,"UN",null,0,0,0]
[null,null,376,null,"BUCHA DE REDUCAO EM ALUMINIO, COM ROSCA, DE 2\" X 1 1/4\", PARA ELETRODUTO",39194,"UN",null,0,0,0]
[null,null,377,null,"BUCHA DE REDUCAO EM ALUMINIO, COM ROSCA, DE 2\" X 1\", PARA ELETRODUTO",39193,"UN",null,0,0,0]
[null,null,378,null,"BUCHA DE REDUCAO EM ALUMINIO, COM ROSCA, DE 2\" X 3/4\", PARA ELETRODUTO",39192,"UN",null,0,0,0]
[null,null,379,null,"BUCHA DE REDUCAO EM ALUMINIO, COM ROSCA, DE 3/4\" X 1/2\",  PARA ELETRODUTO",39920,"UN",null,0,0,0]
[null,null,380,null,"BUCHA DE REDUCAO PVC ROSCAVEL 1 1/2\" X 1\"",797,"UN",null,0,0,0]
[null,null,381,null,"BUCHA DE REDUCAO PVC ROSCAVEL 3/4\" X 1/2\"",798,"UN",null,0,0,0]
[null,null,382,null,"BUCHA DE REDUCAO PVC ROSCAVEL, 1 1/2\" X 3/4\"",796,"UN",null,0,0,0]
[null,null,383,null,"BUCHA DE REDUCAO PVC ROSCAVEL, 1\" X 1/2\"",799,"UN",null,0,0,0]
[null,null,384,null,"BUCHA DE REDUCAO PVC ROSCAVEL, 1\" X 3/4\"",792,"UN",null,0,0,0]
[null,null,385,null,"BUCHA DE REDUCAO PVC, ROSCAVEL,  2\"  X 1 1/2 \"",804,"UN",null,0,0,0]
[null,null,386,null,"BUCHA DE REDUCAO PVC, ROSCAVEL, 1 1/2\"  X1 1/4 \"",793,"UN",null,0,0,{"$f":"TRUNC(ROUND((I404*J404)/12,2),2)","v":0}]
[null,null,387,null,"BUCHA DE REDUCAO PVC, ROSCAVEL, 1 1/4\"  X 3/4 \"",801,"UN",null,0,0,0]
[null,null,388,null,"BUCHA DE REDUCAO PVC, ROSCAVEL, 1 1/4\" X 1 \"",794,"UN",null,0,0,0]
[null,null,389,null,"BUCHA DE REDUCAO PVC, ROSCAVEL, 2\"  X 1 \"",802,"UN",null,0,0,0]
[null,null,390,null,"BUCHA DE REDUCAO PVC, ROSCAVEL, 2\"  X 1 1/4 \"",803,"UN",null,0,0,0]
[null,null,391,null,"BUCHA DE REDUCAO, PVC, LONGA, SERIE R, DN 50 X 40 MM, PARA ESGOTO PREDIAL",38418,"UN",null,0,0,0]
[null,null,392,null,"BUCHA EM ALUMINIO, COM ROSCA, DE  1 1/2\", PARA ELETRODUTO",39178,"UN",null,0,0,0]
[null,null,393,null,"BUCHA EM ALUMINIO, COM ROSCA, DE 1 1/4\", PARA ELETRODUTO",39177,"UN",null,0,0,0]
[null,null,394,null,"BUCHA EM ALUMINIO, COM ROSCA, DE 1\", PARA ELETRODUTO",39176,"UN",null,0,0,0]
[null,null,395,null,"BUCHA EM ALUMINIO, COM ROSCA, DE 1/2\", PARA ELETRODUTO",39174,"UN",null,0,0,0]
[null,null,396,null,"BUCHA EM ALUMINIO, COM ROSCA, DE 2 1/2\", PARA ELETRODUTO",39180,"UN",null,0,0,0]
[null,null,397,null,"BUCHA EM ALUMINIO, COM ROSCA, DE 2\", PARA ELETRODUTO",39179,"UN",null,0,0,0]
[null,null,398,null,"BUCHA EM ALUMINIO, COM ROSCA, DE 3/4\", PARA ELETRODUTO",39175,"UN",null,0,0,0]
[null,null,399,null,"BUCHA EM ALUMINIO, COM ROSCA, DE 3/8\", PARA ELETRODUTO",39217,"UN",null,0,0,0]
[null,null,400,null,"CABECEIRA DIREITA OU ESQUERDA, PVC, PARA CALHA PLUVIAL, DIAMETRO ENTRE 119 E 170 MM, PARA DRENAGEM PREDIAL",12616,"UN",null,0,0,0]
[null,null,401,null,"CABECOTE PARA ENTRADA DE LINHA DE ALIMENTACAO PARA ELETRODUTO, EM LIGA DE ALUMINIO COM ACABAMENTO ANTI CORROSIVO, COM FIXACAO POR ENCAIXE LISO DE 360 GRAUS, DE 1 1/2\"",1049,"UN",null,0,0,0]
[null,null,402,null,"CABECOTE PARA ENTRADA DE LINHA DE ALIMENTACAO PARA ELETRODUTO, EM LIGA DE ALUMINIO COM ACABAMENTO ANTI CORROSIVO, COM FIXACAO POR ENCAIXE LISO DE 360 GRAUS, DE 1 1/4\"",1099,"UN",null,0,0,0]
[null,null,403,null,"CABECOTE PARA ENTRADA DE LINHA DE ALIMENTACAO PARA ELETRODUTO, EM LIGA DE ALUMINIO COM ACABAMENTO ANTI CORROSIVO, COM FIXACAO POR ENCAIXE LISO DE 360 GRAUS, DE 1\"",1050,"UN",null,0,0,0]
[null,null,404,null,"CABECOTE PARA ENTRADA DE LINHA DE ALIMENTACAO PARA ELETRODUTO, EM LIGA DE ALUMINIO COM ACABAMENTO ANTI CORROSIVO, COM FIXACAO POR ENCAIXE LISO DE 360 GRAUS, DE 1/2\"",39678,"UN",null,0,0,0]
[null,null,405,null,"CABECOTE PARA ENTRADA DE LINHA DE ALIMENTACAO PARA ELETRODUTO, EM LIGA DE ALUMINIO COM ACABAMENTO ANTI CORROSIVO, COM FIXACAO POR ENCAIXE LISO DE 360 GRAUS, DE 2 1/2\"",1101,"UN",null,0,0,0]
[null,null,406,null,"CABECOTE PARA ENTRADA DE LINHA DE ALIMENTACAO PARA ELETRODUTO, EM LIGA DE ALUMINIO COM ACABAMENTO ANTI CORROSIVO, COM FIXACAO POR ENCAIXE LISO DE 360 GRAUS, DE 2\"",1100,"UN",null,0,0,0]
[null,null,407,null,"CABECOTE PARA ENTRADA DE LINHA DE ALIMENTACAO PARA ELETRODUTO, EM LIGA DE ALUMINIO COM ACABAMENTO ANTI CORROSIVO, COM FIXACAO POR ENCAIXE LISO DE 360 GRAUS, DE 3/4\"",1098,"UN",null,0,0,0]
[null,null,408,null,"CABIDE/GANCHO DE BANHEIRO SIMPLES EM METAL CROMADO",37399,"UN",null,0,0,0]
[null,null,409,null,"CABO DE ACO GALVANIZADO, DIAMETRO 9,53 MM (3/8\"), COM ALMA DE FIBRA 6 X 25 F (COLETADO CAIXA)",42013,"KG",null,0,0,0]
[null,null,410,null,"CABO DE ALUMINIO NU SEM ALMA DE ACO, BITOLA 2/0 AWG",37410,"KG",null,0,0,0]
[null,null,411,null,"CABO DE ALUMINIO NU SEM ALMA DE ACO, BITOLA 4 AWG",842,"KG",null,0,0,0]
[null,null,412,null,"CABO DE COBRE NU 10 MM2 MEIO-DURO",862,"M",null,0,0,0]
[null,null,413,null,"CABO DE COBRE NU 16 MM2 MEIO-DURO",857,"M",null,0,0,0]
[null,null,414,null,"CABO DE COBRE NU 25 MM2 MEIO-DURO",868,"M",null,0,0,0]
[null,null,415,null,"CABO DE COBRE NU 35 MM2 MEIO-DURO",863,"M",null,0,0,0]
[null,null,416,null,"CABO DE COBRE NU 50 MM2 MEIO-DURO",867,"M",null,0,0,0]
[null,null,417,null,"CABO DE COBRE NU 70 MM2 MEIO-DURO",864,"M",null,0,0,0]
[null,null,418,null,"CABO DE COBRE NU 95 MM2 MEIO-DURO",865,"M",null,0,0,0]
[null,null,419,null,"CABO DE COBRE UNIPOLAR 10 MM2, BLINDADO, ISOLACAO 3,6/6 KV EPR, COBERTURA EM PVC",948,"M",null,0,0,0]
[null,null,420,null,"CABO DE COBRE UNIPOLAR 16 MM2, BLINDADO, ISOLACAO 3,6/6 KV EPR, COBERTURA EM PVC",947,"M",null,0,0,0]
[null,null,421,null,"CABO DE COBRE UNIPOLAR 16 MM2, BLINDADO, ISOLACAO 6/10 KV EPR, COBERTURA EM PVC",911,"M",null,0,0,0]
[null,null,422,null,"CABO DE COBRE UNIPOLAR 25 MM2, BLINDADO, ISOLACAO 3,6/6 KV EPR, COBERTURA EM PVC",925,"M",null,0,0,0]
[null,null,423,null,"CABO DE COBRE UNIPOLAR 25MM2, BLINDADO, ISOLACAO 6/10 KV EPR, COBERTURA EM PVC",954,"M",null,0,0,0]
[null,null,424,null,"CABO DE COBRE UNIPOLAR 35 MM2, BLINDADO, ISOLACAO 12/20 KV EPR, COBERTURA EM PVC",901,"M",null,0,0,0]
[null,null,425,null,"CABO DE COBRE UNIPOLAR 35 MM2, BLINDADO, ISOLACAO 3,6/6 KV EPR, COBERTURA EM PVC",926,"M",null,0,0,0]
[null,null,426,null,"CABO DE COBRE UNIPOLAR 35 MM2, BLINDADO, ISOLACAO 6/10 KV EPR, COBERTURA EM PVC",912,"M",null,0,0,0]
[null,null,427,null,"CABO DE COBRE UNIPOLAR 50 MM2, BLINDADO, ISOLACAO 12/20 KV EPR, COBERTURA EM PVC",955,"M",null,0,0,0]
[null,null,428,null,"CABO DE COBRE UNIPOLAR 50 MM2, BLINDADO, ISOLACAO 3,6/6 KV EPR, COBERTURA EM PVC",946,"M",null,0,0,0]
[null,null,429,null,"CABO DE COBRE UNIPOLAR 50 MM2, BLINDADO, ISOLACAO 6/10 KV EPR, COBERTURA EM PVC",953,"M",null,0,0,0]
[null,null,430,null,"CABO DE COBRE UNIPOLAR 70 MM2, BLINDADO, ISOLACAO 12/20 KV EPR, COBERTURA EM PVC",902,"M",null,0,0,0]
[null,null,431,null,"CABO DE COBRE UNIPOLAR 70 MM2, BLINDADO, ISOLACAO 3,6/6 KV EPR, COBERTURA EM PVC",927,"M",null,0,0,0]
[null,null,432,null,"CABO DE COBRE UNIPOLAR 70 MM2, BLINDADO, ISOLACAO 6/10 KV EPR, COBERTURA EM PVC",913,"M",null,0,0,0]
[null,null,433,null,"CABO DE COBRE UNIPOLAR 95 MM2, BLINDADO, ISOLACAO 12/20 KV EPR, COBERTURA EM PVC",903,"M",null,0,0,0]
[null,null,434,null,"CABO DE COBRE UNIPOLAR 95 MM2, BLINDADO, ISOLACAO 3,6/6 KV EPR, COBERTURA EM PVC",945,"M",null,0,0,0]
[null,null,435,null,"CABO DE COBRE UNIPOLAR 95 MM2, BLINDADO, ISOLACAO 6/10 KV EPR, COBERTURA EM PVC",914,"M",null,0,0,0]
[null,null,436,null,"CABO DE COBRE, FLEXIVEL, CLASSE 4 OU 5, ISOLACAO EM PVC/A, ANTICHAMA BWF-B, 1 CONDUTOR, 450/750 V, SECAO NOMINAL 0,5 MM2",39251,"M",null,0,0,0]
[null,null,437,null,"CABO DE COBRE, FLEXIVEL, CLASSE 4 OU 5, ISOLACAO EM PVC/A, ANTICHAMA BWF-B, 1 CONDUTOR, 450/750 V, SECAO NOMINAL 0,75 MM2",1011,"M",null,0,0,0]
[null,null,438,null,"CABO DE COBRE, FLEXIVEL, CLASSE 4 OU 5, ISOLACAO EM PVC/A, ANTICHAMA BWF-B, 1 CONDUTOR, 450/750 V, SECAO NOMINAL 1,0 MM2",39252,"M",null,0,0,0]
[null,null,439,null,"CABO DE COBRE, FLEXIVEL, CLASSE 4 OU 5, ISOLACAO EM PVC/A, ANTICHAMA BWF-B, 1 CONDUTOR, 450/750 V, SECAO NOMINAL 1,5 MM2",1013,"M",null,0,0,0]
[null,null,440,null,"CABO DE COBRE, FLEXIVEL, CLASSE 4 OU 5, ISOLACAO EM PVC/A, ANTICHAMA BWF-B, 1 CONDUTOR, 450/750 V, SECAO NOMINAL 10 MM2",980,"M",null,0,0,0]
[null,null,441,null,"CABO DE COBRE, FLEXIVEL, CLASSE 4 OU 5, ISOLACAO EM PVC/A, ANTICHAMA BWF-B, 1 CONDUTOR, 450/750 V, SECAO NOMINAL 16 MM2",979,"M",null,0,0,0]
[null,null,442,null,"CABO DE COBRE, FLEXIVEL, CLASSE 4 OU 5, ISOLACAO EM PVC/A, ANTICHAMA BWF-B, 1 CONDUTOR, 450/750 V, SECAO NOMINAL 2,5 MM2",1014,"M",null,0,0,0]
[null,null,443,null,"CABO DE COBRE, FLEXIVEL, CLASSE 4 OU 5, ISOLACAO EM PVC/A, ANTICHAMA BWF-B, 1 CONDUTOR, 450/750 V, SECAO NOMINAL 25 MM2",39232,"M",null,0,0,0]
[null,null,444,null,"CABO DE COBRE, FLEXIVEL, CLASSE 4 OU 5, ISOLACAO EM PVC/A, ANTICHAMA BWF-B, 1 CONDUTOR, 450/750 V, SECAO NOMINAL 35 MM2",39233,"M",null,0,0,0]
[null,null,445,null,"CABO DE COBRE, FLEXIVEL, CLASSE 4 OU 5, ISOLACAO EM PVC/A, ANTICHAMA BWF-B, 1 CONDUTOR, 450/750 V, SECAO NOMINAL 4 MM2",981,"M",null,0,0,0]
[null,null,446,null,"CABO DE COBRE, FLEXIVEL, CLASSE 4 OU 5, ISOLACAO EM PVC/A, ANTICHAMA BWF-B, 1 CONDUTOR, 450/750 V, SECAO NOMINAL 50 MM2",39234,"M",null,0,0,0]
[null,null,447,null,"CABO DE COBRE, FLEXIVEL, CLASSE 4 OU 5, ISOLACAO EM PVC/A, ANTICHAMA BWF-B, 1 CONDUTOR, 450/750 V, SECAO NOMINAL 6 MM2",982,"M",null,0,0,0]
[null,null,448,null,"CABO DE COBRE, FLEXIVEL, CLASSE 4 OU 5, ISOLACAO EM PVC/A, ANTICHAMA BWF-B, 1 CONDUTOR, 450/750 V, SECAO NOMINAL 70 MM2",39235,"M",null,0,0,0]
[null,null,449,null,"CABO DE COBRE, FLEXIVEL, CLASSE 4 OU 5, ISOLACAO EM PVC/A, ANTICHAMA BWF-B, 1 CONDUTOR, 450/750 V, SECAO NOMINAL 95 MM2",39236,"M",null,0,0,0]
[null,null,450,null,"CABO DE COBRE, FLEXIVEL, CLASSE 4 OU 5, ISOLACAO EM PVC/A, ANTICHAMA BWF-B, COBERTURA PVC-ST1, ANTICHAMA BWF-B, 1 CONDUTOR, 0,6/1 KV, SECAO NOMINAL 1,5 MM2",993,"M",null,0,0,{"$f":"TRUNC(ROUND((I468*J468)/12,2),2)","v":0}]
[null,null,451,null,"CABO DE COBRE, FLEXIVEL, CLASSE 4 OU 5, ISOLACAO EM PVC/A, ANTICHAMA BWF-B, COBERTURA PVC-ST1, ANTICHAMA BWF-B, 1 CONDUTOR, 0,6/1 KV, SECAO NOMINAL 10 MM2",1020,"M",null,0,0,0]
[null,null,452,null,"CABO DE COBRE, FLEXIVEL, CLASSE 4 OU 5, ISOLACAO EM PVC/A, ANTICHAMA BWF-B, COBERTURA PVC-ST1, ANTICHAMA BWF-B, 1 CONDUTOR, 0,6/1 KV, SECAO NOMINAL 16 MM2",995,"M",null,0,0,0]
[null,null,453,null,"CABO DE COBRE, FLEXIVEL, CLASSE 4 OU 5, ISOLACAO EM PVC/A, ANTICHAMA BWF-B, COBERTURA PVC-ST1, ANTICHAMA BWF-B, 1 CONDUTOR, 0,6/1 KV, SECAO NOMINAL 2,5 MM2",1022,"M",null,0,0,0]
[null,null,454,null,"CABO DE COBRE, FLEXIVEL, CLASSE 4 OU 5, ISOLACAO EM PVC/A, ANTICHAMA BWF-B, COBERTURA PVC-ST1, ANTICHAMA BWF-B, 1 CONDUTOR, 0,6/1 KV, SECAO NOMINAL 25 MM2",996,"M",null,0,0,0]
[null,null,455,null,"CABO DE COBRE, FLEXIVEL, CLASSE 4 OU 5, ISOLACAO EM PVC/A, ANTICHAMA BWF-B, COBERTURA PVC-ST1, ANTICHAMA BWF-B, 1 CONDUTOR, 0,6/1 KV, SECAO NOMINAL 35 MM2",1019,"M",null,0,0,0]
[null,null,456,null,"CABO DE COBRE, FLEXIVEL, CLASSE 4 OU 5, ISOLACAO EM PVC/A, ANTICHAMA BWF-B, COBERTURA PVC-ST1, ANTICHAMA BWF-B, 1 CONDUTOR, 0,6/1 KV, SECAO NOMINAL 4 MM2",1021,"M",null,0,0,0]
[null,null,457,null,"CABO DE COBRE, FLEXIVEL, CLASSE 4 OU 5, ISOLACAO EM PVC/A, ANTICHAMA BWF-B, COBERTURA PVC-ST1, ANTICHAMA BWF-B, 1 CONDUTOR, 0,6/1 KV, SECAO NOMINAL 50 MM2",1018,"M",null,0,0,0]
[null,null,458,null,"CABO DE COBRE, FLEXIVEL, CLASSE 4 OU 5, ISOLACAO EM PVC/A, ANTICHAMA BWF-B, COBERTURA PVC-ST1, ANTICHAMA BWF-B, 1 CONDUTOR, 0,6/1 KV, SECAO NOMINAL 6 MM2",994,"M",null,0,0,0]
[null,null,459,null,"CABO DE COBRE, FLEXIVEL, CLASSE 4 OU 5, ISOLACAO EM PVC/A, ANTICHAMA BWF-B, COBERTURA PVC-ST1, ANTICHAMA BWF-B, 1 CONDUTOR, 0,6/1 KV, SECAO NOMINAL 70 MM2",977,"M",null,0,0,0]
[null,null,460,null,"CABO DE COBRE, FLEXIVEL, CLASSE 4 OU 5, ISOLACAO EM PVC/A, ANTICHAMA BWF-B, COBERTURA PVC-ST1, ANTICHAMA BWF-B, 1 CONDUTOR, 0,6/1 KV, SECAO NOMINAL 95 MM2",998,"M",null,0,0,0]
[null,null,461,null,"CABO DE COBRE, RIGIDO, CLASSE 2, COMPACTADO, BLINDADO, ISOLACAO EM EPR OU XLPE, COBERTURA ANTICHAMA EM PVC, PEAD OU HFFR, 1 CONDUTOR, 20/35 KV, SECAO NOMINAL 50 MM2",873,"M",null,0,0,0]
[null,null,462,null,"CABO DE COBRE, RIGIDO, CLASSE 2, COMPACTADO, BLINDADO, ISOLACAO EM EPR OU XLPE, COBERTURA ANTICHAMA EM PVC, PEAD OU HFFR, 1 CONDUTOR, 20/35 KV, SECAO NOMINAL 70 MM2",874,"M",null,0,0,0]
[null,null,463,null,"CABO DE COBRE, RIGIDO, CLASSE 2, ISOLACAO EM PVC/A, ANTICHAMA BWF-B, 1 CONDUTOR, 450/750 V, SECAO NOMINAL 1,5 MM2",983,"M",null,0,0,0]
[null,null,464,null,"CABO DE COBRE, RIGIDO, CLASSE 2, ISOLACAO EM PVC/A, ANTICHAMA BWF-B, 1 CONDUTOR, 450/750 V, SECAO NOMINAL 10 MM2",985,"M",null,0,0,0]
[null,null,465,null,"CABO DE COBRE, RIGIDO, CLASSE 2, ISOLACAO EM PVC/A, ANTICHAMA BWF-B, 1 CONDUTOR, 450/750 V, SECAO NOMINAL 16 MM2",39241,"M",null,0,0,0]
[null,null,466,null,"CABO DE COBRE, RIGIDO, CLASSE 2, ISOLACAO EM PVC/A, ANTICHAMA BWF-B, 1 CONDUTOR, 450/750 V, SECAO NOMINAL 2,5 MM2",984,"M",null,0,0,0]
[null,null,467,null,"CABO DE COBRE, RIGIDO, CLASSE 2, ISOLACAO EM PVC/A, ANTICHAMA BWF-B, 1 CONDUTOR, 450/750 V, SECAO NOMINAL 25 MM2",986,"M",null,0,0,0]
[null,null,468,null,"CABO DE COBRE, RIGIDO, CLASSE 2, ISOLACAO EM PVC/A, ANTICHAMA BWF-B, 1 CONDUTOR, 450/750 V, SECAO NOMINAL 35 MM2",987,"M",null,0,0,0]
[null,null,469,null,"CABO DE COBRE, RIGIDO, CLASSE 2, ISOLACAO EM PVC/A, ANTICHAMA BWF-B, 1 CONDUTOR, 450/750 V, SECAO NOMINAL 4 MM2",1003,"M",null,0,0,0]
[null,null,470,null,"CABO DE COBRE, RIGIDO, CLASSE 2, ISOLACAO EM PVC/A, ANTICHAMA BWF-B, 1 CONDUTOR, 450/750 V, SECAO NOMINAL 50 MM2",1007,"M",null,0,0,0]
[null,null,471,null,"CABO DE COBRE, RIGIDO, CLASSE 2, ISOLACAO EM PVC/A, ANTICHAMA BWF-B, 1 CONDUTOR, 450/750 V, SECAO NOMINAL 6 MM2",1008,"M",null,0,0,0]
[null,null,472,null,"CABO DE COBRE, RIGIDO, CLASSE 2, ISOLACAO EM PVC/A, ANTICHAMA BWF-B, 1 CONDUTOR, 450/750 V, SECAO NOMINAL 70 MM2",988,"M",null,0,0,0]
[null,null,473,null,"CABO DE COBRE, RIGIDO, CLASSE 2, ISOLACAO EM PVC/A, ANTICHAMA BWF-B, 1 CONDUTOR, 450/750 V, SECAO NOMINAL 95 MM2",989,"M",null,0,0,0]
[null,null,474,null,"CABO DE PAR TRANCADO UTP, 4 PARES, CATEGORIA 5E",39598,"M",null,0,0,0]
[null,null,475,null,"CABO DE PAR TRANCADO UTP, 4 PARES, CATEGORIA 6",39599,"M",null,0,0,0]
[null,null,476,null,"CABO FLEXIVEL PVC 750 V, 2 CONDUTORES DE 1,5 MM2",34602,"M",null,0,0,0]
[null,null,477,null,"CABO FLEXIVEL PVC 750 V, 2 CONDUTORES DE 10,0 MM2",34603,"M",null,0,0,0]
[null,null,478,null,"CABO FLEXIVEL PVC 750 V, 2 CONDUTORES DE 4,0 MM2",34607,"M",null,0,0,0]
[null,null,479,null,"CABO FLEXIVEL PVC 750 V, 2 CONDUTORES DE 6,0 MM2",34609,"M",null,0,0,0]
[null,null,480,null,"CABO FLEXIVEL PVC 750 V, 3 CONDUTORES DE 1,5 MM2",34618,"M",null,0,0,0]
[null,null,481,null,"CABO FLEXIVEL PVC 750 V, 3 CONDUTORES DE 10,0 MM2",34620,"M",null,0,0,0]
[null,null,482,null,"CABO FLEXIVEL PVC 750 V, 3 CONDUTORES DE 4,0 MM2",34621,"M",null,0,0,0]
[null,null,483,null,"CABO FLEXIVEL PVC 750 V, 3 CONDUTORES DE 6,0 MM2",34622,"M",null,0,0,0]
[null,null,484,null,"CABO FLEXIVEL PVC 750 V, 4 CONDUTORES DE 1,5 MM2",34624,"M",null,0,0,0]
[null,null,485,null,"CABO FLEXIVEL PVC 750 V, 4 CONDUTORES DE 10,0 MM2",34626,"M",null,0,0,0]
[null,null,486,null,"CABO FLEXIVEL PVC 750 V, 4 CONDUTORES DE 4,0 MM2",34627,"M",null,0,0,0]
[null,null,487,null,"CABO FLEXIVEL PVC 750 V, 4 CONDUTORES DE 6,0 MM2",34629,"M",null,0,0,0]
[null,null,488,null,"CABO MULTIPOLAR DE COBRE, FLEXIVEL, CLASSE 4 OU 5, ISOLACAO EM HEPR, COBERTURA EM PVC-ST2, ANTICHAMA BWF-B, 0,6/1 KV, 3 CONDUTORES DE 1,5 MM2",39257,"M",null,0,0,0]
[null,null,489,null,"CABO MULTIPOLAR DE COBRE, FLEXIVEL, CLASSE 4 OU 5, ISOLACAO EM HEPR, COBERTURA EM PVC-ST2, ANTICHAMA BWF-B, 0,6/1 KV, 3 CONDUTORES DE 10 MM2",39261,"M",null,0,0,0]
[null,null,490,null,"CABO MULTIPOLAR DE COBRE, FLEXIVEL, CLASSE 4 OU 5, ISOLACAO EM HEPR, COBERTURA EM PVC-ST2, ANTICHAMA BWF-B, 0,6/1 KV, 3 CONDUTORES DE 16 MM2",39262,"M",null,0,0,0]
[null,null,491,null,"CABO MULTIPOLAR DE COBRE, FLEXIVEL, CLASSE 4 OU 5, ISOLACAO EM HEPR, COBERTURA EM PVC-ST2, ANTICHAMA BWF-B, 0,6/1 KV, 3 CONDUTORES DE 2,5 MM2",39258,"M",null,0,0,0]
[null,null,492,null,"CABO MULTIPOLAR DE COBRE, FLEXIVEL, CLASSE 4 OU 5, ISOLACAO EM HEPR, COBERTURA EM PVC-ST2, ANTICHAMA BWF-B, 0,6/1 KV, 3 CONDUTORES DE 25 MM2",39263,"M",null,0,0,0]
[null,null,493,null,"CABO MULTIPOLAR DE COBRE, FLEXIVEL, CLASSE 4 OU 5, ISOLACAO EM HEPR, COBERTURA EM PVC-ST2, ANTICHAMA BWF-B, 0,6/1 KV, 3 CONDUTORES DE 35 MM2",39264,"M",null,0,0,0]
[null,null,494,null,"CABO MULTIPOLAR DE COBRE, FLEXIVEL, CLASSE 4 OU 5, ISOLACAO EM HEPR, COBERTURA EM PVC-ST2, ANTICHAMA BWF-B, 0,6/1 KV, 3 CONDUTORES DE 4 MM2",39259,"M",null,0,0,0]
[null,null,495,null,"CABO MULTIPOLAR DE COBRE, FLEXIVEL, CLASSE 4 OU 5, ISOLACAO EM HEPR, COBERTURA EM PVC-ST2, ANTICHAMA BWF-B, 0,6/1 KV, 3 CONDUTORES DE 50 MM2",39265,"M",null,0,0,0]
[null,null,496,null,"CABO MULTIPOLAR DE COBRE, FLEXIVEL, CLASSE 4 OU 5, ISOLACAO EM HEPR, COBERTURA EM PVC-ST2, ANTICHAMA BWF-B, 0,6/1 KV, 3 CONDUTORES DE 6 MM2",39260,"M",null,0,0,0]
[null,null,497,null,"CABO MULTIPOLAR DE COBRE, FLEXIVEL, CLASSE 4 OU 5, ISOLACAO EM HEPR, COBERTURA EM PVC-ST2, ANTICHAMA BWF-B, 0,6/1 KV, 3 CONDUTORES DE 70 MM2",39266,"M",null,0,0,0]
[null,null,498,null,"CABO MULTIPOLAR DE COBRE, FLEXIVEL, CLASSE 4 OU 5, ISOLACAO EM HEPR, COBERTURA EM PVC-ST2, ANTICHAMA BWF-B, 0,6/1 KV, 3 CONDUTORES DE 95 MM2",39267,"M",null,0,0,0]
[null,null,499,null,"CABO TELEFONICO CCI 50, 1 PAR, USO INTERNO, SEM BLINDAGEM",11901,"M",null,0,0,0]
[null,null,500,null,"CABO TELEFONICO CCI 50, 2 PARES, USO INTERNO, SEM BLINDAGEM",11902,"M",null,0,0,0]
[null,null,501,null,"CABO TELEFONICO CCI 50, 3 PARES, USO INTERNO, SEM BLINDAGEM",11903,"M",null,0,0,0]
[null,null,502,null,"CABO TELEFONICO CCI 50, 4 PARES, USO INTERNO, SEM BLINDAGEM",11904,"M",null,0,0,0]
[null,null,503,null,"CABO TELEFONICO CCI 50, 5 PARES, USO INTERNO, SEM BLINDAGEM",11905,"M",null,0,0,0]
[null,null,504,null,"CABO TELEFONICO CCI 50, 6 PARES, USO INTERNO, SEM BLINDAGEM",11906,"M",null,0,0,0]
[null,null,505,null,"CABO TELEFONICO CI 50, 10 PARES, USO INTERNO",11919,"M",null,0,0,0]
[null,null,506,null,"CABO TELEFONICO CI 50, 20 PARES, USO INTERNO",11920,"M",null,0,0,0]
[null,null,507,null,"CABO TELEFONICO CTP - APL - 50, 10 PARES, USO EXTERNO",11916,"M",null,0,0,0]
[null,null,508,null,"CABO TELEFONICO CTP - APL - 50, 20 PARES, USO EXTERNO",11917,"M",null,0,0,0]
[null,null,509,null,"CADEADO SIMPLES, EM LATAO MACICO CROMADO, LARGURA DE 35 MM,  HASTE DE ACO TEMPERADO, CEMENTADO (NAO LONGA), INCLUI 2 CHAVES",5085,"UN",null,0,0,0]
[null,null,510,null,"CADEADO SIMPLES/COMUM, EM LATAO MACICO CROMADO, LARGURA DE 25 MM,  HASTE DE ACO TEMPERADO, CEMENTADO (NAO LONGA), INCLUI 2 CHAVES",5090,"UN",null,0,0,0]
[null,null,511,null,"CAIBRO DE MADEIRA APARELHADA *6 X 8* CM, MACARANDUBA, ANGELIM OU EQUIVALENTE DA REGIAO",20212,"M",null,0,0,0]
[null,null,512,null,"CAIBRO DE MADEIRA NAO APARELHADA *5 X 6* CM, MACARANDUBA, ANGELIM OU EQUIVALENTE DA REGIAO",4430,"M",null,0,0,0]
[null,null,513,null,"CAIBRO DE MADEIRA NAO APARELHADA *6 X 8* CM, MACARANDUBA, ANGELIM OU EQUIVALENTE DA REGIAO",4400,"M",null,0,0,0]
[null,null,514,null,"CAIBRO DE MADEIRA NATIVA/REGIONAL 5 X 5 CM NAO APARELHADA (P/FORMA)",4496,"M",null,0,0,{"$f":"TRUNC(ROUND((I532*J532)/12,2),2)","v":0}]
[null,null,515,null,"CAIXA D'AGUA DE FIBRA DE VIDRO, PARA 500 LITROS, COM TAMPA",11871,"UN",null,0,0,0]
[null,null,516,null,"CAIXA D'AGUA EM POLIETILENO 1000 LITROS, COM TAMPA",34636,"UN",null,0,0,0]
[null,null,517,null,"CAIXA D'AGUA EM POLIETILENO 500 LITROS, COM TAMPA",34637,"UN",null,0,0,0]
[null,null,518,null,"CAIXA D'AGUA EM POLIETILENO 750 LITROS, COM TAMPA",34638,"UN",null,0,0,0]
[null,null,519,null,"CAIXA D'AGUA FIBRA DE VIDRO PARA 1000 LITROS, COM TAMPA",11868,"UN",null,0,0,0]
[null,null,520,null,"CAIXA DE CONCRETO PRE-MOLDADO PARA AR-CONDICIONADO DE JANELA, DE *80 X 54 X 76,5* CM (L X A X P)",11638,"UN",null,0,0,0]
[null,null,521,null,"CAIXA DE DESCARGA DE PLASTICO EXTERNA, DE *9* L, PUXADOR FIO DE NYLON, NAO INCLUSO CANO, BOLSA, ENGATE",1030,"UN",null,0,0,0]
[null,null,522,null,"CAIXA DE GORDURA EM PVC, DIAMETRO MINIMO 300 MM, DIAMETRO DE SAIDA 100 MM, CAPACIDADE  APROXIMADA 18 LITROS, COM TAMPA",35277,"UN",null,0,0,0]
[null,null,523,null,"CAIXA DE INCENDIO/ABRIGO PARA MANGUEIRA, DE SOBREPOR/EXTERNA, COM 90 X 60 X 17 CM, EM CHAPA DE ACO, PORTA COM VENTILACAO, VISOR COM A INSCRICAO \"INCENDIO\", SUPORTE/CESTA INTERNA PARA A MANGUEIRA, PINTURA ELETROSTATICA VERMELHA",20963,"UN",null,0,0,0]
[null,null,524,null,"CAIXA DE LUZ \"3 X 3\" EM ACO ESMALTADA",2555,"UN",null,0,0,0]
[null,null,525,null,"CAIXA DE LUZ \"4 X 2\" EM ACO ESMALTADA",2556,"UN",null,0,0,0]
[null,null,526,null,"CAIXA DE LUZ \"4 X 4\" EM ACO ESMALTADA",2557,"UN",null,0,0,0]
[null,null,527,null,"CAIXA DE PASSAGEM DE PAREDE, DE EMBUTIR, EM PVC, DIMENSOES *120 X 120 X 75* MM",39810,"UN",null,0,0,0]
[null,null,528,null,"CAIXA DE PASSAGEM DE PAREDE, DE EMBUTIR, EM PVC, DIMENSOES *150 X 150 X 75* MM",39811,"UN",null,0,0,0]
[null,null,529,null,"CAIXA DE PASSAGEM DE PAREDE, DE EMBUTIR, EM PVC, DIMENSOES *200 X 200 X 90* MM",39812,"UN",null,0,0,0]
[null,null,530,null,"CAIXA DE PASSAGEM METALICA DE SOBREPOR COM TAMPA PARAFUSADA, DIMENSOES 15 X 15 X 10 CM",20254,"UN",null,0,0,0]
[null,null,531,null,"CAIXA DE PASSAGEM METALICA DE SOBREPOR COM TAMPA PARAFUSADA, DIMENSOES 20 X 20 X 10 CM",39771,"UN",null,0,0,0]
[null,null,532,null,"CAIXA DE PASSAGEM METALICA DE SOBREPOR COM TAMPA PARAFUSADA, DIMENSOES 25 X 25 X 10 CM",20255,"UN",null,0,0,0]
[null,null,533,null,"CAIXA DE PASSAGEM METALICA DE SOBREPOR COM TAMPA PARAFUSADA, DIMENSOES 30 X 30 X 10 CM",39772,"UN",null,0,0,0]
[null,null,534,null,"CAIXA DE PASSAGEM METALICA DE SOBREPOR COM TAMPA PARAFUSADA, DIMENSOES 35 X 35 X 12 CM",20253,"UN",null,0,0,0]
[null,null,535,null,"CAIXA DE PASSAGEM METALICA DE SOBREPOR COM TAMPA PARAFUSADA, DIMENSOES 40 X 40 X 15 CM",39773,"UN",null,0,0,0]
[null,null,536,null,"CAIXA DE PASSAGEM METALICA DE SOBREPOR COM TAMPA PARAFUSADA, DIMENSOES 50 X 50 X 15 CM",39774,"UN",null,0,0,0]
[null,null,537,null,"CAIXA DE PASSAGEM METALICA DE SOBREPOR COM TAMPA PARAFUSADA, DIMENSOES 60 X 60 X 20 CM",39775,"UN",null,0,0,0]
[null,null,538,null,"CAIXA DE PASSAGEM METALICA DE SOBREPOR COM TAMPA PARAFUSADA, DIMENSOES 70 X 70 X 20 CM",39776,"UN",null,0,0,0]
[null,null,539,null,"CAIXA DE PASSAGEM METALICA DE SOBREPOR COM TAMPA PARAFUSADA, DIMENSOES 80 X 80 X 20 CM",39777,"UN",null,0,0,0]
[null,null,540,null,"CAIXA DE PASSAGEM N 2, DE EMBUTIR, PADRAO TELEBRAS, DIMENSOES 20 X 20 X 12 CM, EM CHAPA DE ACO GALVANIZADO",11250,"UN",null,0,0,0]
[null,null,541,null,"CAIXA DE PASSAGEM N 2, DE SOBREPOR, PADRAO TELEBRAS, DIMENSOES 20 X 20 X *12* CM, EM CHAPA DE ACO GALVANIZADO",39766,"UN",null,0,0,0]
[null,null,542,null,"CAIXA DE PASSAGEM N 3, DE EMBUTIR, PADRAO TELEBRAS, DIMENSOES 40 X 40 X 12 CM, EM CHAPA DE ACO GALVANIZADO",11251,"UN",null,0,0,0]
[null,null,543,null,"CAIXA DE PASSAGEM N 3, DE SOBREPOR, PADRAO TELEBRAS, DIMENSOES 40 X 40 X *12* CM, EM CHAPA DE ACO GALVANIZADO",39767,"UN",null,0,0,0]
[null,null,544,null,"CAIXA DE PASSAGEM N 4, DE EMBUTIR, PADRAO TELEBRAS, DIMENSOES 60 X 60 X 12 CM, EM CHAPA DE ACO GALVANIZADO",11253,"UN",null,0,0,0]
[null,null,545,null,"CAIXA DE PASSAGEM N 4, DE SOBREPOR, PADRAO TELEBRAS, DIMENSOES 60 X 60 X *12* CM, EM CHAPA DE ACO GALVANIZADO",11254,"UN",null,0,0,0]
[null,null,546,null,"CAIXA DE PASSAGEM N 5, DE EMBUTIR, PADRAO TELEBRAS, DIMENSOES 80 X 80 X 12 CM, EM CHAPA DE ACO GALVANIZADO",11255,"UN",null,0,0,0]
[null,null,547,null,"CAIXA DE PASSAGEM N 5, DE SOBREPOR, PADRAO TELEBRAS, DIMENSOES 80 X 80 X *12* CM, EM CHAPA DE ACO GALVANIZADO",11256,"UN",null,0,0,0]
[null,null,548,null,"CAIXA DE PASSAGEM N 6, DE EMBUTIR, PADRAO TELEBRAS, DIMENSOES 120 X 120 X 12 CM, EM CHAPA DE ACO GALVANIZADO",14055,"UN",null,0,0,0]
[null,null,549,null,"CAIXA DE PASSAGEM N 6, DE SOBREPOR, PADRAO TELEBRAS, DIMENSOES 120 X 120 X *12* CM, EM CHAPA DE ACO GALVANIZADO",39768,"UN",null,0,0,0]
[null,null,550,null,"CAIXA DE PASSAGEM OCTOGONAL 4 X4, EM ACO ESMALTADA, COM FUNDO MOVEL SIMPLES",10569,"UN",null,0,0,0]
[null,null,551,null,"CAIXA DE PASSAGEM, EM PVC, DE 4\" X 2\", PARA ELETRODUTO FLEXIVEL CORRUGADO",1872,"UN",null,0,0,0]
[null,null,552,null,"CAIXA DE PASSAGEM, EM PVC, DE 4\" X 4\", PARA ELETRODUTO FLEXIVEL CORRUGADO",1873,"UN",null,0,0,0]
[null,null,553,null,"CAIXA DE PROTECAO PARA 1 MEDIDOR TRIFASICO, EM CHAPA DE ACO 20 USG (PADRAO DA CONCESSIONARIA LOCAL)",39682,"UN",null,0,0,0]
[null,null,554,null,"CAIXA EXTERNA DE MEDICAO PARA 1 MEDIDOR TRIFASICO, COM VISOR, EM CHAPA DE ACO 18 USG (PADRAO DA CONCESSIONARIA LOCAL)",39685,"UN",null,0,0,0]
[null,null,555,null,"CAIXA INSPECAO EM CONCRETO PARA ATERRAMENTO E PARA RAIOS DIAMETRO = 300 MM",34641,"UN",null,0,0,0]
[null,null,556,null,"CAIXA INSPECAO EM POLIETILENO PARA ATERRAMENTO E PARA RAIOS DIAMETRO = 300 MM",34643,"UN",null,0,0,0]
[null,null,557,null,"CAIXA INSPECAO, CONCRETO PRE MOLDADO, CIRCULAR, COM TAMPA, D = 40* CM",3278,"UN",null,0,0,0]
[null,null,558,null,"CAIXA INSPECAO, CONCRETO PRE MOLDADO, CIRCULAR, COM TAMPA, D = 60* CM, H= 60* CM",3279,"UN",null,0,0,0]
[null,null,559,null,"CAIXA INTERNA DE MEDICAO PARA 1 MEDIDOR TRIFASICO, COM VISOR, EM CHAPA DE ACO 18 USG (PADRAO DA CONCESSIONARIA LOCAL)",1062,"UN",null,0,0,0]
[null,null,560,null,"CAIXA INTERNA/EXTERNA DE MEDICAO PARA 1 MEDIDOR MONOFASICO, COM VISOR, EM CHAPA DE ACO 18 USG (PADRAO DA CONCESSIONARIA LOCAL)",39683,"UN",null,0,0,0]
[null,null,561,null,"CAIXA OCTOGONAL DE FUNDO MOVEL, EM PVC, DE 3\" X 3\", PARA ELETRODUTO FLEXIVEL CORRUGADO",1871,"UN",null,0,0,0]
[null,null,562,null,"CAIXA OCTOGONAL DE FUNDO MOVEL, EM PVC, DE 4\" X 4\", PARA ELETRODUTO FLEXIVEL CORRUGADO",12001,"UN",null,0,0,0]
[null,null,563,null,"CAIXA PARA HIDROMETRO CONCRETO PRE MOLDADO",11882,"UN",null,0,0,0]
[null,null,564,null,"CAIXA PARA MEDIDOR MONOFASICO, EM POLICARBONATO (TERMOPLASTICO), COM DISJUNTOR",39808,"UN",null,0,0,0]
[null,null,565,null,"CAIXA PARA MEDIDOR POLIFASICO, EM POLICARBONATO (TERMOPLASTICO), COM DISJUNTOR",39809,"UN",null,0,0,0]
[null,null,566,null,"CAIXA SIFONADA PVC 150 X 150 X 50MM COM TAMPA CEGA QUADRADA BRANCA",11713,"UN",null,0,0,0]
[null,null,567,null,"CAIXA SIFONADA PVC, 100 X 100 X 40 MM, COM GRELHA REDONDA BRANCA",11716,"UN",null,0,0,0]
[null,null,568,null,"CAIXA SIFONADA PVC, 100 X 100 X 50 MM, COM GRELHA REDONDA BRANCA",5103,"UN",null,0,0,0]
[null,null,569,null,"CAIXA SIFONADA PVC, 150 X 150 X 50 MM, COM GRELHA QUADRADA BRANCA (NBR 5688)",11712,"UN",null,0,0,0]
[null,null,570,null,"CAIXA SIFONADA PVC, 150 X 150 X 50 MM, COM GRELHA REDONDA BRANCA",11717,"UN",null,0,0,0]
[null,null,571,null,"CAIXA SIFONADA PVC, 150 X 185 X 75 MM, COM GRELHA QUADRADA BRANCA",11714,"UN",null,0,0,0]
[null,null,572,null,"CAIXA SIFONADA PVC, 150 X 185 X 75 MM, COM TAMPA CEGA QUADRADA BRANCA",11715,"UN",null,0,0,0]
[null,null,573,null,"CAIXA SIFONADA PVC, 250 X 230 X 75 MM, COM TAMPA E PORTA TAMPA QUADRADA BRANCA",11880,"UN",null,0,0,0]
[null,null,574,null,"CAL HIDRATADA CH-I PARA ARGAMASSAS",1106,"KG",null,0,0,0]
[null,null,575,null,"CAL HIDRATADA PARA PINTURA",11161,"KG",null,0,0,0]
[null,null,576,null,"CAL VIRGEM COMUM PARA ARGAMASSAS (NBR 6453)",1107,"KG",null,0,0,0]
[null,null,577,null,"CALCARIO DOLOMITICO A (POSTO PEDREIRA/FORNECEDOR, SEM FRETE)",25963,"KG",null,0,0,0]
[null,null,578,null,"CALHA MOLDURA AMERICANA DE CHAPA DE ACO GALVANIZADA NUM 26, CORTE 33 CM",1108,"M",null,0,0,{"$f":"TRUNC(ROUND((I596*J596)/12,2),2)","v":0}]
[null,null,579,null,"CALHA PARA AGUA FURTADA DE CHAPA DE ACO GALVANIZADA NUM 26, CORTE 40 CM",1117,"M",null,0,0,0]
[null,null,580,null,"CALHA PARA AGUA FURTADA DE CHAPA DE ACO GALVANIZADA NUM 26, CORTE 50 CM",1118,"M",null,0,0,0]
[null,null,581,null,"CALHA PLATIBANDA DE CHAPA DE ACO GALVANIZADA NUM 26, CORTE 45 CM",1110,"M",null,0,0,0]
[null,null,582,null,"CALHA PLUVIAL DE PVC, DIAMETRO ENTRE 119 E 170 MM, COMPRIMENTO DE 3 M, PARA DRENAGEM PREDIAL",12618,"UN",null,0,0,0]
[null,null,583,null,"CAMADA SEPARADORA DE FILME DE POLIETILENO 20 A 25 MICRA",38365,"M2",null,0,0,0]
[null,null,584,null,"CAMPAINHA ALTA POTENCIA 110V / 220V, DIAMETRO 150 MM",12114,"UN",null,0,0,0]
[null,null,585,null,"CAMPAINHA CIGARRA 127 V / 220 V (APENAS MODULO)",38106,"UN",null,0,0,0]
[null,null,586,null,"CAMPAINHA CIGARRA 127 V / 220 V, CONJUNTO MONTADO PARA EMBUTIR 4\" X 2\" (PLACA + SUPORTE + MODULO)",38085,"UN",null,0,0,0]
[null,null,587,null,"CANALETA CONCRETO 9 X 19 X 19 CM (CLASSE C - NBR 6136)",658,"UN",null,0,0,0]
[null,null,588,null,"CANOPLA ACABAMENTO CROMADO PARA INSTALACAO DE SPRINKLER, SOB FORRO, 15 MM",40607,"UN",null,0,0,0]
[null,null,589,null,"CANTONEIRA \"U\" ALUMINIO ABAS IGUAIS 1 \", E = 3/32 \"",585,"KG",null,0,0,0]
[null,null,590,null,"CANTONEIRA ACO ABAS IGUAIS (QUALQUER BITOLA), ESPESSURA ENTRE 1/8\" E 1/4\"",4777,"KG",null,0,0,0]
[null,null,591,null,"CANTONEIRA ALUMINIO ABAS DESIGUAIS 1\" X 3/4 \", E = 1/8 \"",587,"KG",null,0,0,0]
[null,null,592,null,"CANTONEIRA ALUMINIO ABAS DESIGUAIS 2 1/2\" X 1/2 \", E = 3/16 \"",590,"KG",null,0,0,0]
[null,null,593,null,"CANTONEIRA ALUMINIO ABAS IGUAIS 1 \", E = 1/8 \", 25,40 X 3,17 MM (0,408 KG/M)",592,"KG",null,0,0,0]
[null,null,594,null,"CANTONEIRA ALUMINIO ABAS IGUAIS 1 \", E = 3 /16 \"",586,"M",null,0,0,0]
[null,null,595,null,"CANTONEIRA ALUMINIO ABAS IGUAIS 1 1/2 \", E = 3/16 \"",591,"KG",null,0,0,0]
[null,null,596,null,"CANTONEIRA ALUMINIO ABAS IGUAIS 1 1/4 \", E = 3/16 \"",588,"M",null,0,0,0]
[null,null,597,null,"CANTONEIRA ALUMINIO ABAS IGUAIS 2 \", E = 1/4 \"",589,"M",null,0,0,0]
[null,null,598,null,"CANTONEIRA ALUMINIO ABAS IGUAIS 2 \", E = 1/8 \"",584,"M",null,0,0,0]
[null,null,599,null,"CANTONEIRA DE ACO 3 \"  X  3 \"  X  1/4 \"",4912,"KG",null,0,0,0]
[null,null,600,null,"CANTONEIRA FERRO GALVANIZADO DE ABAS IGUAIS, 1 1/2\" X 1/4\" (L X E), 3,40 KG/M",574,"M",null,0,0,0]
[null,null,601,null,"CANTONEIRA FERRO GALVANIZADO DE ABAS IGUAIS, 1\" X 1/8\" (L X E) , 1,20KG/M",567,"M",null,0,0,0]
[null,null,602,null,"CANTONEIRA FERRO GALVANIZADO DE ABAS IGUAIS, 2\" X 3/8\" (L X E), 6,9 KG/M",568,"M",null,0,0,0]
[null,null,603,null,"CANTONEIRA FERRO GALVANIZADO DE ABAS IGUAIS, 3/4\" X 1/8\" (L X E)",569,"KG",null,0,0,0]
[null,null,604,null,"CAP PVC, ROSCAVEL, 1 1/2\",  AGUA FRIA PREDIAL",1210,"UN",null,0,0,0]
[null,null,605,null,"CAP PVC, ROSCAVEL, 1 1/4\",  AGUA FRIA PREDIAL",1203,"UN",null,0,0,0]
[null,null,606,null,"CAP PVC, ROSCAVEL, 1\",  PARA AGUA FRIA PREDIAL",1202,"UN",null,0,0,0]
[null,null,607,null,"CAP PVC, ROSCAVEL, 1/2\", PARA AGUA FRIA PREDIAL",1197,"UN",null,0,0,0]
[null,null,608,null,"CAP PVC, ROSCAVEL, 2 1/2\",  AGUA FRIA PREDIAL",1188,"UN",null,0,0,0]
[null,null,609,null,"CAP PVC, ROSCAVEL, 2\",  AGUA FRIA PREDIAL",1211,"UN",null,0,0,0]
[null,null,610,null,"CAP PVC, ROSCAVEL, 3\",  AGUA FRIA PREDIAL",1199,"UN",null,0,0,0]
[null,null,611,null,"CAP PVC, ROSCAVEL, 3/4\",  PARA AGUA FRIA PREDIAL",1198,"UN",null,0,0,0]
[null,null,612,null,"CAP PVC, SERIE R, DN 100 MM, PARA ESGOTO PREDIAL",20088,"UN",null,0,0,0]
[null,null,613,null,"CAP PVC, SERIE R, DN 150 MM, PARA ESGOTO PREDIAL",20089,"UN",null,0,0,0]
[null,null,614,null,"CAP PVC, SERIE R, DN 75 MM, PARA ESGOTO PREDIAL",20087,"UN",null,0,0,0]
[null,null,615,null,"CAP PVC, SOLDAVEL, 110 MM, PARA AGUA FRIA PREDIAL",1184,"UN",null,0,0,0]
[null,null,616,null,"CAP PVC, SOLDAVEL, 20 MM, PARA AGUA FRIA PREDIAL",1191,"UN",null,0,0,0]
[null,null,617,null,"CAP PVC, SOLDAVEL, 25 MM, PARA AGUA FRIA PREDIAL",1185,"UN",null,0,0,0]
[null,null,618,null,"CAP PVC, SOLDAVEL, 32 MM, PARA AGUA FRIA PREDIAL",1189,"UN",null,0,0,0]
[null,null,619,null,"CAP PVC, SOLDAVEL, 40 MM, PARA AGUA FRIA PREDIAL",1193,"UN",null,0,0,0]
[null,null,620,null,"CAP PVC, SOLDAVEL, 50 MM, PARA AGUA FRIA PREDIAL",1194,"UN",null,0,0,0]
[null,null,621,null,"CAP PVC, SOLDAVEL, 60 MM, PARA AGUA FRIA PREDIAL",1195,"UN",null,0,0,0]
[null,null,622,null,"CAP PVC, SOLDAVEL, 75 MM, PARA AGUA FRIA PREDIAL",1204,"UN",null,0,0,0]
[null,null,623,null,"CAP PVC, SOLDAVEL, 85 MM, PARA AGUA FRIA PREDIAL",1205,"UN",null,0,0,0]
[null,null,624,null,"CAP PVC, SOLDAVEL, DN 100 MM, SERIE NORMAL, PARA ESGOTO PREDIAL",1200,"UN",null,0,0,0]
[null,null,625,null,"CAP PVC, SOLDAVEL, DN 50 MM, SERIE NORMAL, PARA ESGOTO PREDIAL",12909,"UN",null,0,0,0]
[null,null,626,null,"CAP PVC, SOLDAVEL, DN 75 MM, SERIE NORMAL, PARA ESGOTO PREDIAL",12910,"UN",null,0,0,0]
[null,null,627,null,"CAP, PVC PBA, JE, DN 100 / DE 110 MM,  PARA REDE DE AGUA (NBR 10351)",1207,"UN",null,0,0,0]
[null,null,628,null,"CAP, PVC PBA, JE, DN 50 / DE 60 MM,  PARA REDE DE AGUA (NBR 10351)",1206,"UN",null,0,0,0]
[null,null,629,null,"CAP, PVC PBA, JE, DN 75 / DE 85 MM,  PARA REDE DE AGUA (NBR 10351)",1183,"UN",null,0,0,0]
[null,null,630,null,"CAPA PARA CHUVA EM PVC COM FORRO DE POLIESTER, COM CAPUZ (AMARELA OU AZUL)",12894,"UN",null,0,0,0]
[null,null,631,null,"CAPACITOR TRIFASICO, POTENCIA 2,5 KVAR, TENSAO 220 V, FORNECIDO COM CAPA PROTETORA, RESISTOR INTERNO A UNIDADE CAPACITIVA",1631,"UN",null,0,0,0]
[null,null,632,null,"CAPACITOR TRIFASICO, POTENCIA 5 KVAR, TENSAO 220 V, FORNECIDO COM CAPA PROTETORA, RESISTOR INTERNO A UNIDADE CAPACITIVA",1633,"UN",null,0,0,0]
[null,null,633,null,"CAPIM BRAQUIARIA DECUMBENS/ BRAQUIARINHA, VC *70*% MINIMO",10818,"KG",null,0,0,0]
[null,null,634,null,"CARPETE DE NYLON EM MANTA PARA TRAFEGO COMERCIAL PESADO, E = 6 A 7 MM (INSTALADO)",10710,"M2",null,0,0,0]
[null,null,635,null,"CARPETE DE NYLON EM MANTA PARA TRAFEGO COMERCIAL PESADO, E = 9 A 10 MM (INSTALADO)",10709,"M2",null,0,0,0]
[null,null,636,null,"CARPETE DE NYLON EM PLACAS 50 X 50 CM PARA TRAFEGO COMERCIAL PESADO, E = 6,5 MM (INSTALADO)",39636,"M2",null,0,0,0]
[null,null,637,null,"CARPETE DE POLIESTER EM MANTA PARA TRAFEGO COMERCIAL PESADO, E = 4 A 5 MM (INSTALADO)",10708,"M2",null,0,0,0]
[null,null,638,null,"CARPETE DE POLIPROPILENO EM MANTA PARA TRAFEGO COMERCIAL MEDIO, E = 5 A 6 MM (INSTALADO)",39635,"M2",null,0,0,0]
[null,null,639,null,"CARVAO ANTRACITO PARA FILTRO, GRAO VARIANDO DE 0,8 ATE 1,1 MM, COEFICIENTE DE UNIFORMIDADE MENOR QUE 1,7 MM (DISTRIBUIDOR)",42256,"KG",null,0,0,0]
[null,null,640,null,"CASCALHO DE CAVA",4743,"M3",null,0,0,0]
[null,null,641,null,"CASCALHO DE RIO",4744,"M3",null,0,0,0]
[null,null,642,null,"CASCALHO LAVADO",4745,"M3",null,0,0,{"$f":"TRUNC(ROUND((I660*J660)/12,2),2)","v":0}]
[null,null,643,null,"CENTRALIZADOR DE BARRA DE ACO (CHUMBADOR TIPO CARAMBOLA), PARA ACO ATE 20 MM",39013,"UN",null,0,0,0]
[null,null,644,null,"CERA  LIQUIDA",41967,"L",null,0,0,0]
[null,null,645,null,"CHAPA DE ACO CARBONO LAMINADO A QUENTE, QUALIDADE ESTRUTURAL, BITOLA 3/16\", E =4,75 MM (37,29 KG/M2)",40424,"KG",null,0,0,0]
[null,null,646,null,"CHAPA DE ACO FINA A FRIO BITOLA MSG 20, E = 0,90 MM (7,20 KG/M2)",1325,"KG",null,0,0,0]
[null,null,647,null,"CHAPA DE ACO FINA A FRIO BITOLA MSG 24, E = 0,60 MM (4,80 KG/M2)",1327,"KG",null,0,0,0]
[null,null,648,null,"CHAPA DE ACO FINA A FRIO BITOLA MSG 26, E = 0,45 MM (3,60 KG/M2)",1328,"KG",null,0,0,0]
[null,null,649,null,"CHAPA DE ACO FINA A QUENTE BITOLA MSG 14, E = 2,00 MM (16,0 KG/M2)",1318,"KG",null,0,0,0]
[null,null,650,null,"CHAPA DE ACO FINA A QUENTE BITOLA MSG 16, E = 1,50 MM (12,00 KG/M2)",1322,"KG",null,0,0,0]
[null,null,651,null,"CHAPA DE ACO FINA A QUENTE BITOLA MSG 18, E = 1,20 MM (9,60 KG/M2)",1323,"KG",null,0,0,0]
[null,null,652,null,"CHAPA DE ACO FINA A QUENTE BITOLA MSG 3/16 \", E = 4,75 MM (38,00 KG/M2)",1319,"KG",null,0,0,0]
[null,null,653,null,"CHAPA DE ACO GALVANIZADA BITOLA GSG 14, E = 1,95 MM (15,60 KG/M2)",11026,"KG",null,0,0,0]
[null,null,654,null,"CHAPA DE ACO GALVANIZADA BITOLA GSG 16, E = 1,55 MM (12,40 KG/M2)",11027,"KG",null,0,0,0]
[null,null,655,null,"CHAPA DE ACO GALVANIZADA BITOLA GSG 18, E = 1,25 MM (10,00 KG/M2)",11046,"KG",null,0,0,0]
[null,null,656,null,"CHAPA DE ACO GALVANIZADA BITOLA GSG 19, E = 1,11 MM (8,88 KG/M2)",11047,"KG",null,0,0,0]
[null,null,657,null,"CHAPA DE ACO GALVANIZADA BITOLA GSG 20, E = 0,95 MM (7,60 KG/M2)",39630,"M2",null,0,0,0]
[null,null,658,null,"CHAPA DE ACO GALVANIZADA BITOLA GSG 22, E = 0,80 MM (6,40 KG/M2)",11049,"KG",null,0,0,0]
[null,null,659,null,"CHAPA DE ACO GALVANIZADA BITOLA GSG 24, E = 0,65 MM (5,20 KG/M2)",39632,"M2",null,0,0,0]
[null,null,660,null,"CHAPA DE ACO GALVANIZADA BITOLA GSG 26, E = 0,50 MM (4,00 KG/M2)",11051,"KG",null,0,0,0]
[null,null,661,null,"CHAPA DE ACO GALVANIZADA BITOLA GSG 30, E = 0,35 MM (2,80 KG/M2)",11061,"KG",null,0,0,0]
[null,null,662,null,"CHAPA DE ACO GROSSA, ASTM A36, E = 1/4 \" (6,35 MM) 49,79 KG/M2",1330,"KG",null,0,0,0]
[null,null,663,null,"CHAPA DE ACO GROSSA, SAE 1020, BITOLA 1/4\", E = 6,35 MM (49,85 KG/M2)",40425,"KG",null,0,0,0]
[null,null,664,null,"CHAPA DE ACO XADREZ PARA PISOS, E = 1/4 \" (6,30 MM) 54,53 KG/M2",1337,"KG",null,0,0,0]
[null,null,665,null,"CHAPA DE ALUMINIO, E = 3 MM, L = 1000 MM - 8,10 KG/M2 (LIGA 1200 - H14)",11122,"KG",null,0,0,0]
[null,null,666,null,"CHAPA DE ALUMINIO, E = 4 MM, L = 1000 MM - 10,8 KG/M2 (LIGA 1200 - H14)",11123,"KG",null,0,0,0]
[null,null,667,null,"CHAPA DE ALUMINIO, E = 5 MM, L = 1060 MM - 13,5 KG/M2 (LIGA 1200 - H14)",11125,"KG",null,0,0,0]
[null,null,668,null,"CHAPA DE GESSO ACARTONADO, RESISTENTE A UMIDADE (RU), COR VERDE, E = 12,5 MM, 1200 X 1800 MM (L X C)",39416,"M2",null,0,0,0]
[null,null,669,null,"CHAPA DE GESSO ACARTONADO, RESISTENTE A UMIDADE (RU), COR VERDE, E = 12,5 MM, 1200 X 2400 MM (L X C)",39417,"M2",null,0,0,0]
[null,null,670,null,"CHAPA DE GESSO ACARTONADO, RESISTENTE AO FOGO (RF), COR ROSA, E = 12,5 MM, 1200 X 1800 MM (L X C)",39414,"M2",null,0,0,0]
[null,null,671,null,"CHAPA DE GESSO ACARTONADO, RESISTENTE AO FOGO (RF), COR ROSA, E = 12,5 MM, 1200 X 2400 MM (L X C)",39415,"M2",null,0,0,0]
[null,null,672,null,"CHAPA DE GESSO ACARTONADO, STANDARD (ST), COR BRANCA, E = 12,5 MM, 1200 X 1800 MM (L X C)",39412,"M2",null,0,0,0]
[null,null,673,null,"CHAPA DE GESSO ACARTONADO, STANDARD (ST), COR BRANCA, E = 12,5 MM, 1200 X 2400 MM (L X C)",39413,"M2",null,0,0,0]
[null,null,674,null,"CHAPA DE LAMINADO MELAMINICO, LISO BRILHANTE, DE *1,25 X 3,08* M, E = 0,8 MM",1338,"M2",null,0,0,0]
[null,null,675,null,"CHAPA DE LAMINADO MELAMINICO, LISO FOSCO, DE *1,25 X 3,08* M, E = 0,8 MM",1340,"M2",null,0,0,0]
[null,null,676,null,"CHAPA DE LAMINADO MELAMINICO, TEXTURIZADO, DE *1,25 X 3,08* M, E = 0,8 MM",1341,"M2",null,0,0,0]
[null,null,677,null,"CHAPA DE MADEIRA COMPENSADA NAVAL (COM COLA FENOLICA), E = 10 MM, DE *1,60 X 2,20* M",11134,"M2",null,0,0,0]
[null,null,678,null,"CHAPA DE MADEIRA COMPENSADA NAVAL (COM COLA FENOLICA), E = 12 MM, DE *1,60 X 2,20* M",11135,"M2",null,0,0,0]
[null,null,679,null,"CHAPA DE MADEIRA COMPENSADA NAVAL (COM COLA FENOLICA), E = 15 MM, DE *1,60 X 2,20* M",11136,"M2",null,0,0,0]
[null,null,680,null,"CHAPA DE MADEIRA COMPENSADA NAVAL (COM COLA FENOLICA), E = 18 MM, DE *1,60 X 2,20* M",34743,"M2",null,0,0,0]
[null,null,681,null,"CHAPA DE MADEIRA COMPENSADA NAVAL (COM COLA FENOLICA), E = 20 MM, DE *1,60 X 2,20* M",11137,"M2",null,0,0,0]
[null,null,682,null,"CHAPA DE MADEIRA COMPENSADA NAVAL (COM COLA FENOLICA), E = 25 MM, DE *1,60 X 2,20* M",34745,"M2",null,0,0,0]
[null,null,683,null,"CHAPA DE MADEIRA COMPENSADA NAVAL (COM COLA FENOLICA), E = 4 MM, DE *1,60 X 2,20* M",34746,"M2",null,0,0,0]
[null,null,684,null,"CHAPA DE MADEIRA COMPENSADA NAVAL (COM COLA FENOLICA), E = 6 MM, DE *1,60 X 2,20* M",1360,"M2",null,0,0,0]
[null,null,685,null,"CHAPA DE MDF BRANCO LISO 1 FACE, E = 12 MM, DE *2,75 X 1,85* M",34659,"M2",null,0,0,0]
[null,null,686,null,"CHAPA DE MDF BRANCO LISO 1 FACE, E = 15 MM, DE *2,75 X 1,85* M",34514,"M2",null,0,0,0]
[null,null,687,null,"CHAPA DE MDF BRANCO LISO 1 FACE, E = 18 MM, DE *2,75 X 1,85* M",34660,"M2",null,0,0,0]
[null,null,688,null,"CHAPA DE MDF BRANCO LISO 1 FACE, E = 25 MM, DE *2,75 X 1,85* M",34661,"M2",null,0,0,0]
[null,null,689,null,"CHAPA DE MDF BRANCO LISO 1 FACE, E = 6 MM, DE *2,75 X 1,85* M",34667,"M2",null,0,0,0]
[null,null,690,null,"CHAPA DE MDF BRANCO LISO 1 FACE, E = 9 MM, DE *2,75 X 1,85* M",34668,"M2",null,0,0,0]
[null,null,691,null,"CHAPA DE MDF BRANCO LISO 2 FACES, E = 12 MM, DE *2,75 X 1,85* M",34741,"M2",null,0,0,0]
[null,null,692,null,"CHAPA DE MDF BRANCO LISO 2 FACES, E = 15 MM, DE *2,75 X 1,85* M",34664,"M2",null,0,0,0]
[null,null,693,null,"CHAPA DE MDF BRANCO LISO 2 FACES, E = 18 MM, DE *2,75 X 1,85* M",34665,"M2",null,0,0,0]
[null,null,694,null,"CHAPA DE MDF BRANCO LISO 2 FACES, E = 25 MM, DE *2,75 X 1,85* M",34666,"M2",null,0,0,0]
[null,null,695,null,"CHAPA DE MDF BRANCO LISO 2 FACES, E = 6 MM, DE *2,75 X 1,85* M",34669,"M2",null,0,0,0]
[null,null,696,null,"CHAPA DE MDF BRANCO LISO 2 FACES, E = 9 MM, DE *2,75 X 1,85* M",34670,"M2",null,0,0,0]
[null,null,697,null,"CHAPA DE MDF CRU, E = 12 MM, DE *2,75 X 1,85* M",34671,"M2",null,0,0,0]
[null,null,698,null,"CHAPA DE MDF CRU, E = 15 MM, DE *2,75 X 1,85* M",34672,"M2",null,0,0,0]
[null,null,699,null,"CHAPA DE MDF CRU, E = 18 MM, DE *2,75 X 1,85* M",34673,"M2",null,0,0,0]
[null,null,700,null,"CHAPA DE MDF CRU, E = 20 MM, DE *2,75 X 1,85* M",34674,"M2",null,0,0,0]
[null,null,701,null,"CHAPA DE MDF CRU, E = 25 MM, DE *2,75 X 1,85* M",34675,"M2",null,0,0,0]
[null,null,702,null,"CHAPA DE MDF CRU, E = 6 MM, DE *2,75 X 1,85* M",34676,"M2",null,0,0,0]
[null,null,703,null,"CHAPA DE MDF CRU, E = 9 MM, DE *2,75 X 1,85* M",34677,"M2",null,0,0,0]
[null,null,704,null,"CHAPA PARA EMENDA DE VIGA, EM ACO GROSSO, QUALIDADE ESTRUTURAL, BITOLA 3/16 \", E= 4,75 MM, 4 FUROS, LARGURA 45 MM, COMPRIMENTO 500 MM",40623,"PAR",null,0,0,0]
[null,null,705,null,"CHAPA RIGIDA DE FIBRAS DE MADEIRA PRENSADA A QUENTE, LISA, DE *1,22 X 2,44* M,  E = 2,5 MM",11584,"UN",null,0,0,0]
[null,null,706,null,"CHAVE BLINDADA TRIPOLAR PARA MOTORES, DO TIPO FACA, COM PORTA FUSIVEL DO TIPO CARTUCHO, CORRENTE NOMINAL DE 30 A, TENSAO NOMINAL DE 250 V",12081,"UN",null,0,0,{"$f":"TRUNC(ROUND((I724*J724)/12,2),2)","v":0}]
[null,null,707,null,"CHAVE BLINDADA TRIPOLAR PARA MOTORES, DO TIPO FACA, COM PORTA FUSIVEL DO TIPO CARTUCHO, CORRENTE NOMINAL DE 60 A, TENSAO NOMINAL DE 250 V",12082,"UN",null,0,0,0]
[null,null,708,null,"CHAVE DUPLA PARA CONEXOES TIPO STORZ, ENGATE RAPIDO 1 1/2\" X 2 1/2\", EM LATAO, PARA INSTALACAO PREDIAL COMBATE A INCENDIO",20971,"UN",null,0,0,0]
[null,null,709,null,"CHAVE FUSIVEL PARA REDES DE DISTRIBUICAO, TENSAO DE 15,0 KV, CORRENTE NOMINAL DO PORTA FUSIVEL DE 100 A, CAPACIDADE DE INTERRUPCAO SIMETRICA DE 7,10 KA, CAPACIDADE DE INTERRUPCAO ASSIMETRICA 10,00 KA",5047,"UN",null,0,0,0]
[null,null,710,null,"CHAVE SECCIONADORA-FUSIVEL BLINDADA TRIPOLAR, ABERTURA COM CARGA, PARA FUSIVEL NH00, CORRENTE NOMINAL DE 160 A, TENSAO DE 500 V",13369,"UN",null,0,0,0]
[null,null,711,null,"CHAVE SECCIONADORA-FUSIVEL BLINDADA TRIPOLAR, ABERTURA COM CARGA, PARA FUSIVEL NH01, CORRENTE NOMINAL DE 250 A, TENSAO DE 500 V",13370,"UN",null,0,0,0]
[null,null,712,null,"CHUMBADOR DE ACO TIPO PARABOLT, * 5/8\" X 200* MM,  COM PORCA E ARRUELA",13279,"KG",null,0,0,0]
[null,null,713,null,"CHUMBADOR DE ACO, DIAMETRO 1/2\", COMPRIMENTO 75 MM",11977,"UN",null,0,0,0]
[null,null,714,null,"CHUMBADOR DE ACO, DIAMETRO 5/8\", COMPRIMENTO 6\", COM PORCA",11975,"UN",null,0,0,0]
[null,null,715,null,"CHUMBADOR, DIAMETRO 1/4\" COM PARAFUSO 1/4\" X 40 MM",11976,"UN",null,0,0,0]
[null,null,716,null,"CHUVEIRO COMUM EM PLASTICO BRANCO, COM CANO, 3 TEMPERATURAS, 5500 W (110/220 V)",1368,"UN",null,0,0,0]
[null,null,717,null,"CHUVEIRO COMUM EM PLASTICO CROMADO, COM CANO, 4 TEMPERATURAS (110/220 V)",1367,"UN",null,0,0,0]
[null,null,718,null,"CHUVEIRO PLASTICO BRANCO SIMPLES 5 '' PARA ACOPLAR EM HASTE 1/2 \", AGUA FRIA",7608,"UN",null,0,0,0]
[null,null,719,null,"CIMENTO BRANCO",1380,"KG",null,0,0,0]
[null,null,720,null,"CIMENTO IMPERMEABILIZANTE DE PEGA ULTRARRAPIDA PARA TAMPONAMENTOS",1375,"KG",null,0,0,0]
[null,null,721,null,"CIMENTO PORTLAND COMPOSTO CP II-32",1379,"KG",null,0,0,0]
[null,null,722,null,"CIMENTO PORTLAND COMPOSTO CP II-32 (SACO DE 50 KG)",10511,"50KG",null,0,0,0]
[null,null,723,null,"CIMENTO PORTLAND DE ALTO FORNO (AF) CP III-32",13284,"KG",null,0,0,0]
[null,null,724,null,"CIMENTO PORTLAND ESTRUTURAL BRANCO CPB-32",25974,"KG",null,0,0,0]
[null,null,725,null,"CIMENTO PORTLAND POZOLANICO CP IV- 32",1382,"50KG",null,0,0,0]
[null,null,726,null,"CIMENTO PORTLAND POZOLANICO CP IV-32",34753,"KG",null,0,0,0]
[null,null,727,null,"COLA A BASE DE RESINA SINTETICA PARA CHAPA DE LAMINADO MELAMINICO",1339,"KG",null,0,0,0]
[null,null,728,null,"COLA BRANCA BASE PVA",11849,"L",null,0,0,0]
[null,null,729,null,"CONCERTINA CLIPADA (DUPLA) EM ACO GALVANIZADO DE ALTA RESISTENCIA, COM ESPIRAL DE 300 MM, D = 2,76 MM",34348,"M",null,0,0,0]
[null,null,730,null,"CONCERTINA SIMPLES EM ACO GALVANIZADO DE ALTA RESISTENCIA, COM ESPIRAL DE 300 MM, D = 2,76 MM",34347,"M",null,0,0,0]
[null,null,731,null,"CONCRETO AUTOADENSAVEL (CAA) CLASSE DE RESISTENCIA C15, ESPALHAMENTO SF2, INCLUI SERVICO DE BOMBEAMENTO (NBR 15823)",11146,"M3",null,0,0,0]
[null,null,732,null,"CONCRETO AUTOADENSAVEL (CAA) CLASSE DE RESISTENCIA C20, ESPALHAMENTO SF2, INCLUI SERVICO DE BOMBEAMENTO (NBR 15823)",11147,"M3",null,0,0,0]
[null,null,733,null,"CONCRETO AUTOADENSAVEL (CAA) CLASSE DE RESISTENCIA C25, ESPALHAMENTO SF2, INCLUI SERVICO DE BOMBEAMENTO (NBR 15823)",34872,"M3",null,0,0,0]
[null,null,734,null,"CONCRETO AUTOADENSAVEL (CAA) CLASSE DE RESISTENCIA C30, ESPALHAMENTO SF2, INCLUI SERVICO DE BOMBEAMENTO (NBR 15823)",34491,"M3",null,0,0,0]
[null,null,735,null,"CONCRETO USINADO BOMBEAVEL, CLASSE DE RESISTENCIA C20, COM BRITA 0 E 1, SLUMP = 100 +/- 20 MM, EXCLUI SERVICO DE BOMBEAMENTO (NBR 8953)",34492,"M3",null,0,0,0]
[null,null,736,null,"CONCRETO USINADO BOMBEAVEL, CLASSE DE RESISTENCIA C20, COM BRITA 0 E 1, SLUMP = 100 +/- 20 MM, INCLUI SERVICO DE BOMBEAMENTO (NBR 8953)",1524,"M3",null,0,0,0]
[null,null,737,null,"CONCRETO USINADO BOMBEAVEL, CLASSE DE RESISTENCIA C20, COM BRITA 0 E 1, SLUMP = 130 +/- 20 MM, EXCLUI SERVICO DE BOMBEAMENTO (NBR 8953)",38404,"M3",null,0,0,0]
[null,null,738,null,"CONCRETO USINADO BOMBEAVEL, CLASSE DE RESISTENCIA C20, COM BRITA 0 E 1, SLUMP = 190 +/- 20 MM, INCLUI SERVICO DE BOMBEAMENTO (NBR 8953)",39849,"M3",null,0,0,0]
[null,null,739,null,"CONCRETO USINADO BOMBEAVEL, CLASSE DE RESISTENCIA C20, COM BRITA 0, SLUMP = 220 +/- 20 MM, INCLUI SERVICO DE BOMBEAMENTO (NBR 8953)",38464,"M3",null,0,0,0]
[null,null,740,null,"CONCRETO USINADO BOMBEAVEL, CLASSE DE RESISTENCIA C25, COM BRITA 0 E 1, SLUMP = 100 +/- 20 MM, EXCLUI SERVICO DE BOMBEAMENTO (NBR 8953)",34493,"M3",null,0,0,0]
[null,null,741,null,"CONCRETO USINADO BOMBEAVEL, CLASSE DE RESISTENCIA C25, COM BRITA 0 E 1, SLUMP = 100 +/- 20 MM, INCLUI SERVICO DE BOMBEAMENTO (NBR 8953)",1527,"M3",null,0,0,0]
[null,null,742,null,"CONCRETO USINADO BOMBEAVEL, CLASSE DE RESISTENCIA C25, COM BRITA 0 E 1, SLUMP = 130 +/- 20 MM, EXCLUI SERVICO DE BOMBEAMENTO (NBR 8953)",38405,"M3",null,0,0,0]
[null,null,743,null,"CONCRETO USINADO BOMBEAVEL, CLASSE DE RESISTENCIA C25, COM BRITA 0 E 1, SLUMP = 190 +/- 20 MM, EXCLUI SERVICO DE BOMBEAMENTO (NBR 8953)",38408,"M3",null,0,0,0]
[null,null,744,null,"CONCRETO USINADO BOMBEAVEL, CLASSE DE RESISTENCIA C30, COM BRITA 0 E 1, SLUMP = 100 +/- 20 MM, EXCLUI SERVICO DE BOMBEAMENTO (NBR 8953)",34494,"M3",null,0,0,0]
[null,null,745,null,"CONCRETO USINADO BOMBEAVEL, CLASSE DE RESISTENCIA C30, COM BRITA 0 E 1, SLUMP = 100 +/- 20 MM, INCLUI SERVICO DE BOMBEAMENTO (NBR 8953)",1525,"M3",null,0,0,0]
[null,null,746,null,"CONCRETO USINADO BOMBEAVEL, CLASSE DE RESISTENCIA C30, COM BRITA 0 E 1, SLUMP = 130 +/- 20 MM, EXCLUI SERVICO DE BOMBEAMENTO (NBR 8953)",38406,"M3",null,0,0,0]
[null,null,747,null,"CONCRETO USINADO BOMBEAVEL, CLASSE DE RESISTENCIA C30, COM BRITA 0 E 1, SLUMP = 190 +/- 20 MM, EXCLUI SERVICO DE BOMBEAMENTO (NBR 8953)",38409,"M3",null,0,0,0]
[null,null,748,null,"CONCRETO USINADO BOMBEAVEL, CLASSE DE RESISTENCIA C35, COM BRITA 0 E 1, SLUMP = 100 +/- 20 MM, EXCLUI SERVICO DE BOMBEAMENTO (NBR 8953)",34495,"M3",null,0,0,0]
[null,null,749,null,"CONCRETO USINADO BOMBEAVEL, CLASSE DE RESISTENCIA C35, COM BRITA 0 E 1, SLUMP = 100 +/- 20 MM, INCLUI SERVICO DE BOMBEAMENTO (NBR 8953)",11145,"M3",null,0,0,0]
[null,null,750,null,"CONCRETO USINADO BOMBEAVEL, CLASSE DE RESISTENCIA C40, COM BRITA 0 E 1, SLUMP = 100 +/- 20 MM, EXCLUI SERVICO DE BOMBEAMENTO (NBR 8953)",34496,"M3",null,0,0,0]
[null,null,751,null,"CONCRETO USINADO BOMBEAVEL, CLASSE DE RESISTENCIA C40, COM BRITA 0 E 1, SLUMP = 100 +/- 20 MM, INCLUI SERVICO DE BOMBEAMENTO (NBR 8953)",34479,"M3",null,0,0,0]
[null,null,752,null,"CONCRETO USINADO BOMBEAVEL, CLASSE DE RESISTENCIA C45, COM BRITA 0 E 1, SLUMP = 100 +/- 20 MM, INCLUI SERVICO DE BOMBEAMENTO (NBR 8953)",34481,"M3",null,0,0,0]
[null,null,753,null,"CONCRETO USINADO BOMBEAVEL, CLASSE DE RESISTENCIA C50, COM BRITA 0 E 1, SLUMP = 100 +/- 20 MM, INCLUI SERVICO DE BOMBEAMENTO (NBR 8953)",34483,"M3",null,0,0,0]
[null,null,754,null,"CONCRETO USINADO BOMBEAVEL, CLASSE DE RESISTENCIA C60, COM BRITA 0 E 1, SLUMP = 100 +/- 20 MM, INCLUI SERVICO DE BOMBEAMENTO (NBR 8953)",34485,"M3",null,0,0,0]
[null,null,755,null,"CONCRETO USINADO BOMBEAVEL, CLASSE DE RESISTENCIA C80, COM BRITA 0 E 1, SLUMP = 100 +/- 20 MM, EXCLUI SERVICO DE BOMBEAMENTO (NBR 8953)",34497,"M3",null,0,0,0]
[null,null,756,null,"CONCRETO USINADO CONVENCIONAL (NAO BOMBEAVEL) CLASSE DE RESISTENCIA C10, COM BRITA 1 E 2, SLUMP = 80 MM +/- 10 MM (NBR 8953)",14041,"M3",null,0,0,0]
[null,null,757,null,"CONCRETO USINADO CONVENCIONAL (NAO BOMBEAVEL) CLASSE DE RESISTENCIA C15, COM BRITA 1 E 2, SLUMP = 80 MM +/- 10 MM (NBR 8953)",1523,"M3",null,0,0,0]
[null,null,758,null,"CONDULETE DE ALUMINIO TIPO X, PARA ELETRODUTO ROSCAVEL DE 1 1/2\", COM TAMPA CEGA",2582,"UN",null,0,0,0]
[null,null,759,null,"CONDULETE DE ALUMINIO TIPO X, PARA ELETRODUTO ROSCAVEL DE 1 1/4\", COM TAMPA CEGA",2597,"UN",null,0,0,0]
[null,null,760,null,"CONDULETE DE ALUMINIO TIPO X, PARA ELETRODUTO ROSCAVEL DE 1\", COM TAMPA CEGA",2581,"UN",null,0,0,0]
[null,null,761,null,"CONDULETE DE ALUMINIO TIPO X, PARA ELETRODUTO ROSCAVEL DE 1/2\", COM TAMPA CEGA",2579,"UN",null,0,0,0]
[null,null,762,null,"CONDULETE DE ALUMINIO TIPO X, PARA ELETRODUTO ROSCAVEL DE 2\", COM TAMPA CEGA",2596,"UN",null,0,0,0]
[null,null,763,null,"CONDULETE DE ALUMINIO TIPO X, PARA ELETRODUTO ROSCAVEL DE 3/4\", COM TAMPA CEGA",2580,"UN",null,0,0,0]
[null,null,764,null,"CONDULETE EM PVC, TIPO \"X\", SEM TAMPA, DE 1\"",39345,"UN",null,0,0,0]
[null,null,765,null,"CONDULETE EM PVC, TIPO \"X\", SEM TAMPA, DE 1/2\"",39343,"UN",null,0,0,0]
[null,null,766,null,"CONDULETE EM PVC, TIPO \"X\", SEM TAMPA, DE 3/4\"",39344,"UN",null,0,0,0]
[null,null,767,null,"CONDUTOR PLUVIAL, PVC, CIRCULAR, DIAMETRO ENTRE 80 E 100 MM, PARA DRENAGEM PREDIAL",12623,"M",null,0,0,0]
[null,null,768,null,"CONE DE SINALIZACAO EM PVC FLEXIVEL, H = 70 / 76 CM (NBR 15071)",34498,"UN",null,0,0,0]
[null,null,769,null,"CONE DE SINALIZACAO EM PVC RIGIDO COM FAIXA REFLETIVA, H = 70 / 76 CM",13244,"UN",null,0,0,0]
[null,null,770,null,"CONECTOR / ADAPTADOR FEMEA, COM INSERTO METALICO, PPR, DN 25 MM X 1/2\", PARA AGUA QUENTE E FRIA PREDIAL",38998,"UN",null,0,0,{"$f":"TRUNC(ROUND((I788*J788)/12,2),2)","v":0}]
[null,null,771,null,"CONECTOR / ADAPTADOR FEMEA, COM INSERTO METALICO, PPR, DN 32 MM X 3/4\", PARA AGUA QUENTE E FRIA PREDIAL",38999,"UN",null,0,0,0]
[null,null,772,null,"CONECTOR / ADAPTADOR MACHO, COM INSERTO METALICO, PPR, DN 25 MM X 1/2\", PARA AGUA QUENTE E FRIA PREDIAL",38996,"UN",null,0,0,0]
[null,null,773,null,"CONECTOR / ADAPTADOR MACHO, COM INSERTO METALICO, PPR, DN 32 MM X 3/4\", PARA AGUA QUENTE E FRIA PREDIAL",38997,"UN",null,0,0,0]
[null,null,774,null,"CONECTOR BRONZE/LATAO (REF 603) SEM ANEL DE SOLDA, BOLSA X ROSCA F, 15 MM X 1/2\"",39862,"UN",null,0,0,0]
[null,null,775,null,"CONECTOR BRONZE/LATAO (REF 603) SEM ANEL DE SOLDA, BOLSA X ROSCA F, 22 MM X 1/2\"",39863,"UN",null,0,0,0]
[null,null,776,null,"CONECTOR BRONZE/LATAO (REF 603) SEM ANEL DE SOLDA, BOLSA X ROSCA F, 22 MM X 3/4\"",39864,"UN",null,0,0,0]
[null,null,777,null,"CONECTOR BRONZE/LATAO (REF 603) SEM ANEL DE SOLDA, BOLSA X ROSCA F, 28 MM X 1/2\"",39865,"UN",null,0,0,0]
[null,null,778,null,"CONECTOR CURVO 90 GRAUS DE ALUMINIO, BITOLA 1 1/2\", PARA ADAPTAR ENTRADA DE ELETRODUTO METALICO FLEXIVEL EM QUADROS",2517,"UN",null,0,0,0]
[null,null,779,null,"CONECTOR CURVO 90 GRAUS DE ALUMINIO, BITOLA 1 1/4\", PARA ADAPTAR ENTRADA DE ELETRODUTO METALICO FLEXIVEL EM QUADROS",2522,"UN",null,0,0,0]
[null,null,780,null,"CONECTOR CURVO 90 GRAUS DE ALUMINIO, BITOLA 1\", PARA ADAPTAR ENTRADA DE ELETRODUTO METALICO FLEXIVEL EM QUADROS",2516,"UN",null,0,0,0]
[null,null,781,null,"CONECTOR CURVO 90 GRAUS DE ALUMINIO, BITOLA 1/2\", PARA ADAPTAR ENTRADA DE ELETRODUTO METALICO FLEXIVEL EM QUADROS",2548,"UN",null,0,0,0]
[null,null,782,null,"CONECTOR CURVO 90 GRAUS DE ALUMINIO, BITOLA 2 1/2\", PARA ADAPTAR ENTRADA DE ELETRODUTO METALICO FLEXIVEL EM QUADROS",2518,"UN",null,0,0,0]
[null,null,783,null,"CONECTOR CURVO 90 GRAUS DE ALUMINIO, BITOLA 2\", PARA ADAPTAR ENTRADA DE ELETRODUTO METALICO FLEXIVEL EM QUADROS",2521,"UN",null,0,0,0]
[null,null,784,null,"CONECTOR CURVO 90 GRAUS DE ALUMINIO, BITOLA 3/4\", PARA ADAPTAR ENTRADA DE ELETRODUTO METALICO FLEXIVEL EM QUADROS",2515,"UN",null,0,0,0]
[null,null,785,null,"CONECTOR DE ALUMINIO TIPO PRENSA CABO, BITOLA 1 1/2\", PARA CABOS DE DIAMETRO DE 37 A 40 MM",1602,"UN",null,0,0,0]
[null,null,786,null,"CONECTOR DE ALUMINIO TIPO PRENSA CABO, BITOLA 1 1/4\", PARA CABOS DE DIAMETRO DE 31 A 34 MM",1601,"UN",null,0,0,0]
[null,null,787,null,"CONECTOR DE ALUMINIO TIPO PRENSA CABO, BITOLA 1\", PARA CABOS DE DIAMETRO DE 22,5 A 25 MM",1600,"UN",null,0,0,0]
[null,null,788,null,"CONECTOR DE ALUMINIO TIPO PRENSA CABO, BITOLA 1/2\", PARA CABOS DE DIAMETRO DE 12,5 A 15 MM",1598,"UN",null,0,0,0]
[null,null,789,null,"CONECTOR DE ALUMINIO TIPO PRENSA CABO, BITOLA 2\", PARA CABOS DE DIAMETRO DE 47,5 A 50 MM",1603,"UN",null,0,0,0]
[null,null,790,null,"CONECTOR DE ALUMINIO TIPO PRENSA CABO, BITOLA 3/4\", PARA CABOS DE DIAMETRO DE 17,5 A 20 MM",1599,"UN",null,0,0,0]
[null,null,791,null,"CONECTOR DE ALUMINIO TIPO PRENSA CABO, BITOLA 3/8\", PARA CABOS DE DIAMETRO DE 9 A 10 MM",1597,"UN",null,0,0,0]
[null,null,792,null,"CONECTOR FEMEA RJ - 45, CATEGORIA 5 E",39600,"UN",null,0,0,0]
[null,null,793,null,"CONECTOR FEMEA RJ - 45, CATEGORIA 6",39601,"UN",null,0,0,0]
[null,null,794,null,"CONECTOR MACHO RJ - 45, CATEGORIA 5 E",39602,"UN",null,0,0,0]
[null,null,795,null,"CONECTOR MACHO RJ - 45, CATEGORIA 6",39603,"UN",null,0,0,0]
[null,null,796,null,"CONECTOR METALICO TIPO PARAFUSO FENDIDO (SPLIT BOLT), COM SEPARADOR DE CABOS BIMETALICOS, PARA CABOS ATE 25 MM2",11821,"UN",null,0,0,0]
[null,null,797,null,"CONECTOR METALICO TIPO PARAFUSO FENDIDO (SPLIT BOLT), COM SEPARADOR DE CABOS BIMETALICOS, PARA CABOS ATE 50 MM2",1562,"UN",null,0,0,0]
[null,null,798,null,"CONECTOR METALICO TIPO PARAFUSO FENDIDO (SPLIT BOLT), COM SEPARADOR DE CABOS BIMETALICOS, PARA CABOS ATE 70 MM2",1563,"UN",null,0,0,0]
[null,null,799,null,"CONECTOR METALICO TIPO PARAFUSO FENDIDO (SPLIT BOLT), PARA CABOS ATE 10 MM2",11856,"UN",null,0,0,0]
[null,null,800,null,"CONECTOR METALICO TIPO PARAFUSO FENDIDO (SPLIT BOLT), PARA CABOS ATE 120 MM2",11857,"UN",null,0,0,0]
[null,null,801,null,"CONECTOR METALICO TIPO PARAFUSO FENDIDO (SPLIT BOLT), PARA CABOS ATE 150 MM2",11858,"UN",null,0,0,0]
[null,null,802,null,"CONECTOR METALICO TIPO PARAFUSO FENDIDO (SPLIT BOLT), PARA CABOS ATE 16 MM2",1539,"UN",null,0,0,0]
[null,null,803,null,"CONECTOR METALICO TIPO PARAFUSO FENDIDO (SPLIT BOLT), PARA CABOS ATE 185 MM2",11859,"UN",null,0,0,0]
[null,null,804,null,"CONECTOR METALICO TIPO PARAFUSO FENDIDO (SPLIT BOLT), PARA CABOS ATE 25 MM2",1550,"UN",null,0,0,0]
[null,null,805,null,"CONECTOR METALICO TIPO PARAFUSO FENDIDO (SPLIT BOLT), PARA CABOS ATE 35 MM2",11854,"UN",null,0,0,0]
[null,null,806,null,"CONECTOR METALICO TIPO PARAFUSO FENDIDO (SPLIT BOLT), PARA CABOS ATE 50 MM2",11862,"UN",null,0,0,0]
[null,null,807,null,"CONECTOR METALICO TIPO PARAFUSO FENDIDO (SPLIT BOLT), PARA CABOS ATE 6 MM2",11863,"UN",null,0,0,0]
[null,null,808,null,"CONECTOR METALICO TIPO PARAFUSO FENDIDO (SPLIT BOLT), PARA CABOS ATE 70 MM2",11855,"UN",null,0,0,0]
[null,null,809,null,"CONECTOR METALICO TIPO PARAFUSO FENDIDO (SPLIT BOLT), PARA CABOS ATE 95 MM2",11864,"UN",null,0,0,0]
[null,null,810,null,"CONECTOR RETO DE ALUMINIO PARA ELETRODUTO DE 1 1/2\", PARA ADAPTAR ENTRADA DE ELETRODUTO METALICO FLEXIVEL EM QUADROS",2527,"UN",null,0,0,0]
[null,null,811,null,"CONECTOR RETO DE ALUMINIO PARA ELETRODUTO DE 1 1/4\", PARA ADAPTAR ENTRADA DE ELETRODUTO METALICO FLEXIVEL EM QUADROS",2526,"UN",null,0,0,0]
[null,null,812,null,"CONECTOR RETO DE ALUMINIO PARA ELETRODUTO DE 1\", PARA ADAPTAR ENTRADA DE ELETRODUTO METALICO FLEXIVEL EM QUADROS",2483,"UN",null,0,0,0]
[null,null,813,null,"CONECTOR RETO DE ALUMINIO PARA ELETRODUTO DE 1/2\", PARA ADAPTAR ENTRADA DE ELETRODUTO METALICO FLEXIVEL EM QUADROS",2487,"UN",null,0,0,0]
[null,null,814,null,"CONECTOR RETO DE ALUMINIO PARA ELETRODUTO DE 2 1/2\", PARA ADAPTAR ENTRADA DE ELETRODUTO METALICO FLEXIVEL EM QUADROS",2528,"UN",null,0,0,0]
[null,null,815,null,"CONECTOR RETO DE ALUMINIO PARA ELETRODUTO DE 3/4\", PARA ADAPTAR ENTRADA DE ELETRODUTO METALICO FLEXIVEL EM QUADROS",2488,"UN",null,0,0,0]
[null,null,816,null,"CONJUNTO DE FECHADURA DE SOBREPOR EM FERRO PINTADO, SEM MACANETA, COM CHAVE GRANDE (SEM CILINDRO) - TIPO CAIXAO - COMPLETA",11467,"UN",null,0,0,0]
[null,null,817,null,"CONJUNTO DE FERRAGENS PIVO, PARA PORTA PIVOTANTE DE ATE 100 KG, REGULAVEL COM ESFERA , CROMADO - SUPERIOR E INFERIOR - COMPLETO",38169,"CJ",null,0,0,0]
[null,null,818,null,"CONJUNTO DE LIGACAO PARA BACIA SANITARIA AJUSTAVEL, EM PLASTICO BRANCO, COM TUBO, CANOPLA E ESPUDE",6142,"UN",null,0,0,0]
[null,null,819,null,"CONJUNTO DE LIGACAO PARA BACIA SANITARIA EM PLASTICO BRANCO COM TUBO, CANOPLA E ANEL DE EXPANSAO (TUBO 1.1/2 '' X 20 CM)",11686,"UN",null,0,0,0]
[null,null,820,null,"CONJUNTO MONTADO ESTOPIM COM ESPOLETA COMUM NUMERO 8, COM CABECA ACENDEDORA, 1,5 M",37598,"UN",null,0,0,0]
[null,null,821,null,"CONTATOR TRIPOLAR, CORRENTE DE *22* A, TENSAO NOMINAL DE *500* V, CATEGORIA AC-2 E AC-3",1625,"UN",null,0,0,0]
[null,null,822,null,"CONTATOR TRIPOLAR, CORRENTE DE *38* A, TENSAO NOMINAL DE *500* V, CATEGORIA AC-2 E AC-3",1620,"UN",null,0,0,0]
[null,null,823,null,"CONTATOR TRIPOLAR, CORRENTE DE *65* A, TENSAO NOMINAL DE *500* V, CATEGORIA AC-2 E AC-3",1627,"UN",null,0,0,0]
[null,null,824,null,"CONTATOR TRIPOLAR, CORRENTE DE 12 A, TENSAO NOMINAL DE *500* V, CATEGORIA AC-2 E AC-3",1623,"UN",null,0,0,0]
[null,null,825,null,"CONTATOR TRIPOLAR, CORRENTE DE 25 A, TENSAO NOMINAL DE *500* V, CATEGORIA AC-2 E AC-3",1619,"UN",null,0,0,0]
[null,null,826,null,"CONTATOR TRIPOLAR, CORRENTE DE 32 A, TENSAO NOMINAL DE *500* V, CATEGORIA AC-2 E AC-3",1614,"UN",null,0,0,0]
[null,null,827,null,"CONTATOR TRIPOLAR, CORRENTE DE 45 A, TENSAO NOMINAL DE *500* V, CATEGORIA AC-2 E AC-3",1621,"UN",null,0,0,0]
[null,null,828,null,"CONTATOR TRIPOLAR, CORRENTE DE 75 A, TENSAO NOMINAL DE *500* V, CATEGORIA AC-2 E AC-3",1615,"UN",null,0,0,0]
[null,null,829,null,"CONTATOR TRIPOLAR, CORRENTE DE 9 A, TENSAO NOMINAL DE *500* V, CATEGORIA AC-2 E AC-3",1612,"UN",null,0,0,0]
[null,null,830,null,"CONTRA-PORCA SEXTAVADA, DIAMETRO NOMINAL 1 3/8\", ALTURA 35 MM",14211,"UN",null,0,0,0]
[null,null,831,null,"CORANTE LIQUIDO PARA TINTA PVA, BISNAGA 50 ML",5328,"UN",null,0,0,0]
[null,null,832,null,"CORDA DE POLIAMIDA 12 MM TIPO BOMBEIRO, PARA TRABALHO EM ALTURA",38200,"100M",null,0,0,0]
[null,null,833,null,"CORDAO DE COBRE, FLEXIVEL, TORCIDO, CLASSE 4 OU 5, ISOLACAO EM PVC/D, 300 V, 2 CONDUTORES DE 0,5 MM2",39269,"M",null,0,0,0]
[null,null,834,null,"CORDAO DE COBRE, FLEXIVEL, TORCIDO, CLASSE 4 OU 5, ISOLACAO EM PVC/D, 300 V, 2 CONDUTORES DE 0,75 MM2",11889,"M",null,0,0,{"$f":"TRUNC(ROUND((I852*J852)/12,2),2)","v":0}]
[null,null,835,null,"CORDAO DE COBRE, FLEXIVEL, TORCIDO, CLASSE 4 OU 5, ISOLACAO EM PVC/D, 300 V, 2 CONDUTORES DE 1,0 MM2",39270,"M",null,0,0,0]
[null,null,836,null,"CORDAO DE COBRE, FLEXIVEL, TORCIDO, CLASSE 4 OU 5, ISOLACAO EM PVC/D, 300 V, 2 CONDUTORES DE 1,5 MM2",11890,"M",null,0,0,0]
[null,null,837,null,"CORDAO DE COBRE, FLEXIVEL, TORCIDO, CLASSE 4 OU 5, ISOLACAO EM PVC/D, 300 V, 2 CONDUTORES DE 2,5 MM2",11891,"M",null,0,0,0]
[null,null,838,null,"CORDAO DE COBRE, FLEXIVEL, TORCIDO, CLASSE 4 OU 5, ISOLACAO EM PVC/D, 300 V, 2 CONDUTORES DE 4 MM2",11892,"M",null,0,0,0]
[null,null,839,null,"CORRENTE DE ELO CURTO COMUM, SOLDADA, GALVANIZADA, ESPESSURA DO ELO = 1/2\" (12,5 MM)",5086,"KG",null,0,0,0]
[null,null,840,null,"COTOVELO 45 GRAUS DE FERRO GALVANIZADO, COM ROSCA BSP, DE 1 1/2\"",3446,"UN",null,0,0,0]
[null,null,841,null,"COTOVELO 45 GRAUS DE FERRO GALVANIZADO, COM ROSCA BSP, DE 1 1/4\"",3445,"UN",null,0,0,0]
[null,null,842,null,"COTOVELO 45 GRAUS DE FERRO GALVANIZADO, COM ROSCA BSP, DE 1\"",3444,"UN",null,0,0,0]
[null,null,843,null,"COTOVELO 45 GRAUS DE FERRO GALVANIZADO, COM ROSCA BSP, DE 1/2\"",3441,"UN",null,0,0,0]
[null,null,844,null,"COTOVELO 45 GRAUS DE FERRO GALVANIZADO, COM ROSCA BSP, DE 2 1/2\"",12402,"UN",null,0,0,0]
[null,null,845,null,"COTOVELO 45 GRAUS DE FERRO GALVANIZADO, COM ROSCA BSP, DE 2\"",3447,"UN",null,0,0,0]
[null,null,846,null,"COTOVELO 45 GRAUS DE FERRO GALVANIZADO, COM ROSCA BSP, DE 3/4\"",3442,"UN",null,0,0,0]
[null,null,847,null,"COTOVELO 45 GRAUS, PEAD PE 100, DE 32 MM, PARA ELETROFUSAO",37435,"UN",null,0,0,0]
[null,null,848,null,"COTOVELO 45 GRAUS, PEAD PE 100, DE 40 MM, PARA ELETROFUSAO",37436,"UN",null,0,0,0]
[null,null,849,null,"COTOVELO 45 GRAUS, PEAD PE 100, DE 63 MM, PARA ELETROFUSAO",37437,"UN",null,0,0,0]
[null,null,850,null,"COTOVELO 90 GRAUS DE FERRO GALVANIZADO, COM ROSCA BSP MACHO/FEMEA, DE 1 1/2\"",3473,"UN",null,0,0,0]
[null,null,851,null,"COTOVELO 90 GRAUS DE FERRO GALVANIZADO, COM ROSCA BSP MACHO/FEMEA, DE 1 1/4\"",3474,"UN",null,0,0,0]
[null,null,852,null,"COTOVELO 90 GRAUS DE FERRO GALVANIZADO, COM ROSCA BSP MACHO/FEMEA, DE 1\"",3443,"UN",null,0,0,0]
[null,null,853,null,"COTOVELO 90 GRAUS DE FERRO GALVANIZADO, COM ROSCA BSP MACHO/FEMEA, DE 1/2\"",3450,"UN",null,0,0,0]
[null,null,854,null,"COTOVELO 90 GRAUS DE FERRO GALVANIZADO, COM ROSCA BSP MACHO/FEMEA, DE 2 1/2\"",3453,"UN",null,0,0,0]
[null,null,855,null,"COTOVELO 90 GRAUS DE FERRO GALVANIZADO, COM ROSCA BSP MACHO/FEMEA, DE 2\"",3452,"UN",null,0,0,0]
[null,null,856,null,"COTOVELO 90 GRAUS DE FERRO GALVANIZADO, COM ROSCA BSP MACHO/FEMEA, DE 3/4\"",3451,"UN",null,0,0,0]
[null,null,857,null,"COTOVELO 90 GRAUS DE FERRO GALVANIZADO, COM ROSCA BSP, DE 1 1/2\"",3458,"UN",null,0,0,0]
[null,null,858,null,"COTOVELO 90 GRAUS DE FERRO GALVANIZADO, COM ROSCA BSP, DE 1 1/4\"",3457,"UN",null,0,0,0]
[null,null,859,null,"COTOVELO 90 GRAUS DE FERRO GALVANIZADO, COM ROSCA BSP, DE 1\"",3472,"UN",null,0,0,0]
[null,null,860,null,"COTOVELO 90 GRAUS DE FERRO GALVANIZADO, COM ROSCA BSP, DE 1/2\"",3455,"UN",null,0,0,0]
[null,null,861,null,"COTOVELO 90 GRAUS DE FERRO GALVANIZADO, COM ROSCA BSP, DE 2 1/2\"",3470,"UN",null,0,0,0]
[null,null,862,null,"COTOVELO 90 GRAUS DE FERRO GALVANIZADO, COM ROSCA BSP, DE 2\"",3471,"UN",null,0,0,0]
[null,null,863,null,"COTOVELO 90 GRAUS DE FERRO GALVANIZADO, COM ROSCA BSP, DE 3/4\"",3456,"UN",null,0,0,0]
[null,null,864,null,"COTOVELO 90 GRAUS, PEAD PE 100, DE 125 MM, PARA ELETROFUSAO",37433,"UN",null,0,0,0]
[null,null,865,null,"COTOVELO 90 GRAUS, PEAD PE 100, DE 20 MM, PARA ELETROFUSAO",37430,"UN",null,0,0,0]
[null,null,866,null,"COTOVELO 90 GRAUS, PEAD PE 100, DE 32 MM, PARA ELETROFUSAO",37431,"UN",null,0,0,0]
[null,null,867,null,"COTOVELO 90 GRAUS, PEAD PE 100, DE 63 MM, PARA ELETROFUSAO",37432,"UN",null,0,0,0]
[null,null,868,null,"COTOVELO BRONZE/LATAO (REF 707-3) SEM ANEL DE SOLDA, BOLSA X ROSCA F, 15MM X 1/2\"",39869,"UN",null,0,0,0]
[null,null,869,null,"COTOVELO BRONZE/LATAO (REF 707-3) SEM ANEL DE SOLDA, BOLSA X ROSCA F, 22MM X 1/2\"",39870,"UN",null,0,0,0]
[null,null,870,null,"COTOVELO BRONZE/LATAO (REF 707-3) SEM ANEL DE SOLDA, BOLSA X ROSCA F, 22MM X 3/4\"",39871,"UN",null,0,0,0]
[null,null,871,null,"COTOVELO DE COBRE 90 GRAUS (REF 607) SEM ANEL DE SOLDA, BOLSA X BOLSA, 15 MM",12714,"UN",null,0,0,0]
[null,null,872,null,"COTOVELO DE COBRE 90 GRAUS (REF 607) SEM ANEL DE SOLDA, BOLSA X BOLSA, 22 MM",12715,"UN",null,0,0,0]
[null,null,873,null,"COTOVELO DE COBRE 90 GRAUS (REF 607) SEM ANEL DE SOLDA, BOLSA X BOLSA, 28 MM",12716,"UN",null,0,0,0]
[null,null,874,null,"COTOVELO DE COBRE 90 GRAUS (REF 607) SEM ANEL DE SOLDA, BOLSA X BOLSA, 35 MM",12717,"UN",null,0,0,0]
[null,null,875,null,"COTOVELO DE COBRE 90 GRAUS (REF 607) SEM ANEL DE SOLDA, BOLSA X BOLSA, 42 MM",12718,"UN",null,0,0,0]
[null,null,876,null,"COTOVELO DE COBRE 90 GRAUS (REF 607) SEM ANEL DE SOLDA, BOLSA X BOLSA, 54 MM",12719,"UN",null,0,0,0]
[null,null,877,null,"COTOVELO DE REDUCAO 90 GRAUS DE FERRO GALVANIZADO, COM ROSCA BSP, DE 1 1/2\" X 1\"",3468,"UN",null,0,0,0]
[null,null,878,null,"COTOVELO DE REDUCAO 90 GRAUS DE FERRO GALVANIZADO, COM ROSCA BSP, DE 1 1/2\" X 3/4\"",3465,"UN",null,0,0,0]
[null,null,879,null,"COTOVELO DE REDUCAO 90 GRAUS DE FERRO GALVANIZADO, COM ROSCA BSP, DE 1 1/4\" X 1\"",12403,"UN",null,0,0,0]
[null,null,880,null,"COTOVELO DE REDUCAO 90 GRAUS DE FERRO GALVANIZADO, COM ROSCA BSP, DE 1\" X 1/2\"",3463,"UN",null,0,0,0]
[null,null,881,null,"COTOVELO DE REDUCAO 90 GRAUS DE FERRO GALVANIZADO, COM ROSCA BSP, DE 1\" X 3/4\"",3464,"UN",null,0,0,0]
[null,null,882,null,"COTOVELO DE REDUCAO 90 GRAUS DE FERRO GALVANIZADO, COM ROSCA BSP, DE 2 1/2\" X 2\"",3466,"UN",null,0,0,0]
[null,null,883,null,"COTOVELO DE REDUCAO 90 GRAUS DE FERRO GALVANIZADO, COM ROSCA BSP, DE 2\" X 1 1/2\"",3467,"UN",null,0,0,0]
[null,null,884,null,"COTOVELO DE REDUCAO 90 GRAUS DE FERRO GALVANIZADO, COM ROSCA BSP, DE 3/4\" X 1/2\"",3462,"UN",null,0,0,0]
[null,null,885,null,"COTOVELO/JOELHO 90 GRAUS, EM POLIPROPILENO, PN 16, PARA TUBOS PEAD, 20 X 20 MM - LIGACAO PREDIAL DE AGUA",37416,"UN",null,0,0,0]
[null,null,886,null,"COTOVELO/JOELHO 90 GRAUS, EM POLIPROPILENO, PN 16, PARA TUBOS PEAD, 32 X 32 MM - LIGACAO PREDIAL DE AGUA",37417,"UN",null,0,0,0]
[null,null,887,null,"COTOVELO/JOELHO COM ADAPTADOR, 90 GRAUS, EM POLIPROPILENO, PN 16, PARA TUBOS PEAD, 20 MM X 1/2\" - LIGACAO PREDIAL DE AGUA",37413,"UN",null,0,0,0]
[null,null,888,null,"COTOVELO/JOELHO COM ADAPTADOR, 90 GRAUS, EM POLIPROPILENO, PN 16, PARA TUBOS PEAD, 20 MM X 3/4\" - LIGACAO PREDIAL DE AGUA",37414,"UN",null,0,0,0]
[null,null,889,null,"COTOVELO/JOELHO COM ADAPTADOR, 90 GRAUS, EM POLIPROPILENO, PN 16, PARA TUBOS PEAD, 32 MM X 1\" - LIGACAO PREDIAL DE AGUA",37415,"UN",null,0,0,0]
[null,null,890,null,"CREMONA COM CASTANHA BIPARTIDA, COM VARA DE 1.20 M, EM LATAO CROMADO, PARA PORTAS E JANELAS - COMPLETA",3112,"CJ",null,0,0,0]
[null,null,891,null,"CREMONA COM CASTANHA BIPARTIDA, COM VARA DE 1.50 M, EM LATAO CROMADO, PARA PORTAS E JANELAS - COMPLETA",3113,"CJ",null,0,0,0]
[null,null,892,null,"CREMONA LATAO CROMADO, COM CASTANHA BIPARTIDA E PRESILHAS, MEDIDAS APROXIMADAS DE 113 X 40 X 35 MM (NAO INCL VARA FERRO)",3114,"UN",null,0,0,0]
[null,null,893,null,"CUBA ACO INOX (AISI 304) DE EMBUTIR COM VALVULA 3 1/2 \", DE *40 X 34 X 12* CM",1744,"UN",null,0,0,0]
[null,null,894,null,"CUMEEIRA ALUMINIO ONDULADA, COMPRIMENTO = *1,12* M, E = 0,8 MM",7241,"M2",null,0,0,0]
[null,null,895,null,"CUMEEIRA ARTICULADA (ABA INFERIOR) PARA TELHA ONDULADA DE FIBROCIMENTO E = 4 MM, ABA *330* MM, COMPRIMENTO 500 MM (SEM AMIANTO)",39640,"UN",null,0,0,0]
[null,null,896,null,"CUMEEIRA ARTICULADA (ABA INTERNA INFERIOR OU EXTERNA SUPERIOR) PARA TELHA ESTRUTURAL DE FIBROCIMENTO, 1 ABA, E = 6 MM (SEM AMIANTO)",11013,"UN",null,0,0,0]
[null,null,897,null,"CUMEEIRA ARTICULADA (ABA SUPERIOR) PARA TELHA ONDULADA DE FIBROCIMENTO E = 4 MM, ABA *330* MM, COMPRIMENTO 500 MM (SEM AMIANTO)",11017,"UN",null,0,0,0]
[null,null,898,null,"CUMEEIRA ARTICULADA (PAR) PARA TELHA ONDULADA DE FIBROCIMENTO, E = 6 MM, ABA 350 MM, COMPRIMENTO 1100 MM (SEM AMIANTO)",20236,"UN",null,0,0,{"$f":"TRUNC(ROUND((I916*J916)/12,2),2)","v":0}]
[null,null,899,null,"CUMEEIRA NORMAL PARA TELHA ESTRUTURAL DE FIBROCIMENTO 1 ABA, E = 6 MM, COMPRIMENTO 608 MM (SEM AMIANTO)",7215,"UN",null,0,0,0]
[null,null,900,null,"CUMEEIRA NORMAL PARA TELHA ESTRUTURAL DE FIBROCIMENTO 2 ABAS, E = 6 MM, DE 1050 X 935 MM (SEM AMIANTO)",7216,"UN",null,0,0,0]
[null,null,901,null,"CUMEEIRA NORMAL PARA TELHA ONDULADA DE FIBROCIMENTO, E = 6 MM, ABA 300 MM, COMPRIMENTO 1100 MM (SEM AMIANTO)",20235,"UN",null,0,0,0]
[null,null,902,null,"CUMEEIRA PARA TELHA CERAMICA, COMPRIMENTO DE *41* CM, RENDIMENTO DE *3* TELHAS/M",7181,"UN",null,0,0,0]
[null,null,903,null,"CUMEEIRA PARA TELHA DE CONCRETO, PARA 2 AGUAS DE TELHADO, COR CINZA, RENDIMENTO DE *3* TELHAS/M (COLETADO CAIXA)",40866,"UN",null,0,0,0]
[null,null,904,null,"CUMEEIRA SHED PARA TELHA ONDULADA DE FIBROCIMENTO, E = 6 MM, ABA 280 MM, COMPRIMENTO 1100 MM (SEM AMIANTO)",7214,"UN",null,0,0,0]
[null,null,905,null,"CUMEEIRA UNIVERSAL PARA TELHA ONDULADA DE FIBROCIMENTO, E = 6 MM, ABA 210 MM, COMPRIMENTO 1100 MM (SEM AMIANTO)",7219,"UN",null,0,0,0]
[null,null,906,null,"CURVA 45 GRAUS DE COBRE (REF 606) SEM ANEL DE SOLDA, BOLSA X BOLSA, 15 MM",39879,"UN",null,0,0,0]
[null,null,907,null,"CURVA 45 GRAUS DE COBRE (REF 606) SEM ANEL DE SOLDA, BOLSA X BOLSA, 22 MM",39880,"UN",null,0,0,0]
[null,null,908,null,"CURVA 45 GRAUS DE COBRE (REF 606) SEM ANEL DE SOLDA, BOLSA X BOLSA, 28 MM",39881,"UN",null,0,0,0]
[null,null,909,null,"CURVA 45 GRAUS DE COBRE (REF 606) SEM ANEL DE SOLDA, BOLSA X BOLSA, 35 MM",39882,"UN",null,0,0,0]
[null,null,910,null,"CURVA 45 GRAUS DE COBRE (REF 606) SEM ANEL DE SOLDA, BOLSA X BOLSA, 42 MM",39883,"UN",null,0,0,0]
[null,null,911,null,"CURVA 45 GRAUS DE COBRE (REF 606) SEM ANEL DE SOLDA, BOLSA X BOLSA, 54 MM",39884,"UN",null,0,0,0]
[null,null,912,null,"CURVA 45 GRAUS DE FERRO GALVANIZADO, COM ROSCA BSP FEMEA, DE 1 1/2\"",1777,"UN",null,0,0,0]
[null,null,913,null,"CURVA 45 GRAUS DE FERRO GALVANIZADO, COM ROSCA BSP FEMEA, DE 1 1/4\"",1819,"UN",null,0,0,0]
[null,null,914,null,"CURVA 45 GRAUS DE FERRO GALVANIZADO, COM ROSCA BSP FEMEA, DE 1\"",1776,"UN",null,0,0,0]
[null,null,915,null,"CURVA 45 GRAUS DE FERRO GALVANIZADO, COM ROSCA BSP FEMEA, DE 1/2\"",1775,"UN",null,0,0,0]
[null,null,916,null,"CURVA 45 GRAUS DE FERRO GALVANIZADO, COM ROSCA BSP FEMEA, DE 2\"",1818,"UN",null,0,0,0]
[null,null,917,null,"CURVA 45 GRAUS DE FERRO GALVANIZADO, COM ROSCA BSP FEMEA, DE 3/4\"",1820,"UN",null,0,0,0]
[null,null,918,null,"CURVA 45 GRAUS DE FERRO GALVANIZADO, COM ROSCA BSP MACHO/FEMEA, DE 1 1/2\"",1783,"UN",null,0,0,0]
[null,null,919,null,"CURVA 45 GRAUS DE FERRO GALVANIZADO, COM ROSCA BSP MACHO/FEMEA, DE 1 1/4\"",1782,"UN",null,0,0,0]
[null,null,920,null,"CURVA 45 GRAUS DE FERRO GALVANIZADO, COM ROSCA BSP MACHO/FEMEA, DE 1\"",1781,"UN",null,0,0,0]
[null,null,921,null,"CURVA 45 GRAUS DE FERRO GALVANIZADO, COM ROSCA BSP MACHO/FEMEA, DE 1/2\"",1817,"UN",null,0,0,0]
[null,null,922,null,"CURVA 45 GRAUS DE FERRO GALVANIZADO, COM ROSCA BSP MACHO/FEMEA, DE 2\"",1810,"UN",null,0,0,0]
[null,null,923,null,"CURVA 45 GRAUS DE FERRO GALVANIZADO, COM ROSCA BSP MACHO/FEMEA, DE 3/4\"",1811,"UN",null,0,0,0]
[null,null,924,null,"CURVA 45 GRAUS EM ACO CARBONO, SOLDAVEL, PRESSAO 3.000 LBS, DN 1 1/2\"",40386,"UN",null,0,0,0]
[null,null,925,null,"CURVA 45 GRAUS EM ACO CARBONO, SOLDAVEL, PRESSAO 3.000 LBS, DN 1 1/4\"",40384,"UN",null,0,0,0]
[null,null,926,null,"CURVA 45 GRAUS EM ACO CARBONO, SOLDAVEL, PRESSAO 3.000 LBS, DN 1\"",40423,"UN",null,0,0,0]
[null,null,927,null,"CURVA 45 GRAUS EM ACO CARBONO, SOLDAVEL, PRESSAO 3.000 LBS, DN 1/2\"",40379,"UN",null,0,0,0]
[null,null,928,null,"CURVA 45 GRAUS EM ACO CARBONO, SOLDAVEL, PRESSAO 3.000 LBS, DN 2 1/2\"",40389,"UN",null,0,0,0]
[null,null,929,null,"CURVA 45 GRAUS EM ACO CARBONO, SOLDAVEL, PRESSAO 3.000 LBS, DN 2\"",40388,"UN",null,0,0,0]
[null,null,930,null,"CURVA 45 GRAUS EM ACO CARBONO, SOLDAVEL, PRESSAO 3.000 LBS, DN 3/4\"",40381,"UN",null,0,0,0]
[null,null,931,null,"CURVA 45 GRAUS, PARA ELETRODUTO, EM ACO GALVANIZADO ELETROLITICO, DIAMETRO DE 100 MM (4\")",2615,"UN",null,0,0,0]
[null,null,932,null,"CURVA 45 GRAUS, PARA ELETRODUTO, EM ACO GALVANIZADO ELETROLITICO, DIAMETRO DE 15 MM (1/2\")",2635,"UN",null,0,0,0]
[null,null,933,null,"CURVA 45 GRAUS, PARA ELETRODUTO, EM ACO GALVANIZADO ELETROLITICO, DIAMETRO DE 20 MM (3/4\")",2609,"UN",null,0,0,0]
[null,null,934,null,"CURVA 45 GRAUS, PARA ELETRODUTO, EM ACO GALVANIZADO ELETROLITICO, DIAMETRO DE 25 MM (1\")",2634,"UN",null,0,0,0]
[null,null,935,null,"CURVA 45 GRAUS, PARA ELETRODUTO, EM ACO GALVANIZADO ELETROLITICO, DIAMETRO DE 40 MM (1 1/2\")",2611,"UN",null,0,0,0]
[null,null,936,null,"CURVA 45 GRAUS, PARA ELETRODUTO, EM ACO GALVANIZADO ELETROLITICO, DIAMETRO DE 50 MM (2\")",2612,"UN",null,0,0,0]
[null,null,937,null,"CURVA 45 GRAUS, PARA ELETRODUTO, EM ACO GALVANIZADO ELETROLITICO, DIAMETRO DE 65 MM (2 1/2\")",2613,"UN",null,0,0,0]
[null,null,938,null,"CURVA 90 GRAUS DE BARRA CHATA EM ALUMINIO 3/4 \" X 1/4 \" X 300 MM",34359,"UN",null,0,0,0]
[null,null,939,null,"CURVA 90 GRAUS DE FERRO GALVANIZADO, COM ROSCA BSP FEMEA, DE 1 1/2\"",1789,"UN",null,0,0,0]
[null,null,940,null,"CURVA 90 GRAUS DE FERRO GALVANIZADO, COM ROSCA BSP FEMEA, DE 1 1/4\"",1788,"UN",null,0,0,0]
[null,null,941,null,"CURVA 90 GRAUS DE FERRO GALVANIZADO, COM ROSCA BSP FEMEA, DE 1\"",1787,"UN",null,0,0,0]
[null,null,942,null,"CURVA 90 GRAUS DE FERRO GALVANIZADO, COM ROSCA BSP FEMEA, DE 1/2\"",1786,"UN",null,0,0,0]
[null,null,943,null,"CURVA 90 GRAUS DE FERRO GALVANIZADO, COM ROSCA BSP FEMEA, DE 2\"",1790,"UN",null,0,0,0]
[null,null,944,null,"CURVA 90 GRAUS DE FERRO GALVANIZADO, COM ROSCA BSP FEMEA, DE 3/4\"",1813,"UN",null,0,0,0]
[null,null,945,null,"CURVA 90 GRAUS DE FERRO GALVANIZADO, COM ROSCA BSP MACHO, DE 1 1/2\"",1797,"UN",null,0,0,0]
[null,null,946,null,"CURVA 90 GRAUS DE FERRO GALVANIZADO, COM ROSCA BSP MACHO, DE 1 1/4\"",1796,"UN",null,0,0,0]
[null,null,947,null,"CURVA 90 GRAUS DE FERRO GALVANIZADO, COM ROSCA BSP MACHO, DE 1\"",1816,"UN",null,0,0,0]
[null,null,948,null,"CURVA 90 GRAUS DE FERRO GALVANIZADO, COM ROSCA BSP MACHO, DE 1/2\"",1794,"UN",null,0,0,0]
[null,null,949,null,"CURVA 90 GRAUS DE FERRO GALVANIZADO, COM ROSCA BSP MACHO, DE 2\"",1798,"UN",null,0,0,0]
[null,null,950,null,"CURVA 90 GRAUS DE FERRO GALVANIZADO, COM ROSCA BSP MACHO, DE 3/4\"",1795,"UN",null,0,0,0]
[null,null,951,null,"CURVA 90 GRAUS DE FERRO GALVANIZADO, COM ROSCA BSP MACHO/FEMEA, DE 1 1/2\"",1809,"UN",null,0,0,0]
[null,null,952,null,"CURVA 90 GRAUS DE FERRO GALVANIZADO, COM ROSCA BSP MACHO/FEMEA, DE 1 1/4\"",1814,"UN",null,0,0,0]
[null,null,953,null,"CURVA 90 GRAUS DE FERRO GALVANIZADO, COM ROSCA BSP MACHO/FEMEA, DE 1\"",1805,"UN",null,0,0,0]
[null,null,954,null,"CURVA 90 GRAUS DE FERRO GALVANIZADO, COM ROSCA BSP MACHO/FEMEA, DE 1/2\"",1803,"UN",null,0,0,0]
[null,null,955,null,"CURVA 90 GRAUS DE FERRO GALVANIZADO, COM ROSCA BSP MACHO/FEMEA, DE 2\"",1806,"UN",null,0,0,0]
[null,null,956,null,"CURVA 90 GRAUS DE FERRO GALVANIZADO, COM ROSCA BSP MACHO/FEMEA, DE 3/4\"",1804,"UN",null,0,0,0]
[null,null,957,null,"CURVA 90 GRAUS RANHURADA EM FERRO FUNDIDO, DN 50 MM (2\")",40413,"UN",null,0,0,0]
[null,null,958,null,"CURVA 90 GRAUS RANHURADA EM FERRO FUNDIDO, DN 65 MM (2 1/2\")",40415,"UN",null,0,0,0]
[null,null,959,null,"CURVA 90 GRAUS, CURTA, DE PVC RIGIDO ROSCAVEL, DE 1\", PARA ELETRODUTO",39273,"UN",null,0,0,0]
[null,null,960,null,"CURVA 90 GRAUS, CURTA, DE PVC RIGIDO ROSCAVEL, DE 1/2\", PARA ELETRODUTO",39271,"UN",null,0,0,0]
[null,null,961,null,"CURVA 90 GRAUS, CURTA, DE PVC RIGIDO ROSCAVEL, DE 3/4\", PARA ELETRODUTO",39272,"UN",null,0,0,0]
[null,null,962,null,"CURVA 90 GRAUS, LONGA, DE PVC RIGIDO ROSCAVEL, DE 1 1/2\", PARA ELETRODUTO",1875,"UN",null,0,0,{"$f":"TRUNC(ROUND((I980*J980)/12,2),2)","v":0}]
[null,null,963,null,"CURVA 90 GRAUS, LONGA, DE PVC RIGIDO ROSCAVEL, DE 1 1/4\", PARA ELETRODUTO",1874,"UN",null,0,0,0]
[null,null,964,null,"CURVA 90 GRAUS, LONGA, DE PVC RIGIDO ROSCAVEL, DE 1\", PARA ELETRODUTO",1884,"UN",null,0,0,0]
[null,null,965,null,"CURVA 90 GRAUS, LONGA, DE PVC RIGIDO ROSCAVEL, DE 1/2\", PARA ELETRODUTO",1870,"UN",null,0,0,0]
[null,null,966,null,"CURVA 90 GRAUS, LONGA, DE PVC RIGIDO ROSCAVEL, DE 2 1/2\", PARA ELETRODUTO",1887,"UN",null,0,0,0]
[null,null,967,null,"CURVA 90 GRAUS, LONGA, DE PVC RIGIDO ROSCAVEL, DE 2\", PARA ELETRODUTO",1876,"UN",null,0,0,0]
[null,null,968,null,"CURVA 90 GRAUS, LONGA, DE PVC RIGIDO ROSCAVEL, DE 3/4\", PARA ELETRODUTO",1879,"UN",null,0,0,0]
[null,null,969,null,"CURVA 90 GRAUS, PARA ELETRODUTO, EM ACO GALVANIZADO ELETROLITICO, DIAMETRO DE 100 MM (4\")",2621,"UN",null,0,0,0]
[null,null,970,null,"CURVA 90 GRAUS, PARA ELETRODUTO, EM ACO GALVANIZADO ELETROLITICO, DIAMETRO DE 15 MM (1/2\")",2616,"UN",null,0,0,0]
[null,null,971,null,"CURVA 90 GRAUS, PARA ELETRODUTO, EM ACO GALVANIZADO ELETROLITICO, DIAMETRO DE 20 MM (3/4\")",2633,"UN",null,0,0,0]
[null,null,972,null,"CURVA 90 GRAUS, PARA ELETRODUTO, EM ACO GALVANIZADO ELETROLITICO, DIAMETRO DE 25 MM (1\")",2617,"UN",null,0,0,0]
[null,null,973,null,"CURVA 90 GRAUS, PARA ELETRODUTO, EM ACO GALVANIZADO ELETROLITICO, DIAMETRO DE 32 MM (1 1/4\")",2618,"UN",null,0,0,0]
[null,null,974,null,"CURVA 90 GRAUS, PARA ELETRODUTO, EM ACO GALVANIZADO ELETROLITICO, DIAMETRO DE 40 MM (1 1/2\")",2632,"UN",null,0,0,0]
[null,null,975,null,"CURVA 90 GRAUS, PARA ELETRODUTO, EM ACO GALVANIZADO ELETROLITICO, DIAMETRO DE 50 MM (2\")",2631,"UN",null,0,0,0]
[null,null,976,null,"CURVA 90 GRAUS, PARA ELETRODUTO, EM ACO GALVANIZADO ELETROLITICO, DIAMETRO DE 65 MM (2 1/2\")",2619,"UN",null,0,0,0]
[null,null,977,null,"CURVA CURTA PVC, PB, JE, 45 GRAUS, DN 100 MM, PARA REDE COLETORA ESGOTO (NBR 10569)",20094,"UN",null,0,0,0]
[null,null,978,null,"CURVA CURTA PVC, PB, JE, 90 GRAUS, DN 100 MM, PARA REDE COLETORA ESGOTO (NBR 10569)",20095,"UN",null,0,0,0]
[null,null,979,null,"CURVA DE PVC 45 GRAUS, SOLDAVEL, 110 MM, PARA AGUA FRIA PREDIAL (NBR 5648)",1954,"UN",null,0,0,0]
[null,null,980,null,"CURVA DE PVC 45 GRAUS, SOLDAVEL, 20 MM, PARA AGUA FRIA PREDIAL (NBR 5648)",1926,"UN",null,0,0,0]
[null,null,981,null,"CURVA DE PVC 45 GRAUS, SOLDAVEL, 25 MM, PARA AGUA FRIA PREDIAL (NBR 5648)",1927,"UN",null,0,0,0]
[null,null,982,null,"CURVA DE PVC 45 GRAUS, SOLDAVEL, 32 MM, PARA AGUA FRIA PREDIAL (NBR 5648)",1923,"UN",null,0,0,0]
[null,null,983,null,"CURVA DE PVC 45 GRAUS, SOLDAVEL, 40 MM, PARA AGUA FRIA PREDIAL (NBR 5648)",1929,"UN",null,0,0,0]
[null,null,984,null,"CURVA DE PVC 45 GRAUS, SOLDAVEL, 50 MM, PARA AGUA FRIA PREDIAL (NBR 5648)",1930,"UN",null,0,0,0]
[null,null,985,null,"CURVA DE PVC 45 GRAUS, SOLDAVEL, 60 MM, PARA AGUA FRIA PREDIAL (NBR 5648)",1924,"UN",null,0,0,0]
[null,null,986,null,"CURVA DE PVC 45 GRAUS, SOLDAVEL, 75 MM, PARA AGUA FRIA PREDIAL (NBR 5648)",1922,"UN",null,0,0,0]
[null,null,987,null,"CURVA DE PVC 45 GRAUS, SOLDAVEL, 85 MM, PARA AGUA FRIA PREDIAL (NBR 5648)",1953,"UN",null,0,0,0]
[null,null,988,null,"CURVA DE PVC 90 GRAUS, SOLDAVEL, 110 MM, PARA AGUA FRIA PREDIAL (NBR 5648)",1962,"UN",null,0,0,0]
[null,null,989,null,"CURVA DE PVC 90 GRAUS, SOLDAVEL, 20 MM, PARA AGUA FRIA PREDIAL (NBR 5648)",1955,"UN",null,0,0,0]
[null,null,990,null,"CURVA DE PVC 90 GRAUS, SOLDAVEL, 25 MM, PARA AGUA FRIA PREDIAL (NBR 5648)",1956,"UN",null,0,0,0]
[null,null,991,null,"CURVA DE PVC 90 GRAUS, SOLDAVEL, 32 MM, PARA AGUA FRIA PREDIAL (NBR 5648)",1957,"UN",null,0,0,0]
[null,null,992,null,"CURVA DE PVC 90 GRAUS, SOLDAVEL, 40 MM, PARA AGUA FRIA PREDIAL (NBR 5648)",1958,"UN",null,0,0,0]
[null,null,993,null,"CURVA DE PVC 90 GRAUS, SOLDAVEL, 50 MM, PARA AGUA FRIA PREDIAL (NBR 5648)",1959,"UN",null,0,0,0]
[null,null,994,null,"CURVA DE PVC 90 GRAUS, SOLDAVEL, 60 MM, PARA AGUA FRIA PREDIAL (NBR 5648)",1925,"UN",null,0,0,0]
[null,null,995,null,"CURVA DE PVC 90 GRAUS, SOLDAVEL, 75 MM, PARA AGUA FRIA PREDIAL (NBR 5648)",1960,"UN",null,0,0,0]
[null,null,996,null,"CURVA DE PVC 90 GRAUS, SOLDAVEL, 85 MM, PARA AGUA FRIA PREDIAL (NBR 5648)",1961,"UN",null,0,0,0]
[null,null,997,null,"CURVA DE PVC, 45 GRAUS, SERIE R, DN 100 MM, PARA ESGOTO PREDIAL",38426,"UN",null,0,0,0]
[null,null,998,null,"CURVA DE PVC, 45 GRAUS, SERIE R, DN 150 MM, PARA ESGOTO PREDIAL",38427,"UN",null,0,0,0]
[null,null,999,null,"CURVA DE PVC, 45 GRAUS, SERIE R, DN 75 MM, PARA ESGOTO PREDIAL",38425,"UN",null,0,0,0]
[null,null,1000,null,"CURVA DE PVC, 90 GRAUS, SERIE R, DN 100 MM, PARA ESGOTO PREDIAL",38423,"UN",null,0,0,0]
[null,null,1001,null,"CURVA DE PVC, 90 GRAUS, SERIE R, DN 150 MM, PARA ESGOTO PREDIAL",38424,"UN",null,0,0,0]
[null,null,1002,null,"CURVA DE PVC, 90 GRAUS, SERIE R, DN 50 MM, PARA ESGOTO PREDIAL",38421,"UN",null,0,0,0]
[null,null,1003,null,"CURVA DE PVC, 90 GRAUS, SERIE R, DN 75 MM, PARA ESGOTO PREDIAL",38422,"UN",null,0,0,0]
[null,null,1004,null,"CURVA LONGA PVC, PB, JE, 45 GRAUS, DN 100 MM, PARA REDE COLETORA ESGOTO (NBR 10569)",1858,"UN",null,0,0,0]
[null,null,1005,null,"CURVA LONGA PVC, PB, JE, 45 GRAUS, DN 150 MM, PARA REDE COLETORA ESGOTO (NBR 10569)",1844,"UN",null,0,0,0]
[null,null,1006,null,"CURVA LONGA PVC, PB, JE, 90 GRAUS, DN 100 MM, PARA REDE COLETORA ESGOTO (NBR 10569)",1863,"UN",null,0,0,0]
[null,null,1007,null,"CURVA LONGA PVC, PB, JE, 90 GRAUS, DN 150 MM, PARA REDE COLETORA ESGOTO (NBR 10569)",1865,"UN",null,0,0,0]
[null,null,1008,null,"CURVA PPR 90 GRAUS, DN 20 MM, PARA AGUA QUENTE PREDIAL",36355,"UN",null,0,0,0]
[null,null,1009,null,"CURVA PPR 90 GRAUS, DN 25 MM, PARA AGUA QUENTE PREDIAL",36356,"UN",null,0,0,0]
[null,null,1010,null,"CURVA PVC 90 GRAUS, ROSCAVEL, 1 1/2\",  AGUA FRIA PREDIAL",1941,"UN",null,0,0,0]
[null,null,1011,null,"CURVA PVC 90 GRAUS, ROSCAVEL, 1 1/4\",  AGUA FRIA PREDIAL",1940,"UN",null,0,0,0]
[null,null,1012,null,"CURVA PVC 90 GRAUS, ROSCAVEL, 1\",  AGUA FRIA PREDIAL",1939,"UN",null,0,0,0]
[null,null,1013,null,"CURVA PVC 90 GRAUS, ROSCAVEL, 1/2\",  AGUA FRIA PREDIAL",1937,"UN",null,0,0,0]
[null,null,1014,null,"CURVA PVC 90 GRAUS, ROSCAVEL, 2\",  AGUA FRIA PREDIAL",1942,"UN",null,0,0,0]
[null,null,1015,null,"CURVA PVC 90 GRAUS, ROSCAVEL, 3/4\",  AGUA FRIA PREDIAL",1938,"UN",null,0,0,0]
[null,null,1016,null,"CURVA PVC CURTA 90 G, DN 50 MM, PARA ESGOTO PREDIAL",1932,"UN",null,0,0,0]
[null,null,1017,null,"CURVA PVC CURTA 90 GRAUS, 100 MM, PARA ESGOTO PREDIAL",1966,"UN",null,0,0,0]
[null,null,1018,null,"CURVA PVC CURTA 90 GRAUS, DN 40 MM, PARA ESGOTO PREDIAL",1933,"UN",null,0,0,0]
[null,null,1019,null,"CURVA PVC CURTA 90 GRAUS, DN 75 MM, PARA ESGOTO PREDIAL",1951,"UN",null,0,0,0]
[null,null,1020,null,"CURVA PVC LEVE, 90 GRAUS, COM PONTA E BOLSA LISA, DN 150 MM",1952,"UN",null,0,0,0]
[null,null,1021,null,"CURVA PVC LONGA 45 GRAUS, 100 MM, PARA ESGOTO PREDIAL",1965,"UN",null,0,0,0]
[null,null,1022,null,"CURVA PVC LONGA 45G, DN 50 MM, PARA ESGOTO PREDIAL",10765,"UN",null,0,0,0]
[null,null,1023,null,"CURVA PVC LONGA 45G, DN 75 MM, PARA ESGOTO PREDIAL",10767,"UN",null,0,0,0]
[null,null,1024,null,"CURVA PVC LONGA 90 GRAUS, 100 MM, PARA ESGOTO PREDIAL",1970,"UN",null,0,0,0]
[null,null,1025,null,"CURVA PVC LONGA 90 GRAUS, 40 MM, PARA ESGOTO PREDIAL",1967,"UN",null,0,0,0]
[null,null,1026,null,"CURVA PVC LONGA 90 GRAUS, 50 MM, PARA ESGOTO PREDIAL",1968,"UN",null,0,0,{"$f":"TRUNC(ROUND((I1044*J1044)/12,2),2)","v":0}]
[null,null,1027,null,"CURVA PVC LONGA 90 GRAUS, 75 MM, PARA ESGOTO PREDIAL",1969,"UN",null,0,0,0]
[null,null,1028,null,"CURVA PVC PBA, JE, PB, 22 GRAUS, DN 100 / DE 110 MM, PARA REDE AGUA (NBR 10351)",1839,"UN",null,0,0,0]
[null,null,1029,null,"CURVA PVC PBA, JE, PB, 22 GRAUS, DN 50 / DE 60 MM, PARA REDE AGUA (NBR 10351)",1835,"UN",null,0,0,0]
[null,null,1030,null,"CURVA PVC PBA, JE, PB, 22 GRAUS, DN 75 / DE 85 MM, PARA REDE AGUA (NBR 10351)",1823,"UN",null,0,0,0]
[null,null,1031,null,"CURVA PVC PBA, JE, PB, 45 GRAUS, DN 100 / DE 110 MM, PARA REDE AGUA (NBR 10351)",1827,"UN",null,0,0,0]
[null,null,1032,null,"CURVA PVC PBA, JE, PB, 45 GRAUS, DN 50 / DE 60 MM, PARA REDE AGUA (NBR 10351)",1831,"UN",null,0,0,0]
[null,null,1033,null,"CURVA PVC PBA, JE, PB, 45 GRAUS, DN 75 / DE 85 MM, PARA REDE AGUA (NBR 10351)",1825,"UN",null,0,0,0]
[null,null,1034,null,"CURVA PVC PBA, JE, PB, 90 GRAUS, DN 100 / DE 110 MM, PARA REDE AGUA (NBR 10351)",1828,"UN",null,0,0,0]
[null,null,1035,null,"CURVA PVC PBA, JE, PB, 90 GRAUS, DN 50 / DE 60 MM, PARA REDE AGUA (NBR 10351)",1845,"UN",null,0,0,0]
[null,null,1036,null,"CURVA PVC PBA, JE, PB, 90 GRAUS, DN 75 / DE 85 MM, PARA REDE AGUA (NBR 10351)",1824,"UN",null,0,0,0]
[null,null,1037,null,"CURVA PVC, 45 GRAUS, CURTA, PB, DN 100 MM, PARA ESGOTO PREDIAL",1964,"UN",null,0,0,0]
[null,null,1038,null,"CURVA PVC, SERIE R, 87.30 GRAUS, CURTA, 100 MM, PARA ESGOTO PREDIAL (PARA PE-DE-COLUNA)",20097,"UN",null,0,0,0]
[null,null,1039,null,"CURVA PVC, SERIE R, 87.30 GRAUS, CURTA, 150 MM, PARA ESGOTO PREDIAL (PARA PE-DE-COLUNA)",20098,"UN",null,0,0,0]
[null,null,1040,null,"CURVA PVC, SERIE R, 87.30 GRAUS, CURTA, 75 MM, PARA ESGOTO PREDIAL (PARA PE-DE-COLUNA)",20096,"UN",null,0,0,0]
[null,null,1041,null,"DESEMPENADEIRA DE ACO DENTADA 12 X *25* CM, DENTES 8 X 8 MM, CABO FECHADO DE MADEIRA",38369,"UN",null,0,0,0]
[null,null,1042,null,"DESEMPENADEIRA DE ACO LISA 12 X *25* CM COM CABO FECHADO DE MADEIRA",38370,"UN",null,0,0,0]
[null,null,1043,null,"DESEMPENADEIRA PLASTICA LISA *14 X 27* CM",38372,"UN",null,0,0,0]
[null,null,1044,null,"DILUENTE EPOXI",5330,"L",null,0,0,0]
[null,null,1045,null,"DISCO DE BORRACHA PARA LIXADEIRA RIGIDO 7 \" COM ARRUELA CENTRAL",26017,"UN",null,0,0,0]
[null,null,1046,null,"DISCO DE CORTE DIAMANTADO SEGMENTADO DIAMETRO DE 180 MM PARA ESMERILHADEIRA 7 \"",25931,"UN",null,0,0,0]
[null,null,1047,null,"DISCO DE CORTE DIAMANTADO SEGMENTADO PARA CONCRETO, DIAMETRO DE 110 MM, FURO DE 20 MM",38140,"UN",null,0,0,0]
[null,null,1048,null,"DISCO DE CORTE DIAMANTADO SEGMENTADO PARA CONCRETO, DIAMETRO DE 350 MM, FURO DE 1 \" (14 X 1 \")",13887,"UN",null,0,0,0]
[null,null,1049,null,"DISCO DE CORTE PARA METAL COM DUAS TELAS 12 X 1/8 X 3/4 \" (300 X 3,2 X 19,05 MM)",26018,"UN",null,0,0,0]
[null,null,1050,null,"DISCO DE DESBASTE PARA METAL FERROSO EM GERAL, COM TRES TELAS,  9 X 1/4 X 7/8 \" (228,6 X 6,4 X 22,2 MM)",26019,"UN",null,0,0,0]
[null,null,1051,null,"DISCO DE LIXA PARA METAL, DIAMETRO = 180 MM, GRAO 120",26020,"UN",null,0,0,0]
[null,null,1052,null,"DISJUNTOR TERMICO E MAGNETICO AJUSTAVEIS, TRIPOLAR DE 100 ATE 250A, CAPACIDADE DE INTERRUPCAO DE 35KA",34729,"UN",null,0,0,0]
[null,null,1053,null,"DISJUNTOR TERMOMAGNETICO TRIPOLAR 125A",2391,"UN",null,0,0,0]
[null,null,1054,null,"DISJUNTOR TERMOMAGNETICO TRIPOLAR 150 A / 600 V, TIPO FXD / ICC - 35 KA",2374,"UN",null,0,0,0]
[null,null,1055,null,"DISJUNTOR TERMOMAGNETICO TRIPOLAR 200 A / 600 V, TIPO FXD / ICC - 35 KA",2377,"UN",null,0,0,0]
[null,null,1056,null,"DISJUNTOR TIPO DIN / IEC, MONOPOLAR DE 40  ATE 50A",34686,"UN",null,0,0,0]
[null,null,1057,null,"DISJUNTOR TIPO DIN/IEC, BIPOLAR 40 ATE 50A",34623,"UN",null,0,0,0]
[null,null,1058,null,"DISJUNTOR TIPO DIN/IEC, BIPOLAR 63 A",34628,"UN",null,0,0,0]
[null,null,1059,null,"DISJUNTOR TIPO DIN/IEC, BIPOLAR DE 6 ATE 32A",34616,"UN",null,0,0,0]
[null,null,1060,null,"DISJUNTOR TIPO DIN/IEC, MONOPOLAR DE 6  ATE  32A",34653,"UN",null,0,0,0]
[null,null,1061,null,"DISJUNTOR TIPO DIN/IEC, MONOPOLAR DE 63 A",34688,"UN",null,0,0,0]
[null,null,1062,null,"DISJUNTOR TIPO DIN/IEC, TRIPOLAR 63 A",34714,"UN",null,0,0,0]
[null,null,1063,null,"DISJUNTOR TIPO DIN/IEC, TRIPOLAR DE 10 ATE 50A",34709,"UN",null,0,0,0]
[null,null,1064,null,"DISJUNTOR TIPO NEMA, BIPOLAR 10  ATE  50 A, TENSAO MAXIMA 415 V",2388,"UN",null,0,0,0]
[null,null,1065,null,"DISJUNTOR TIPO NEMA, BIPOLAR 60 ATE 100A, TENSAO MAXIMA 415 V",34606,"UN",null,0,0,0]
[null,null,1066,null,"DISJUNTOR TIPO NEMA, MONOPOLAR 10 ATE 30A, TENSAO MAXIMA DE 240 V",2370,"UN",null,0,0,0]
[null,null,1067,null,"DISJUNTOR TIPO NEMA, MONOPOLAR 35  ATE  50 A, TENSAO MAXIMA DE 240 V",2386,"UN",null,0,0,0]
[null,null,1068,null,"DISJUNTOR TIPO NEMA, MONOPOLAR DE 60 ATE 70A, TENSAO MAXIMA DE 240 V",34689,"UN",null,0,0,0]
[null,null,1069,null,"DISJUNTOR TIPO NEMA, TRIPOLAR 10  ATE  50A, TENSAO MAXIMA DE 415 V",2392,"UN",null,0,0,0]
[null,null,1070,null,"DISJUNTOR TIPO NEMA, TRIPOLAR 60 ATE 100 A, TENSAO MAXIMA DE 415 V",2373,"UN",null,0,0,0]
[null,null,1071,null,"DISPOSITIVO DPS CLASSE II, 1 POLO, TENSAO MAXIMA DE 175 V, CORRENTE MAXIMA DE *20* KA (TIPO AC)",39465,"UN",null,0,0,0]
[null,null,1072,null,"DISPOSITIVO DPS CLASSE II, 1 POLO, TENSAO MAXIMA DE 175 V, CORRENTE MAXIMA DE *30* KA (TIPO AC)",39466,"UN",null,0,0,0]
[null,null,1073,null,"DISPOSITIVO DPS CLASSE II, 1 POLO, TENSAO MAXIMA DE 175 V, CORRENTE MAXIMA DE *45* KA (TIPO AC)",39467,"UN",null,0,0,0]
[null,null,1074,null,"DISPOSITIVO DPS CLASSE II, 1 POLO, TENSAO MAXIMA DE 175 V, CORRENTE MAXIMA DE *90* KA (TIPO AC)",39468,"UN",null,0,0,0]
[null,null,1075,null,"DISPOSITIVO DPS CLASSE II, 1 POLO, TENSAO MAXIMA DE 275 V, CORRENTE MAXIMA DE *20* KA (TIPO AC)",39469,"UN",null,0,0,0]
[null,null,1076,null,"DISPOSITIVO DPS CLASSE II, 1 POLO, TENSAO MAXIMA DE 275 V, CORRENTE MAXIMA DE *30* KA (TIPO AC)",39470,"UN",null,0,0,0]
[null,null,1077,null,"DISPOSITIVO DPS CLASSE II, 1 POLO, TENSAO MAXIMA DE 275 V, CORRENTE MAXIMA DE *45* KA (TIPO AC)",39471,"UN",null,0,0,0]
[null,null,1078,null,"DISPOSITIVO DPS CLASSE II, 1 POLO, TENSAO MAXIMA DE 275 V, CORRENTE MAXIMA DE *90* KA (TIPO AC)",39472,"UN",null,0,0,0]
[null,null,1079,null,"DISPOSITIVO DPS CLASSE II, 1 POLO, TENSAO MAXIMA DE 385 V, CORRENTE MAXIMA DE *20* KA (TIPO AC)",39473,"UN",null,0,0,0]
[null,null,1080,null,"DISPOSITIVO DPS CLASSE II, 1 POLO, TENSAO MAXIMA DE 385 V, CORRENTE MAXIMA DE *30* KA (TIPO AC)",39474,"UN",null,0,0,0]
[null,null,1081,null,"DISPOSITIVO DPS CLASSE II, 1 POLO, TENSAO MAXIMA DE 385 V, CORRENTE MAXIMA DE *45* KA (TIPO AC)",39475,"UN",null,0,0,0]
[null,null,1082,null,"DISPOSITIVO DPS CLASSE II, 1 POLO, TENSAO MAXIMA DE 385 V, CORRENTE MAXIMA DE *90* KA (TIPO AC)",39476,"UN",null,0,0,0]
[null,null,1083,null,"DISPOSITIVO DPS CLASSE II, 1 POLO, TENSAO MAXIMA DE 460 V, CORRENTE MAXIMA DE *20* KA (TIPO AC)",39477,"UN",null,0,0,0]
[null,null,1084,null,"DISPOSITIVO DPS CLASSE II, 1 POLO, TENSAO MAXIMA DE 460 V, CORRENTE MAXIMA DE *30* KA (TIPO AC)",39478,"UN",null,0,0,0]
[null,null,1085,null,"DISPOSITIVO DPS CLASSE II, 1 POLO, TENSAO MAXIMA DE 460 V, CORRENTE MAXIMA DE *45* KA (TIPO AC)",39479,"UN",null,0,0,0]
[null,null,1086,null,"DISPOSITIVO DPS CLASSE II, 1 POLO, TENSAO MAXIMA DE 460 V, CORRENTE MAXIMA DE *90* KA (TIPO AC)",39480,"UN",null,0,0,0]
[null,null,1087,null,"DISPOSITIVO DR, 2 POLOS, SENSIBILIDADE DE 30 MA, CORRENTE DE 100 A, TIPO AC",39459,"UN",null,0,0,0]
[null,null,1088,null,"DISPOSITIVO DR, 2 POLOS, SENSIBILIDADE DE 30 MA, CORRENTE DE 25 A, TIPO AC",39445,"UN",null,0,0,0]
[null,null,1089,null,"DISPOSITIVO DR, 2 POLOS, SENSIBILIDADE DE 30 MA, CORRENTE DE 40 A, TIPO AC",39446,"UN",null,0,0,0]
[null,null,1090,null,"DISPOSITIVO DR, 2 POLOS, SENSIBILIDADE DE 30 MA, CORRENTE DE 63 A, TIPO AC",39447,"UN",null,0,0,{"$f":"TRUNC(ROUND((I1108*J1108)/12,2),2)","v":0}]
[null,null,1091,null,"DISPOSITIVO DR, 2 POLOS, SENSIBILIDADE DE 30 MA, CORRENTE DE 80 A, TIPO AC",39448,"UN",null,0,0,0]
[null,null,1092,null,"DISPOSITIVO DR, 2 POLOS, SENSIBILIDADE DE 300 MA, CORRENTE DE 25 A, TIPO AC",39450,"UN",null,0,0,0]
[null,null,1093,null,"DISPOSITIVO DR, 2 POLOS, SENSIBILIDADE DE 300 MA, CORRENTE DE 40 A, TIPO AC",39451,"UN",null,0,0,0]
[null,null,1094,null,"DISPOSITIVO DR, 2 POLOS, SENSIBILIDADE DE 300 MA, CORRENTE DE 63 A, TIPO AC",39452,"UN",null,0,0,0]
[null,null,1095,null,"DISPOSITIVO DR, 2 POLOS, SENSIBILIDADE DE 300 MA, CORRENTE DE 80 A, TIPO  AC",39523,"UN",null,0,0,0]
[null,null,1096,null,"DISPOSITIVO DR, 4 POLOS, SENSIBILIDADE DE 30 MA, CORRENTE DE 100 A, TIPO AC",39449,"UN",null,0,0,0]
[null,null,1097,null,"DISPOSITIVO DR, 4 POLOS, SENSIBILIDADE DE 30 MA, CORRENTE DE 25 A, TIPO AC",39455,"UN",null,0,0,0]
[null,null,1098,null,"DISPOSITIVO DR, 4 POLOS, SENSIBILIDADE DE 30 MA, CORRENTE DE 40 A, TIPO AC",39456,"UN",null,0,0,0]
[null,null,1099,null,"DISPOSITIVO DR, 4 POLOS, SENSIBILIDADE DE 30 MA, CORRENTE DE 63 A, TIPO AC",39457,"UN",null,0,0,0]
[null,null,1100,null,"DISPOSITIVO DR, 4 POLOS, SENSIBILIDADE DE 30 MA, CORRENTE DE 80 A, TIPO AC",39458,"UN",null,0,0,0]
[null,null,1101,null,"DISPOSITIVO DR, 4 POLOS, SENSIBILIDADE DE 300 MA, CORRENTE DE 100 A, TIPO AC",39464,"UN",null,0,0,0]
[null,null,1102,null,"DISPOSITIVO DR, 4 POLOS, SENSIBILIDADE DE 300 MA, CORRENTE DE 25 A, TIPO AC",39460,"UN",null,0,0,0]
[null,null,1103,null,"DISPOSITIVO DR, 4 POLOS, SENSIBILIDADE DE 300 MA, CORRENTE DE 40 A, TIPO AC",39461,"UN",null,0,0,0]
[null,null,1104,null,"DISPOSITIVO DR, 4 POLOS, SENSIBILIDADE DE 300 MA, CORRENTE DE 63 A, TIPO AC",39462,"UN",null,0,0,0]
[null,null,1105,null,"DISPOSITIVO DR, 4 POLOS, SENSIBILIDADE DE 300 MA, CORRENTE DE 80 A, TIPO AC",39463,"UN",null,0,0,0]
[null,null,1106,null,"DIVISORIA (N2) PAINEL/VIDRO - PAINEL C/ MSO/COMEIA E=35MM - MONTANTE/RODAPE DUPLO ACO GALV PINTADO - COLOCADA",2414,"M2",null,0,0,0]
[null,null,1107,null,"DIVISORIA (N2) PAINEL/VIDRO - PAINEL C/ MSO/COMEIA E=35MM - PERFIS SIMPLES ACO GALV PINTADO - COLOCADA",2413,"M2",null,0,0,0]
[null,null,1108,null,"DIVISORIA (N2) PAINEL/VIDRO - PAINEL MSO/COMEIA E=35MM - MONTANTE/RODAPE DUPLO ALUMINIO ANOD NAT - COLOCADA",2405,"M2",null,0,0,0]
[null,null,1109,null,"DIVISORIA (N2) PAINEL/VIDRO - PAINEL MSO/COMEIA E=35MM - PERFIS SIMPLES ALUMINIO ANOD NAT - COLOCADA",13361,"M2",null,0,0,0]
[null,null,1110,null,"DIVISORIA (N2) PAINEL/VIDRO - PAINEL VERMICULITA E=35MM - PERFIS SIMPLES ALUMINIO ANOD NATURAL - COLOCADA",11987,"M2",null,0,0,0]
[null,null,1111,null,"DIVISORIA (N3) PAINEL/VIDRO/PAINEL MSO/COMEIA E=35MM - MONTANTE/RODAPE DUPLO ACO GALV PINTADO - COLOCADA",2416,"M2",null,0,0,0]
[null,null,1112,null,"DIVISORIA (N3) PAINEL/VIDRO/PAINEL MSO/COMEIA E=35MM - MONTANTE/RODAPE DUPLO ALUMINIO ANOD NAT - COLOCADA",2412,"M2",null,0,0,0]
[null,null,1113,null,"DIVISORIA (N3) PAINEL/VIDRO/PAINEL MSO/COMEIA E=35MM - PERFIS SIMPLES ACO GALV PINTADO - COLOCADA",2411,"M2",null,0,0,0]
[null,null,1114,null,"DIVISORIA (N3) PAINEL/VIDRO/PAINEL MSO/COMEIA E=35MM - PERFIS SIMPLES ALUMINIO ANOD NAT - COLOCADA",2406,"M2",null,0,0,0]
[null,null,1115,null,"DIVISORIA (N3) PAINEL/VIDRO/PAINEL VERMICULITA E=35MM - MONTANTE/RODAPE DUPLO ALUMINIO ANOD NATURAL - COLOCADA",10571,"M2",null,0,0,0]
[null,null,1116,null,"DIVISORIA (N3) PAINEL/VIDRO/PAINEL VERMICULITA E=35MM - MONTANTE/RODAPE PERFIL DUPLO ACO GALV PINTADO - COLOCADA",11985,"M2",null,0,0,0]
[null,null,1117,null,"DIVISORIA CEGA (N1) - PAINEL MSO/COMEIA E=35MM - MONTANTE/RODAPE DUPLO   ACO GALV PINTADO - COLOCADA",2410,"M2",null,0,0,0]
[null,null,1118,null,"DIVISORIA CEGA (N1) - PAINEL MSO/COMEIA E=35MM - MONTANTE/RODAPE DUPLO ALUMINIO ANOD NAT - COLOCADA",2417,"M2",null,0,0,0]
[null,null,1119,null,"DIVISORIA CEGA (N1) - PAINEL MSO/COMEIA E=35MM - PERFIS SIMPLES ACO GALV PINTADO   - COLOCADA",2415,"M2",null,0,0,0]
[null,null,1120,null,"DIVISORIA CEGA (N1) - PAINEL MSO/COMEIA E=35MM - PERFIS SIMPLES ALUMINIO ANOD NAT - COLOCADA",13360,"M2",null,0,0,0]
[null,null,1121,null,"DIVISORIA CEGA (N1) - PAINEL VERMICULITA E=35MM - MONTANTE/RODAPE PERFIS SIMPLES ACO GALV PINTADO - COLOCADA",11983,"M2",null,0,0,0]
[null,null,1122,null,"DIVISORIA CEGA (N1) - PAINEL VERMICULITA E=35MM - PERFIS SIMPLES ALUMINIO ANOD NATURAL - COLOCADA",11986,"M2",null,0,0,0]
[null,null,1123,null,"DIVISORIA EM GRANITO, COM DUAS FACES POLIDAS, TIPO ANDORINHA/ QUARTZ/ CASTELO/ CORUMBA OU OUTROS EQUIVALENTES DA REGIAO, E=  *3,0* CM",25976,"M2",null,0,0,0]
[null,null,1124,null,"DIVISORIA EM MARMORE, COM DUAS FACES POLIDAS, BRANCO COMUM, E=  *3,0* CM",10629,"M2",null,0,0,0]
[null,null,1125,null,"DIVISORIA, PLACA  PRE-MOLDADA EM GRANILITE, MARMORITE OU GRANITINA,  E = *3 CM",10698,"M2",null,0,0,0]
[null,null,1126,null,"DOBRADICA EM ACO/FERRO, 3 1/2\" X  3\", E= 1,9  A 2 MM, COM ANEL,  CROMADO OU ZINCADO, TAMPA BOLA, COM PARAFUSOS",2432,"UN",null,0,0,0]
[null,null,1127,null,"DOBRADICA EM ACO/FERRO, 3\" X 2 1/2\", E= 1,2 A 1,8 MM, SEM ANEL,  CROMADO OU ZINCADO, TAMPA BOLA, COM PARAFUSOS",2418,"UN",null,0,0,0]
[null,null,1128,null,"DOBRADICA EM ACO/FERRO, 3\" X 2 1/2\", E= 1,2 A 1,8 MM, SEM ANEL,  CROMADO OU ZINCADO, TAMPA CHATA, COM PARAFUSOS",2433,"UN",null,0,0,0]
[null,null,1129,null,"DOBRADICA EM ACO/FERRO, 3\" X 2 1/2\", E= 1,9 A 2 MM, SEM ANEL,  CROMADO OU ZINCADO, TAMPA BOLA, COM PARAFUSOS",2420,"UN",null,0,0,0]
[null,null,1130,null,"DOBRADICA EM ACO/FERRO, 4\" X 3\", E= 2,2 A 3,0 MM, COM ANEL, CROMADO OU ZINCADO,TAMPA BOLA, COM PARAFUSOS",2421,"UN",null,0,0,0]
[null,null,1131,null,"DOBRADICA EM LATAO, 3 \" X 2 1/2 \", E= 1,9 A 2 MM, COM ANEL, CROMADO, TAMPA BOLA, COM PARAFUSOS",11447,"UN",null,0,0,0]
[null,null,1132,null,"DOBRADICA EM LATAO, 4\" X 3\", E= 2,2 A 3,0 MM, COM ANEL,  TAMPA BOLA, COM PARAFUSOS",2429,"UN",null,0,0,0]
[null,null,1133,null,"DOBRADICA TIPO PIANO EM ACO/FERRO, 1'' X 3 M, GALVANIZADO, COM PARAFUSOS",11449,"UN",null,0,0,0]
[null,null,1134,null,"DOBRADICA TIPO VAI-E-VEM EM ACO/FERRO, TAMANHO 3'', GALVANIZADO, COM PARAFUSOS",11451,"UN",null,0,0,0]
[null,null,1135,null,"DUCHA HIGIENICA PLASTICA COM REGISTRO METALICO 1/2 \"",1370,"UN",null,0,0,0]
[null,null,1136,null,"DUCHA METALICA DE PAREDE, ARTICULAVEL, COM BRACO/CANO, SEM DESVIADOR",38189,"UN",null,0,0,0]
[null,null,1137,null,"ELEMENTO VAZADO CERAMICO 25 X 18 X 7 CM",34777,"UN",null,0,0,0]
[null,null,1138,null,"ELEMENTO VAZADO CERAMICO 7 X 20 X 20 CM",7273,"UN",null,0,0,0]
[null,null,1139,null,"ELEMENTO VAZADO CERAMICO 9 X 20 X 20 CM",7272,"UN",null,0,0,0]
[null,null,1140,null,"ELEMENTO VAZADO DE CONCRETO, QUADRICULADO, 1 FURO *10 X 10 X 10* CM",10605,"UN",null,0,0,0]
[null,null,1141,null,"ELEMENTO VAZADO DE CONCRETO, QUADRICULADO, 1 FURO *20 X 10 X 7* CM",10604,"UN",null,0,0,0]
[null,null,1142,null,"ELEMENTO VAZADO DE CONCRETO, QUADRICULADO, 1 FURO *20 X 20 X 6,5* CM",672,"UN",null,0,0,0]
[null,null,1143,null,"ELEMENTO VAZADO DE CONCRETO, QUADRICULADO, 16 FUROS *29 X 29 X 6* CM",668,"UN",null,0,0,0]
[null,null,1144,null,"ELEMENTO VAZADO DE CONCRETO, QUADRICULADO, 16 FUROS *33 X 33 X 10* CM",10578,"UN",null,0,0,0]
[null,null,1145,null,"ELEMENTO VAZADO DE CONCRETO, QUADRICULADO, 16 FUROS *40 X 40 X 7* CM",666,"UN",null,0,0,0]
[null,null,1146,null,"ELEMENTO VAZADO DE CONCRETO, QUADRICULADO, 16 FUROS *50 X 50 X 7* CM",665,"UN",null,0,0,0]
[null,null,1147,null,"ELEMENTO VAZADO DE CONCRETO, QUADRICULADO, 25 FUROS *50 X 50 X 5* CM",10577,"UN",null,0,0,0]
[null,null,1148,null,"ELEMENTO VAZADO DE CONCRETO, VENEZIANA *39 X 22 X 15* CM",10583,"UN",null,0,0,0]
[null,null,1149,null,"ELEMENTO VAZADO DE CONCRETO, VENEZIANA *39 X 29 X 10* CM",10579,"UN",null,0,0,0]
[null,null,1150,null,"ELEMENTO VAZADO DE CONCRETO, VENEZIANA *40 X 10 X 10* CM",10582,"UN",null,0,0,0]
[null,null,1151,null,"ELETRODO REVESTIDO AWS - E-6010, DIAMETRO IGUAL A 4,00 MM",10998,"KG",null,0,0,0]
[null,null,1152,null,"ELETRODO REVESTIDO AWS - E6013, DIAMETRO IGUAL A 2,50 MM",11002,"KG",null,0,0,0]
[null,null,1153,null,"ELETRODO REVESTIDO AWS - E6013, DIAMETRO IGUAL A 4,00 MM",10999,"KG",null,0,0,0]
[null,null,1154,null,"ELETRODO REVESTIDO AWS - E7018, DIAMETRO IGUAL A 4,00 MM",10997,"KG",null,0,0,{"$f":"TRUNC(ROUND((I1172*J1172)/12,2),2)","v":0}]
[null,null,1155,null,"ELETRODUTO DE PVC RIGIDO ROSCAVEL DE 1 \", SEM LUVA",2685,"M",null,0,0,0]
[null,null,1156,null,"ELETRODUTO DE PVC RIGIDO ROSCAVEL DE 1 1/2 \", SEM LUVA",2680,"M",null,0,0,0]
[null,null,1157,null,"ELETRODUTO DE PVC RIGIDO ROSCAVEL DE 1 1/4 \", SEM LUVA",2684,"M",null,0,0,0]
[null,null,1158,null,"ELETRODUTO DE PVC RIGIDO ROSCAVEL DE 1/2 \", SEM LUVA",2673,"M",null,0,0,0]
[null,null,1159,null,"ELETRODUTO DE PVC RIGIDO ROSCAVEL DE 2 \", SEM LUVA",2681,"M",null,0,0,0]
[null,null,1160,null,"ELETRODUTO DE PVC RIGIDO ROSCAVEL DE 2 1/2 \", SEM LUVA",2682,"M",null,0,0,0]
[null,null,1161,null,"ELETRODUTO DE PVC RIGIDO ROSCAVEL DE 3 \", SEM LUVA",2686,"M",null,0,0,0]
[null,null,1162,null,"ELETRODUTO DE PVC RIGIDO ROSCAVEL DE 3/4 \", SEM LUVA",2674,"M",null,0,0,0]
[null,null,1163,null,"ELETRODUTO DE PVC RIGIDO SOLDAVEL, CLASSE B, DE 20 MM",2676,"M",null,0,0,0]
[null,null,1164,null,"ELETRODUTO DE PVC RIGIDO SOLDAVEL, CLASSE B, DE 25 MM",2678,"M",null,0,0,0]
[null,null,1165,null,"ELETRODUTO DE PVC RIGIDO SOLDAVEL, CLASSE B, DE 32 MM",2679,"M",null,0,0,0]
[null,null,1166,null,"ELETRODUTO DE PVC RIGIDO SOLDAVEL, CLASSE B, DE 40 MM",12070,"M",null,0,0,0]
[null,null,1167,null,"ELETRODUTO DE PVC RIGIDO SOLDAVEL, CLASSE B, DE 50 MM",2675,"M",null,0,0,0]
[null,null,1168,null,"ELETRODUTO DE PVC RIGIDO SOLDAVEL, CLASSE B, DE 60 MM",12067,"M",null,0,0,0]
[null,null,1169,null,"ELETRODUTO EM ACO GALVANIZADO ELETROLITICO, LEVE, DIAMETRO 1\", PAREDE DE 0,90 MM",21136,"M",null,0,0,0]
[null,null,1170,null,"ELETRODUTO EM ACO GALVANIZADO ELETROLITICO, LEVE, DIAMETRO 1/2\", PAREDE DE 0,90 MM",21129,"M",null,0,0,0]
[null,null,1171,null,"ELETRODUTO EM ACO GALVANIZADO ELETROLITICO, LEVE, DIAMETRO 3/4\", PAREDE DE 0,90 MM",21128,"M",null,0,0,0]
[null,null,1172,null,"ELETRODUTO EM ACO GALVANIZADO ELETROLITICO, SEMI-PESADO, DIAMETRO 1 1/2\", PAREDE DE 1,20 MM",21130,"M",null,0,0,0]
[null,null,1173,null,"ELETRODUTO EM ACO GALVANIZADO ELETROLITICO, SEMI-PESADO, DIAMETRO 1 1/4\", PAREDE DE 1,20 MM",21135,"M",null,0,0,0]
[null,null,1174,null,"ELETRODUTO EM ACO GALVANIZADO ELETROLITICO, SEMI-PESADO, DIAMETRO 2 1/2\", PAREDE DE 1,52 MM",21131,"M",null,0,0,0]
[null,null,1175,null,"ELETRODUTO EM ACO GALVANIZADO ELETROLITICO, SEMI-PESADO, DIAMETRO 2\", PAREDE DE 1,20 MM",21134,"M",null,0,0,0]
[null,null,1176,null,"ELETRODUTO FLEXIVEL PLANO EM PEAD, COR PRETA E LARANJA,  DIAMETRO 32 MM",40401,"M",null,0,0,0]
[null,null,1177,null,"ELETRODUTO FLEXIVEL PLANO EM PEAD, COR PRETA E LARANJA,  DIAMETRO 40 MM",40402,"M",null,0,0,0]
[null,null,1178,null,"ELETRODUTO FLEXIVEL PLANO EM PEAD, COR PRETA E LARANJA, DIAMETRO 25 MM",40400,"M",null,0,0,0]
[null,null,1179,null,"ELETRODUTO FLEXIVEL, EM ACO GALVANIZADO, REVESTIDO EXTERNAMENTE COM PVC PRETO, DIAMETRO EXTERNO DE 25 MM (3/4\"), TIPO SEALTUBO",2504,"M",null,0,0,0]
[null,null,1180,null,"ELETRODUTO FLEXIVEL, EM ACO GALVANIZADO, REVESTIDO EXTERNAMENTE COM PVC PRETO, DIAMETRO EXTERNO DE 32 MM (1\"), TIPO SEALTUBO",2501,"M",null,0,0,0]
[null,null,1181,null,"ELETRODUTO FLEXIVEL, EM ACO GALVANIZADO, REVESTIDO EXTERNAMENTE COM PVC PRETO, DIAMETRO EXTERNO DE 40 MM (1 1/4\"), TIPO SEALTUBO",2502,"M",null,0,0,0]
[null,null,1182,null,"ELETRODUTO FLEXIVEL, EM ACO GALVANIZADO, REVESTIDO EXTERNAMENTE COM PVC PRETO, DIAMETRO EXTERNO DE 50 MM( 1 1/2\"), TIPO SEALTUBO",2503,"M",null,0,0,0]
[null,null,1183,null,"ELETRODUTO FLEXIVEL, EM ACO GALVANIZADO, REVESTIDO EXTERNAMENTE COM PVC PRETO, DIAMETRO EXTERNO DE 60 MM (2\"), TIPO SEALTUBO",2500,"M",null,0,0,0]
[null,null,1184,null,"ELETRODUTO FLEXIVEL, EM ACO GALVANIZADO, REVESTIDO EXTERNAMENTE COM PVC PRETO, DIAMETRO EXTERNO DE 75 MM (2 1/2\"), TIPO SEALTUBO",2505,"M",null,0,0,0]
[null,null,1185,null,"ELETRODUTO FLEXIVEL, EM ACO, TIPO CONDUITE, DIAMETRO DE 1 1/2\"",12056,"M",null,0,0,0]
[null,null,1186,null,"ELETRODUTO FLEXIVEL, EM ACO, TIPO CONDUITE, DIAMETRO DE 1 1/4\"",12057,"M",null,0,0,0]
[null,null,1187,null,"ELETRODUTO FLEXIVEL, EM ACO, TIPO CONDUITE, DIAMETRO DE 1\"",12058,"M",null,0,0,0]
[null,null,1188,null,"ELETRODUTO FLEXIVEL, EM ACO, TIPO CONDUITE, DIAMETRO DE 1/2\"",12059,"M",null,0,0,0]
[null,null,1189,null,"ELETRODUTO FLEXIVEL, EM ACO, TIPO CONDUITE, DIAMETRO DE 2 1/2\"",12060,"M",null,0,0,0]
[null,null,1190,null,"ELETRODUTO FLEXIVEL, EM ACO, TIPO CONDUITE, DIAMETRO DE 2\"",12061,"M",null,0,0,0]
[null,null,1191,null,"ELETRODUTO PVC FLEXIVEL CORRUGADO, COR AMARELA, DE 16 MM",2687,"M",null,0,0,0]
[null,null,1192,null,"ELETRODUTO PVC FLEXIVEL CORRUGADO, COR AMARELA, DE 20 MM",2689,"M",null,0,0,0]
[null,null,1193,null,"ELETRODUTO PVC FLEXIVEL CORRUGADO, COR AMARELA, DE 25 MM",2688,"M",null,0,0,0]
[null,null,1194,null,"ELETRODUTO PVC FLEXIVEL CORRUGADO, COR AMARELA, DE 32 MM",2690,"M",null,0,0,0]
[null,null,1195,null,"ELETRODUTO PVC FLEXIVEL CORRUGADO, REFORCADO, COR LARANJA, DE 20 MM, PARA LAJES E PISOS",39243,"M",null,0,0,0]
[null,null,1196,null,"ELETRODUTO PVC FLEXIVEL CORRUGADO, REFORCADO, COR LARANJA, DE 25 MM, PARA LAJES E PISOS",39244,"M",null,0,0,0]
[null,null,1197,null,"ELETRODUTO PVC FLEXIVEL CORRUGADO, REFORCADO, COR LARANJA, DE 32 MM, PARA LAJES E PISOS",39245,"M",null,0,0,0]
[null,null,1198,null,"ELETRODUTO/CONDULETE DE PVC RIGIDO, LISO, COR CINZA, DE 1\", PARA INSTALACOES APARENTES (NBR 5410)",39255,"M",null,0,0,0]
[null,null,1199,null,"ELETRODUTO/CONDULETE DE PVC RIGIDO, LISO, COR CINZA, DE 1/2\", PARA INSTALACOES APARENTES (NBR 5410)",39254,"M",null,0,0,0]
[null,null,1200,null,"ELETRODUTO/CONDULETE DE PVC RIGIDO, LISO, COR CINZA, DE 3/4\", PARA INSTALACOES APARENTES (NBR 5410)",39253,"M",null,0,0,0]
[null,null,1201,null,"ELETRODUTO/DUTO PEAD FLEXIVEL PAREDE SIMPLES, CORRUGACAO HELICOIDAL, COR PRETA, SEM ROSCA, DE 2\",  PARA CABEAMENTO SUBTERRANEO (NBR 15715)",2446,"M",null,0,0,0]
[null,null,1202,null,"ELETRODUTODUTO PEAD FLEXIVEL PAREDE SIMPLES, CORRUGACAO HELICOIDAL, COR PRETA, SEM ROSCA, DE 1 1/2\",  PARA CABEAMENTO SUBTERRANEO (NBR 15715)",39246,"M",null,0,0,0]
[null,null,1203,null,"ELETRODUTODUTO PEAD FLEXIVEL PAREDE SIMPLES, CORRUGACAO HELICOIDAL, COR PRETA, SEM ROSCA, DE 1 1/4\",  PARA CABEAMENTO SUBTERRANEO (NBR 15715)",39247,"M",null,0,0,0]
[null,null,1204,null,"ELETRODUTODUTO PEAD FLEXIVEL PAREDE SIMPLES, CORRUGACAO HELICOIDAL, COR PRETA, SEM ROSCA, DE 4\",  PARA CABEAMENTO SUBTERRANEO (NBR 15715)",39248,"M",null,0,0,0]
[null,null,1205,null,"EMENDA PARA CALHA PLUVIAL, PVC, DIAMETRO ENTRE 119 E 170 MM, PARA DRENAGEM PREDIAL",12624,"UN",null,0,0,0]
[null,null,1206,null,"EMULSAO ASFALTICA ANIONICA",517,"L",null,0,0,0]
[null,null,1207,null,"EMULSAO ASFALTICA CATIONICA RM-1C PARA USO EM PAVIMENTACAO ASFALTICA (COLETADO CAIXA NA ANP ACRESCIDO DE ICMS)",41902,"KG",null,0,0,0]
[null,null,1208,null,"EMULSAO ASFALTICA CATIONICA RR-1C PARA USO EM PAVIMENTACAO ASFALTICA (COLETADO CAIXA NA ANP ACRESCIDO DE ICMS)",41905,"KG",null,0,0,0]
[null,null,1209,null,"EMULSAO ASFALTICA CATIONICA RR-2C PARA USO EM PAVIMENTACAO ASFALTICA (COLETADO CAIXA NA ANP ACRESCIDO DE ICMS)",41903,"KG",null,0,0,0]
[null,null,1210,null,"ENGATE / RABICHO FLEXIVEL INOX 1/2 \" X 30 CM",11683,"UN",null,0,0,0]
[null,null,1211,null,"ENGATE / RABICHO FLEXIVEL INOX 1/2 \" X 40 CM",11684,"UN",null,0,0,0]
[null,null,1212,null,"ENGATE/RABICHO FLEXIVEL PLASTICO (PVC OU ABS) BRANCO 1/2 \" X 30 CM",6141,"UN",null,0,0,0]
[null,null,1213,null,"ENGATE/RABICHO FLEXIVEL PLASTICO (PVC OU ABS) BRANCO 1/2 \" X 40 CM",11681,"UN",null,0,0,0]
[null,null,1214,null,"ENXADA ESTREITA *25 X 23* CM COM CABO",38403,"UN",null,0,0,0]
[null,null,1215,null,"ESCORA PRE-MOLDADA EM CONCRETO, *10 X 10* CM, H = 2,30M",4111,"UN",null,0,0,0]
[null,null,1216,null,"ESCOVA CIRCULAR EM ACO LATONADO, 6 X 1 \" (DIAMETRO X ESPESSURA), FURO DE 1 1/4 \", FIO ONDULADO *0,30* MM",26021,"UN",null,0,0,0]
[null,null,1217,null,"ESCOVA DE ACO, COM CABO, *4  X 15* FILEIRAS DE CERDAS",12,"UN",null,0,0,0]
[null,null,1218,null,"ESGUICHO JATO REGULAVEL, TIPO ELKHART, ENGATE RAPIDO 1 1/2\", PARA COMBATE A INCENDIO",37554,"UN",null,0,0,{"$f":"TRUNC(ROUND((I1236*J1236)/12,2),2)","v":0}]
[null,null,1219,null,"ESGUICHO JATO REGULAVEL, TIPO ELKHART, ENGATE RAPIDO 2 1/2\", PARA COMBATE A INCENDIO",37555,"UN",null,0,0,0]
[null,null,1220,null,"ESGUICHO TIPO JATO SOLIDO, EM LATAO, ENGATE RAPIDO 1 1/2\" X 13 MM, PARA MANGUEIRA EM INSTALACAO PREDIAL COMBATE A INCENDIO",10902,"UN",null,0,0,0]
[null,null,1221,null,"ESGUICHO TIPO JATO SOLIDO, EM LATAO, ENGATE RAPIDO 1 1/2\" X 16 MM, PARA MANGUEIRA EM INSTALACAO PREDIAL COMBATE A INCENDIO",20965,"UN",null,0,0,0]
[null,null,1222,null,"ESGUICHO TIPO JATO SOLIDO, EM LATAO, ENGATE RAPIDO 1 1/2\" X 19 MM, PARA MANGUEIRA EM INSTALACAO PREDIAL COMBATE A INCENDIO",20966,"UN",null,0,0,0]
[null,null,1223,null,"ESGUICHO TIPO JATO SOLIDO, EM LATAO, ENGATE RAPIDO 2 1/2\" X 13 MM, PARA MANGUEIRA EM INSTALACAO PREDIAL COMBATE A INCENDIO",10903,"UN",null,0,0,0]
[null,null,1224,null,"ESGUICHO TIPO JATO SOLIDO, EM LATAO, ENGATE RAPIDO 2 1/2\" X 16 MM, PARA MANGUEIRA EM INSTALACAO PREDIAL COMBATE A INCENDIO",20967,"UN",null,0,0,0]
[null,null,1225,null,"ESGUICHO TIPO JATO SOLIDO, EM LATAO, ENGATE RAPIDO 2 1/2\" X 19 MM, PARA MANGUEIRA EM INSTALACAO PREDIAL COMBATE A INCENDIO",20968,"UN",null,0,0,0]
[null,null,1226,null,"ESPACADOR / DISTANCIADOR CIRCULAR COM ENTRADA LATERAL, EM PLASTICO, PARA VERGALHAO *4,2 A 12,5* MM, COBRIMENTO 20 MM",39017,"UN",null,0,0,0]
[null,null,1227,null,"ESPACADOR / DISTANCIADOR TIPO GARRA DUPLA, EM PLASTICO, COBRIMENTO *20* MM, PARA FERRAGENS DE LAJES E FUNDO DE VIGAS",39315,"UN",null,0,0,0]
[null,null,1228,null,"ESPACADOR / DISTANCIADOR TIPO PINO EM PLASTICO, PARA VERGALHAO ATE 10 MM, PARA APOIO DE ARMADURA",39016,"UN",null,0,0,0]
[null,null,1229,null,"ESPACADOR / SEPARADOR DE BARRA , METALICO, TIPO CARAMBOLA, PARA TIRANTES, 25 X 84 MM",40432,"UN",null,0,0,0]
[null,null,1230,null,"ESPACADOR OU DISTANCIADOR, EM PLASTICO, TIPO APOIO DE CORDOALHA (CARANGUEJO), PARA ARMADURA NEGATIVA E PROTENSAO, COBRIMENTO 50 MM",39481,"UN",null,0,0,0]
[null,null,1231,null,"ESPACADOR/SEPARADOR DE CORDOALHA TIPO DISCO 12 FUROS DE 14 MM, PARA TIRANTES",40433,"UN",null,0,0,0]
[null,null,1232,null,"ESPELHO / PLACA CEGA 4\" X 2\", PARA INSTALACAO DE TOMADAS E INTERRUPTORES",38091,"UN",null,0,0,0]
[null,null,1233,null,"ESPELHO / PLACA CEGA 4\" X 4\", PARA INSTALACAO DE TOMADAS E INTERRUPTORES",38095,"UN",null,0,0,0]
[null,null,1234,null,"ESPELHO / PLACA DE 1 POSTO 4\" X 2\", PARA INSTALACAO DE TOMADAS E INTERRUPTORES",38092,"UN",null,0,0,0]
[null,null,1235,null,"ESPELHO / PLACA DE 2 POSTOS 4\" X 2\", PARA INSTALACAO DE TOMADAS E INTERRUPTORES",38093,"UN",null,0,0,0]
[null,null,1236,null,"ESPELHO / PLACA DE 2 POSTOS 4\" X 4\", PARA INSTALACAO DE TOMADAS E INTERRUPTORES",38096,"UN",null,0,0,0]
[null,null,1237,null,"ESPELHO / PLACA DE 3 POSTOS 4\" X 2\", PARA INSTALACAO DE TOMADAS E INTERRUPTORES",38094,"UN",null,0,0,0]
[null,null,1238,null,"ESPELHO / PLACA DE 4 POSTOS 4\" X 4\", PARA INSTALACAO DE TOMADAS E INTERRUPTORES",38097,"UN",null,0,0,0]
[null,null,1239,null,"ESPELHO / PLACA DE 6 POSTOS 4\" X 4\", PARA INSTALACAO DE TOMADAS E INTERRUPTORES",38098,"UN",null,0,0,0]
[null,null,1240,null,"ESPELHO CRISTAL E = 4 MM",11186,"M2",null,0,0,0]
[null,null,1241,null,"ESPELHO, RETO OU CURVO, EM LATAO CROMADO, ESPESSURA ATE 6 MM, LARGURA *40*MM, ALTURA *180*MM - PARA FECHADURA DE EMBUTIR",11558,"PAR",null,0,0,0]
[null,null,1242,null,"ESPELHO, RETO OU CURVO, EM LATAO CROMADO, ESPESSURA MINIMA 6 MM, LARGURA *43*MM, ALTURA *230*MM - PARA FECHADURA DE EMBUTIR",11557,"PAR",null,0,0,0]
[null,null,1243,null,"ESPUMA EXPANSIVA DE POLIURETANO, APLICACAO MANUAL - 500 ML",38124,"UN",null,0,0,0]
[null,null,1244,null,"ESQUADRO INTERNO OU EXTERNO PARA CALHA PLUVIAL, PVC, DIAMETRO ENTRE 119 E 170 MM, PARA DRENAGEM PREDIAL",20059,"UN",null,0,0,0]
[null,null,1245,null,"ESTICADOR FORJADO PARA CABO DE ACO DE DIAMETRO 12,7 MM (1/2\"), TIPO GANCHO X OLHAL (DIN 1480) (COLETADO CAIXA)",42006,"UN",null,0,0,0]
[null,null,1246,null,"ESTICADOR FORJADO PARA CABO DE ACO DE DIAMETRO 9,53 MM (3/8\"), TIPO GANCHO X OLHAL (DIN 1480) (COLETADO CAIXA)",42007,"UN",null,0,0,0]
[null,null,1247,null,"ESTILETE DE METAL, LAMINA 18 MM",38384,"UN",null,0,0,0]
[null,null,1248,null,"ESTOPA",13,"KG",null,0,0,0]
[null,null,1249,null,"ESTRIBO COM PARAFUSO EM CHAPA DE FERRO FUNDIDO DE 2\" X 3/16\" X 35 CM, SECAO \"U\", PARA MADEIRAMENTO DE TELHADO",21142,"UN",null,0,0,0]
[null,null,1250,null,"EXTENSAO DE SOLDA 201 ACETILENO, E = *1,5 A 2,5* MM",38475,"UN",null,0,0,0]
[null,null,1251,null,"EXTENSAO DE SOLDA 201 GLP, E = *2,5 A 4,0* MM",38474,"UN",null,0,0,0]
[null,null,1252,null,"EXTREMIDADE PVC PBA, BF, JE, DN 50 / DE 60 MM (NBR 10351)",3068,"UN",null,0,0,0]
[null,null,1253,null,"EXTREMIDADE PVC PBA, BF, JE, DN 75/ DE 85 MM (NBR 10351)",3074,"UN",null,0,0,0]
[null,null,1254,null,"EXTREMIDADE PVC PBA, PF, JE, DN 50/ DE 60 MM (NBR 10351)",3072,"UN",null,0,0,0]
[null,null,1255,null,"EXTREMIDADE PVC PBA, PF, JE, DN 75 / DE 85 MM (NBR 10351)",3075,"UN",null,0,0,0]
[null,null,1256,null,"EXTREMIDADE/TUBETE PARA HIDROMETRO PVC, COM ROSCA, CURTA, COM BUCHA LATAO, 1/2\"",10780,"UN",null,0,0,0]
[null,null,1257,null,"EXTREMIDADE/TUBETE PARA HIDROMETRO PVC, COM ROSCA, CURTA, COM BUCHA LATAO, 3/4\"",10781,"UN",null,0,0,0]
[null,null,1258,null,"EXTREMIDADE/TUBETE PARA HIDROMETRO PVC, COM ROSCA, CURTA, SEM BUCHA LATAO, 1/2\"",20106,"UN",null,0,0,0]
[null,null,1259,null,"EXTREMIDADE/TUBETE PARA HIDROMETRO PVC, COM ROSCA, CURTA, SEM BUCHA LATAO, 3/4\"",20107,"UN",null,0,0,0]
[null,null,1260,null,"EXTREMIDADE/TUBETE PARA HIDROMETRO PVC, COM ROSCA, LONGA, SEM BUCHA LATAO, 1/2\"",20108,"UN",null,0,0,0]
[null,null,1261,null,"EXTREMIDADE/TUBETE PARA HIDROMETRO PVC, COM ROSCA, LONGA, SEM BUCHA LATAO, 3/4\"",20109,"UN",null,0,0,0]
[null,null,1262,null,"FAIXA / FILETE / LISTELO EM CERAMICA, DECORADA, *8 X 30* CM (L X C)",34795,"M2",null,0,0,0]
[null,null,1263,null,"FAIXA / FILETE / LISTELO EM CERAMICA, LISO OU CORDAO, BRANCO, *2 X 30* CM (L X C)",34796,"M",null,0,0,0]
[null,null,1264,null,"FECHADURA AUXILIAR DE EMBUTIR PARA PORTA DE ARMARIO DE MADEIRA, CROMADA, CHAVE TIPO GORGES, CAIXA COM LINGUETA, CHAPA TESTA E CONTRA CHAPA",11474,"UN",null,0,0,0]
[null,null,1265,null,"FECHADURA AUXILIAR DE EMBUTIR PARA PORTA DE ARMARIO, CROMADA, CAIXA COM CILINDRO REDONDO, CHAPA TESTA E LINGUETA",11470,"UN",null,0,0,0]
[null,null,1266,null,"FECHADURA AUXILIAR SEGURANCA, DE EMBUTIR, REFORCADA, MAQUINA DE 40 A 55 MM, COM CILINDRO, CROMADA, PARA PORTA EXTERNA - COMPLETA",11480,"CJ",null,0,0,0]
[null,null,1267,null,"FECHADURA AUXILIAR TRAVA DE SEGURANCA SIMPLES, CROMADA, MAQUINA *40* MM, INCLUI CHAVE TETRA E ROSETA REDONDA - COMPLETA",38154,"CJ",null,0,0,0]
[null,null,1268,null,"FECHADURA BICO DE PAPAGAIO, MAQUINA *45* MM, CROMADA, COM CHAVE TIPO GORGES BIPARTIDA, PARA PORTA DE CORRER INTERNA - COMPLETA",11482,"CJ",null,0,0,0]
[null,null,1269,null,"FECHADURA BICO DE PAPAGAIO, MAQUINA *45* MM, CROMADA, COM CILINDRO, PARA PORTA DE CORRER EXTERNA - COMPLETA",3084,"CJ",null,0,0,0]
[null,null,1270,null,"FECHADURA C/ CILINDRO LATAO CROMADO P/ PORTA VIDRO TP AROUCA 2171-L OU EQUIV",3103,"UN",null,0,0,0]
[null,null,1271,null,"FECHADURA DE EMBUTIR PARA PORTA DE BANHEIRO, CHAVE TIPO TRANQUETA, MAQUINA 40 MM, SEM MACANETA, SEM ESPELHO (SOMENTE MAQUINA) - NIVEL SEGURANCA MEDIO",11481,"UN",null,0,0,0]
[null,null,1272,null,"FECHADURA DE EMBUTIR PARA PORTA DE BANHEIRO, TIPO TRANQUETA, MAQUINA 40 MM, MACANETAS ALAVANCA E ROSETAS REDONDAS EM METAL CROMADO - NIVEL SEGURANCA MEDIO - COMPLETA",3097,"CJ",null,0,0,0]
[null,null,1273,null,"FECHADURA DE EMBUTIR PARA PORTA DE BANHEIRO, TIPO TRANQUETA, MAQUINA 40 MM, MACANETAS ALAVANCA, ESPELHO EM METAL CROMADO - NIVEL SEGURANCA MEDIO - COMPLETA",38153,"CJ",null,0,0,0]
[null,null,1274,null,"FECHADURA DE EMBUTIR PARA PORTA DE BANHEIRO, TIPO TRANQUETA, MAQUINA 55 MM, MACANETAS ALAVANCA E ROSETAS REDONDAS EM METAL CROMADO - NIVEL SEGURANCA MEDIO - COMPLETA",3099,"CJ",null,0,0,0]
[null,null,1275,null,"FECHADURA DE EMBUTIR PARA PORTA EXTERNA / ENTRADA, MAQUINA 40 MM, COM CILINDRO, MACANETA ALAVANCA E ESPELHO EM METAL CROMADO - NIVEL SEGURANCA MEDIO - COMPLETA",3080,"CJ",null,0,0,0]
[null,null,1276,null,"FECHADURA DE EMBUTIR PARA PORTA EXTERNA / ENTRADA, MAQUINA 55 MM, COM CILINDRO, MACANETA ALAVANCA E ESPELHO EM METAL CROMADO - NIVEL SEGURANCA MEDIO - COMPLETA",3081,"CJ",null,0,0,0]
[null,null,1277,null,"FECHADURA DE EMBUTIR PARA PORTA EXTERNA, MAQUINA 40 MM, COM CILINDRO, MACANETA ALAVANCA E ROSETA REDONDA EM METAL CROMADO - NIVEL DE SEGURANCA MEDIO - COMPLETA",38151,"CJ",null,0,0,0]
[null,null,1278,null,"FECHADURA DE EMBUTIR PARA PORTA EXTERNA, MAQUINA 40 MM, SEM MACANETA, SEM ESPELHO (SOMENTE MAQUINA) - NIVEL DE SEGURANCA MEDIO",11479,"UN",null,0,0,0]
[null,null,1279,null,"FECHADURA DE EMBUTIR PARA PORTA EXTERNA, MAQUINA 55 MM, COM CILINDRO, MACANETA ALAVANCA E ROSETA REDONDA EM METAL CROMADO - NIVEL DE SEGURANCA MEDIO - COMPLETA",38152,"CJ",null,0,0,0]
[null,null,1280,null,"FECHADURA DE EMBUTIR PARA PORTA EXTERNA, MAQUINA 55 MM, SEM ESPELHO, SEM MACANETA (SOMENTE MAQUINA) - NIVEL DE SEGURANCA MEDIO",11478,"UN",null,0,0,0]
[null,null,1281,null,"FECHADURA DE EMBUTIR PARA PORTA INTERNA, TIPO GORGES (CHAVE GRANDE), MAQUINA 40 MM, MACANETA ALAVANCA E ESPELHO EM METAL CROMADO - NIVEL SEGURANCA MEDIO - COMPLETA",3090,"CJ",null,0,0,0]
[null,null,1282,null,"FECHADURA DE EMBUTIR PARA PORTA INTERNA, TIPO GORGES (CHAVE GRANDE), MAQUINA 55 MM, MACANETAS ALAVANCA E ROSETAS REDONDAS EM METAL CROMADO - NIVEL SEGURANCA MEDIO - COMPLETA",3093,"CJ",null,0,0,{"$f":"TRUNC(ROUND((I1300*J1300)/12,2),2)","v":0}]
[null,null,1283,null,"FECHADURA DE EMBUTIR PARA PORTA INTERNA, TIPO GORGES, MAQUINA 55 MM (SOMENTE MAQUINA, SEM ESPELHO E SEM MACANETA) - NIVEL DE SEGURANCA MEDIO",11476,"UN",null,0,0,0]
[null,null,1284,null,"FECHADURA DE SOBREPOR EM FERRO PINTADO, COM MACANETA ALAVANCA, CHAVE GRANDE - COMPLETA",3082,"CJ",null,0,0,0]
[null,null,1285,null,"FECHADURA DE SOBREPOR PARA PORTAO, CAIXA *100* MM, COM CILINDRO, CHAVE SIMPLES, TRINCO LATERAL, EM  LATAO OU ACO CROMADO OU POLIDO, COM OU SEM PINTURA - COMPLETA",11484,"UN",null,0,0,0]
[null,null,1286,null,"FECHADURA DE SOBREPOR PARA PORTAO, COM CHAVE TETRA, CAIXA *100* MM, TRINCO LATERAL, EM LATAO OU ACO CROMADO, PINTADO - COMPLETA",38155,"UN",null,0,0,0]
[null,null,1287,null,"FECHADURA DE SOBREPOR, CROMADA, COM CILINDRO REDONDO, PARA ARMARIO E GAVETA DE MADEIRA, COM PORTA DE APROXIMADAMENTE 20 MM",11468,"UN",null,0,0,0]
[null,null,1288,null,"FECHADURA TRADICIONAL DE EMBUTIR, CROMADA, COM CILINDRO, PARA GAVETAS E MOVEIS DE MADEIRA - COM ABINHAS LATERAIS CURVAS, CHAVES COM PROTECAO PLASTICA",11469,"UN",null,0,0,0]
[null,null,1289,null,"FECHADURA TUBULAR CROMADA, MACANETA DIAMETRO *30* MM, CILINDRO CENTRAL COM CHAVE EXTERNA E BOTAO INTERNO, MAQUINA *70* MM - COMPLETA",11477,"CJ",null,0,0,0]
[null,null,1290,null,"FECHADURA TUBULAR, ACABAMENTO CROMADO, DISTANCIA DE BROCA 90 MM, CILINDRO CENTRAL COM CHAVE EXTERNA E BOTAO INTERNO, MACANETA FORMATO TULIPA/TACA/BOLA - COMPLETA",40311,"CJ",null,0,0,0]
[null,null,1291,null,"FECHO / FECHADURA COM PUXADOR CONCHA, COM TRANCA TIPO TRAVA, PARA JANELA / PORTA DE CORRER (INCLUI TESTA, FECHADURA, PUXADOR) - COMPLETA",38165,"CJ",null,0,0,0]
[null,null,1292,null,"FECHO / FECHADURA CONCHA COM ALAVANCA / TRAVA, DE EMBUTIR, PARA PORTA OU JANELA DE CORRER EM LATAO OU ACO INOX - COMPLETO",3096,"CJ",null,0,0,0]
[null,null,1293,null,"FECHO / TRINCO / FERROLHO FIO REDONDO, DE SOBREPOR, 12\", EM ACO GALVANIZADO / ZINCADO",11456,"UN",null,0,0,0]
[null,null,1294,null,"FECHO / TRINCO / FERROLHO FIO REDONDO, DE SOBREPOR, 2\", EM ACO GALVANIZADO / ZINCADO",3119,"UN",null,0,0,0]
[null,null,1295,null,"FECHO / TRINCO / FERROLHO FIO REDONDO, DE SOBREPOR, 4\", EM ACO GALVANIZADO / ZINCADO",3122,"UN",null,0,0,0]
[null,null,1296,null,"FECHO / TRINCO / FERROLHO FIO REDONDO, DE SOBREPOR, 5\", EM ACO GALVANIZADO / ZINCADO",3121,"UN",null,0,0,0]
[null,null,1297,null,"FECHO / TRINCO / FERROLHO FIO REDONDO, DE SOBREPOR, 6\", EM ACO GALVANIZADO / ZINCADO",3120,"UN",null,0,0,0]
[null,null,1298,null,"FECHO / TRINCO / FERROLHO FIO REDONDO, DE SOBREPOR, 8\", EM ACO GALVANIZADO / ZINCADO",11455,"UN",null,0,0,0]
[null,null,1299,null,"FECHO DE EMBUTIR, TIPO UNHA, COMANDO COM ALAVANCA, EM ACO CROMADO, 22 CM, PARA PORTAS E JANELAS - INCLUI PARAFUSOS",3111,"UN",null,0,0,0]
[null,null,1300,null,"FECHO DE EMBUTIR, TIPO UNHA, COMANDO COM ALAVANCA, EM LATAO CROMADO, 22 CM, PARA PORTAS E JANELAS - INCLUI PARAFUSOS",3108,"UN",null,0,0,0]
[null,null,1301,null,"FECHO DE EMBUTIR, TIPO UNHA, COMANDO COM ALAVANCA, EM LATAO CROMADO, 40 CM, PARA PORTAS E JANELAS - INCLUI PARAFUSOS",3105,"UN",null,0,0,0]
[null,null,1302,null,"FECHO DE EMBUTIR, TIPO UNHA, COMANDO DESLIZANTE, COM TRAVA, 120 MM, EM LATAO CROMADO",38178,"UN",null,0,0,0]
[null,null,1303,null,"FECHO DE SEGURANCA, TIPO BATOM, EM LATAO / ZAMAC, CROMADO, PARA PORTAS E JANELAS - INCLUI PARAFUSOS",11458,"UN",null,0,0,0]
[null,null,1304,null,"FELTRO EM LA DE ROCHA, 1 FACE REVESTIDA COM PAPEL ALUMINIZADO, EM ROLO, DENSIDADE = 32 KG/M3, E=*50* MM (COLETADO CAIXA)",42481,"M2",null,0,0,0]
[null,null,1305,null,"FERROLHO / FECHO CHATO, DE SOBREPOR, EM FERRO ZINCADO, REFORCADO, 5\", COM PORTA CADEADO, PARA PORTAO, PORTA E JANELA - INCLUI PARAFUSOS",11461,"UN",null,0,0,0]
[null,null,1306,null,"FERROLHO / FECHO CHATO, DE SOBREPOR, EM FERRO ZINCADO, REFORCADO, 6\", COM PORTA CADEADO, PARA PORTAO, PORTA E JANELA - INCLUI PARAFUSOS",3106,"UN",null,0,0,0]
[null,null,1307,null,"FERTILIZANTE NPK - 10:10:10",25951,"KG",null,0,0,0]
[null,null,1308,null,"FERTILIZANTE NPK - 4: 14: 8",3123,"KG",null,0,0,0]
[null,null,1309,null,"FERTILIZANTE ORGANICO COMPOSTO, CLASSE A",38125,"KG",null,0,0,0]
[null,null,1310,null,"FIO COBRE NU DE 150 A 500 MM2, PARA TENSOES DE ATE 600 V",38134,"KG",null,0,0,0]
[null,null,1311,null,"FIO COBRE NU DE 16 A 35 MM2, PARA TENSOES DE ATE 600 V",38132,"KG",null,0,0,0]
[null,null,1312,null,"FIO COBRE NU DE 50 A 120 MM2, PARA TENSOES DE ATE 600 V",38133,"KG",null,0,0,0]
[null,null,1313,null,"FIO DE COBRE, SOLIDO, CLASSE 1, ISOLACAO EM PVC/A, ANTICHAMA BWF-B, 450/750V, SECAO NOMINAL 1,5 MM2",938,"M",null,0,0,0]
[null,null,1314,null,"FIO DE COBRE, SOLIDO, CLASSE 1, ISOLACAO EM PVC/A, ANTICHAMA BWF-B, 450/750V, SECAO NOMINAL 10 MM2",937,"M",null,0,0,0]
[null,null,1315,null,"FIO DE COBRE, SOLIDO, CLASSE 1, ISOLACAO EM PVC/A, ANTICHAMA BWF-B, 450/750V, SECAO NOMINAL 2,5 MM2",939,"M",null,0,0,0]
[null,null,1316,null,"FIO DE COBRE, SOLIDO, CLASSE 1, ISOLACAO EM PVC/A, ANTICHAMA BWF-B, 450/750V, SECAO NOMINAL 4 MM2",944,"M",null,0,0,0]
[null,null,1317,null,"FIO DE COBRE, SOLIDO, CLASSE 1, ISOLACAO EM PVC/A, ANTICHAMA BWF-B, 450/750V, SECAO NOMINAL 6 MM2",940,"M",null,0,0,0]
[null,null,1318,null,"FIO TELEFONICO EXTERNO (FE) EM ACO COBREADO, ISOLACAO EM PEAD OU PVC ANTI-CHAMA, 2 CONDUTORES",936,"M",null,0,0,0]
[null,null,1319,null,"FIO TELEFONICO INTERNO (FI) EM COBRE ESTANHADO, ISOLACAO EM PVC ANTICHAMA, 2 CONDUTORES DE 0,6 MM (NBR 9115:2005)",935,"M",null,0,0,0]
[null,null,1320,null,"FITA ACO INOX PARA CINTAR POSTE, L = 19 MM, E = 0,5 MM (ROLO DE 30M)",406,"UN",null,0,0,0]
[null,null,1321,null,"FITA ADESIVA ALUMINIZADA, PARA INSTALACAO DE MANTAS DE SUBCOBERTURA,  L = *5* CM",42529,"M",null,0,0,0]
[null,null,1322,null,"FITA ADESIVA ANTICORROSIVA DE PVC FLEXIVEL, COR PRETA, PARA PROTECAO TUBULACAO, 50 MM X 30 M (L X C), E= *0,25* MM",39634,"M",null,0,0,0]
[null,null,1323,null,"FITA ADESIVA ASFALTICA ALUMINIZADA MULTIUSO, L = 10 CM, ROLO DE 10 M",39701,"UN",null,0,0,0]
[null,null,1324,null,"FITA CREPE ROLO DE 25 MM X 50 M",12815,"UN",null,0,0,0]
[null,null,1325,null,"FITA DE ALUMINIO PARA PROTECAO DO CONDUTOR LARGURA 10 MM",407,"KG",null,0,0,0]
[null,null,1326,null,"FITA DE PAPEL MICROPERFURADO, 50 X 150 MM, PARA TRATAMENTO DE JUNTAS DE CHAPA DE GESSO PARA DRYWALL",39431,"M",null,0,0,0]
[null,null,1327,null,"FITA DE PAPEL REFORCADA COM LAMINA DE METAL PARA REFORCO DE CANTOS DE CHAPA DE GESSO PARA DRYWALL",39432,"M",null,0,0,0]
[null,null,1328,null,"FITA ISOLANTE ADESIVA ANTICHAMA, USO ATE 750 V, EM ROLO DE 19 MM X 20 M",20111,"UN",null,0,0,0]
[null,null,1329,null,"FITA ISOLANTE ADESIVA ANTICHAMA, USO ATE 750 V, EM ROLO DE 19 MM X 5 M",21127,"UN",null,0,0,0]
[null,null,1330,null,"FITA ISOLANTE DE BORRACHA AUTOFUSAO, USO ATE 69 KV (ALTA TENSAO)",404,"M",null,0,0,0]
[null,null,1331,null,"FITA METALICA GRAVADA, L = 17 MM, ROLO DE 25 M, CARGA RECOMENDADA = *120* KGF",14151,"UN",null,0,0,0]
[null,null,1332,null,"FITA METALICA PERFURADA, L = *18* MM, ROLO DE 30 M, CARGA RECOMENDADA = *30* KGF",14153,"UN",null,0,0,0]
[null,null,1333,null,"FITA METALICA PERFURADA, L = 17 MM, ROLO DE 30 M, CARGA RECOMENDADA = *19* KGF",14152,"UN",null,0,0,0]
[null,null,1334,null,"FITA METALICA PERFURADA, L = 25 MM, ROLO DE 30 M, CARGA RECOMENDADA = *222,5* KGF",14154,"UN",null,0,0,0]
[null,null,1335,null,"FITA PLASTICA ZEBRADA PARA DEMARCACAO DE AREAS, LARGURA = 7 CM, SEM ADESIVO (COLETADO CAIXA)",42015,"M",null,0,0,0]
[null,null,1336,null,"FITA VEDA ROSCA EM ROLOS DE 18 MM X 10 M (L X C)",3146,"UN",null,0,0,0]
[null,null,1337,null,"FITA VEDA ROSCA EM ROLOS DE 18 MM X 25 M (L X C)",3143,"UN",null,0,0,0]
[null,null,1338,null,"FITA VEDA ROSCA EM ROLOS DE 18 MM X 50 M (L X C)",3148,"UN",null,0,0,0]
[null,null,1339,null,"FIXADOR DE ABA AUTOTRAVANTE PARA TELHA DE FIBROCIMENTO, TIPO CANALETE 90 OU KALHETAO",4310,"UN",null,0,0,0]
[null,null,1340,null,"FIXADOR DE ABA SIMPLES PARA TELHA DE FIBROCIMENTO, TIPO CANALETA 49 OU KALHETA",4311,"UN",null,0,0,0]
[null,null,1341,null,"FIXADOR DE ABA SIMPLES PARA TELHA DE FIBROCIMENTO, TIPO CANALETA 90 OU KALHETAO",4312,"UN",null,0,0,0]
[null,null,1342,null,"FIXADOR DE CAL (SACHE 150 ML)",11162,"UN",null,0,0,0]
[null,null,1343,null,"FLANELA *30 X 40* CM",13261,"UN",null,0,0,0]
[null,null,1344,null,"FLANGE PVC, ROSCAVEL SEXTAVADO SEM FUROS 3/4\"",3255,"UN",null,0,0,0]
[null,null,1345,null,"FLANGE PVC, ROSCAVEL, SEXTAVADO, SEM FUROS, 1 1/2\"",3259,"UN",null,0,0,0]
[null,null,1346,null,"FLANGE PVC, ROSCAVEL, SEXTAVADO, SEM FUROS, 1 1/4\"",3258,"UN",null,0,0,{"$f":"TRUNC(ROUND((I1364*J1364)/12,2),2)","v":0}]
[null,null,1347,null,"FLANGE PVC, ROSCAVEL, SEXTAVADO, SEM FUROS, 1\"",3256,"UN",null,0,0,0]
[null,null,1348,null,"FLANGE PVC, ROSCAVEL, SEXTAVADO, SEM FUROS, 1/2\"",3251,"UN",null,0,0,0]
[null,null,1349,null,"FLANGE PVC, ROSCAVEL, SEXTAVADO, SEM FUROS, 2 1/2\"",3261,"UN",null,0,0,0]
[null,null,1350,null,"FLANGE PVC, ROSCAVEL, SEXTAVADO, SEM FUROS, 2\"",3260,"UN",null,0,0,0]
[null,null,1351,null,"FLANGE SEXTAVADO DE FERRO GALVANIZADO, COM ROSCA BSP, DE 1 1/2\"",3272,"UN",null,0,0,0]
[null,null,1352,null,"FLANGE SEXTAVADO DE FERRO GALVANIZADO, COM ROSCA BSP, DE 1 1/4\"",3265,"UN",null,0,0,0]
[null,null,1353,null,"FLANGE SEXTAVADO DE FERRO GALVANIZADO, COM ROSCA BSP, DE 1\"",3264,"UN",null,0,0,0]
[null,null,1354,null,"FLANGE SEXTAVADO DE FERRO GALVANIZADO, COM ROSCA BSP, DE 1/2\"",3262,"UN",null,0,0,0]
[null,null,1355,null,"FLANGE SEXTAVADO DE FERRO GALVANIZADO, COM ROSCA BSP, DE 2 1/2\"",3267,"UN",null,0,0,0]
[null,null,1356,null,"FLANGE SEXTAVADO DE FERRO GALVANIZADO, COM ROSCA BSP, DE 2\"",3266,"UN",null,0,0,0]
[null,null,1357,null,"FLANGE SEXTAVADO DE FERRO GALVANIZADO, COM ROSCA BSP, DE 3/4\"",3263,"UN",null,0,0,0]
[null,null,1358,null,"FORRO COMPOSTO POR PAINEIS DE LA DE VIDRO, REVESTIDOS EM PVC MICROPERFURADO, DE *1250 X 625* MM, ESPESSURA 15 MM (COM COLOCACAO)",3275,"M2",null,0,0,0]
[null,null,1359,null,"FORRO DE FIBRA MINERAL EM PLACAS DE 1250 X 625 MM, E = 15 MM, BORDA RETA, COM PINTURA ANTIMOFO, APOIADO EM PERFIL DE ACO GALVANIZADO COM 24 MM DE BASE - INSTALADO",39512,"M2",null,0,0,0]
[null,null,1360,null,"FORRO DE FIBRA MINERAL EM PLACAS DE 625 X 625 MM, E = 15 MM, BORDA RETA, COM PINTURA ANTIMOFO, APOIADO EM PERFIL DE ACO GALVANIZADO COM 24 MM DE BASE - INSTALADO",39511,"M2",null,0,0,0]
[null,null,1361,null,"FORRO DE FIBRA MINERAL EM PLACAS DE 625 X 625 MM, E = 15/16 MM, BORDA REBAIXADA, COM PINTURA ANTIMOFO, APOIADO EM PERFIL DE ACO GALVANIZADO COM 24 MM DE BASE - INSTALADO",39513,"M2",null,0,0,0]
[null,null,1362,null,"FORRO DE MADEIRA CEDRINHO OU EQUIVALENTE DA REGIAO, ENCAIXE MACHO/FEMEA COM FRISO, *10 X 1* CM (SEM COLOCACAO)",3286,"M2",null,0,0,0]
[null,null,1363,null,"FORRO DE MADEIRA PINUS OU EQUIVALENTE DA REGIAO, ENCAIXE MACHO/FEMEA COM FRISO, *10 X 1* CM (SEM COLOCACAO)",3283,"M2",null,0,0,0]
[null,null,1364,null,"FORRO DE PVC LISO, BRANCO, REGUA DE 10 CM, ESPESSURA DE 8 MM A 10 MM (COM COLOCACAO / SEM ESTRUTURA METALICA)",11587,"M2",null,0,0,0]
[null,null,1365,null,"FORRO DE PVC LISO, BRANCO, REGUA DE 20 CM, ESPESSURA DE 8 MM A 10 MM, COMPRIMENTO 6 M (SEM COLOCACAO)",36225,"M2",null,0,0,0]
[null,null,1366,null,"FORRO DE PVC, FRISADO, BRANCO, REGUA DE 10 CM, ESPESSURA DE 8 MM A 10 MM E COMPRIMENTO 6 M (SEM COLOCACAO)",36230,"M2",null,0,0,0]
[null,null,1367,null,"FORRO DE PVC, FRISADO, BRANCO, REGUA DE 20 CM, ESPESSURA DE 8 MM A 10 MM E COMPRIMENTO 6 M (SEM COLOCACAO)",36238,"M2",null,0,0,0]
[null,null,1368,null,"FUNDO ANTICORROSIVO PARA METAIS FERROSOS (ZARCAO)",7307,"L",null,0,0,0]
[null,null,1369,null,"FUNDO PREPARADOR ACRILICO BASE AGUA",38122,"L",null,0,0,0]
[null,null,1370,null,"FURO PARA TORNEIRA OU OUTROS ACESSORIOS  EM BANCADA DE MARMORE/ GRANITO OU OUTRO TIPO DE PEDRA NATURAL",38633,"UN",null,0,0,0]
[null,null,1371,null,"FUSIVEL DIAZED 20 A TAMANHO DII, CAPACIDADE DE INTERRUPCAO DE 50 KA EM VCA E 8 KA EM VCC, TENSAO NOMIMNAL DE 500 V",12344,"UN",null,0,0,0]
[null,null,1372,null,"FUSIVEL DIAZED 35 A TAMANHO DIII, CAPACIDADE DE INTERRUPCAO DE 50 KA EM VCA E 8 KA EM VCC, TENSAO NOMIMNAL DE 500 V",12343,"UN",null,0,0,0]
[null,null,1373,null,"FUSIVEL NH *36* A 80 AMPERES, TAMANHO 00, CAPACIDADE DE INTERRUPCAO DE 120 KA, TENSAO NOMIMNAL DE 500 V",3295,"UN",null,0,0,0]
[null,null,1374,null,"FUSIVEL NH 100 A TAMANHO 00, CAPACIDADE DE INTERRUPCAO DE 120 KA, TENSAO NOMIMNAL DE 500 V",3302,"UN",null,0,0,0]
[null,null,1375,null,"FUSIVEL NH 125 A TAMANHO 00, CAPACIDADE DE INTERRUPCAO DE 120 KA, TENSAO NOMIMNAL DE 500 V",3297,"UN",null,0,0,0]
[null,null,1376,null,"FUSIVEL NH 160 A TAMANHO 00, CAPACIDADE DE INTERRUPCAO DE 120 KA, TENSAO NOMIMNAL DE 500 V",3294,"UN",null,0,0,0]
[null,null,1377,null,"FUSIVEL NH 20 A TAMANHO 000, CAPACIDADE DE INTERRUPCAO DE 120 KA, TENSAO NOMIMNAL DE 500 V",3292,"UN",null,0,0,0]
[null,null,1378,null,"FUSIVEL NH 200 A 250 AMPERES, TAMANHO 1, CAPACIDADE DE INTERRUPCAO DE 120 KA, TENSAO NOMIMNAL DE 500 V",3298,"UN",null,0,0,0]
[null,null,1379,null,"GABIAO MANTA (COLCHAO) MALHA HEXAGONAL 6 X 8 CM (ZN/AL + PVC), FIO 2,0 MM, DIMENSOES 5,0 X 2,0 X 0,17 M (C X L X A)",40451,"M2",null,0,0,0]
[null,null,1380,null,"GABIAO MANTA (COLCHAO) MALHA HEXAGONAL 6 X 8 CM (ZN/AL + PVC), FIO 2,0 MM, DIMENSOES 5,0 X 2,0 X 0,23 M (C X L X A)",40453,"M2",null,0,0,0]
[null,null,1381,null,"GABIAO TIPO CAIXA PARA SOLO REFORCADO, MALHA HEXAGONAL 8 X 10 CM (ZN/ AL + PVC), FIO 2,7 MM, DIMENSOES 2,0 X 1,0 X 1,0 M, COM CAUDA DE 4,0 M",40441,"M3",null,0,0,0]
[null,null,1382,null,"GABIAO TIPO CAIXA, MALHA HEXAGONAL 8 X 10 CM (ZN/AL + PVC), FIO DE 2,4 MM, DIMENSOES 2,0 x 1,0 x 1,0 M (C X L X A)",34800,"M3",null,0,0,0]
[null,null,1383,null,"GABIAO TIPO CAIXA, MALHA HEXAGONAL 8 X 10 CM (ZN/AL), FIO DE 2,7 MM, DIMENSOES 5,0 X 1,0 X 1,0 M (C X L X A)",40436,"M3",null,0,0,0]
[null,null,1384,null,"GANCHO CHATO EM FERRO GALVANIZADO,  L = 110 MM, RECOBRIMENTO = 100MM, SECAO 1/8 X 1/2\" (3 MM X 12 MM), PARA FIXAR TELHA DE FIBROCIMENTO ONDULADA",4315,"UN",null,0,0,0]
[null,null,1385,null,"GANCHO L COM ROSCA, PARA FIXAR TELHA EM MADEIRA, 1/4\" X 350 MM (COLETADO CAIXA)",42482,"UN",null,0,0,0]
[null,null,1386,null,"GANCHO OLHAL EM ACO GALVANIZADO, ESPESSURA 16MM, ABERTURA 21MM",402,"UN",null,0,0,0]
[null,null,1387,null,"GAS DE COZINHA - GLP",4226,"KG",null,0,0,0]
[null,null,1388,null,"GASOLINA COMUM",4222,"L",null,0,0,0]
[null,null,1389,null,"GEOGRELHA TECIDA COM FILAMENTOS DE POLIESTER + PVC, RESISTENCIA LONGITUDINAL: 90 KN/M, RESISTENCIA TRANSVERSAL: 30 KN/M, ALONGAMENTO = 12 POR CENTO",34804,"M2",null,0,0,0]
[null,null,1390,null,"GEOTEXTIL NAO TECIDO AGULHADO DE FILAMENTOS CONTINUOS 100% POLIESTER, RESITENCIA A TRACAO = 09 KN/M",4013,"M2",null,0,0,0]
[null,null,1391,null,"GEOTEXTIL NAO TECIDO AGULHADO DE FILAMENTOS CONTINUOS 100% POLIESTER, RESITENCIA A TRACAO = 10 KN/M",4011,"M2",null,0,0,0]
[null,null,1392,null,"GEOTEXTIL NAO TECIDO AGULHADO DE FILAMENTOS CONTINUOS 100% POLIESTER, RESITENCIA A TRACAO = 14 KN/M",4021,"M2",null,0,0,0]
[null,null,1393,null,"GEOTEXTIL NAO TECIDO AGULHADO DE FILAMENTOS CONTINUOS 100% POLIESTER, RESITENCIA A TRACAO = 16 KN/M",4019,"M2",null,0,0,0]
[null,null,1394,null,"GEOTEXTIL NAO TECIDO AGULHADO DE FILAMENTOS CONTINUOS 100% POLIESTER, RESITENCIA A TRACAO = 21 KN/M",4012,"M2",null,0,0,0]
[null,null,1395,null,"GEOTEXTIL NAO TECIDO AGULHADO DE FILAMENTOS CONTINUOS 100% POLIESTER, RESITENCIA A TRACAO = 26 KN/M",4020,"M2",null,0,0,0]
[null,null,1396,null,"GEOTEXTIL NAO TECIDO AGULHADO DE FILAMENTOS CONTINUOS 100% POLIESTER, RESITENCIA A TRACAO = 31 KN/M",4018,"M2",null,0,0,0]
[null,null,1397,null,"GESSO EM PO PARA REVESTIMENTOS/MOLDURAS/SANCAS",3315,"KG",null,0,0,0]
[null,null,1398,null,"GESSO PROJETADO",36870,"KG",null,0,0,0]
[null,null,1399,null,"GONZO DE EMBUTIR, EM LATAO / ZAMAC, *20 X 48* MM, PARA JANELA BASCULANTE / PIVOTANTE -  INCLUI PARAFUSOS",5092,"PAR",null,0,0,0]
[null,null,1400,null,"GONZO DE SOBREPOR, EM LATAO / ZAMAC, PARA JANELA PIVOTANTE - INCLUI PARAFUSOS",11462,"PAR",null,0,0,0]
[null,null,1401,null,"GRADIL *1320 X 2170* MM (A X L) EM BARRA DE ACO CHATA *25 MM X 2* MM, ENTRELACADA COM BARRA ACO REDONDA *5* MM, MALHA *65 X 132* MM, GALVANIZADO E PINTURA ELETROSTATICA, COR PRETO",38968,"M2",null,0,0,0]
[null,null,1402,null,"GRAMA BATATAIS EM PLACAS, SEM PLANTIO",3324,"M2",null,0,0,0]
[null,null,1403,null,"GRAMA ESMERALDA OU SAO CARLOS OU CURITIBANA, EM PLACAS, SEM PLANTIO",3322,"M2",null,0,0,0]
[null,null,1404,null,"GRAMPO DE ACO POLIDO 1 \" X 9",5076,"KG",null,0,0,0]
[null,null,1405,null,"GRAMPO DE ACO POLIDO 7/8 \" X 9",5077,"KG",null,0,0,0]
[null,null,1406,null,"GRAMPO LEVE REFORCADO EM ACO MALEAVEL 1020 GALVANIZADO (CLIP'S) PARA CABO DE ACO DE DIAMETRO 9,53 MM (3/8\") (DIN 741) (COLETADO CAIXA)",42008,"UN",null,0,0,0]
[null,null,1407,null,"GRAMPO LINHA VIVA DE LATAO ESTANHADO, DIAMETRO DO CONDUTOR PRINCIPAL DE 10 A 120 MM2, DIAMETRO DA DERIVACAO DE 10 A 70 MM2",11837,"UN",null,0,0,0]
[null,null,1408,null,"GRAMPO METALICO TIPO OLHAL PARA HASTE DE ATERRAMENTO DE 1'', CONDUTOR DE *10* A 50 MM2",415,"UN",null,0,0,0]
[null,null,1409,null,"GRAMPO METALICO TIPO OLHAL PARA HASTE DE ATERRAMENTO DE 1/2'', CONDUTOR DE *10* A 50 MM2",38055,"UN",null,0,0,0]
[null,null,1410,null,"GRAMPO METALICO TIPO OLHAL PARA HASTE DE ATERRAMENTO DE 3/4'', CONDUTOR DE *10* A 50 MM2",416,"UN",null,0,0,{"$f":"TRUNC(ROUND((I1428*J1428)/12,2),2)","v":0}]
[null,null,1411,null,"GRAMPO METALICO TIPO OLHAL PARA HASTE DE ATERRAMENTO DE 5/8'', CONDUTOR DE *10* A 50 MM2",425,"UN",null,0,0,0]
[null,null,1412,null,"GRAMPO METALICO TIPO U PARA HASTE DE ATERRAMENTO DE ATE 3/4'', CONDUTOR DE 10 A 25 MM2",426,"UN",null,0,0,0]
[null,null,1413,null,"GRAMPO METALICO TIPO U PARA HASTE DE ATERRAMENTO DE ATE 5/8'', CONDUTOR DE 10 A 25 MM2",38056,"UN",null,0,0,0]
[null,null,1414,null,"GRAMPO PARALELO METALICO PARA CABO DE 6 A 50 MM2, COM 2 PARAFUSOS",1564,"UN",null,0,0,0]
[null,null,1415,null,"GRAMPO PESADO FORJADO EM ACO CARBONO 1045 GALVANIZADO (CLIP'S) PARA CABO DE ACO DE DIAMETRO 12,7 MM (1/2\") (FS FF-C-450D, TIPO 1, CLASSE 1) (COLETADO CAIXA)",42009,"UN",null,0,0,0]
[null,null,1416,null,"GRAMPO PESADO FORJADO EM ACO CARBONO 1045 GALVANIZADO (CLIP'S) PARA CABO DE ACO DE DIAMETRO 9,53 MM (3/8\") (FS FF-C-450D, TIPO 1, CLASSE 1) (COLETADO CAIXA)",42010,"UN",null,0,0,0]
[null,null,1417,null,"GRAMPO U DE 5/8 \" N8 EM FERRO GALVANIZADO",11032,"UN",null,0,0,0]
[null,null,1418,null,"GRANALHA DE ACO, ANGULAR (GRIT), PARA JATEAMENTO, PENEIRA 0,117 A 1,00 MM, (SAE G-40 A G-80)",36786,"SC25KG",null,0,0,0]
[null,null,1419,null,"GRANALHA DE ACO, ANGULAR (GRIT), PARA JATEAMENTO, PENEIRA 1,41 A 1,19 MM (SAE G16)",36785,"SC25KG",null,0,0,0]
[null,null,1420,null,"GRANILHA/ GRANA/ PEDRISCO OU AGREGADO EM MARMORE/ GRANITO/ QUARTZO E CALCARIO, PRETO, CINZA, PALHA OU BRANCO",4824,"KG",null,0,0,0]
[null,null,1421,null,"GRANITO PARA BANCADA, POLIDO, TIPO ANDORINHA/ QUARTZ/ CASTELO/ CORUMBA OU OUTROS EQUIVALENTES DA REGIAO, E=  *2,5* CM",11795,"M2",null,0,0,0]
[null,null,1422,null,"GRAUTE CIMENTICIO PARA USO GERAL",134,"KG",null,0,0,0]
[null,null,1423,null,"GRAXA LUBRIFICANTE",4229,"KG",null,0,0,0]
[null,null,1424,null,"GRELHA DE CONCRETO DE PRE-MOLDADA *15 X 75 X 52* CM (A X C X L)",37402,"UN",null,0,0,0]
[null,null,1425,null,"GRELHA FOFO ARTICULADA, CARGA MAXIMA 1,5 T, *300 X 1000* MM, E= *15* MM",11244,"UN",null,0,0,0]
[null,null,1426,null,"GRELHA FOFO SIMPLES COM REQUADRO, CARGA MAXIMA  12,5 T, *300 X 1000* MM, E= *15* MM, AREA ESTACIONAMENTO CARRO PASSEIO",11245,"UN",null,0,0,0]
[null,null,1427,null,"GRELHA FOFO SIMPLES COM REQUADRO, CARGA MAXIMA 1,5 T, 150 X 1000 MM, E= *15* MM",11235,"UN",null,0,0,0]
[null,null,1428,null,"GRELHA FOFO SIMPLES COM REQUADRO, CARGA MAXIMA 1,5 T, 200 X 1000 MM, E= *15* MM",11236,"UN",null,0,0,0]
[null,null,1429,null,"GRELHA PVC BRANCA QUADRADA, 150 X 150 MM",11731,"UN",null,0,0,0]
[null,null,1430,null,"GRELHA PVC CROMADA REDONDA, 150 MM",11732,"UN",null,0,0,0]
[null,null,1431,null,"GUARNICAO/ ALIZAR/ VISTA MACICA, E= *1* CM, L= *4,5* CM, EM CEDRINHO/ ANGELIM COMERCIAL/  EUCALIPTO/ CURUPIXA/ PEROBA/ CUMARU OU EQUIVALENTE DA REGIAO",20017,"M",null,0,0,0]
[null,null,1432,null,"GUARNICAO/ ALIZAR/ VISTA MACICA, E= *1* CM, L= *4,5* CM, EM PINUS/ TAUARI/ VIROLA OU EQUIVALENTE DA REGIAO",20007,"M",null,0,0,0]
[null,null,1433,null,"GUARNICAO/ALIZAR/VISTA, E = *1,3* CM, L = *5,0* CM HASTE REGULAVEL = *35* MM, EM MDF/PVC WOOD/ POLIESTIRENO OU MADEIRA LAMINADA, PRIMER BRANCO",39836,"JG",null,0,0,0]
[null,null,1434,null,"GUARNICAO/ALIZAR/VISTA, E = *1,3* CM, L = *7,0* CM, EM POLIESTIRENO, BRANCO",39830,"JG",null,0,0,0]
[null,null,1435,null,"GUARNICAO/ALIZAR/VISTA, E = *1,5* CM, L = *5,0* CM, EM POLIESTIRENO, BRANCO",39831,"JG",null,0,0,0]
[null,null,1436,null,"GUARNICAO/MOLDURA DE ACABAMENTO PARA ESQUADRIA DE ALUMINIO ANODIZADO NATURAL, PARA 1 FACE",36888,"M",null,0,0,0]
[null,null,1437,null,"HASTE ANCORA EM ACO GALVANIZADO, DIMENSOES 16 MM X 2000 MM",7569,"UN",null,0,0,0]
[null,null,1438,null,"HASTE DE ACO GALVANIZADO PARA FIXACAO DE CONCERTINA 2 \"/3 M",34349,"UN",null,0,0,0]
[null,null,1439,null,"HASTE DE ATERRAMENTO EM ACO COM 2,40 M DE COMPRIMENTO E DN = 5/8\", REVESTIDA COM BAIXA CAMADA DE COBRE, SEM CONECTOR",3383,"UN",null,0,0,0]
[null,null,1440,null,"HASTE DE ATERRAMENTO EM ACO COM 3,00 M DE COMPRIMENTO E DN = 1\", REVESTIDA COM BAIXA CAMADA DE COBRE, COM CONECTOR TIPO GRAMPO",38059,"UN",null,0,0,0]
[null,null,1441,null,"HASTE DE ATERRAMENTO EM ACO COM 3,00 M DE COMPRIMENTO E DN = 1\", REVESTIDA COM BAIXA CAMADA DE COBRE, SEM CONECTOR",38058,"UN",null,0,0,0]
[null,null,1442,null,"HASTE DE ATERRAMENTO EM ACO COM 3,00 M DE COMPRIMENTO E DN = 1/2\", REVESTIDA COM BAIXA CAMADA DE COBRE, COM CONECTOR TIPO GRAMPO",38057,"UN",null,0,0,0]
[null,null,1443,null,"HASTE DE ATERRAMENTO EM ACO COM 3,00 M DE COMPRIMENTO E DN = 1/2\", REVESTIDA COM BAIXA CAMADA DE COBRE, SEM CONECTOR",3373,"UN",null,0,0,0]
[null,null,1444,null,"HASTE DE ATERRAMENTO EM ACO COM 3,00 M DE COMPRIMENTO E DN = 3/4\", REVESTIDA COM BAIXA CAMADA DE COBRE, COM CONECTOR TIPO GRAMPO",3376,"UN",null,0,0,0]
[null,null,1445,null,"HASTE DE ATERRAMENTO EM ACO COM 3,00 M DE COMPRIMENTO E DN = 3/4\", REVESTIDA COM BAIXA CAMADA DE COBRE, SEM CONECTOR",3378,"UN",null,0,0,0]
[null,null,1446,null,"HASTE DE ATERRAMENTO EM ACO COM 3,00 M DE COMPRIMENTO E DN = 5/8\", REVESTIDA COM BAIXA CAMADA DE COBRE, COM CONECTOR TIPO GRAMPO",3380,"UN",null,0,0,0]
[null,null,1447,null,"HASTE DE ATERRAMENTO EM ACO COM 3,00 M DE COMPRIMENTO E DN = 5/8\", REVESTIDA COM BAIXA CAMADA DE COBRE, SEM CONECTOR",3379,"UN",null,0,0,0]
[null,null,1448,null,"HASTE DE ATERRAMENTO EM ACO GALVANIZADO TIPO CANTONEIRA COM 2,00 M DE COMPRIMENTO, 25 X 25 MM E CHAPA DE 3/16\"",11991,"UN",null,0,0,0]
[null,null,1449,null,"HASTE METALICA PARA FIXACAO DE CALHA PLUVIAL,  ZINCADA, DOBRADA 90 GRAUS",20062,"UN",null,0,0,0]
[null,null,1450,null,"HASTE RETA PARA GANCHO DE FERRO GALVANIZADO, COM ROSCA 1/4 \" X 30 CM PARA FIXACAO DE TELHA METALICA, INCLUI PORCA E ARRUELAS DE VEDACAO",11029,"CJ",null,0,0,0]
[null,null,1451,null,"HASTE RETA PARA GANCHO DE FERRO GALVANIZADO, COM ROSCA 1/4 \" X 40 CM PARA FIXACAO DE TELHA DE FIBROCIMENTO, INCLUI PORCA SEXTAVADA DE  ZINCO",4316,"UN",null,0,0,0]
[null,null,1452,null,"HASTE RETA PARA GANCHO DE FERRO GALVANIZADO, COM ROSCA 5/16\" X 35 CM PARA FIXACAO DE TELHA DE FIBROCIMENTO, INCLUI PORCA E ARRUELAS DE VEDACAO",4313,"CJ",null,0,0,0]
[null,null,1453,null,"HASTE RETA PARA GANCHO DE FERRO GALVANIZADO, COM ROSCA 5/16\" X 40 CM PARA FIXACAO DE TELHA DE FIBROCIMENTO, INCLUI PORCA SEXTAVADA DE  ZINCO",4317,"UN",null,0,0,0]
[null,null,1454,null,"HASTE RETA PARA GANCHO DE FERRO GALVANIZADO, COM ROSCA 5/16\" X 45 CM PARA FIXACAO DE TELHA DE FIBROCIMENTO, INCLUI PORCA E ARRUELAS DE VEDACAO",4314,"CJ",null,0,0,0]
[null,null,1455,null,"HEXAMETAFOSFATO DE SODIO",10561,"KG",null,0,0,0]
[null,null,1456,null,"IGNITOR PARA LAMPADA DE VAPOR DE SODIO / VAPOR METALICO ATE 2000 W, TENSAO DE PULSO ENTRE 600 A 750 V",3391,"UN",null,0,0,0]
[null,null,1457,null,"IGNITOR PARA LAMPADA DE VAPOR DE SODIO / VAPOR METALICO ATE 400 W, TENSAO DE PULSO ENTRE 3000 A 4500 V",3389,"UN",null,0,0,0]
[null,null,1458,null,"IGNITOR PARA LAMPADA DE VAPOR DE SODIO / VAPOR METALICO ATE 400 W, TENSAO DE PULSO ENTRE 580 A 750 V",3390,"UN",null,0,0,0]
[null,null,1459,null,"IMPERMEABILIZANTE A BASE DE CIMENTO CRISTALIZANTE EM PO, MONOCOMPONENTE",1371,"KG",null,0,0,0]
[null,null,1460,null,"IMPERMEABILIZANTE FLEXIVEL BRANCO DE BASE ACRILICA PARA COBERTURAS",140,"KG",null,0,0,0]
[null,null,1461,null,"IMPERMEABILIZANTE INCOLOR PARA TRATAMENTO DE FACHADAS E TELHAS, BASE SILICONE",151,"L",null,0,0,0]
[null,null,1462,null,"IMUNIZANTE PARA MADEIRA, INCOLOR",7340,"L",null,0,0,0]
[null,null,1463,null,"INTERRUPTOR BIPOLAR 10A, 250V, CONJUNTO MONTADO PARA EMBUTIR 4\" X 2\" (PLACA + SUPORTE + MODULO)",38064,"UN",null,0,0,0]
[null,null,1464,null,"INTERRUPTOR BIPOLAR SIMPLES 10 A, 250 V (APENAS MODULO)",38114,"UN",null,0,0,0]
[null,null,1465,null,"INTERRUPTOR INTERMEDIARIO 10 A, 250 V (APENAS MODULO)",38115,"UN",null,0,0,0]
[null,null,1466,null,"INTERRUPTOR INTERMEDIARIO 10A, 250V, CONJUNTO MONTADO PARA EMBUTIR 4\" X 2\" (PLACA + SUPORTE + MODULO)",38065,"UN",null,0,0,0]
[null,null,1467,null,"INTERRUPTOR PARALELO + TOMADA 2P+T 10A, 250V, CONJUNTO MONTADO PARA EMBUTIR 4\" X 2\" (PLACA + SUPORTE + MODULOS)",38078,"UN",null,0,0,0]
[null,null,1468,null,"INTERRUPTOR PARALELO 10A, 250V (APENAS MODULO)",38113,"UN",null,0,0,0]
[null,null,1469,null,"INTERRUPTOR PARALELO 10A, 250V, CONJUNTO MONTADO PARA EMBUTIR 4\" X 2\" (PLACA + SUPORTE + MODULO)",38063,"UN",null,0,0,0]
[null,null,1470,null,"INTERRUPTOR SIMPLES + 2 INTERRUPTORES PARALELOS 10A, 250V, CONJUNTO MONTADO PARA EMBUTIR 4\" X 2\" (PLACA + SUPORTE + MODULOS)",38073,"UN",null,0,0,0]
[null,null,1471,null,"INTERRUPTOR SIMPLES + INTERRUPTOR PARALELO + TOMADA 2P+T 10A, 250V, CONJUNTO MONTADO PARA EMBUTIR 4\" X 2\" (PLACA + SUPORTE + MODULOS)",38080,"UN",null,0,0,0]
[null,null,1472,null,"INTERRUPTOR SIMPLES + INTERRUPTOR PARALELO 10A, 250V, CONJUNTO MONTADO PARA EMBUTIR 4\" X 2\" (PLACA + SUPORTE + MODULOS)",38069,"UN",null,0,0,0]
[null,null,1473,null,"INTERRUPTOR SIMPLES + TOMADA 2P+T 10A, 250V, CONJUNTO MONTADO PARA EMBUTIR 4\" X 2\" (PLACA + SUPORTE + MODULOS)",38077,"UN",null,0,0,0]
[null,null,1474,null,"INTERRUPTOR SIMPLES 10A, 250V (APENAS MODULO)",38112,"UN",null,0,0,{"$f":"TRUNC(ROUND((I1492*J1492)/12,2),2)","v":0}]
[null,null,1475,null,"INTERRUPTOR SIMPLES 10A, 250V, CONJUNTO MONTADO PARA EMBUTIR 4\" X 2\" (PLACA + SUPORTE + MODULO)",38062,"UN",null,0,0,0]
[null,null,1476,null,"INTERRUPTOR SIMPLES 10A, 250V, CONJUNTO MONTADO PARA SOBREPOR 4\" X 2\" (CAIXA + 2 MODULOS)",12129,"UN",null,0,0,0]
[null,null,1477,null,"INTERRUPTOR SIMPLES 10A, 250V, CONJUNTO MONTADO PARA SOBREPOR 4\" X 2\" (CAIXA + MODULO)",12128,"UN",null,0,0,0]
[null,null,1478,null,"INTERRUPTORES PARALELOS (2 MODULOS) + TOMADA 2P+T 10A, 250V, CONJUNTO MONTADO PARA EMBUTIR 4\" X 2\" (PLACA + SUPORTE + MODULOS)",38081,"UN",null,0,0,0]
[null,null,1479,null,"INTERRUPTORES PARALELOS (2 MODULOS) 10A, 250V, CONJUNTO MONTADO PARA EMBUTIR 4\" X 2\" (PLACA + SUPORTE + MODULOS)",38070,"UN",null,0,0,0]
[null,null,1480,null,"INTERRUPTORES PARALELOS (3 MODULOS) 10A, 250V, CONJUNTO MONTADO PARA EMBUTIR 4\" X 2\" (PLACA + SUPORTE + MODULO)",38074,"UN",null,0,0,0]
[null,null,1481,null,"INTERRUPTORES SIMPLES (2 MODULOS) + 1 INTERRUPTOR PARALELO 10A, 250V, CONJUNTO MONTADO PARA EMBUTIR 4\" X 2\" (PLACA + SUPORTE + MODULOS)",38072,"UN",null,0,0,0]
[null,null,1482,null,"INTERRUPTORES SIMPLES (2 MODULOS) + TOMADA 2P+T 10A, 250V, CONJUNTO MONTADO PARA EMBUTIR 4\" X 2\" (PLACA + SUPORTE + MODULOS)",38079,"UN",null,0,0,0]
[null,null,1483,null,"INTERRUPTORES SIMPLES (2 MODULOS) 10A, 250V, CONJUNTO MONTADO PARA EMBUTIR 4\" X 2\" (PLACA + SUPORTE + MODULOS)",38068,"UN",null,0,0,0]
[null,null,1484,null,"INTERRUPTORES SIMPLES (3 MODULOS) 10A, 250V, CONJUNTO MONTADO PARA EMBUTIR 4\" X 2\" (PLACA + SUPORTE + MODULOS)",38071,"UN",null,0,0,0]
[null,null,1485,null,"ISOLADOR DE PORCELANA SUSPENSO, DISCO TIPO GARFO OLHAL, DIAMETRO DE 152 MM, PARA TENSAO DE *15* KV",3405,"UN",null,0,0,0]
[null,null,1486,null,"ISOLADOR DE PORCELANA, TIPO BUCHA, PARA TENSAO DE *15* KV",3394,"UN",null,0,0,0]
[null,null,1487,null,"ISOLADOR DE PORCELANA, TIPO PINO MONOCORPO, PARA TENSAO DE *15* KV",3406,"UN",null,0,0,0]
[null,null,1488,null,"ISOLADOR DE PORCELANA, TIPO PINO MONOCORPO, PARA TENSAO DE *35* KV",3395,"UN",null,0,0,0]
[null,null,1489,null,"ISOLADOR DE PORCELANA, TIPO ROLDANA, DIMENSOES DE *72* X *72* MM, PARA USO EM BAIXA TENSAO",3398,"UN",null,0,0,0]
[null,null,1490,null,"JANELA BASCULANTE EM ALUMINIO, 100 X 100 CM (A X L), ACABAMENTO ACET OU BRILHANTE, BATENTE/REQUADRO DE 3 A 14 CM, COM VIDRO, SEM GUARNICAO/ALIZAR",34379,"UN",null,0,0,0]
[null,null,1491,null,"JANELA BASCULANTE EM ALUMINIO, 100 X 80 CM (A X L), ACABAMENTO ACET OU BRILHANTE, BATENTE/REQUADRO DE 3 A 14 CM, COM VIDRO, SEM GUARNICAO/ALIZAR",34378,"UN",null,0,0,0]
[null,null,1492,null,"JANELA BASCULANTE EM ALUMINIO, 80 X 60 CM (A X L), ACABAMENTO ACET OU BRILHANTE, BATENTE/REQUADRO DE 3 A 14 CM, COM VIDRO, SEM GUARNICAO/ALIZAR",34377,"UN",null,0,0,0]
[null,null,1493,null,"JANELA BASCULANTE EM ALUMINIO, 80 X 60 CM (A X L), BATENTE/REQUADRO DE 3 A 14 CM, COM VIDRO, SEM GUARNICAO/ALIZAR",581,"M2",null,0,0,0]
[null,null,1494,null,"JANELA BASCULANTE, ACO, COM BATENTE/REQUADRO, 100 X 100 CM (SEM VIDROS)",11183,"UN",null,0,0,0]
[null,null,1495,null,"JANELA BASCULANTE, ACO, COM BATENTE/REQUADRO, 60 X 60 CM (SEM VIDROS)",11190,"UN",null,0,0,0]
[null,null,1496,null,"JANELA BASCULANTE, ACO, COM BATENTE/REQUADRO, 60 X 80 CM (SEM VIDROS)",615,"M2",null,0,0,0]
[null,null,1497,null,"JANELA BASCULANTE, ACO, COM BATENTE/REQUADRO, 60 X 80 CM (SEM VIDROS)",616,"UN",null,0,0,0]
[null,null,1498,null,"JANELA BASCULANTE, ACO, COM BATENTE/REQUADRO, 80 X 80 CM (SEM VIDROS)",11231,"M2",null,0,0,0]
[null,null,1499,null,"JANELA BASCULANTE, ACO, COM BATENTE/REQUADRO, 80 X 80 CM (SEM VIDROS)",11192,"UN",null,0,0,0]
[null,null,1500,null,"JANELA DE CORRER EM ALUMINIO, 100 X 120 CM (A X L), 2 FLS,  SEM BANDEIRA,  ACABAMENTO ACET OU BRILHANTE, BATENTE/REQUADRO DE 6 A 14 CM, COM VIDRO, SEM GUARNICAO",36896,"UN",null,0,0,0]
[null,null,1501,null,"JANELA DE CORRER EM ALUMINIO, 100 X 150 CM (A X L), 2 FLS,  SEM BANDEIRA,  ACABAMENTO ACET OU BRILHANTE, BATENTE/REQUADRO DE 6 A 14 CM, COM VIDRO, SEM GUARNICAO/ALIZAR",34367,"UN",null,0,0,0]
[null,null,1502,null,"JANELA DE CORRER EM ALUMINIO, 100 X 150 CM (A X L), 4 FLS, SEM BANDEIRA, ACABAMENTO ACET OU BRILHANTE, BATENTE/REQUADRO DE 6 A 14 CM, COM VIDRO, SEM GUARNICAO/ALIZAR",36897,"UN",null,0,0,0]
[null,null,1503,null,"JANELA DE CORRER EM ALUMINIO, 100 X 150 CM (A X L), 4 FLS, SEM BANDEIRA, ACABAMENTO ACET OU BRILHANTE, BATENTE/REQUADRO DE 6 A 14 CM, COM VIDRO, SEM GUARNICAO/ALIZAR",36884,"M2",null,0,0,0]
[null,null,1504,null,"JANELA DE CORRER EM ALUMINIO, 100 X 150 CM (A X L), 4 FLS, SEM BANDEIRA, ACABAMENTO ACET OU BRILHANTE, COM VIDRO, COM GUARNICAO PARA 1 FACE",597,"M2",null,0,0,0]
[null,null,1505,null,"JANELA DE CORRER EM ALUMINIO, 100 X 200 CM, 4 FLS,  BANDEIRA COM BASCULA,  ACABAMENTO ACET OU BRILHANTE, BATENTE/REQUADRO DE 6 A 14 CM, COM VIDRO, SEM GUARNICAO/ALIZAR",34369,"UN",null,0,0,0]
[null,null,1506,null,"JANELA DE CORRER EM ALUMINIO, 120 X 120 CM (A X L), 2 FLS, SEM BANDEIRA, ACABAMENTO ACET OU BRILHANTE,  BATENTE/REQUADRO DE 6 A 14 CM, COM VIDRO, SEM GUARNICAO/ALIZAR",34362,"UN",null,0,0,0]
[null,null,1507,null,"JANELA DE CORRER EM ALUMINIO, 120 X 150 CM (A X L), 2 FLS, SEM BANDEIRA, ACABAMENTO ACET OU BRILHANTE, BATENTE/REQUADRO DE 6 A 14 CM, COM VIDRO, SEM GUARNICAO/ALIZAR",34363,"UN",null,0,0,0]
[null,null,1508,null,"JANELA DE CORRER EM ALUMINIO, 120 X 150 CM (A X L), 4 FLS, BANDEIRA COM BASCULA,  ACABAMENTO ACET OU BRILHANTE, BATENTE/REQUADRO DE 6 A 14 CM, COM VIDRO, SEM GUARNICAO/ALIZAR",34364,"UN",null,0,0,0]
[null,null,1509,null,"JANELA DE CORRER EM ALUMINIO, 120 X 200 CM (A X L), 4 FLS, BANDEIRA COM BASCULA,  ACABAMENTO ACET OU BRILHANTE, BATENTE/REQUADRO DE 6 A 14 CM, COM VIDRO, SEM GUARNICAO/ALIZAR",34365,"UN",null,0,0,0]
[null,null,1510,null,"JANELA FIXA EM ALUMINIO, 60  X 80 CM (A X L), BATENTE/REQUADRO DE 3 A 14 CM, COM VIDRO, SEM GUARNICAO/ALIZAR",599,"M2",null,0,0,0]
[null,null,1511,null,"JANELA FIXA EM ALUMINIO, 60 X 80 CM (A X L), BATENTE/REQUADRO DE 3 A 14 CM, COM VIDRO, SEM GUARNICAO/ALIZAR",34380,"UN",null,0,0,0]
[null,null,1512,null,"JOELHO 45 GRAUS, PPR, SOLDAVEL, F/ F, DN 40 MM, PARA AQUA QUENTE E FRIA PREDIAL",38987,"UN",null,0,0,0]
[null,null,1513,null,"JOELHO 45 GRAUS, PPR, SOLDAVEL, F/ F, DN 50 MM, PARA AQUA QUENTE E FRIA PREDIAL",38988,"UN",null,0,0,0]
[null,null,1514,null,"JOELHO 45 GRAUS, PPR, SOLDAVEL, F/ F, DN 63 MM, PARA AQUA QUENTE E FRIA PREDIAL",38989,"UN",null,0,0,0]
[null,null,1515,null,"JOELHO 45 GRAUS, PPR, SOLDAVEL, F/ F, DN 75 MM, PARA AQUA QUENTE E FRIA PREDIAL",38990,"UN",null,0,0,0]
[null,null,1516,null,"JOELHO 45 GRAUS, PPR, SOLDAVEL, F/ F, DN 90 MM, PARA AQUA QUENTE E FRIA PREDIAL",38991,"UN",null,0,0,0]
[null,null,1517,null,"JOELHO COM VISITA, PVC SERIE R, 90 GRAUS, 100 X 75 MM, PARA ESGOTO PREDIAL",20159,"UN",null,0,0,0]
[null,null,1518,null,"JOELHO DE REDUCAO, PVC SOLDAVEL, 90 GRAUS,  25 MM X 20 MM, PARA AGUA FRIA PREDIAL",3533,"UN",null,0,0,0]
[null,null,1519,null,"JOELHO DE REDUCAO, PVC SOLDAVEL, 90 GRAUS,  32 MM X 25 MM, PARA AGUA FRIA PREDIAL",3538,"UN",null,0,0,0]
[null,null,1520,null,"JOELHO DE REDUCAO, PVC, ROSCAVEL COM BUCHA DE LATAO, 90 GRAUS,  3/4\" X 1/2\", PARA AGUA FRIA PREDIAL",3497,"UN",null,0,0,0]
[null,null,1521,null,"JOELHO DE REDUCAO, PVC, ROSCAVEL, 90 GRAUS, 1\" X 3/4\", PARA AGUA FRIA PREDIAL",3498,"UN",null,0,0,0]
[null,null,1522,null,"JOELHO DE REDUCAO, PVC, ROSCAVEL, 90 GRAUS, 3/4\" X 1/2\", PARA AGUA FRIA PREDIAL",3496,"UN",null,0,0,0]
[null,null,1523,null,"JOELHO PARA PE DE COLUNA, 45 GRAUS, SERIE R, DN 100 MM, PARA ESGOTO PREDIAL",38449,"UN",null,0,0,0]
[null,null,1524,null,"JOELHO PPR 45 GRAUS, SOLDAVEL,  DN 20 MM, PARA AGUA QUENTE PREDIAL",36348,"UN",null,0,0,0]
[null,null,1525,null,"JOELHO PPR 45 GRAUS, SOLDAVEL, DN 25 MM, PARA AGUA QUENTE PREDIAL",36349,"UN",null,0,0,0]
[null,null,1526,null,"JOELHO PPR, 45 GRAUS, SOLDAVEL, DN 32 MM, PARA AGUA QUENTE PREDIAL",38433,"UN",null,0,0,0]
[null,null,1527,null,"JOELHO PPR, 90 GRAUS, SOLDAVEL, DN 110 MM, PARA AGUA QUENTE PREDIAL",38440,"UN",null,0,0,0]
[null,null,1528,null,"JOELHO PPR, 90 GRAUS, SOLDAVEL, DN 20 MM, PARA AGUA QUENTE PREDIAL",36359,"UN",null,0,0,0]
[null,null,1529,null,"JOELHO PPR, 90 GRAUS, SOLDAVEL, DN 25 MM, PARA AGUA QUENTE PREDIAL",36360,"UN",null,0,0,0]
[null,null,1530,null,"JOELHO PPR, 90 GRAUS, SOLDAVEL, DN 32 MM, PARA AGUA QUENTE PREDIAL",38434,"UN",null,0,0,0]
[null,null,1531,null,"JOELHO PPR, 90 GRAUS, SOLDAVEL, DN 40 MM, PARA AGUA QUENTE PREDIAL",38435,"UN",null,0,0,0]
[null,null,1532,null,"JOELHO PPR, 90 GRAUS, SOLDAVEL, DN 50 MM, PARA AGUA QUENTE PREDIAL",38436,"UN",null,0,0,0]
[null,null,1533,null,"JOELHO PPR, 90 GRAUS, SOLDAVEL, DN 63 MM, PARA AGUA QUENTE PREDIAL",38437,"UN",null,0,0,0]
[null,null,1534,null,"JOELHO PPR, 90 GRAUS, SOLDAVEL, DN 75 MM, PARA AGUA QUENTE PREDIAL",38438,"UN",null,0,0,0]
[null,null,1535,null,"JOELHO PPR, 90 GRAUS, SOLDAVEL, DN 90 MM, PARA AGUA QUENTE PREDIAL",38439,"UN",null,0,0,0]
[null,null,1536,null,"JOELHO PVC COM VISITA, 90 GRAUS, DN 100 X 50 MM, SERIE NORMAL, PARA ESGOTO PREDIAL",10836,"UN",null,0,0,0]
[null,null,1537,null,"JOELHO PVC LEVE, 45 GRAUS, DN 150 MM, PARA ESGOTO PREDIAL",20128,"UN",null,0,0,0]
[null,null,1538,null,"JOELHO PVC LEVE, 90 GRAUS, DN 150 MM, PARA ESGOTO PREDIAL",20131,"UN",null,0,0,{"$f":"TRUNC(ROUND((I1556*J1556)/12,2),2)","v":0}]
[null,null,1539,null,"JOELHO PVC,  SOLDAVEL COM ROSCA, 90 GRAUS, 20 MM X 1/2\", PARA AGUA FRIA PREDIAL",3521,"UN",null,0,0,0]
[null,null,1540,null,"JOELHO PVC,  SOLDAVEL COM ROSCA, 90 GRAUS, 25 MM X 1/2\", PARA AGUA FRIA PREDIAL",3531,"UN",null,0,0,0]
[null,null,1541,null,"JOELHO PVC,  SOLDAVEL COM ROSCA, 90 GRAUS, 25 MM X 3/4\", PARA AGUA FRIA PREDIAL",3522,"UN",null,0,0,0]
[null,null,1542,null,"JOELHO PVC,  SOLDAVEL COM ROSCA, 90 GRAUS, 32 MM X 3/4\", PARA AGUA FRIA PREDIAL",3527,"UN",null,0,0,0]
[null,null,1543,null,"JOELHO PVC, 45 GRAUS, ROSCAVEL,  1 1/2\", AGUA FRIA PREDIAL",3492,"UN",null,0,0,0]
[null,null,1544,null,"JOELHO PVC, 45 GRAUS, ROSCAVEL, 1 1/4\",  AGUA FRIA PREDIAL",3491,"UN",null,0,0,0]
[null,null,1545,null,"JOELHO PVC, 45 GRAUS, ROSCAVEL, 2\", AGUA FRIA PREDIAL",3493,"UN",null,0,0,0]
[null,null,1546,null,"JOELHO PVC, 60 GRAUS, DIAMETRO ENTRE 80 E 100 MM, PARA DRENAGEM PLUVIAL PREDIAL",12628,"UN",null,0,0,0]
[null,null,1547,null,"JOELHO PVC, 90 GRAUS, DIAMETRO ENTRE 80 E 100 MM, PARA DRENAGEM PLUVIAL PREDIAL",12629,"UN",null,0,0,0]
[null,null,1548,null,"JOELHO PVC, 90 GRAUS, ROSCAVEL, 1 1/2\",  AGUA FRIA PREDIAL",3481,"UN",null,0,0,0]
[null,null,1549,null,"JOELHO PVC, 90 GRAUS, ROSCAVEL, 1 1/4\", AGUA FRIA PREDIAL",3510,"UN",null,0,0,0]
[null,null,1550,null,"JOELHO PVC, 90 GRAUS, ROSCAVEL, 2\", AGUA FRIA PREDIAL",3508,"UN",null,0,0,0]
[null,null,1551,null,"JOELHO PVC, COM BOLSA E ANEL, 90 GRAUS, DN 40 X *38* MM, SERIE NORMAL, PARA ESGOTO PREDIAL",10835,"UN",null,0,0,0]
[null,null,1552,null,"JOELHO PVC, ROSCAVEL, 45 GRAUS, 1\", PARA AGUA FRIA PREDIAL",3485,"UN",null,0,0,0]
[null,null,1553,null,"JOELHO PVC, ROSCAVEL, 45 GRAUS, 1/2\", PARA AGUA FRIA PREDIAL",3475,"UN",null,0,0,0]
[null,null,1554,null,"JOELHO PVC, ROSCAVEL, 45 GRAUS, 3/4\", PARA AGUA FRIA PREDIAL",3534,"UN",null,0,0,0]
[null,null,1555,null,"JOELHO PVC, ROSCAVEL, 90 GRAUS, 1\", PARA AGUA FRIA PREDIAL",3482,"UN",null,0,0,0]
[null,null,1556,null,"JOELHO PVC, ROSCAVEL, 90 GRAUS, 1/2\", PARA AGUA FRIA PREDIAL",3543,"UN",null,0,0,0]
[null,null,1557,null,"JOELHO PVC, ROSCAVEL, 90 GRAUS, 3/4\", PARA AGUA FRIA PREDIAL",3505,"UN",null,0,0,0]
[null,null,1558,null,"JOELHO PVC, SOLDAVEL, 90 GRAUS, 110 MM, PARA AGUA FRIA PREDIAL",3530,"UN",null,0,0,0]
[null,null,1559,null,"JOELHO PVC, SOLDAVEL, 90 GRAUS, 20 MM, PARA AGUA FRIA PREDIAL",3542,"UN",null,0,0,0]
[null,null,1560,null,"JOELHO PVC, SOLDAVEL, 90 GRAUS, 25 MM, PARA AGUA FRIA PREDIAL",3529,"UN",null,0,0,0]
[null,null,1561,null,"JOELHO PVC, SOLDAVEL, 90 GRAUS, 32 MM, PARA AGUA FRIA PREDIAL",3536,"UN",null,0,0,0]
[null,null,1562,null,"JOELHO PVC, SOLDAVEL, 90 GRAUS, 40 MM, PARA AGUA FRIA PREDIAL",3535,"UN",null,0,0,0]
[null,null,1563,null,"JOELHO PVC, SOLDAVEL, 90 GRAUS, 50 MM, PARA AGUA FRIA PREDIAL",3540,"UN",null,0,0,0]
[null,null,1564,null,"JOELHO PVC, SOLDAVEL, 90 GRAUS, 60 MM, PARA AGUA FRIA PREDIAL",3539,"UN",null,0,0,0]
[null,null,1565,null,"JOELHO PVC, SOLDAVEL, 90 GRAUS, 85 MM, PARA AGUA FRIA PREDIAL",3513,"UN",null,0,0,0]
[null,null,1566,null,"JOELHO PVC, SOLDAVEL, BB, 45 GRAUS, DN 40 MM, PARA ESGOTO PREDIAL",3516,"UN",null,0,0,0]
[null,null,1567,null,"JOELHO PVC, SOLDAVEL, BB, 90 GRAUS, DN 40 MM, PARA ESGOTO PREDIAL",3517,"UN",null,0,0,0]
[null,null,1568,null,"JOELHO PVC, SOLDAVEL, COM BUCHA DE LATAO, 90 GRAUS, 20 MM X 1/2\", PARA AGUA FRIA PREDIAL",3515,"UN",null,0,0,0]
[null,null,1569,null,"JOELHO PVC, SOLDAVEL, COM BUCHA DE LATAO, 90 GRAUS, 25 MM X 1/2\", PARA AGUA FRIA PREDIAL",20147,"UN",null,0,0,0]
[null,null,1570,null,"JOELHO PVC, SOLDAVEL, COM BUCHA DE LATAO, 90 GRAUS, 25 MM X 3/4\", PARA AGUA FRIA PREDIAL",3524,"UN",null,0,0,0]
[null,null,1571,null,"JOELHO PVC, SOLDAVEL, COM BUCHA DE LATAO, 90 GRAUS, 32 MM X 3/4\", PARA AGUA FRIA PREDIAL",3532,"UN",null,0,0,0]
[null,null,1572,null,"JOELHO PVC, SOLDAVEL, PB, 45 GRAUS, DN 100 MM, PARA ESGOTO PREDIAL",3528,"UN",null,0,0,0]
[null,null,1573,null,"JOELHO PVC, SOLDAVEL, PB, 45 GRAUS, DN 150 MM, PARA ESGOTO PREDIAL",37952,"UN",null,0,0,0]
[null,null,1574,null,"JOELHO PVC, SOLDAVEL, PB, 45 GRAUS, DN 40 MM, PARA ESGOTO PREDIAL",37951,"UN",null,0,0,0]
[null,null,1575,null,"JOELHO PVC, SOLDAVEL, PB, 45 GRAUS, DN 50 MM, PARA ESGOTO PREDIAL",3518,"UN",null,0,0,0]
[null,null,1576,null,"JOELHO PVC, SOLDAVEL, PB, 45 GRAUS, DN 75 MM, PARA ESGOTO PREDIAL",3519,"UN",null,0,0,0]
[null,null,1577,null,"JOELHO PVC, SOLDAVEL, PB, 90 GRAUS, DN 100 MM, PARA ESGOTO PREDIAL",3520,"UN",null,0,0,0]
[null,null,1578,null,"JOELHO PVC, SOLDAVEL, PB, 90 GRAUS, DN 150 MM, PARA ESGOTO PREDIAL",37950,"UN",null,0,0,0]
[null,null,1579,null,"JOELHO PVC, SOLDAVEL, PB, 90 GRAUS, DN 40 MM, PARA ESGOTO PREDIAL",37949,"UN",null,0,0,0]
[null,null,1580,null,"JOELHO PVC, SOLDAVEL, PB, 90 GRAUS, DN 50 MM, PARA ESGOTO PREDIAL",3526,"UN",null,0,0,0]
[null,null,1581,null,"JOELHO PVC, SOLDAVEL, PB, 90 GRAUS, DN 75 MM, PARA ESGOTO PREDIAL",3509,"UN",null,0,0,0]
[null,null,1582,null,"JOELHO, PVC COM ROSCA E BUCHA LATAO, 90 GRAUS,  3/4\", PARA AGUA FRIA PREDIAL",3489,"UN",null,0,0,0]
[null,null,1583,null,"JOELHO, PVC SERIE R, 45 GRAUS, DN 100 MM, PARA ESGOTO PREDIAL",20151,"UN",null,0,0,0]
[null,null,1584,null,"JOELHO, PVC SERIE R, 45 GRAUS, DN 150 MM, PARA ESGOTO PREDIAL",20152,"UN",null,0,0,0]
[null,null,1585,null,"JOELHO, PVC SERIE R, 45 GRAUS, DN 40 MM, PARA ESGOTO PREDIAL",20148,"UN",null,0,0,0]
[null,null,1586,null,"JOELHO, PVC SERIE R, 45 GRAUS, DN 50 MM, PARA ESGOTO PREDIAL",20149,"UN",null,0,0,0]
[null,null,1587,null,"JOELHO, PVC SERIE R, 45 GRAUS, DN 75 MM, PARA ESGOTO PREDIAL",20150,"UN",null,0,0,0]
[null,null,1588,null,"JOELHO, PVC SERIE R, 90 GRAUS, DN 100 MM, PARA ESGOTO PREDIAL",20157,"UN",null,0,0,0]
[null,null,1589,null,"JOELHO, PVC SERIE R, 90 GRAUS, DN 150 MM, PARA ESGOTO PREDIAL",20158,"UN",null,0,0,0]
[null,null,1590,null,"JOELHO, PVC SERIE R, 90 GRAUS, DN 40 MM, PARA ESGOTO PREDIAL",20154,"UN",null,0,0,0]
[null,null,1591,null,"JOELHO, PVC SERIE R, 90 GRAUS, DN 50 MM, PARA ESGOTO PREDIAL",20155,"UN",null,0,0,0]
[null,null,1592,null,"JOELHO, PVC SERIE R, 90 GRAUS, DN 75 MM, PARA ESGOTO PREDIAL",20156,"UN",null,0,0,0]
[null,null,1593,null,"JOELHO, PVC SOLDAVEL, 45 GRAUS, 110 MM, PARA AGUA FRIA PREDIAL",3512,"UN",null,0,0,0]
[null,null,1594,null,"JOELHO, PVC SOLDAVEL, 45 GRAUS, 20 MM, PARA AGUA FRIA PREDIAL",3499,"UN",null,0,0,0]
[null,null,1595,null,"JOELHO, PVC SOLDAVEL, 45 GRAUS, 25 MM, PARA AGUA FRIA PREDIAL",3500,"UN",null,0,0,0]
[null,null,1596,null,"JOELHO, PVC SOLDAVEL, 45 GRAUS, 32 MM, PARA AGUA FRIA PREDIAL",3501,"UN",null,0,0,0]
[null,null,1597,null,"JOELHO, PVC SOLDAVEL, 45 GRAUS, 40 MM, PARA AGUA FRIA PREDIAL",3502,"UN",null,0,0,0]
[null,null,1598,null,"JOELHO, PVC SOLDAVEL, 45 GRAUS, 50 MM, PARA AGUA FRIA PREDIAL",3503,"UN",null,0,0,0]
[null,null,1599,null,"JOELHO, PVC SOLDAVEL, 45 GRAUS, 60 MM, PARA AGUA FRIA PREDIAL",3477,"UN",null,0,0,0]
[null,null,1600,null,"JOELHO, PVC SOLDAVEL, 45 GRAUS, 75 MM, PARA AGUA FRIA PREDIAL",3478,"UN",null,0,0,0]
[null,null,1601,null,"JOELHO, PVC SOLDAVEL, 45 GRAUS, 85 MM, PARA AGUA FRIA PREDIAL",3525,"UN",null,0,0,0]
[null,null,1602,null,"JOELHO, PVC SOLDAVEL, 90 GRAUS, 75 MM, PARA AGUA FRIA PREDIAL",3511,"UN",null,0,0,{"$f":"TRUNC(ROUND((I1620*J1620)/12,2),2)","v":0}]
[null,null,1603,null,"JOGO DE FERRAGENS CROMADAS P/ PORTA DE VIDRO TEMPERADO, UMA FOLHA COMPOSTA: DOBRADICA SUPERIOR (101) E INFERIOR (103),TRINCO (502), FECHADURA (520),CONTRA FECHADURA (531),COM CAPUCHINHO",3104,"CJ",null,0,0,0]
[null,null,1604,null,"JOGO DE TRANQUETA E ROSETA QUADRADA DE SOBREPOR SEM FUROS, EM LATAO CROMADO, *50 X 50* MM, PARA FECHADURA DE PORTA DE BANHEIRO",12032,"JG",null,0,0,0]
[null,null,1605,null,"JOGO DE TRANQUETA E ROSETA REDONDA DE SOBREPOR SEM FUROS, EM LATAO CROMADO, DIAMETRO *50* MM, PARA FECHADURA DE PORTA DE BANHEIRO",12030,"JG",null,0,0,0]
[null,null,1606,null,"JUNCAO 2 GARRAS PARA FITA PERFURADA",14157,"UN",null,0,0,0]
[null,null,1607,null,"JUNCAO DE REDUCAO INVERTIDA, PVC SOLDAVEL, 100 X 50 MM, SERIE NORMAL PARA ESGOTO PREDIAL",10908,"UN",null,0,0,0]
[null,null,1608,null,"JUNCAO DE REDUCAO INVERTIDA, PVC SOLDAVEL, 100 X 75 MM, SERIE NORMAL PARA ESGOTO PREDIAL",10909,"UN",null,0,0,0]
[null,null,1609,null,"JUNCAO DE REDUCAO INVERTIDA, PVC SOLDAVEL, 75 X 50 MM, SERIE NORMAL PARA ESGOTO PREDIAL",3669,"UN",null,0,0,0]
[null,null,1610,null,"JUNCAO DE REDUCAO SIMPLES, COM BOLSA PARA ANEL, PVC LEVE,  150 X 100 MM, PARA ESGOTO PREDIAL",20138,"UN",null,0,0,0]
[null,null,1611,null,"JUNCAO DUPLA, PVC SERIE R, DN 100 X 100 X 100 MM, PARA ESGOTO PREDIAL",20139,"UN",null,0,0,0]
[null,null,1612,null,"JUNCAO DUPLA, PVC SOLDAVEL, DN 100 X 100 X 100 MM , SERIE NORMAL PARA ESGOTO PREDIAL",3668,"UN",null,0,0,0]
[null,null,1613,null,"JUNCAO DUPLA, PVC SOLDAVEL, DN 75 X 75 X 75 MM , SERIE NORMAL PARA ESGOTO PREDIAL",3656,"UN",null,0,0,0]
[null,null,1614,null,"JUNCAO INVERTIDA, PVC SOLDAVEL, 75 X 75 MM, SERIE NORMAL PARA ESGOTO PREDIAL",10911,"UN",null,0,0,0]
[null,null,1615,null,"JUNCAO PVC  ROSCAVEL, 45 GRAUS, 1\", PARA AGUA FRIA PREDIAL",3663,"UN",null,0,0,0]
[null,null,1616,null,"JUNCAO PVC  ROSCAVEL, 45 GRAUS, 1/2\", PARA AGUA FRIA PREDIAL",3654,"UN",null,0,0,0]
[null,null,1617,null,"JUNCAO PVC  ROSCAVEL, 45 GRAUS, 3/4\", PARA AGUA FRIA PREDIAL",3664,"UN",null,0,0,0]
[null,null,1618,null,"JUNCAO PVC, 45 GRAUS, ROSCAVEL, 1 1/2\", PARA AGUA FRIA PREDIAL",3655,"UN",null,0,0,0]
[null,null,1619,null,"JUNCAO PVC, 45 GRAUS, ROSCAVEL, 1 1/4\", AGUA FRIA PREDIAL",3657,"UN",null,0,0,0]
[null,null,1620,null,"JUNCAO PVC, 45 GRAUS, ROSCAVEL, 2\", AGUA FRIA PREDIAL",3665,"UN",null,0,0,0]
[null,null,1621,null,"JUNCAO PVC, 60 GRAUS, CIRCULAR,  DIAMETRO ENTRE 80 E 100 MM, PARA DRENAGEM PLUVIAL PREDIAL",12625,"UN",null,0,0,0]
[null,null,1622,null,"JUNCAO SIMPLES, PVC LEVE, 150 MM, PARA ESGOTO PREDIAL",20136,"UN",null,0,0,0]
[null,null,1623,null,"JUNCAO SIMPLES, PVC SERIE R, DN 100 X 100 MM, PARA ESGOTO PREDIAL",20144,"UN",null,0,0,0]
[null,null,1624,null,"JUNCAO SIMPLES, PVC SERIE R, DN 100 X 75 MM, PARA ESGOTO PREDIAL",20143,"UN",null,0,0,0]
[null,null,1625,null,"JUNCAO SIMPLES, PVC SERIE R, DN 150 X 100 MM, PARA ESGOTO PREDIAL",20145,"UN",null,0,0,0]
[null,null,1626,null,"JUNCAO SIMPLES, PVC SERIE R, DN 150 X 150 MM, PARA ESGOTO PREDIAL",20146,"UN",null,0,0,0]
[null,null,1627,null,"JUNCAO SIMPLES, PVC SERIE R, DN 40 X 40 MM, PARA ESGOTO PREDIAL",20140,"UN",null,0,0,0]
[null,null,1628,null,"JUNCAO SIMPLES, PVC SERIE R, DN 50 X 50 MM, PARA ESGOTO PREDIAL",20141,"UN",null,0,0,0]
[null,null,1629,null,"JUNCAO SIMPLES, PVC SERIE R, DN 75 X 75 MM, PARA ESGOTO PREDIAL",20142,"UN",null,0,0,0]
[null,null,1630,null,"JUNCAO SIMPLES, PVC, 45 GRAUS, DN 100 X 100 MM, SERIE NORMAL PARA ESGOTO PREDIAL",3670,"UN",null,0,0,0]
[null,null,1631,null,"JUNCAO SIMPLES, PVC, 45 GRAUS, DN 40 X 40 MM, SERIE NORMAL PARA ESGOTO PREDIAL",3666,"UN",null,0,0,0]
[null,null,1632,null,"JUNCAO SIMPLES, PVC, DN 100 X 50 MM, SERIE NORMAL PARA ESGOTO PREDIAL",3659,"UN",null,0,0,0]
[null,null,1633,null,"JUNCAO SIMPLES, PVC, DN 100 X 75 MM, SERIE NORMAL PARA ESGOTO PREDIAL",3660,"UN",null,0,0,0]
[null,null,1634,null,"JUNCAO SIMPLES, PVC, DN 50 X 50 MM, SERIE NORMAL PARA ESGOTO PREDIAL",3662,"UN",null,0,0,0]
[null,null,1635,null,"JUNCAO SIMPLES, PVC, DN 75 X 50 MM, SERIE NORMAL PARA ESGOTO PREDIAL",3661,"UN",null,0,0,0]
[null,null,1636,null,"JUNCAO SIMPLES, PVC, DN 75 X 75 MM, SERIE NORMAL PARA ESGOTO PREDIAL",3658,"UN",null,0,0,0]
[null,null,1637,null,"JUNCAO, PVC PBA, BBB, DN 50 / DE 60 MM, PARA REDE DE AGUA (NBR 5647)",10865,"UN",null,0,0,0]
[null,null,1638,null,"JUNCAO, PVC, 45 GRAUS, JE, BBB, DN 100 MM, PARA REDE COLETORA DE ESGOTO (NBR 10569)",3653,"UN",null,0,0,0]
[null,null,1639,null,"JUNCAO, PVC, 45 GRAUS, JE, BBB, DN 150 MM, PARA REDE COLETORA DE ESGOTO (NBR 10569)",3649,"UN",null,0,0,0]
[null,null,1640,null,"JUNCAO, PVC, 45 GRAUS, JE, BBB, DN 200 MM, PARA REDE COLETORA DE ESGOTO (NBR 10569)",3651,"UN",null,0,0,0]
[null,null,1641,null,"JUNTA DILATACAO ELASTICA PARA CONCRETO (FUGENBAND) O-12, ATE 5 MCA",3674,"M",null,0,0,0]
[null,null,1642,null,"JUNTA DILATACAO ELASTICA PARA CONCRETO (FUGENBAND) O-22, ATE 30 MCA",3681,"M",null,0,0,0]
[null,null,1643,null,"JUNTA DILATACAO ELASTICA PARA CONCRETO (FUGENBAND) O-35/10, ATE 100 MCA",3676,"M",null,0,0,0]
[null,null,1644,null,"JUNTA DILATACAO ELASTICA PARA CONCRETO (FUGENBAND) O-35/6, ATE 100 MCA",3679,"M",null,0,0,0]
[null,null,1645,null,"JUNTA PLASTICA DE DILATACAO PARA PISOS, COR CINZA, 10 X 4,5 MM (ALTURA X ESPESSURA)",3672,"M",null,0,0,0]
[null,null,1646,null,"JUNTA PLASTICA DE DILATACAO PARA PISOS, COR CINZA, 17 X 3 MM (ALTURA X ESPESSURA)",3671,"M",null,0,0,0]
[null,null,1647,null,"JUNTA PLASTICA DE DILATACAO PARA PISOS, COR CINZA, 27 X 3 MM (ALTURA X ESPESSURA)",3673,"M",null,0,0,0]
[null,null,1648,null,"KIT DE ACESSORIOS PARA BANHEIRO EM METAL CROMADO, 5 PECAS",39398,"UN",null,0,0,0]
[null,null,1649,null,"KIT DE MATERIAIS PARA BRACADEIRA PARA FIXACAO EM POSTE CIRCULAR, CONTEM TRES FIXADORES E UM ROLO DE FITA DE 3 M EM ACO CARBONO",13343,"UN",null,0,0,0]
[null,null,1650,null,"KIT DE PROTECAO ARSTOP PARA AR CONDICIONADO, TOMADA PADRAO 2P+T 20 A, COM DISJUNTOR UNIPOLAR DIN 20A",12118,"UN",null,0,0,0]
[null,null,1651,null,"KIT PORTA PRONTA DE MADEIRA, FOLHA MEDIA (NBR 15930) DE 80 X 210 CM, E = 35 MM, NUCLEO SARRAFEADO, ESTRUTURA USINADA PARA FECHADURA, CAPA LISA EM HDF, ACABAMENTO EM PRIMER PARA PINTURA (INCLUI MARCO, ALIZARES E DOBRADICAS)",39496,"UN",null,0,0,0]
[null,null,1652,null,"KIT PORTA PRONTA DE MADEIRA, FOLHA MEDIA (NBR 15930) DE 80 X 210 CM, E = 35 MM, NUCLEO SARRAFEADO, ESTRUTURA USINADA PARA FECHADURA, CAPA LISA EM HDF, ACABAMENTO MELAMINICO BRANCO (INCLUI MARCO, ALIZARES E DOBRADICAS)",39492,"UN",null,0,0,0]
[null,null,1653,null,"KIT PORTA PRONTA DE MADEIRA, FOLHA MEDIA (NBR 15930) DE 90 X 210 CM, E = 35 MM, NUCLEO SARRAFEADO, ESTRUTURA USINADA PARA FECHADURA, CAPA LISA EM HDF, ACABAMENTO EM PRIMER PARA PINTURA (INCLUI MARCO, ALIZARES E DOBRADICAS)",39497,"UN",null,0,0,0]
[null,null,1654,null,"KIT PORTA PRONTA DE MADEIRA, FOLHA MEDIA (NBR 15930) DE 90 X 210 CM, E = 35 MM, NUCLEO SARRAFEADO, ESTRUTURA USINADA PARA FECHADURA, CAPA LISA EM HDF, ACABAMENTO MELAMINICO BRANCO (INCLUI MARCO, ALIZARES E DOBRADICAS)",39493,"UN",null,0,0,0]
[null,null,1655,null,"KIT PORTA PRONTA DE MADEIRA, FOLHA PESADA (NBR 15930) DE 80 X 210 CM, E = 35 MM, NUCLEO SOLIDO, CAPA LISA EM HDF, ACABAMENTO MELAMINICO BRANCO (INCLUI MARCO, ALIZARES, DOBRADICAS E FECHADURA EXTERNA)",39500,"UN",null,0,0,0]
[null,null,1656,null,"KIT PORTA PRONTA DE MADEIRA, FOLHA PESADA (NBR 15930) DE 80 X 210 CM, E = 35 MM, NUCLEO SOLIDO, ESTRUTURA USINADA PARA FECHADURA, CAPA LISA EM HDF, ACABAMENTO EM LAMINADO NATURAL COM VERNIZ (INCLUI MARCO, ALIZARES E DOBRADICAS)",39498,"UN",null,0,0,0]
[null,null,1657,null,"KIT PORTA PRONTA DE MADEIRA, FOLHA PESADA (NBR 15930) DE 90 X 210 CM, E = 35 MM, NUCLEO SOLIDO, CAPA LISA EM HDF, ACABAMENTO MELAMINICO BRANCO (INCLUI MARCO, ALIZARES, DOBRADICAS E FECHADURA EXTERNA)",39501,"UN",null,0,0,0]
[null,null,1658,null,"KIT PORTA PRONTA DE MADEIRA, FOLHA PESADA (NBR 15930) DE 90 X 210 CM, E = 35 MM, NUCLEO SOLIDO, ESTRUTURA USINADA PARA FECHADURA, CAPA LISA EM HDF, ACABAMENTO EM LAMINADO NATURAL COM VERNIZ (INCLUI MARCO, ALIZARES E DOBRADICAS)",39499,"UN",null,0,0,0]
[null,null,1659,null,"LADRILHO HIDRAULICO, *20 X 20* CM, E= 2 CM, DADOS, COR NATURAL",3731,"M2",null,0,0,0]
[null,null,1660,null,"LADRILHO HIDRAULICO, *20 x 20* CM, E= 2 CM, PADRAO COPACABANA, 2 CORES (PRETO E BRANCO)",3733,"M2",null,0,0,0]
[null,null,1661,null,"LADRILHO HIDRAULICO, *20 X 20* CM, E= 2 CM, RAMPA, NATURAL",38137,"M2",null,0,0,0]
[null,null,1662,null,"LADRILHO HIDRAULICO, *20 X 20* CM, E= 2 CM, TATIL ALERTA OU DIRECIONAL, AMARELO",38135,"M2",null,0,0,0]
[null,null,1663,null,"LADRILHO HIDRAULICO, *30 X 30* CM, E= 2 CM, MILANO, NATURAL",38138,"M2",null,0,0,0]
[null,null,1664,null,"LAJOTA CERAMICA 20  X 30 CM PARA LAJE PRE-MOLDADA",13250,"UN",null,0,0,0]
[null,null,1665,null,"LAJOTA CERAMICA 20 X 30 CM PARA LAJE PRE-MOLDADA",11641,"M2",null,0,0,0]
[null,null,1666,null,"LAMBRIS DE ALUMINIO *0,6* KG/M",21106,"KG",null,0,0,{"$f":"TRUNC(ROUND((I1684*J1684)/12,2),2)","v":0}]
[null,null,1667,null,"LAMPADA DE LUZ MISTA 160 W, BASE E27 (220 V)",3755,"UN",null,0,0,0]
[null,null,1668,null,"LAMPADA DE LUZ MISTA 250 W, BASE E27 (220 V)",3750,"UN",null,0,0,0]
[null,null,1669,null,"LAMPADA DE LUZ MISTA 500 W, BASE E40 (220 V)",3756,"UN",null,0,0,0]
[null,null,1670,null,"LAMPADA FLUORESCENTE COMPACTA 2U BRANCA 15 W, BASE E27 (127/220 V)",38191,"UN",null,0,0,0]
[null,null,1671,null,"LAMPADA FLUORESCENTE COMPACTA 2U/3U BRANCA 9/10 W, BASE E27 (127/220 V)",39381,"UN",null,0,0,0]
[null,null,1672,null,"LAMPADA FLUORESCENTE COMPACTA 3U BRANCA 20 W, BASE E27 (127/220 V)",38780,"UN",null,0,0,0]
[null,null,1673,null,"LAMPADA FLUORESCENTE COMPACTA BRANCA 135 W, BASE E40 (127/220 V)",39377,"UN",null,0,0,0]
[null,null,1674,null,"LAMPADA FLUORESCENTE ESPIRAL BRANCA 45 W, BASE E27 (127/220 V)",38781,"UN",null,0,0,0]
[null,null,1675,null,"LAMPADA FLUORESCENTE ESPIRAL BRANCA 65 W, BASE E27 (127/220 V)",38192,"UN",null,0,0,0]
[null,null,1676,null,"LAMPADA FLUORESCENTE TUBULAR T10, DE 20 OU 40 W, BIVOLT",3753,"UN",null,0,0,0]
[null,null,1677,null,"LAMPADA FLUORESCENTE TUBULAR T5 DE 14 W, BIVOLT",38782,"UN",null,0,0,0]
[null,null,1678,null,"LAMPADA FLUORESCENTE TUBULAR T8 DE 16/18 W, BIVOLT",38778,"UN",null,0,0,0]
[null,null,1679,null,"LAMPADA FLUORESCENTE TUBULAR T8 DE 32/36 W, BIVOLT",38779,"UN",null,0,0,0]
[null,null,1680,null,"LAMPADA LED 10 W BIVOLT BRANCA, FORMATO TRADICIONAL (BASE E27)",38194,"UN",null,0,0,0]
[null,null,1681,null,"LAMPADA LED 6 W BIVOLT BRANCA, FORMATO TRADICIONAL (BASE E27)",38193,"UN",null,0,0,0]
[null,null,1682,null,"LAMPADA LED TIPO DICROICA BIVOLT, LUZ BRANCA, 5 W (BASE GU10)",39388,"UN",null,0,0,0]
[null,null,1683,null,"LAMPADA LED TUBULAR BIVOLT 18/20 W, BASE G13",39387,"UN",null,0,0,0]
[null,null,1684,null,"LAMPADA LED TUBULAR BIVOLT 9/10 W, BASE G13",39386,"UN",null,0,0,0]
[null,null,1685,null,"LAMPADA VAPOR DE SODIO OVOIDE 150 W (BASE E40)",12216,"UN",null,0,0,0]
[null,null,1686,null,"LAMPADA VAPOR DE SODIO OVOIDE 250 W (BASE E40)",3757,"UN",null,0,0,0]
[null,null,1687,null,"LAMPADA VAPOR DE SODIO OVOIDE 400 W (BASE E40)",3758,"UN",null,0,0,0]
[null,null,1688,null,"LAMPADA VAPOR MERCURIO 125 W (BASE E27)",12214,"UN",null,0,0,0]
[null,null,1689,null,"LAMPADA VAPOR MERCURIO 250 W (BASE E40)",3749,"UN",null,0,0,0]
[null,null,1690,null,"LAMPADA VAPOR MERCURIO 400 W (BASE E40)",3751,"UN",null,0,0,0]
[null,null,1691,null,"LAMPADA VAPOR METALICO OVOIDE 150 W, BASE E27/E40",39376,"UN",null,0,0,0]
[null,null,1692,null,"LAMPADA VAPOR METALICO TUBULAR 400 W (BASE E40)",3752,"UN",null,0,0,0]
[null,null,1693,null,"LAVATORIO DE CANTO LOUCA BRANCA SUSPENSO *40 X 30* CM",36521,"UN",null,0,0,0]
[null,null,1694,null,"LAVATORIO LOUCA BRANCA COM COLUNA *44 X 35,5* CM",36794,"UN",null,0,0,0]
[null,null,1695,null,"LAVATORIO LOUCA BRANCA COM COLUNA *54 X 44* CM",10426,"UN",null,0,0,0]
[null,null,1696,null,"LAVATORIO LOUCA BRANCA SUSPENSO *40 X 30* CM",10425,"UN",null,0,0,0]
[null,null,1697,null,"LAVATORIO LOUCA COR COM COLUNA *54 X 44* CM",10431,"UN",null,0,0,0]
[null,null,1698,null,"LAVATORIO LOUCA COR SUSPENSO *40 X 30* CM",10429,"UN",null,0,0,0]
[null,null,1699,null,"LAVATORIO/CUBA DE EMBUTIR OVAL LOUCA BRANCA SEM LADRAO *50 X 35* CM",20269,"UN",null,0,0,0]
[null,null,1700,null,"LAVATORIO/CUBA DE EMBUTIR OVAL LOUCA COR SEM LADRAO *50 X 35* CM",20270,"UN",null,0,0,0]
[null,null,1701,null,"LAVATORIO/CUBA DE SOBREPOR OVAL PEQUENA LOUCA BRANCA SEM LADRAO *31 X 44*",11696,"UN",null,0,0,0]
[null,null,1702,null,"LAVATORIO/CUBA DE SOBREPOR RETANGULAR LOUCA BRANCA COM LADRAO *52 X 45* CM",10427,"UN",null,0,0,0]
[null,null,1703,null,"LAVATORIO/CUBA DE SOBREPOR RETANGULAR LOUCA COR COM LADRAO *52 X 45* CM",10428,"UN",null,0,0,0]
[null,null,1704,null,"LETRA ACO INOX (AISI 304), CHAPA NUM. 22, RECORTADO, H= 20 CM (SEM RELEVO)",10853,"UN",null,0,0,0]
[null,null,1705,null,"LEVANTADOR DE JANELA GUILHOTINA, EM LATAO CROMADO",5093,"PAR",null,0,0,0]
[null,null,1706,null,"LINHA DE PEDREIRO LISA 100 M",38382,"UN",null,0,0,0]
[null,null,1707,null,"LIQUIDO PARA BRILHO PAREDES INTERNAS",6091,"L",null,0,0,0]
[null,null,1708,null,"LIXA D'AGUA EM FOLHA, GRAO 100",38383,"UN",null,0,0,0]
[null,null,1709,null,"LIXA EM FOLHA PARA FERRO, NUMERO 150",3768,"UN",null,0,0,0]
[null,null,1710,null,"LIXA EM FOLHA PARA PAREDE OU MADEIRA, NUMERO 120 (COR VERMELHA)",3767,"UN",null,0,0,0]
[null,null,1711,null,"LOCACAO DE ANDAIME METALICO TIPO FACHADEIRO, LARGURA DE 1,20 M, ALTURA POR PECA DE 2,0 M, INCLUINDO SAPATAS E ITENS NECESSARIOS A INSTALACAO",20193,"M2/MES",null,0,0,0]
[null,null,1712,null,"LOCACAO DE ANDAIME METALICO TUBULAR DE ENCAIXE, TIPO DE TORRE, COM LARGURA DE 1 ATE 1,5 M E ALTURA DE *1,00* M",10527,"M/MES",null,0,0,0]
[null,null,1713,null,"LOCACAO DE ANDAIME SUSPENSO OU BALANCIM MANUAL, CAPACIDADE DE CARGA TOTAL DE APROXIMADAMENTE 250 KG/M2, PLATAFORMA DE 1,50 M X 0,80 M (C X L), CABO DE 45 M",41805,"MES",null,0,0,0]
[null,null,1714,null,"LOCACAO DE BOMBA SUBMERSIVEL PARA DRENAGEM E ESGOTAMENTO, MOTOR ELETRICO TRIFASICO, POTENCIA DE 1 CV, DIAMETRO DE RECALQUE DE 2\". FAIXA DE OPERACAO: Q=25 M3/H (+ OU - 1 M3/H) E AMT=2 M; Q=12 M3/H (+ OU - 2 M3/H) E AMT = 12 M (+ OU - 2 M)",4084,"H",null,0,0,0]
[null,null,1715,null,"LOCACAO DE BOMBA SUBMERSIVEL PARA DRENAGEM E ESGOTAMENTO, MOTOR ELETRICO TRIFASICO, POTENCIA DE 2 CV, DIAMETRO DE RECALQUE DE 2\". FAIXA DE OPERACAO: Q=35 M3/H (+ OU - 3 M3/H) E AMT=2 M; Q=13 M3/H (+ OU - 3 M3/H) E AMT = 17 M (+ OU - 3 M)",743,"H",null,0,0,0]
[null,null,1716,null,"LOCACAO DE BOMBA SUBMERSIVEL PARA DRENAGEM E ESGOTAMENTO, MOTOR ELETRICO TRIFASICO, POTENCIA DE 2 CV, DIAMETRO DE RECALQUE DE 3\". FAIXA DE OPERACAO: Q=70 M3/H (+ OU - 2 M3/H) E AMT=2 M; Q=9,5 M3/H (+ OU - 3,5 M3/H) E AMT = 10 M (+ OU - 2 M)",40293,"H",null,0,0,0]
[null,null,1717,null,"LOCACAO DE BOMBA SUBMERSIVEL PARA DRENAGEM E ESGOTAMENTO, MOTOR ELETRICO TRIFASICO, POTENCIA DE 3 CV, DIAMETRO DE RECALQUE DE 2\". FAIXA DE OPERACAO: Q=84 M3/H (+ OU - 2,5 M3/H) E AMT=2 M; Q=9,1 M3/H (+ OU - 2 M3/H) E AMT = 12 M (+ OU - 2 M)",40294,"H",null,0,0,0]
[null,null,1718,null,"LOCACAO DE BOMBA SUBMERSIVEL PARA DRENAGEM E ESGOTAMENTO, MOTOR ELETRICO TRIFASICO, POTENCIA DE 4 CV, DIAMETRO DE RECALQUE DE 3\". FAIXA DE OPERACAO: Q=60 M3/H (+ OU - 1 M3/H) E AMT=2 M; Q=11 M3/H (+ OU - 1 M3/H) E AMT = 23 M (+ OU - 1 M)",4085,"H",null,0,0,0]
[null,null,1719,null,"LOCACAO DE CONTAINER 2,30  X  6,00 M, ALT. 2,50 M, PARA ESCRITORIO, SEM DIVISORIAS INTERNAS E SEM SANITARIO",10776,"MES",null,0,0,0]
[null,null,1720,null,"LOCACAO DE ELEVADOR DE CARGA A CABO, CABINE SEMI FECHADA *2,0* X *1,5* X *2,0* M, CAPACIDADE DE CARGA 1000 KG, TORRE  *2,38* X *2,21* X 15 M, GUINCHO DE EMBREAGEM, FREIO DE SEGURANCA, LIMITADOR DE VELOCIDADE E CANCELA",3355,"H",null,0,0,0]
[null,null,1721,null,"LOCACAO DE GRUPO GERADOR *80 A 125* KVA, MOTOR DIESEL, REBOCAVEL, ACIONAMENTO MANUAL",3346,"H",null,0,0,0]
[null,null,1722,null,"LOCACAO DE GRUPO GERADOR ACIMA DE * 125 ATE 180* KVA, MOTOR DIESEL, REBOCAVEL, ACIONAMENTO MANUAL",3348,"H",null,0,0,0]
[null,null,1723,null,"LOCACAO DE GRUPO GERADOR ACIMA DE * 20 A 80* KVA, MOTOR DIESEL, REBOCAVEL, ACIONAMENTO MANUAL",3345,"H",null,0,0,0]
[null,null,1724,null,"LOCACAO DE GRUPO GERADOR DE *260* KVA, DIESEL REBOCAVEL, ACIONAMENTO MANUAL",39833,"H",null,0,0,0]
[null,null,1725,null,"LOCACAO DE GRUPO GERADOR DE *400* KVA, DIESEL REBOCAVEL, ACIONAMENTO MANUAL",39834,"H",null,0,0,0]
[null,null,1726,null,"LOCACAO DE GRUPO GERADOR DE *550* KVA, DIESEL REBOCAVEL, ACIONAMENTO MANUAL",39835,"H",null,0,0,0]
[null,null,1727,null,"LOCACAO DE NIVEL OPTICO, COM PRECISAO DE 0,7 MM, AUMENTO DE 32X",7252,"H",null,0,0,0]
[null,null,1728,null,"LOCACAO DE TALHA ELETRICA 3 T, VELOCIDADE  2,1 M / MIN, POTENCIA 1,3 KW",10809,"H",null,0,0,0]
[null,null,1729,null,"LOCACAO DE TALHA MANUAL DE CORRENTE, CAPACIDADE DE 2 T COM ELEVACAO DE 3 M",10811,"H",null,0,0,0]
[null,null,1730,null,"LOCACAO DE TORRE METALICA COMPLETA PARA UMA CARGA DE 8 TF (80 KN)  E PE DIREITO DE 6 M, INCLUINDO MODULOS , DIAGONAIS, SAPATAS E FORCADOS",40291,"MES",null,0,0,{"$f":"TRUNC(ROUND((I1748*J1748)/12,2),2)","v":0}]
[null,null,1731,null,"LOCACAO DE VIGA SANDUICHE METALICA VAZADA PARA TRAVAMENTO DE PILARES, ALTURA DE *8* CM, LARGURA DE *6* CM E EXTENSAO DE 2 M",40275,"MES",null,0,0,0]
[null,null,1732,null,"LONA PLASTICA PRETA, E= 150 MICRA",3777,"M2",null,0,0,0]
[null,null,1733,null,"LONA PLASTICA, PRETA, LARGURA  8 M, E= 150 MICRA",3779,"M",null,0,0,0]
[null,null,1734,null,"LUMINARIA ABERTA P/ ILUMINACAO PUBLICA, TIPO X-57 PETERCO OU EQUIV",3798,"UN",null,0,0,0]
[null,null,1735,null,"LUMINARIA ARANDELA TIPO MEIA-LUA COM VIDRO FOSCO *30 X 15* CM, PARA 1 LAMPADA, BASE E27, POTENCIA MAXIMA 40/60 W (NAO INCLUI LAMPADA)",38769,"UN",null,0,0,0]
[null,null,1736,null,"LUMINARIA DE EMBUTIR EM CHAPA DE ACO PARA 2 LAMPADAS FLUORESCENTES DE 14 W COM REFLETOR E ALETAS EM ALUMINIO, COMPLETA (INCLUI REATOR E LAMPADAS)",39510,"UN",null,0,0,0]
[null,null,1737,null,"LUMINARIA DE EMBUTIR EM CHAPA DE ACO PARA 4 LAMPADAS FLUORESCENTES DE 14 W *60 X 60 CM* ALETADA (NAO INCLUI REATOR E LAMPADAS)",38776,"UN",null,0,0,0]
[null,null,1738,null,"LUMINARIA DE EMERGENCIA 30 LEDS, POTENCIA 2 W, BATERIA DE LITIO, AUTONOMIA DE 6 HORAS",38774,"UN",null,0,0,0]
[null,null,1739,null,"LUMINARIA DE SOBREPOR EM CHAPA DE ACO COM ALETAS PLASTICAS, PARA 1 LAMPADA, BASE E27, POTENCIA MAXIMA 40/60 W (NAO INCLUI LAMPADA)",38889,"UN",null,0,0,0]
[null,null,1740,null,"LUMINARIA DE SOBREPOR EM CHAPA DE ACO COM ALETAS PLASTICAS, PARA 2 LAMPADAS, BASE E27, POTENCIA MAXIMA 40/60 W (NAO INCLUI LAMPADAS)",38784,"UN",null,0,0,0]
[null,null,1741,null,"LUMINARIA DE SOBREPOR EM CHAPA DE ACO PARA 1 LAMPADA FLUORESCENTE DE *18* W, ALETADA, COMPLETA (LAMPADA E REATOR INCLUSOS)",3788,"UN",null,0,0,0]
[null,null,1742,null,"LUMINARIA DE SOBREPOR EM CHAPA DE ACO PARA 1 LAMPADA FLUORESCENTE DE *18* W, PERFIL COMERCIAL (NAO INCLUI REATOR E LAMPADA)",12230,"UN",null,0,0,0]
[null,null,1743,null,"LUMINARIA DE SOBREPOR EM CHAPA DE ACO PARA 1 LAMPADA FLUORESCENTE DE *36* W, ALETADA, COMPLETA (LAMPADA E REATOR INCLUSOS)",3780,"UN",null,0,0,0]
[null,null,1744,null,"LUMINARIA DE SOBREPOR EM CHAPA DE ACO PARA 1 LAMPADA FLUORESCENTE DE *36* W, PERFIL COMERCIAL (NAO INCLUI REATOR E LAMPADA)",12231,"UN",null,0,0,0]
[null,null,1745,null,"LUMINARIA DE SOBREPOR EM CHAPA DE ACO PARA 2 LAMPADAS FLUORESCENTES DE *18* W, ALETADA, COMPLETA (LAMPADAS E REATOR INCLUSOS)",3811,"UN",null,0,0,0]
[null,null,1746,null,"LUMINARIA DE SOBREPOR EM CHAPA DE ACO PARA 2 LAMPADAS FLUORESCENTES DE *18* W, PERFIL COMERCIAL (NAO INCLUI REATOR E LAMPADAS)",12232,"UN",null,0,0,0]
[null,null,1747,null,"LUMINARIA DE SOBREPOR EM CHAPA DE ACO PARA 2 LAMPADAS FLUORESCENTES DE *36* W, ALETADA, COMPLETA (LAMPADAS E REATOR INCLUSOS)",3799,"UN",null,0,0,0]
[null,null,1748,null,"LUMINARIA DE SOBREPOR EM CHAPA DE ACO PARA 2 LAMPADAS FLUORESCENTES DE *36* W, PERFIL COMERCIAL (NAO INCLUI REATOR E LAMPADAS)",12239,"UN",null,0,0,0]
[null,null,1749,null,"LUMINARIA DE TETO PLAFON/PLAFONIER EM PLASTICO COM BASE E27, POTENCIA MAXIMA 60 W (NAO INCLUI LAMPADA)",38773,"UN",null,0,0,0]
[null,null,1750,null,"LUMINARIA DUPLA P/SINALIZACAO, TIPO WETZEL AS-2/110 OU EQUIV",12271,"UN",null,0,0,0]
[null,null,1751,null,"LUMINARIA ESMALTADA COR ALUMINIO PETERCO Y.25/1",12245,"UN",null,0,0,0]
[null,null,1752,null,"LUMINARIA HERMETICA IP-65 PARA 2 DUAS LAMPADAS DE 14/16/18/20 W (NAO INCLUI REATOR E LAMPADAS)",38785,"UN",null,0,0,0]
[null,null,1753,null,"LUMINARIA HERMETICA IP-65 PARA 2 DUAS LAMPADAS DE 28/32/36/40 W (NAO INCLUI REATOR E LAMPADAS)",38786,"UN",null,0,0,0]
[null,null,1754,null,"LUMINARIA LED PLAFON REDONDO DE SOBREPOR BIVOLT 12/13 W,  D = *17* CM",39385,"UN",null,0,0,0]
[null,null,1755,null,"LUMINARIA LED REFLETOR RETANGULAR BIVOLT, LUZ BRANCA, 10 W",39389,"UN",null,0,0,0]
[null,null,1756,null,"LUMINARIA LED REFLETOR RETANGULAR BIVOLT, LUZ BRANCA, 30 W",39390,"UN",null,0,0,0]
[null,null,1757,null,"LUMINARIA LED REFLETOR RETANGULAR BIVOLT, LUZ BRANCA, 50 W",39391,"UN",null,0,0,0]
[null,null,1758,null,"LUMINARIA PLAFON REDONDO COM VIDRO FOSCO DIAMETRO *25* CM, PARA 1 LAMPADA, BASE E27, POTENCIA MAXIMA 40/60 W (NAO INCLUI LAMPADA)",3803,"UN",null,0,0,0]
[null,null,1759,null,"LUMINARIA PLAFON REDONDO COM VIDRO FOSCO DIAMETRO *30* CM, PARA 2 LAMPADAS, BASE E27, POTENCIA MAXIMA 40/60 W (NAO INCLUI LAMPADAS)",38770,"UN",null,0,0,0]
[null,null,1760,null,"LUMINARIA PROVA DE TEMPO PETERCO Y.31/1",12267,"UN",null,0,0,0]
[null,null,1761,null,"LUMINARIA SPOT DE SOBREPOR EM ALUMINIO COM ALETA PLASTICA PARA 1 LAMPADA, BASE E27, POTENCIA MAXIMA 40/60 W (NAO INCLUI LAMPADA)",12266,"UN",null,0,0,0]
[null,null,1762,null,"LUMINARIA SPOT DE SOBREPOR EM ALUMINIO COM ALETA PLASTICA PARA 2 LAMPADAS, BASE E27, POTENCIA MAXIMA 40/60 W (NAO INCLUI LAMPADA)",39378,"UN",null,0,0,0]
[null,null,1763,null,"LUMINARIA TIPO TARTARUGA PARA AREA EXTERNA EM ALUMINIO, COM GRADE, PARA 1 LAMPADA, BASE E27, POTENCIA MAXIMA 40/60 W (NAO INCLUI LAMPADA)",38775,"UN",null,0,0,0]
[null,null,1764,null,"LUVA DE BORRACHA ISOLANTE PARA ALTA TENSAO, RESISTENTE A OZONIO, TENSAO DE ENSAIO 2,5 KV (PAR)",36147,"PAR",null,0,0,0]
[null,null,1765,null,"LUVA DE COBRE (REF 600) SEM ANEL DE SOLDA, BOLSA X BOLSA, 15 MM",12723,"UN",null,0,0,0]
[null,null,1766,null,"LUVA DE COBRE (REF 600) SEM ANEL DE SOLDA, BOLSA X BOLSA, 22 MM",12724,"UN",null,0,0,0]
[null,null,1767,null,"LUVA DE COBRE (REF 600) SEM ANEL DE SOLDA, BOLSA X BOLSA, 28 MM",12725,"UN",null,0,0,0]
[null,null,1768,null,"LUVA DE COBRE (REF 600) SEM ANEL DE SOLDA, BOLSA X BOLSA, 35 MM",12726,"UN",null,0,0,0]
[null,null,1769,null,"LUVA DE COBRE (REF 600) SEM ANEL DE SOLDA, BOLSA X BOLSA, 42 MM",12727,"UN",null,0,0,0]
[null,null,1770,null,"LUVA DE COBRE (REF 600) SEM ANEL DE SOLDA, BOLSA X BOLSA, 54 MM",12728,"UN",null,0,0,0]
[null,null,1771,null,"LUVA DE COBRE (REF 600) SEM ANEL DE SOLDA, BOLSA X BOLSA, 66 MM",12729,"UN",null,0,0,0]
[null,null,1772,null,"LUVA DE CORRER DEFOFO, PVC, JE, DN 100 MM",3840,"UN",null,0,0,0]
[null,null,1773,null,"LUVA DE CORRER DEFOFO, PVC, JE, DN 150 MM",3838,"UN",null,0,0,0]
[null,null,1774,null,"LUVA DE CORRER PARA TUBO ROSCAVEL, PVC, 1 1/2\", PARA AGUA FRIA PREDIAL",3900,"UN",null,0,0,0]
[null,null,1775,null,"LUVA DE CORRER PARA TUBO ROSCAVEL, PVC, 1/2\", PARA AGUA FRIA PREDIAL",3846,"UN",null,0,0,0]
[null,null,1776,null,"LUVA DE CORRER PARA TUBO ROSCAVEL, PVC, 3/4\", PARA AGUA FRIA PREDIAL",3886,"UN",null,0,0,0]
[null,null,1777,null,"LUVA DE CORRER PARA TUBO SOLDAVEL, PVC, 20 MM, PARA AGUA FRIA PREDIAL",3854,"UN",null,0,0,0]
[null,null,1778,null,"LUVA DE CORRER PARA TUBO SOLDAVEL, PVC, 25 MM, PARA AGUA FRIA PREDIAL",3873,"UN",null,0,0,0]
[null,null,1779,null,"LUVA DE CORRER PARA TUBO SOLDAVEL, PVC, 32 MM, PARA AGUA FRIA PREDIAL",38021,"UN",null,0,0,0]
[null,null,1780,null,"LUVA DE CORRER PARA TUBO SOLDAVEL, PVC, 50 MM, PARA AGUA FRIA PREDIAL",3847,"UN",null,0,0,0]
[null,null,1781,null,"LUVA DE CORRER PARA TUBO SOLDAVEL, PVC, 60 MM, PARA AGUA FRIA PREDIAL",38022,"UN",null,0,0,0]
[null,null,1782,null,"LUVA DE CORRER PVC, JE, DN 100 MM, PARA REDE COLETORA DE ESGOTO (NBR 10569)",3833,"UN",null,0,0,0]
[null,null,1783,null,"LUVA DE CORRER PVC, JE, DN 150 MM, PARA REDE COLETORA DE ESGOTO (NBR 10569)",3835,"UN",null,0,0,0]
[null,null,1784,null,"LUVA DE CORRER PVC, JE, DN 200 MM, PARA REDE COLETORA DE ESGOTO (NBR 10569)",3836,"UN",null,0,0,0]
[null,null,1785,null,"LUVA DE CORRER PVC, JE, DN 250 MM, PARA REDE COLETORA DE ESGOTO (NBR 10569)",3830,"UN",null,0,0,0]
[null,null,1786,null,"LUVA DE CORRER, PVC PBA, JE, DN 100 / DE 110 MM, PARA REDE AGUA (NBR 10351)",3826,"UN",null,0,0,0]
[null,null,1787,null,"LUVA DE CORRER, PVC PBA, JE, DN 50 / DE 60 MM, PARA REDE AGUA (NBR 10351)",3825,"UN",null,0,0,0]
[null,null,1788,null,"LUVA DE CORRER, PVC PBA, JE, DN 75 / DE 85 MM, PARA REDE AGUA (NBR 10351)",3827,"UN",null,0,0,0]
[null,null,1789,null,"LUVA DE CORRER, PVC SERIE REFORCADA - R, 100 MM, PARA ESGOTO PREDIAL",20165,"UN",null,0,0,0]
[null,null,1790,null,"LUVA DE CORRER, PVC SERIE REFORCADA - R, 150 MM, PARA ESGOTO PREDIAL",20166,"UN",null,0,0,0]
[null,null,1791,null,"LUVA DE CORRER, PVC SERIE REFORCADA - R, 75 MM, PARA ESGOTO PREDIAL",20164,"UN",null,0,0,0]
[null,null,1792,null,"LUVA DE CORRER, PVC, DN 100 MM, PARA ESGOTO PREDIAL",3893,"UN",null,0,0,0]
[null,null,1793,null,"LUVA DE CORRER, PVC, DN 50 MM, PARA ESGOTO PREDIAL",3848,"UN",null,0,0,0]
[null,null,1794,null,"LUVA DE CORRER, PVC, DN 75 MM, PARA ESGOTO PREDIAL",3895,"UN",null,0,0,{"$f":"TRUNC(ROUND((I1812*J1812)/12,2),2)","v":0}]
[null,null,1795,null,"LUVA DE FERRO GALVANIZADO, COM ROSCA BSP MACHO/FEMEA, DE 3/4\"",12404,"UN",null,0,0,0]
[null,null,1796,null,"LUVA DE FERRO GALVANIZADO, COM ROSCA BSP, DE 1 1/2\"",3939,"UN",null,0,0,0]
[null,null,1797,null,"LUVA DE FERRO GALVANIZADO, COM ROSCA BSP, DE 1 1/4\"",3911,"UN",null,0,0,0]
[null,null,1798,null,"LUVA DE FERRO GALVANIZADO, COM ROSCA BSP, DE 1\"",3910,"UN",null,0,0,0]
[null,null,1799,null,"LUVA DE FERRO GALVANIZADO, COM ROSCA BSP, DE 1/2\"",3908,"UN",null,0,0,0]
[null,null,1800,null,"LUVA DE FERRO GALVANIZADO, COM ROSCA BSP, DE 2 1/2\"",3913,"UN",null,0,0,0]
[null,null,1801,null,"LUVA DE FERRO GALVANIZADO, COM ROSCA BSP, DE 2\"",3912,"UN",null,0,0,0]
[null,null,1802,null,"LUVA DE FERRO GALVANIZADO, COM ROSCA BSP, DE 3/4\"",3909,"UN",null,0,0,0]
[null,null,1803,null,"LUVA DE FERRO GALVANIZADO, COM ROSCA BSP, DE 4\"",3915,"UN",null,0,0,0]
[null,null,1804,null,"LUVA DE PRESSAO, EM PVC, DE 20 MM, PARA ELETRODUTO FLEXIVEL",1904,"UN",null,0,0,0]
[null,null,1805,null,"LUVA DE PRESSAO, EM PVC, DE 25 MM, PARA ELETRODUTO FLEXIVEL",1899,"UN",null,0,0,0]
[null,null,1806,null,"LUVA DE PRESSAO, EM PVC, DE 32 MM, PARA ELETRODUTO FLEXIVEL",1900,"UN",null,0,0,0]
[null,null,1807,null,"LUVA DE REDUCAO DE FERRO GALVANIZADO, COM ROSCA BSP MACHO/FEMEA, DE 1 1/2\" X 1\"",12407,"UN",null,0,0,0]
[null,null,1808,null,"LUVA DE REDUCAO DE FERRO GALVANIZADO, COM ROSCA BSP MACHO/FEMEA, DE 1\" X 1/2\"",12408,"UN",null,0,0,0]
[null,null,1809,null,"LUVA DE REDUCAO DE FERRO GALVANIZADO, COM ROSCA BSP MACHO/FEMEA, DE 1\" X 3/4\"",12409,"UN",null,0,0,0]
[null,null,1810,null,"LUVA DE REDUCAO DE FERRO GALVANIZADO, COM ROSCA BSP MACHO/FEMEA, DE 3/4\" X 1/2\"",12410,"UN",null,0,0,0]
[null,null,1811,null,"LUVA DE REDUCAO DE FERRO GALVANIZADO, COM ROSCA BSP, DE 1 1/2\" X 1 1/4\"",3936,"UN",null,0,0,0]
[null,null,1812,null,"LUVA DE REDUCAO DE FERRO GALVANIZADO, COM ROSCA BSP, DE 1 1/2\" X 1\"",3924,"UN",null,0,0,0]
[null,null,1813,null,"LUVA DE REDUCAO DE FERRO GALVANIZADO, COM ROSCA BSP, DE 1 1/2\" X 1/2\"",3922,"UN",null,0,0,0]
[null,null,1814,null,"LUVA DE REDUCAO DE FERRO GALVANIZADO, COM ROSCA BSP, DE 1 1/2\" X 3/4\"",3923,"UN",null,0,0,0]
[null,null,1815,null,"LUVA DE REDUCAO DE FERRO GALVANIZADO, COM ROSCA BSP, DE 1 1/4\" X 1\"",3921,"UN",null,0,0,0]
[null,null,1816,null,"LUVA DE REDUCAO DE FERRO GALVANIZADO, COM ROSCA BSP, DE 1 1/4\" X 1/2\"",3937,"UN",null,0,0,0]
[null,null,1817,null,"LUVA DE REDUCAO DE FERRO GALVANIZADO, COM ROSCA BSP, DE 1 1/4\" X 3/4\"",3920,"UN",null,0,0,0]
[null,null,1818,null,"LUVA DE REDUCAO DE FERRO GALVANIZADO, COM ROSCA BSP, DE 1\" X 1/2\"",3938,"UN",null,0,0,0]
[null,null,1819,null,"LUVA DE REDUCAO DE FERRO GALVANIZADO, COM ROSCA BSP, DE 1\" X 3/4\"",3919,"UN",null,0,0,0]
[null,null,1820,null,"LUVA DE REDUCAO DE FERRO GALVANIZADO, COM ROSCA BSP, DE 2 1/2\" X 1 1/2\"",3927,"UN",null,0,0,0]
[null,null,1821,null,"LUVA DE REDUCAO DE FERRO GALVANIZADO, COM ROSCA BSP, DE 2 1/2\" X 2\"",3928,"UN",null,0,0,0]
[null,null,1822,null,"LUVA DE REDUCAO DE FERRO GALVANIZADO, COM ROSCA BSP, DE 2\" X 1 1/2\"",3926,"UN",null,0,0,0]
[null,null,1823,null,"LUVA DE REDUCAO DE FERRO GALVANIZADO, COM ROSCA BSP, DE 2\" X 1 1/4\"",3935,"UN",null,0,0,0]
[null,null,1824,null,"LUVA DE REDUCAO DE FERRO GALVANIZADO, COM ROSCA BSP, DE 2\" X 1\"",3925,"UN",null,0,0,0]
[null,null,1825,null,"LUVA DE REDUCAO DE FERRO GALVANIZADO, COM ROSCA BSP, DE 3\" X 1 1/2\"",3929,"UN",null,0,0,0]
[null,null,1826,null,"LUVA DE REDUCAO DE FERRO GALVANIZADO, COM ROSCA BSP, DE 3\" X 2 1/2\"",3931,"UN",null,0,0,0]
[null,null,1827,null,"LUVA DE REDUCAO DE FERRO GALVANIZADO, COM ROSCA BSP, DE 3\" X 2\"",3930,"UN",null,0,0,0]
[null,null,1828,null,"LUVA DE REDUCAO DE FERRO GALVANIZADO, COM ROSCA BSP, DE 3/4\" X 1/2\"",12406,"UN",null,0,0,0]
[null,null,1829,null,"LUVA DE REDUCAO EM ACO CARBONO, COM ENCAIXE PARA SOLDA DN SW, PRESSAO 3.000 LBS,  3/4 \" X 1/2\"",40355,"UN",null,0,0,0]
[null,null,1830,null,"LUVA DE REDUCAO EM ACO CARBONO, COM ENCAIXE PARA SOLDA DN SW, PRESSAO 3.000 LBS, DN 1 1/2\" X 1 1/4\"",40364,"UN",null,0,0,0]
[null,null,1831,null,"LUVA DE REDUCAO EM ACO CARBONO, COM ENCAIXE PARA SOLDA DN SW, PRESSAO 3.000 LBS, DN 1 1/4\"  X 1\"",40361,"UN",null,0,0,0]
[null,null,1832,null,"LUVA DE REDUCAO EM ACO CARBONO, COM ENCAIXE PARA SOLDA DN SW, PRESSAO 3.000 LBS, DN 1\" X 3/4\"",40358,"UN",null,0,0,0]
[null,null,1833,null,"LUVA DE REDUCAO EM ACO CARBONO, COM ENCAIXE PARA SOLDA DN SW, PRESSAO 3.000 LBS, DN 2 1/2\" X 2\"",40370,"UN",null,0,0,0]
[null,null,1834,null,"LUVA DE REDUCAO EM ACO CARBONO, COM ENCAIXE PARA SOLDA DN SW, PRESSAO 3.000 LBS, DN 2\" X 1 1/2\"",40367,"UN",null,0,0,0]
[null,null,1835,null,"LUVA DE REDUCAO EM ACO CARBONO, COM ENCAIXE PARA SOLDA DN SW, PRESSAO 3.000 LBS, DN 3\" X 2 1/2\"",40373,"UN",null,0,0,0]
[null,null,1836,null,"LUVA DE REDUCAO ROSCAVEL, PVC, 1\" X 3/4\", PARA AGUA FRIA PREDIAL",3907,"UN",null,0,0,0]
[null,null,1837,null,"LUVA DE REDUCAO ROSCAVEL, PVC, 3/4\" X 1/2\", PARA AGUA FRIA PREDIAL",3889,"UN",null,0,0,0]
[null,null,1838,null,"LUVA DE REDUCAO SOLDAVEL, PVC, 25 MM X 20 MM, PARA AGUA FRIA PREDIAL",3868,"UN",null,0,0,0]
[null,null,1839,null,"LUVA DE REDUCAO SOLDAVEL, PVC, 32 MM X 25 MM, PARA AGUA FRIA PREDIAL",3869,"UN",null,0,0,0]
[null,null,1840,null,"LUVA DE REDUCAO SOLDAVEL, PVC, 40 MM X 32 MM, PARA AGUA FRIA PREDIAL",3872,"UN",null,0,0,0]
[null,null,1841,null,"LUVA DE REDUCAO SOLDAVEL, PVC, 60 MM X 50 MM, PARA AGUA FRIA PREDIAL",3850,"UN",null,0,0,0]
[null,null,1842,null,"LUVA DE REDUCAO, PVC, SOLDAVEL, 50 X 25 MM, PARA AGUA FRIA PREDIAL",38023,"UN",null,0,0,0]
[null,null,1843,null,"LUVA DUPLA, PVC LEVE, DN 150 MM",20162,"UN",null,0,0,0]
[null,null,1844,null,"LUVA EM ACO CARBONO, SOLDAVEL, PRESSAO 3.000 LBS, DN 1 1/2\"",40366,"UN",null,0,0,0]
[null,null,1845,null,"LUVA EM ACO CARBONO, SOLDAVEL, PRESSAO 3.000 LBS, DN 1 1/4\"",40363,"UN",null,0,0,0]
[null,null,1846,null,"LUVA EM ACO CARBONO, SOLDAVEL, PRESSAO 3.000 LBS, DN 1\"",40360,"UN",null,0,0,0]
[null,null,1847,null,"LUVA EM ACO CARBONO, SOLDAVEL, PRESSAO 3.000 LBS, DN 1/2\"",40354,"UN",null,0,0,0]
[null,null,1848,null,"LUVA EM ACO CARBONO, SOLDAVEL, PRESSAO 3.000 LBS, DN 2 1/2\"",40372,"UN",null,0,0,0]
[null,null,1849,null,"LUVA EM ACO CARBONO, SOLDAVEL, PRESSAO 3.000 LBS, DN 2\"",40369,"UN",null,0,0,0]
[null,null,1850,null,"LUVA EM ACO CARBONO, SOLDAVEL, PRESSAO 3.000 LBS, DN 3/4\"",40357,"UN",null,0,0,0]
[null,null,1851,null,"LUVA EM PVC RIGIDO ROSCAVEL, DE 1 1/2\", PARA ELETRODUTO",1893,"UN",null,0,0,0]
[null,null,1852,null,"LUVA EM PVC RIGIDO ROSCAVEL, DE 1 1/4\", PARA ELETRODUTO",1902,"UN",null,0,0,0]
[null,null,1853,null,"LUVA EM PVC RIGIDO ROSCAVEL, DE 1\", PARA ELETRODUTO",1892,"UN",null,0,0,0]
[null,null,1854,null,"LUVA EM PVC RIGIDO ROSCAVEL, DE 1/2\", PARA ELETRODUTO",1901,"UN",null,0,0,0]
[null,null,1855,null,"LUVA EM PVC RIGIDO ROSCAVEL, DE 2 1/2\", PARA ELETRODUTO",1907,"UN",null,0,0,0]
[null,null,1856,null,"LUVA EM PVC RIGIDO ROSCAVEL, DE 2\", PARA ELETRODUTO",1894,"UN",null,0,0,0]
[null,null,1857,null,"LUVA EM PVC RIGIDO ROSCAVEL, DE 3/4\", PARA ELETRODUTO",1891,"UN",null,0,0,0]
[null,null,1858,null,"LUVA EM PVC RIGIDO ROSCAVEL, DE 4\", PARA ELETRODUTO",1895,"UN",null,0,0,{"$f":"TRUNC(ROUND((I1876*J1876)/12,2),2)","v":0}]
[null,null,1859,null,"LUVA PARA ELETRODUTO, EM ACO GALVANIZADO ELETROLITICO, DIAMETRO DE 100 MM (4\")",2641,"UN",null,0,0,0]
[null,null,1860,null,"LUVA PARA ELETRODUTO, EM ACO GALVANIZADO ELETROLITICO, DIAMETRO DE 15 MM (1/2\")",2636,"UN",null,0,0,0]
[null,null,1861,null,"LUVA PARA ELETRODUTO, EM ACO GALVANIZADO ELETROLITICO, DIAMETRO DE 20 MM (3/4\")",2637,"UN",null,0,0,0]
[null,null,1862,null,"LUVA PARA ELETRODUTO, EM ACO GALVANIZADO ELETROLITICO, DIAMETRO DE 25 MM (1\")",2638,"UN",null,0,0,0]
[null,null,1863,null,"LUVA PARA ELETRODUTO, EM ACO GALVANIZADO ELETROLITICO, DIAMETRO DE 32 MM (1 1/4\")",2639,"UN",null,0,0,0]
[null,null,1864,null,"LUVA PARA ELETRODUTO, EM ACO GALVANIZADO ELETROLITICO, DIAMETRO DE 40 MM (1 1/2\")",2644,"UN",null,0,0,0]
[null,null,1865,null,"LUVA PARA ELETRODUTO, EM ACO GALVANIZADO ELETROLITICO, DIAMETRO DE 50 MM (2\")",2643,"UN",null,0,0,0]
[null,null,1866,null,"LUVA PARA ELETRODUTO, EM ACO GALVANIZADO ELETROLITICO, DIAMETRO DE 65 MM (2 1/2\")",2640,"UN",null,0,0,0]
[null,null,1867,null,"LUVA PASSANTE DE COBRE (REF 601) SEM ANEL DE SOLDA, BOLSA 15 MM",39855,"UN",null,0,0,0]
[null,null,1868,null,"LUVA PASSANTE DE COBRE (REF 601) SEM ANEL DE SOLDA, BOLSA 22 MM",39856,"UN",null,0,0,0]
[null,null,1869,null,"LUVA PASSANTE DE COBRE (REF 601) SEM ANEL DE SOLDA, BOLSA 28 MM",39857,"UN",null,0,0,0]
[null,null,1870,null,"LUVA PASSANTE DE COBRE (REF 601) SEM ANEL DE SOLDA, BOLSA 35 MM",39858,"UN",null,0,0,0]
[null,null,1871,null,"LUVA PASSANTE DE COBRE (REF 601) SEM ANEL DE SOLDA, BOLSA 42 MM",39859,"UN",null,0,0,0]
[null,null,1872,null,"LUVA PASSANTE DE COBRE (REF 601) SEM ANEL DE SOLDA, BOLSA 54 MM",39860,"UN",null,0,0,0]
[null,null,1873,null,"LUVA PASSANTE DE COBRE (REF 601) SEM ANEL DE SOLDA, BOLSA 66 MM",39861,"UN",null,0,0,0]
[null,null,1874,null,"LUVA PPR, SOLDAVEL, DN 110 MM, PARA AGUA QUENTE PREDIAL",38447,"UN",null,0,0,0]
[null,null,1875,null,"LUVA PPR, SOLDAVEL, DN 20 MM, PARA AGUA QUENTE PREDIAL",36320,"UN",null,0,0,0]
[null,null,1876,null,"LUVA PPR, SOLDAVEL, DN 25 MM, PARA AGUA QUENTE PREDIAL",36324,"UN",null,0,0,0]
[null,null,1877,null,"LUVA PPR, SOLDAVEL, DN 32 MM, PARA AGUA QUENTE PREDIAL",38441,"UN",null,0,0,0]
[null,null,1878,null,"LUVA PPR, SOLDAVEL, DN 40 MM, PARA AGUA QUENTE PREDIAL",38442,"UN",null,0,0,0]
[null,null,1879,null,"LUVA PPR, SOLDAVEL, DN 50 MM, PARA AGUA QUENTE PREDIAL",38443,"UN",null,0,0,0]
[null,null,1880,null,"LUVA PPR, SOLDAVEL, DN 63 MM, PARA AGUA QUENTE PREDIAL",38444,"UN",null,0,0,0]
[null,null,1881,null,"LUVA PPR, SOLDAVEL, DN 75 MM, PARA AGUA QUENTE PREDIAL",38445,"UN",null,0,0,0]
[null,null,1882,null,"LUVA PPR, SOLDAVEL, DN 90 MM, PARA AGUA QUENTE PREDIAL",38446,"UN",null,0,0,0]
[null,null,1883,null,"LUVA PVC SOLDAVEL, 110 MM, PARA AGUA FRIA PREDIAL",3867,"UN",null,0,0,0]
[null,null,1884,null,"LUVA PVC SOLDAVEL, 20 MM, PARA AGUA FRIA PREDIAL",3861,"UN",null,0,0,0]
[null,null,1885,null,"LUVA PVC SOLDAVEL, 25 MM, PARA AGUA FRIA PREDIAL",3904,"UN",null,0,0,0]
[null,null,1886,null,"LUVA PVC SOLDAVEL, 32 MM, PARA AGUA FRIA PREDIAL",3903,"UN",null,0,0,0]
[null,null,1887,null,"LUVA PVC SOLDAVEL, 40 MM, PARA AGUA FRIA PREDIAL",3862,"UN",null,0,0,0]
[null,null,1888,null,"LUVA PVC SOLDAVEL, 50 MM, PARA AGUA FRIA PREDIAL",3863,"UN",null,0,0,0]
[null,null,1889,null,"LUVA PVC SOLDAVEL, 60 MM, PARA AGUA FRIA PREDIAL",3864,"UN",null,0,0,0]
[null,null,1890,null,"LUVA PVC SOLDAVEL, 75 MM, PARA AGUA FRIA PREDIAL",3865,"UN",null,0,0,0]
[null,null,1891,null,"LUVA PVC SOLDAVEL, 85 MM, PARA AGUA FRIA PREDIAL",3866,"UN",null,0,0,0]
[null,null,1892,null,"LUVA PVC, ROSCAVEL,  2 1/2\",  AGUA FRIA PREDIAL",3902,"UN",null,0,0,0]
[null,null,1893,null,"LUVA PVC, ROSCAVEL, 1 1/2\",  AGUA FRIA PREDIAL",3878,"UN",null,0,0,0]
[null,null,1894,null,"LUVA PVC, ROSCAVEL, 1 1/4\", AGUA FRIA PREDIAL",3877,"UN",null,0,0,0]
[null,null,1895,null,"LUVA PVC, ROSCAVEL, 2\",  AGUA FRIA PREDIAL",3879,"UN",null,0,0,0]
[null,null,1896,null,"LUVA RASPA DE COURO, CANO CURTO (PUNHO *7* CM)",12892,"PAR",null,0,0,0]
[null,null,1897,null,"LUVA ROSCAVEL, PVC, 1\", AGUA FRIA PREDIAL",3876,"UN",null,0,0,0]
[null,null,1898,null,"LUVA ROSCAVEL, PVC, 1/2\", AGUA FRIA PREDIAL",3883,"UN",null,0,0,0]
[null,null,1899,null,"LUVA ROSCAVEL, PVC, 3/4\", AGUA FRIA PREDIAL",3884,"UN",null,0,0,0]
[null,null,1900,null,"LUVA SIMPLES, PVC PBA, JE, DN 100 / DE 110 MM, PARA REDE AGUA (NBR 10351)",3837,"UN",null,0,0,0]
[null,null,1901,null,"LUVA SIMPLES, PVC PBA, JE, DN 50 / DE 60 MM, PARA REDE AGUA (NBR 10351)",3845,"UN",null,0,0,0]
[null,null,1902,null,"LUVA SIMPLES, PVC PBA, JE, DN 75 / DE 85 MM, PARA REDE AGUA (NBR 10351)",11045,"UN",null,0,0,0]
[null,null,1903,null,"LUVA SIMPLES, PVC SERIE REFORCADA - R, 100 MM, PARA ESGOTO PREDIAL",20170,"UN",null,0,0,0]
[null,null,1904,null,"LUVA SIMPLES, PVC SERIE REFORCADA - R, 150 MM, PARA ESGOTO PREDIAL",20171,"UN",null,0,0,0]
[null,null,1905,null,"LUVA SIMPLES, PVC SERIE REFORCADA - R, 40 MM, PARA ESGOTO PREDIAL",20167,"UN",null,0,0,0]
[null,null,1906,null,"LUVA SIMPLES, PVC SERIE REFORCADA - R, 50 MM, PARA ESGOTO PREDIAL",20168,"UN",null,0,0,0]
[null,null,1907,null,"LUVA SIMPLES, PVC SERIE REFORCADA - R, 75 MM, PARA ESGOTO PREDIAL",20169,"UN",null,0,0,0]
[null,null,1908,null,"LUVA SIMPLES, PVC, SOLDAVEL, DN 100 MM, SERIE NORMAL, PARA ESGOTO PREDIAL",3899,"UN",null,0,0,0]
[null,null,1909,null,"LUVA SIMPLES, PVC, SOLDAVEL, DN 150 MM, SERIE NORMAL, PARA ESGOTO PREDIAL",38676,"UN",null,0,0,0]
[null,null,1910,null,"LUVA SIMPLES, PVC, SOLDAVEL, DN 40 MM, SERIE NORMAL, PARA ESGOTO PREDIAL",3897,"UN",null,0,0,0]
[null,null,1911,null,"LUVA SIMPLES, PVC, SOLDAVEL, DN 50 MM, SERIE NORMAL, PARA ESGOTO PREDIAL",3875,"UN",null,0,0,0]
[null,null,1912,null,"LUVA SIMPLES, PVC, SOLDAVEL, DN 75 MM, SERIE NORMAL, PARA ESGOTO PREDIAL",3898,"UN",null,0,0,0]
[null,null,1913,null,"LUVA SOLDAVEL COM BUCHA DE LATAO, PVC, 20 MM X 1/2\"",3855,"UN",null,0,0,0]
[null,null,1914,null,"LUVA SOLDAVEL COM BUCHA DE LATAO, PVC, 25 MM X 1/2\"",3874,"UN",null,0,0,0]
[null,null,1915,null,"LUVA SOLDAVEL COM BUCHA DE LATAO, PVC, 25 MM X 3/4\"",3870,"UN",null,0,0,0]
[null,null,1916,null,"LUVA SOLDAVEL COM BUCHA DE LATAO, PVC, 32 MM X 1\"",38678,"UN",null,0,0,0]
[null,null,1917,null,"LUVA SOLDAVEL COM ROSCA, PVC, 20 MM X 1/2\", PARA AGUA FRIA PREDIAL",3859,"UN",null,0,0,0]
[null,null,1918,null,"LUVA SOLDAVEL COM ROSCA, PVC, 25 MM X 1/2\", PARA AGUA FRIA PREDIAL",3856,"UN",null,0,0,0]
[null,null,1919,null,"LUVA SOLDAVEL COM ROSCA, PVC, 25 MM X 3/4\", PARA AGUA FRIA PREDIAL",3906,"UN",null,0,0,0]
[null,null,1920,null,"LUVA SOLDAVEL COM ROSCA, PVC, 32 MM X 1\", PARA AGUA FRIA PREDIAL",3860,"UN",null,0,0,0]
[null,null,1921,null,"LUVA SOLDAVEL COM ROSCA, PVC, 40 MM X 1 1/4\", PARA AGUA FRIA PREDIAL",3905,"UN",null,0,0,0]
[null,null,1922,null,"LUVA SOLDAVEL COM ROSCA, PVC, 50 MM X 1 1/2\", PARA AGUA FRIA PREDIAL",3871,"UN",null,0,0,{"$f":"TRUNC(ROUND((I1940*J1940)/12,2),2)","v":0}]
[null,null,1923,null,"LUVA, PEAD PE 100,  DE 63 MM, PARA ELETROFUSAO",37426,"UN",null,0,0,0]
[null,null,1924,null,"LUVA, PEAD PE 100, DE 125 MM, PARA ELETROFUSAO",37427,"UN",null,0,0,0]
[null,null,1925,null,"LUVA, PEAD PE 100, DE 20 MM, PARA ELETROFUSAO",37424,"UN",null,0,0,0]
[null,null,1926,null,"LUVA, PEAD PE 100, DE 32 MM, PARA ELETROFUSAO",37425,"UN",null,0,0,0]
[null,null,1927,null,"MACANETA ALAVANCA, RETA OU CURVA, MACICA, CROMADA, COMPRIMENTO DE 10 A 16 CM, ACABAMENTO PADRAO MEDIO - SOMENTE MACANETAS",11519,"PAR",null,0,0,0]
[null,null,1928,null,"MACANETA ALAVANCA, RETA SIMPLES / OCA, CROMADA, COMPRIMENTO DE 10 A 16 CM, ACABAMENTO PADRAO POPULAR - SOMENTE MACANETAS",11520,"PAR",null,0,0,0]
[null,null,1929,null,"MACANETA TIPO BOLA, CROMADA,  DIAMETRO APROXIMADO DE *2 1/2*\", (SOMENTE MACANETAS)",11518,"PAR",null,0,0,0]
[null,null,1930,null,"MADEIRA 2A QUALIDADE SERRADA NAO APARELHADA",4004,"M3",null,0,0,0]
[null,null,1931,null,"MADEIRA 2A QUALIDADE SERRADA NAO APARELHADA -TIPO VIROLA",11836,"M3",null,0,0,0]
[null,null,1932,null,"MADEIRA PINHO SERRADA 3A QUALIDADE NAO APARELHADA",4006,"M3",null,0,0,0]
[null,null,1933,null,"MADEIRA ROLICA SEM TRATAMENTO, EUCALIPTO OU EQUIVALENTE DA REGIAO, H = 3 M, D = 12 A 15 CM (PARA ESCORAMENTO)",2742,"M",null,0,0,0]
[null,null,1934,null,"MADEIRA ROLICA SEM TRATAMENTO, EUCALIPTO OU EQUIVALENTE DA REGIAO, H = 3 M, D = 16 A 19 CM (PARA ESCORAMENTO)",2748,"M",null,0,0,0]
[null,null,1935,null,"MADEIRA ROLICA SEM TRATAMENTO, EUCALIPTO OU EQUIVALENTE DA REGIAO, H = 3 M, D = 20 A 24 CM (PARA ESCORAMENTO)",2736,"M",null,0,0,0]
[null,null,1936,null,"MADEIRA ROLICA SEM TRATAMENTO, EUCALIPTO OU EQUIVALENTE DA REGIAO, H = 3 M, D = 8 A 11 CM (PARA ESCORAMENTO)",2745,"M",null,0,0,0]
[null,null,1937,null,"MADEIRA ROLICA SEM TRATAMENTO, EUCALIPTO OU EQUIVALENTE DA REGIAO, H = 6 M, D = 12 A 15 CM (PARA ESCORAMENTO)",2751,"M",null,0,0,0]
[null,null,1938,null,"MADEIRA ROLICA SEM TRATAMENTO, EUCALIPTO OU EQUIVALENTE DA REGIAO, H = 6 M, D = 8 A 11 CM (PARA ESCORAMENTO)",14439,"M",null,0,0,0]
[null,null,1939,null,"MADEIRA ROLICA TRATADA, EUCALIPTO OU EQUIVALENTE DA REGIAO, H = 12 M, D = 20 A 24 CM (PARA POSTE)",2731,"M",null,0,0,0]
[null,null,1940,null,"MADEIRA ROLICA TRATADA, EUCALIPTO OU EQUIVALENTE DA REGIAO, H = 2,2 M, D = 8 A 11 CM (PARA CERCA)",21138,"M",null,0,0,0]
[null,null,1941,null,"MADEIRA ROLICA TRATADA, EUCALIPTO OU EQUIVALENTE DA REGIAO, H = 2,20 M, D = 16 A 19 CM (PARA CERCA)",2747,"M",null,0,0,0]
[null,null,1942,null,"MADEIRA ROLICA TRATADA, EUCALIPTO OU EQUIVALENTE DA REGIAO, H = 3 M, D = 12 A 15 CM",4115,"M",null,0,0,0]
[null,null,1943,null,"MADEIRA ROLICA TRATADA, EUCALIPTO OU EQUIVALENTE DA REGIAO, H = 3 M, D = 4 A 7 CM (PARA CAIBRO)",2729,"UN",null,0,0,0]
[null,null,1944,null,"MADEIRA ROLICA TRATADA, EUCALIPTO OU EQUIVALENTE DA REGIAO, H = 6 M, D = 16 A 19 CM",4119,"M",null,0,0,0]
[null,null,1945,null,"MADEIRA ROLICA TRATADA, EUCALIPTO OU EQUIVALENTE DA REGIAO, H = 6,5 M, D = 25 A 29 CM",2794,"M",null,0,0,0]
[null,null,1946,null,"MADEIRA ROLICA TRATADA, EUCALIPTO OU EQUIVALENTE DA REGIAO, H = 6,5 M, D = 30 A 34 CM",2788,"M",null,0,0,0]
[null,null,1947,null,"MADEIRA SERRADA APARELHADA DE MACARANDUBA, ANGELIM OU EQUIVALENTE DA REGIAO",3989,"M3",null,0,0,0]
[null,null,1948,null,"MADEIRA SERRADA NAO APARELHADA DE MACARANDUBA, ANGELIM OU EQUIVALENTE DA REGIAO",3997,"M3",null,0,0,0]
[null,null,1949,null,"MANGOTE DE SEGURANCA EM RASPA DE COURO",36151,"UN",null,0,0,0]
[null,null,1950,null,"MANGUEIRA CRISTAL PARA NIVEL, LISA, PVC TRANSPARENTE, 3/8\" X1,5 MM",37457,"M",null,0,0,0]
[null,null,1951,null,"MANGUEIRA CRISTAL PARA NIVEL, LISA, PVC TRANSPARENTE, 5/16\" X1 MM",37456,"M",null,0,0,0]
[null,null,1952,null,"MANGUEIRA CRISTAL TRANCADA, PVC COM REFORCO, COM PRESSAO DE TRABALHO (PT) 250 LBS/POL2, DE 3/4\" X *2,8* MM",37461,"M",null,0,0,0]
[null,null,1953,null,"MANGUEIRA CRISTAL TRANCADA, PVC COM REFORCO, PRESSAO DE TRABALHO (PT) 250 LBS/POL2, DE 1\" X *3,4* MM",37460,"M",null,0,0,0]
[null,null,1954,null,"MANGUEIRA CRISTAL, LISA, PVC TRANSPARENTE, 1/2\" X 2 MM",37458,"M",null,0,0,0]
[null,null,1955,null,"MANGUEIRA CRISTAL, LISA, PVC TRANSPARENTE, 1/4\" X1 MM",37454,"M",null,0,0,0]
[null,null,1956,null,"MANGUEIRA CRISTAL, LISA, PVC TRANSPARENTE, 1/4\" X1,5 MM",37455,"M",null,0,0,0]
[null,null,1957,null,"MANGUEIRA CRISTAL, LISA, PVC TRANSPARENTE, 3/4\" X 2 MM",37459,"M",null,0,0,0]
[null,null,1958,null,"MANGUEIRA DE INCENDIO, TIPO 1, DE 1 1/2\", COMPRIMENTO = 15 M, TECIDO EM FIO DE POLIESTER E TUBO INTERNO EM BORRACHA SINTETICA, COM UNIOES ENGATE RAPIDO",21029,"UN",null,0,0,0]
[null,null,1959,null,"MANGUEIRA DE INCENDIO, TIPO 1, DE 1 1/2\", COMPRIMENTO = 20 M, TECIDO EM FIO DE POLIESTER E TUBO INTERNO EM BORRACHA SINTETICA, COM UNIOES ENGATE RAPIDO",21030,"UN",null,0,0,0]
[null,null,1960,null,"MANGUEIRA DE INCENDIO, TIPO 1, DE 1 1/2\", COMPRIMENTO = 25 M, TECIDO EM FIO DE POLIESTER E TUBO INTERNO EM BORRACHA SINTETICA, COM UNIOES ENGATE RAPIDO",21031,"UN",null,0,0,0]
[null,null,1961,null,"MANGUEIRA DE INCENDIO, TIPO 1, DE 1 1/2\", COMPRIMENTO = 30 M, TECIDO EM FIO DE POLIESTER E TUBO INTERNO EM BORRACHA SINTETICA, COM UNIOES ENGATE RAPIDO",21032,"UN",null,0,0,0]
[null,null,1962,null,"MANGUEIRA DE INCENDIO, TIPO 2, DE 1 1/2\", COMPRIMENTO = 15 M, TECIDO EM FIO DE POLIESTER E TUBO INTERNO EM BORRACHA SINTETICA, COM UNIOES ENGATE RAPIDO",37527,"UN",null,0,0,0]
[null,null,1963,null,"MANGUEIRA DE INCENDIO, TIPO 2, DE 1 1/2\", COMPRIMENTO = 20 M, TECIDO EM FIO DE POLIESTER E TUBO INTERNO EM BORRACHA SINTETICA, COM UNIOES",37528,"UN",null,0,0,0]
[null,null,1964,null,"MANGUEIRA DE INCENDIO, TIPO 2, DE 1 1/2\", COMPRIMENTO = 25 M, TECIDO EM FIO DE POLIESTER E TUBO INTERNO EM BORRACHA SINTETICA, COM UNIOES",37529,"UN",null,0,0,0]
[null,null,1965,null,"MANGUEIRA DE INCENDIO, TIPO 2, DE 1 1/2\", COMPRIMENTO = 30 M, TECIDO EM FIO DE POLIESTER E TUBO INTERNO EM BORRACHA SINTETICA, COM UNIOES",37530,"UN",null,0,0,0]
[null,null,1966,null,"MANGUEIRA DE INCENDIO, TIPO 2, DE 2 1/2\", COMPRIMENTO = 15 M, TECIDO EM FIO DE POLIESTER E TUBO INTERNO EM BORRACHA SINTETICA, COM UNIOES ENGATE RAPIDO",21034,"UN",null,0,0,0]
[null,null,1967,null,"MANGUEIRA DE INCENDIO, TIPO 2, DE 2 1/2\", COMPRIMENTO = 20 M, TECIDO EM FIO DE POLIESTER E TUBO INTERNO EM BORRACHA SINTETICA, COM UNIOES",37531,"UN",null,0,0,0]
[null,null,1968,null,"MANGUEIRA DE INCENDIO, TIPO 2, DE 2 1/2\", COMPRIMENTO = 25 M, TECIDO EM FIO DE POLIESTER E TUBO INTERNO EM BORRACHA SINTETICA, COM UNIOES ENGATE RAPIDO",21036,"UN",null,0,0,0]
[null,null,1969,null,"MANGUEIRA DE INCENDIO, TIPO 2, DE 2 1/2\", COMPRIMENTO = 30 M, TECIDO EM FIO DE POLIESTER E TUBO INTERNO EM BORRACHA SINTETICA, COM UNIOES ENGATE RAPIDO",21037,"UN",null,0,0,0]
[null,null,1970,null,"MANGUEIRA DE PVC FLEXIVEL,TIPO FLAT/ACHATADA, COR LARANJA, D = 1 1/2\" (40 MM), PARA CONDUCAO DE AGUA, SERVICOS LEVES E MEDIOS",20185,"M",null,0,0,0]
[null,null,1971,null,"MANGUEIRA PARA GAS - GLP, DIAMETRO DE 3/8\", COMPRIMENTO DE 1M",20260,"UN",null,0,0,0]
[null,null,1972,null,"MANILHA RETA PESADA PADRAO \"D\", CORPO EM ACO CARBONO 1045 E PINO REFORCADO EM ACO ALLOY, GALVANIZADO, ROSCADO, DIAMETRO 1/2\" (COLETADO CAIXA)",42011,"UN",null,0,0,0]
[null,null,1973,null,"MANOMETRO COM CAIXA EM ACO PINTADO, ESCALA *10* KGF/CM2 (*10* BAR), DIAMETRO NOMINAL DE *63* MM, CONEXAO DE 1/4\"",12899,"UN",null,0,0,0]
[null,null,1974,null,"MANTA ALUMINIZADA 1 FACE PARA SUBCOBERTURA, E = *1* MM",39696,"M2",null,0,0,0]
[null,null,1975,null,"MANTA ALUMINIZADA NAS DUAS FACES, PARA SUBCOBERTURA,  E = *2* MM",42528,"M2",null,0,0,0]
[null,null,1976,null,"MANTA ANTIRRUIDO DE POLIESTER (PET) PARA CONTRAPISO E = *8* MM",39700,"M2",null,0,0,0]
[null,null,1977,null,"MANTA ASFALTICA ELASTOMERICA EM POLIESTER 3 MM, TIPO III, CLASSE B, ACABAMENTO PP (NBR 9952)",4014,"M2",null,0,0,0]
[null,null,1978,null,"MANTA ASFALTICA ELASTOMERICA EM POLIESTER 4 MM, TIPO III, CLASSE B, ACABAMENTO PP (NBR 9952)",4015,"M2",null,0,0,0]
[null,null,1979,null,"MANTA ASFALTICA ELASTOMERICA EM POLIESTER 5 MM, TIPO III, CLASSE B, ACABAMENTO PP (NBR 9952)",4017,"M2",null,0,0,0]
[null,null,1980,null,"MANTA ASFALTICA ELASTOMERICA EM POLIESTER ALUMINIZADA 3 MM, TIPO III, CLASSE B (NBR 9952)",11621,"M2",null,0,0,0]
[null,null,1981,null,"MANTA ASFALTICA ELASTOMERICA TIPO GLASS 3 MM, TIPO II, CLASSE C, ACABAMENTO PP (NBR 9952)",4016,"M2",null,0,0,0]
[null,null,1982,null,"MANTA DE BORRACHA ANTIRRUIDO 5 MM",39699,"M2",null,0,0,0]
[null,null,1983,null,"MANTA DE POLIETILENO EXPANDIDO (PEBD) ANTICHAMAS, E = 8 MM",38544,"M2",null,0,0,0]
[null,null,1984,null,"MANTA DE POLIETILENO EXPANDIDO (PEBD), E = 5 MM",38545,"M2",null,0,0,0]
[null,null,1985,null,"MANTA DE POLIETILENO EXPANDIDO, COM 1 FACE METALIZADA PARA SUBCOBERTURA,  E = *5* MM",42527,"M2",null,0,0,0]
[null,null,1986,null,"MANTA GEOTEXTIL TECIDO DE LAMINETES DE POLIPROPILENO, RESISTENCIA A TRACAO = *25* KN/M",39323,"M2",null,0,0,{"$f":"TRUNC(ROUND((I2004*J2004)/12,2),2)","v":0}]
[null,null,1987,null,"MANTA LIQUIDA DE BASE ASFALTICA MODIFICADA COM A ADICAO DE ELASTOMEROS DILUIDOS EM SOLVENTE ORGANICO, APLICACAO A FRIO (MEMBRANA IMPERMEABILIZANTE ASFASTICA)",626,"KG",null,0,0,0]
[null,null,1988,null,"MANTA TERMOPLASTICA, PEAD, GEOMEMBRANA LISA, E = 0,50 MM ( NBR 15352)",25860,"M2",null,0,0,0]
[null,null,1989,null,"MANTA TERMOPLASTICA, PEAD, GEOMEMBRANA LISA, E = 0,75 MM ( NBR 15352)",25861,"M2",null,0,0,0]
[null,null,1990,null,"MANTA TERMOPLASTICA, PEAD, GEOMEMBRANA LISA, E = 0,80 MM ( NBR 15352)",25862,"M2",null,0,0,0]
[null,null,1991,null,"MANTA TERMOPLASTICA, PEAD, GEOMEMBRANA LISA, E = 1,00 MM ( NBR 15352)",25863,"M2",null,0,0,0]
[null,null,1992,null,"MANTA TERMOPLASTICA, PEAD, GEOMEMBRANA LISA, E = 1,50 MM ( NBR 15352)",25864,"M2",null,0,0,0]
[null,null,1993,null,"MANTA TERMOPLASTICA, PEAD, GEOMEMBRANA LISA, E = 2,00 MM ( NBR 15352)",25865,"M2",null,0,0,0]
[null,null,1994,null,"MANTA TERMOPLASTICA, PEAD, GEOMEMBRANA LISA, E = 2,50 MM ( NBR 15352)",25866,"M2",null,0,0,0]
[null,null,1995,null,"MANTA TERMOPLASTICA, PEAD, GEOMEMBRANA TEXTURIZADA EM AMBAS AS FACES, E = 0,50 MM (NBR 15352)",25868,"M2",null,0,0,0]
[null,null,1996,null,"MANTA TERMOPLASTICA, PEAD, GEOMEMBRANA TEXTURIZADA EM AMBAS AS FACES, E = 0,75 MM (NBR 15352)",25869,"M2",null,0,0,0]
[null,null,1997,null,"MANTA TERMOPLASTICA, PEAD, GEOMEMBRANA TEXTURIZADA EM AMBAS AS FACES, E = 0,80 MM (NBR 15352)",25870,"M2",null,0,0,0]
[null,null,1998,null,"MANTA TERMOPLASTICA, PEAD, GEOMEMBRANA TEXTURIZADA EM AMBAS AS FACES, E = 1,00 MM (NBR 15352)",25871,"M2",null,0,0,0]
[null,null,1999,null,"MANTA TERMOPLASTICA, PEAD, GEOMEMBRANA TEXTURIZADA EM AMBAS AS FACES, E = 1,50 MM (NBR 15352)",25867,"M2",null,0,0,0]
[null,null,2000,null,"MANTA TERMOPLASTICA, PEAD, GEOMEMBRANA TEXTURIZADA EM AMBAS AS FACES, E = 2,00 MM (NBR 15352)",25872,"M2",null,0,0,0]
[null,null,2001,null,"MANTA TERMOPLASTICA, PEAD, GEOMEMBRANA TEXTURIZADA EM AMBAS AS FACES, E = 2,50 MM (NBR 15352)",25873,"M2",null,0,0,0]
[null,null,2002,null,"MARTELO DE SOLDADOR/PICADOR DE SOLDA",38463,"UN",null,0,0,0]
[null,null,2003,null,"MASSA A OLEO PARA MADEIRA",4053,"GL",null,0,0,0]
[null,null,2004,null,"MASSA ACRILICA",4052,"18L",null,0,0,0]
[null,null,2005,null,"MASSA ACRILICA PARA PAREDES INTERIOR/EXTERIOR",4056,"GL",null,0,0,0]
[null,null,2006,null,"MASSA CORRIDA PVA PARA PAREDES INTERNAS",4051,"18L",null,0,0,0]
[null,null,2007,null,"MASSA CORRIDA PVA PARA PAREDES INTERNAS",4047,"GL",null,0,0,0]
[null,null,2008,null,"MASSA CORRIDA PVA PARA PAREDES INTERNAS",4048,"L",null,0,0,0]
[null,null,2009,null,"MASSA DE REJUNTE EM PO PARA DRYWALL, A BASE DE GESSO, SECAGEM RAPIDA, PARA TRATAMENTO DE JUNTAS DE CHAPA DE GESSO (COM ADICAO DE AGUA)",39434,"KG",null,0,0,0]
[null,null,2010,null,"MASSA DE REJUNTE PRONTA PARA TRATAMENTO DE JUNTAS DE CHAPA DE GESSO PARA DRYWALL, SEM ADICAO DE AGUA",39433,"KG",null,0,0,0]
[null,null,2011,null,"MASSA EPOXI BICOMPONENTE (MASSA + CATALIZADOR)",4049,"L",null,0,0,0]
[null,null,2012,null,"MASSA EPOXI BICOMPONENTE PARA REPAROS",38120,"KG",null,0,0,0]
[null,null,2013,null,"MASSA PARA TEXTURA LISA DE BASE ACRILICA, USO INTERNO E EXTERNO",38877,"KG",null,0,0,0]
[null,null,2014,null,"MASSA PARA TEXTURA RUSTICA DE BASE ACRILICA, COR BRANCA, USO INTERNO E EXTERNO",34546,"KG",null,0,0,0]
[null,null,2015,null,"MASSA PARA VIDRO",10498,"KG",null,0,0,0]
[null,null,2016,null,"MASSA PLASTICA PARA MARMORE/GRANITO",4823,"KG",null,0,0,0]
[null,null,2017,null,"MASTRO SIMPLES GALVANIZADO DIAMETRO NOMINAL 1 1/2\", COMPRIMENTO 3 M",12357,"UN",null,0,0,0]
[null,null,2018,null,"MASTRO SIMPLES GALVANIZADO DIAMETRO NOMINAL 2\", COMPRIMENTO 3 M",12358,"UN",null,0,0,0]
[null,null,2019,null,"MATERIAL FILTRANTE (PEDREGULHO) 0,6 A 25,46 MM (POSTO PEDREIRA/FORNECEDOR, SEM FRETE)",11079,"M3",null,0,0,0]
[null,null,2020,null,"MATERIAL FILTRANTE (PEDREGULHO) 38 A 25,4 MM (POSTO PEDREIRA/FORNECEDOR, SEM FRETE)",11082,"M3",null,0,0,0]
[null,null,2021,null,"MEIA CANA DE MADEIRA CEDRINHO OU EQUIVALENTE DA REGIAO, ACABAMENTO PARA FORRO PAULISTA, *2,5 X 2,5* CM",3288,"M",null,0,0,0]
[null,null,2022,null,"MEIA CANA DE MADEIRA PINUS OU EQUIVALENTE DA REGIAO, ACABAMENTO PARA FORRO PAULISTA, *2,5 X 2,5* CM",13587,"M",null,0,0,0]
[null,null,2023,null,"MEIA CANALETA CONCRETO ESTRUTURAL 14 X 19 X 19 CM, FBK 14 MPA (NBR 6136)",38598,"UN",null,0,0,0]
[null,null,2024,null,"MEIA CANALETA CONCRETO ESTRUTURAL 14 X 19 X 19 CM, FBK 4,5 MPA (NBR 6136)",38595,"UN",null,0,0,0]
[null,null,2025,null,"MEIO-FIO OU GUIA DE CONCRETO, PRE-MOLDADO, COMP 1 M, *30 X 15* CM (H X L)",4062,"UN",null,0,0,0]
[null,null,2026,null,"MEIO-FIO OU GUIA DE CONCRETO, PRE-MOLDADO, COMP 1 M, *30 X 15/ 12* CM (H X L1/L2)",4059,"M",null,0,0,0]
[null,null,2027,null,"MEIO-FIO OU GUIA DE CONCRETO, PRE-MOLDADO, COMP 80 CM, *45 X 18 /12* CM (H X L1/L2)",4061,"UN",null,0,0,0]
[null,null,2028,null,"METACAULIM DE ALTA REATIVIDADE/CAULIM CALCINADO",34361,"KG",null,0,0,0]
[null,null,2029,null,"MICTORIO SIFONADO LOUCA BRANCA SEM COMPLEMENTOS",10432,"UN",null,0,0,0]
[null,null,2030,null,"MINUTERIA ELETRONICA COLETIVA COM POTENCIA MAXIMA RESISTIVA PARA LAMPADAS FLUORESCENTES DE *300* W ( 110 V ) / *600* W ( 110 V )",21109,"UN",null,0,0,0]
[null,null,2031,null,"MISTURADOR BASE PARA CHUVEIRO/BANHEIRA, 1/2 \" OU 3/4 \", SOLDAVEL OU ROSCAVEL",36800,"UN",null,0,0,0]
[null,null,2032,null,"MISTURADOR CROMADO DE MESA BICA BAIXA PARA LAVATORIO (REF 1875)",11769,"UN",null,0,0,0]
[null,null,2033,null,"MISTURADOR MANUAL DE TINTAS PARA FURADEIRA, HASTE METALICA *60* CM, COM HELICE  (MEXEDOR DE TINTA)",38385,"UN",null,0,0,0]
[null,null,2034,null,"MOLA AEREA FECHA PORTA, PARA PORTAS COM LARGURA ACIMA DE 110 CM",11571,"UN",null,0,0,0]
[null,null,2035,null,"MOLA AEREA FECHA PORTA, PARA PORTAS COM LARGURA ATE 110 CM",11561,"UN",null,0,0,0]
[null,null,2036,null,"MOLA AEREA FECHA PORTA, PARA PORTAS COM LARGURA ATE 95 CM",11560,"UN",null,0,0,0]
[null,null,2037,null,"MOLA HIDRAULICA DE PISO P/ VIDRO TEMPERADO 10MM",11499,"UN",null,0,0,0]
[null,null,2038,null,"MONTANTE EM BARRA CHATA ACO GALVANIZADO, *65 X 8* MM, ALTURA *1420* MM, PINTURA ELETROSTATICA, COR PRETA",40534,"UN",null,0,0,0]
[null,null,2039,null,"MOURAO CONCRETO CURVO, SECAO \"T\", H = 2,80 M + CURVA COM 0,45 M, COM FUROS PARA FIOS",4114,"UN",null,0,0,0]
[null,null,2040,null,"MOURAO DE CONCRETO CURVO,10 X 10 CM, H= *2,60* M + CURVA DE 0,40 M",36797,"UN",null,0,0,0]
[null,null,2041,null,"MOURAO DE CONCRETO RETO, *10 X 10* CM, H= 2,30 M",4107,"UN",null,0,0,0]
[null,null,2042,null,"MOURAO DE CONCRETO RETO, 10 X 10 CM, H= 2,00 M",4108,"UN",null,0,0,0]
[null,null,2043,null,"MOURAO DE CONCRETO RETO, 10 X 10 CM, H= 3,00 M",4102,"UN",null,0,0,0]
[null,null,2044,null,"MOURAO DE CONCRETO RETO, TIPO ESTICADOR, *10 X 10* CM, H= 2,50 M",36799,"UN",null,0,0,0]
[null,null,2045,null,"MUDA DE ARBUSTO FLORIFERO, CLUSIA/GARDENIA/MOREIA BRANCA/ AZALEIA OU EQUIVALENTE DA REGIAO, H= *50 A 70* CM",10826,"UN",null,0,0,0]
[null,null,2046,null,"MUDA DE ARBUSTO FOLHAGEM, SANSAO-DO-CAMPO OU EQUIVALENTE DA REGIAO, H= *50 A 70* CM",365,"UN",null,0,0,0]
[null,null,2047,null,"MUDA DE ARBUSTO, BUXINHO, H= *50* M",38639,"UN",null,0,0,0]
[null,null,2048,null,"MUDA DE ARBUSTO, PINGO DE OURO/ VIOLETEIRA, H = *10 A 20* CM",38640,"UN",null,0,0,0]
[null,null,2049,null,"MUDA DE ARVORE ORNAMENTAL, OITI/AROEIRA SALSA/ANGICO/IPE/JACARANDA OU EQUIVALENTE  DA REGIAO, H= *1* M",358,"UN",null,0,0,0]
[null,null,2050,null,"MUDA DE ARVORE ORNAMENTAL, OITI/AROEIRA SALSA/ANGICO/IPE/JACARANDA OU EQUIVALENTE  DA REGIAO, H= *2* M",359,"UN",null,0,0,{"$f":"TRUNC(ROUND((I2068*J2068)/12,2),2)","v":0}]
[null,null,2051,null,"MUDA DE PALMEIRA, ARECA, H= *1,50* CM",38641,"UN",null,0,0,0]
[null,null,2052,null,"MUDA DE RASTEIRA/FORRACAO, AMENDOIM RASTEIRO/ONZE HORAS/AZULZINHA/IMPATIENS OU EQUIVALENTE DA REGIAO",360,"UN",null,0,0,0]
[null,null,2053,null,"MUFLA TERMINAL PRIMARIA UNIPOLAR USO EXTERNO PARA CABO 25/70MM2 ISOL, 3,6/6KV EM EPR - BORRACHA DE SILICONE",4127,"UN",null,0,0,0]
[null,null,2054,null,"NIPEL PVC, ROSCAVEL, 1 1/2\",  AGUA FRIA PREDIAL",4214,"UN",null,0,0,0]
[null,null,2055,null,"NIPEL PVC, ROSCAVEL, 1 1/4\",  AGUA FRIA PREDIAL",4215,"UN",null,0,0,0]
[null,null,2056,null,"NIPEL PVC, ROSCAVEL, 1\",  AGUA FRIA PREDIAL",4212,"UN",null,0,0,0]
[null,null,2057,null,"NIPEL PVC, ROSCAVEL, 1/2\",  AGUA FRIA PREDIAL",4210,"UN",null,0,0,0]
[null,null,2058,null,"NIPEL PVC, ROSCAVEL, 2\",  AGUA FRIA PREDIAL",4213,"UN",null,0,0,0]
[null,null,2059,null,"NIPEL PVC, ROSCAVEL, 3/4\",  AGUA FRIA PREDIAL",4211,"UN",null,0,0,0]
[null,null,2060,null,"NIPLE DE FERRO GALVANIZADO, COM ROSCA BSP, DE 1 1/2\"",4209,"UN",null,0,0,0]
[null,null,2061,null,"NIPLE DE FERRO GALVANIZADO, COM ROSCA BSP, DE 1 1/4\"",4180,"UN",null,0,0,0]
[null,null,2062,null,"NIPLE DE FERRO GALVANIZADO, COM ROSCA BSP, DE 1\"",4179,"UN",null,0,0,0]
[null,null,2063,null,"NIPLE DE FERRO GALVANIZADO, COM ROSCA BSP, DE 1/2\"",4177,"UN",null,0,0,0]
[null,null,2064,null,"NIPLE DE FERRO GALVANIZADO, COM ROSCA BSP, DE 2 1/2\"",4208,"UN",null,0,0,0]
[null,null,2065,null,"NIPLE DE FERRO GALVANIZADO, COM ROSCA BSP, DE 2\"",4181,"UN",null,0,0,0]
[null,null,2066,null,"NIPLE DE FERRO GALVANIZADO, COM ROSCA BSP, DE 3/4\"",4178,"UN",null,0,0,0]
[null,null,2067,null,"NIPLE DE FERRO GALVANIZADO, COM ROSCA BSP, DE 4\"",4183,"UN",null,0,0,0]
[null,null,2068,null,"NIPLE DE REDUCAO DE FERRO GALVANIZADO, COM ROSCA BSP, DE 1 1/2\" X 1 1/4\"",4205,"UN",null,0,0,0]
[null,null,2069,null,"NIPLE DE REDUCAO DE FERRO GALVANIZADO, COM ROSCA BSP, DE 1 1/2\" X 1\"",4192,"UN",null,0,0,0]
[null,null,2070,null,"NIPLE DE REDUCAO DE FERRO GALVANIZADO, COM ROSCA BSP, DE 1 1/2\" X 3/4\"",4191,"UN",null,0,0,0]
[null,null,2071,null,"NIPLE DE REDUCAO DE FERRO GALVANIZADO, COM ROSCA BSP, DE 1 1/4\" X 1\"",4206,"UN",null,0,0,0]
[null,null,2072,null,"NIPLE DE REDUCAO DE FERRO GALVANIZADO, COM ROSCA BSP, DE 1 1/4\" X 1/2\"",4207,"UN",null,0,0,0]
[null,null,2073,null,"NIPLE DE REDUCAO DE FERRO GALVANIZADO, COM ROSCA BSP, DE 1 1/4\" X 3/4\"",4190,"UN",null,0,0,0]
[null,null,2074,null,"NIPLE DE REDUCAO DE FERRO GALVANIZADO, COM ROSCA BSP, DE 1\" X 1/2\"",4188,"UN",null,0,0,0]
[null,null,2075,null,"NIPLE DE REDUCAO DE FERRO GALVANIZADO, COM ROSCA BSP, DE 1\" X 3/4\"",4189,"UN",null,0,0,0]
[null,null,2076,null,"NIPLE DE REDUCAO DE FERRO GALVANIZADO, COM ROSCA BSP, DE 1/2\" X 1/4\"",4186,"UN",null,0,0,0]
[null,null,2077,null,"NIPLE DE REDUCAO DE FERRO GALVANIZADO, COM ROSCA BSP, DE 2 1/2\" X 2\"",4197,"UN",null,0,0,0]
[null,null,2078,null,"NIPLE DE REDUCAO DE FERRO GALVANIZADO, COM ROSCA BSP, DE 2\" X 1 1/2\"",4194,"UN",null,0,0,0]
[null,null,2079,null,"NIPLE DE REDUCAO DE FERRO GALVANIZADO, COM ROSCA BSP, DE 2\" X 1 1/4\"",4193,"UN",null,0,0,0]
[null,null,2080,null,"NIPLE DE REDUCAO DE FERRO GALVANIZADO, COM ROSCA BSP, DE 2\" X 1\"",4204,"UN",null,0,0,0]
[null,null,2081,null,"NIPLE DE REDUCAO DE FERRO GALVANIZADO, COM ROSCA BSP, DE 3/4\" X 1/2\"",4187,"UN",null,0,0,0]
[null,null,2082,null,"NIPLE SEXTAVADO EM ACO CARBONO, COM ROSCA BSP, PRESSAO 3.000 LBS, DN 1 1/2\"",40368,"UN",null,0,0,0]
[null,null,2083,null,"NIPLE SEXTAVADO EM ACO CARBONO, COM ROSCA BSP, PRESSAO 3.000 LBS, DN 1 1/4\"",40365,"UN",null,0,0,0]
[null,null,2084,null,"NIPLE SEXTAVADO EM ACO CARBONO, COM ROSCA BSP, PRESSAO 3.000 LBS, DN 1\"",40362,"UN",null,0,0,0]
[null,null,2085,null,"NIPLE SEXTAVADO EM ACO CARBONO, COM ROSCA BSP, PRESSAO 3.000 LBS, DN 1/2\"",40356,"UN",null,0,0,0]
[null,null,2086,null,"NIPLE SEXTAVADO EM ACO CARBONO, COM ROSCA BSP, PRESSAO 3.000 LBS, DN 2 1/2\"",40374,"UN",null,0,0,0]
[null,null,2087,null,"NIPLE SEXTAVADO EM ACO CARBONO, COM ROSCA BSP, PRESSAO 3.000 LBS, DN 2\"",40371,"UN",null,0,0,0]
[null,null,2088,null,"NIPLE SEXTAVADO EM ACO CARBONO, COM ROSCA BSP, PRESSAO 3.000 LBS, DN 3/4\"",40359,"UN",null,0,0,0]
[null,null,2089,null,"NUMERO / ALGARISMO PARA PORTA, TAMANHO *40* MM, EM ZAMAC, (MODELO DE 0 A 9), FIXACAO POR PARAFUSOS",38175,"UN",null,0,0,0]
[null,null,2090,null,"NUMERO / ALGARISMO PARA RESIDENCIA (FACHADA), TAMANHO *120* MM, EM ZAMAC, (MODELO DE 0 A 9), FIXACAO POR PARAFUSOS",38176,"UN",null,0,0,0]
[null,null,2091,null,"OCULOS DE SEGURANCA CONTRA IMPACTOS COM LENTE INCOLOR, ARMACAO NYLON, COM PROTECAO UVA E UVB",36152,"UN",null,0,0,0]
[null,null,2092,null,"OLEO DIESEL COMBUSTIVEL COMUM",4221,"L",null,0,0,0]
[null,null,2093,null,"OLEO LUBRIFICANTE PARA MOTORES DE EQUIPAMENTOS PESADOS (CAMINHOES, TRATORES, RETROS E ETC)",4227,"L",null,0,0,0]
[null,null,2094,null,"OXIGENIO, RECARGA PARA CILINDRO DE CONJUNTO OXICORTE GRANDE",2,"M3",null,0,0,0]
[null,null,2095,null,"PA DE LIXO PLASTICA, CABO LONGO",38402,"UN",null,0,0,0]
[null,null,2096,null,"PAINEL DE LA DE VIDRO SEM REVESTIMENTO PSI 20, E = 25 MM, DE 1200 X 600 MM",3412,"M2",null,0,0,0]
[null,null,2097,null,"PAINEL DE LA DE VIDRO SEM REVESTIMENTO PSI 20, E = 50 MM, DE 1200 X 600 MM",3413,"M2",null,0,0,0]
[null,null,2098,null,"PAINEL DE LA DE VIDRO SEM REVESTIMENTO PSI 40, E = 25 MM, DE 1200 X 600 MM",39744,"M2",null,0,0,0]
[null,null,2099,null,"PAINEL DE LA DE VIDRO SEM REVESTIMENTO PSI 40, E = 50 MM, DE 1200 X 600 MM",39745,"M2",null,0,0,0]
[null,null,2100,null,"PAINEL ESTRUTURAL PARA LAJE SECA REVESTIDO EM PLACA CIMENTICIA, DE 1,20 X 2,50 M, E = 23 MM",39637,"M2",null,0,0,0]
[null,null,2101,null,"PAPEL KRAFT BETUMADO",38366,"M2",null,0,0,0]
[null,null,2102,null,"PAPELEIRA DE PAREDE EM METAL CROMADO SEM TAMPA",11703,"UN",null,0,0,0]
[null,null,2103,null,"PAPELEIRA PLASTICA TIPO DISPENSER PARA PAPEL HIGIENICO ROLAO",37400,"UN",null,0,0,0]
[null,null,2104,null,"PARAFUSO CABECA TROMBETA E PONTA AGULHA (GN55), COMPRIMENTO 55 MM, EM ACO FOSFATIZADO, PARA FIXAR CHAPA DE GESSO EM PERFIL DRYWALL METALICO MAXIMO 0,7 MM",39438,"UN",null,0,0,0]
[null,null,2105,null,"PARAFUSO DE ACO TIPO CHUMBADOR PARABOLT, DIAMETRO 1/2\", COMPRIMENTO 75 MM",11963,"UN",null,0,0,0]
[null,null,2106,null,"PARAFUSO DE ACO TIPO CHUMBADOR PARABOLT, DIAMETRO 3/8\", COMPRIMENTO 75 MM",11964,"UN",null,0,0,0]
[null,null,2107,null,"PARAFUSO DE ACO ZINCADO COM ROSCA SOBERBA, CABECA CHATA E FENDA SIMPLES, DIAMETRO 2,5 MM, COMPRIMENTO * 9,5 * MM",4379,"UN",null,0,0,0]
[null,null,2108,null,"PARAFUSO DE ACO ZINCADO COM ROSCA SOBERBA, CABECA CHATA E FENDA SIMPLES, DIAMETRO 4,2 MM, COMPRIMENTO * 32 * MM",4377,"UN",null,0,0,0]
[null,null,2109,null,"PARAFUSO DE ACO ZINCADO COM ROSCA SOBERBA, CABECA CHATA E FENDA SIMPLES, DIAMETRO 4,8 MM, COMPRIMENTO 45 MM",4356,"UN",null,0,0,0]
[null,null,2110,null,"PARAFUSO DE FERRO POLIDO, SEXTAVADO, COM ROSCA INTEIRA, DIAMETRO 5/16\", COMPRIMENTO 3/4\", COM PORCA E ARRUELA LISA LEVE",13246,"UN",null,0,0,0]
[null,null,2111,null,"PARAFUSO DE FERRO POLIDO, SEXTAVADO, COM ROSCA PARCIAL, DIAMETRO 5/8\", COMPRIMENTO 6\", COM PORCA E ARRUELA DE PRESSAO MEDIA",4346,"UN",null,0,0,0]
[null,null,2112,null,"PARAFUSO DE LATAO COM ACABAMENTO CROMADO PARA FIXAR PECA SANITARIA, INCLUI PORCA CEGA, ARRUELA E BUCHA DE NYLON TAMANHO S-10",11955,"UN",null,0,0,0]
[null,null,2113,null,"PARAFUSO DE LATAO COM ROSCA SOBERBA, CABECA CHATA E FENDA SIMPLES, DIAMETRO 2,5 MM, COMPRIMENTO 12 MM",11960,"UN",null,0,0,0]
[null,null,2114,null,"PARAFUSO DE LATAO COM ROSCA SOBERBA, CABECA CHATA E FENDA SIMPLES, DIAMETRO 3,2 MM, COMPRIMENTO 16 MM",4333,"UN",null,0,0,{"$f":"TRUNC(ROUND((I2132*J2132)/12,2),2)","v":0}]
[null,null,2115,null,"PARAFUSO DE LATAO COM ROSCA SOBERBA, CABECA CHATA E FENDA SIMPLES, DIAMETRO 4,8 MM, COMPRIMENTO 65 MM",4358,"UN",null,0,0,0]
[null,null,2116,null,"PARAFUSO DRY WALL, EM ACO FOSFATIZADO, CABECA TROMBETA E PONTA AGULHA (TA), COMPRIMENTO 25 MM",39435,"UN",null,0,0,0]
[null,null,2117,null,"PARAFUSO DRY WALL, EM ACO FOSFATIZADO, CABECA TROMBETA E PONTA AGULHA (TA), COMPRIMENTO 35 MM",39436,"UN",null,0,0,0]
[null,null,2118,null,"PARAFUSO DRY WALL, EM ACO FOSFATIZADO, CABECA TROMBETA E PONTA AGULHA (TA), COMPRIMENTO 45 MM",39437,"UN",null,0,0,0]
[null,null,2119,null,"PARAFUSO DRY WALL, EM ACO FOSFATIZADO, CABECA TROMBETA E PONTA BROCA (TB), COMPRIMENTO 25 MM",39439,"UN",null,0,0,0]
[null,null,2120,null,"PARAFUSO DRY WALL, EM ACO FOSFATIZADO, CABECA TROMBETA E PONTA BROCA (TB), COMPRIMENTO 35 MM",39440,"UN",null,0,0,0]
[null,null,2121,null,"PARAFUSO DRY WALL, EM ACO FOSFATIZADO, CABECA TROMBETA E PONTA BROCA (TB), COMPRIMENTO 45 MM",39441,"UN",null,0,0,0]
[null,null,2122,null,"PARAFUSO DRY WALL, EM ACO ZINCADO, CABECA LENTILHA E PONTA AGULHA (LA), LARGURA 4,2 MM, COMPRIMENTO 13 MM",39442,"UN",null,0,0,0]
[null,null,2123,null,"PARAFUSO DRY WALL, EM ACO ZINCADO, CABECA LENTILHA E PONTA BROCA (LB), LARGURA 4,2 MM, COMPRIMENTO 13 MM",39443,"UN",null,0,0,0]
[null,null,2124,null,"PARAFUSO EM ACO GALVANIZADO, TIPO MAQUINA, SEXTAVADO, SEM PORCA, DIAMETRO 1/2\", COMPRIMENTO 2\"",4329,"UN",null,0,0,0]
[null,null,2125,null,"PARAFUSO FRANCES M16 EM ACO GALVANIZADO, COMPRIMENTO = 150 MM, DIAMETRO = 16 MM, CABECA ABAULADA",436,"UN",null,0,0,0]
[null,null,2126,null,"PARAFUSO FRANCES M16 EM ACO GALVANIZADO, COMPRIMENTO = 45 MM, DIAMETRO = 16 MM, CABECA ABAULADA",442,"UN",null,0,0,0]
[null,null,2127,null,"PARAFUSO FRANCES METRICO ZINCADO, DIAMETRO 12 MM, COMPRIMENTO 140MM, COM PORCA SEXTAVADA E ARRUELA DE PRESSAO MEDIA",4383,"UN",null,0,0,0]
[null,null,2128,null,"PARAFUSO FRANCES METRICO ZINCADO, DIAMETRO 12 MM, COMPRIMENTO 150 MM, COM PORCA SEXTAVADA E ARRUELA DE PRESSAO MEDIA",4344,"UN",null,0,0,0]
[null,null,2129,null,"PARAFUSO FRANCES ZINCADO, DIAMETRO 1/2\", COMPRIMENTO 12\", COM PORCA E ARRUELA LISA MEDIA",4335,"UN",null,0,0,0]
[null,null,2130,null,"PARAFUSO FRANCES ZINCADO, DIAMETRO 1/2\", COMPRIMENTO 15\", COM PORCA E ARRUELA LISA MEDIA",4334,"UN",null,0,0,0]
[null,null,2131,null,"PARAFUSO FRANCES ZINCADO, DIAMETRO 1/2\", COMPRIMENTO 4\", COM PORCA E ARRUELA",4343,"UN",null,0,0,0]
[null,null,2132,null,"PARAFUSO FRANCES ZINCADO, DIAMETRO 1/2'', COMPRIMENTO 2'', COM PORCA E ARRUELA",11953,"UN",null,0,0,0]
[null,null,2133,null,"PARAFUSO M16 EM ACO GALVANIZADO, COMPRIMENTO = 125 MM, DIAMETRO = 16 MM, ROSCA MAQUINA, CABECA QUADRADA",430,"UN",null,0,0,0]
[null,null,2134,null,"PARAFUSO M16 EM ACO GALVANIZADO, COMPRIMENTO = 150 MM, DIAMETRO = 16 MM, ROSCA MAQUINA, CABECA QUADRADA",441,"UN",null,0,0,0]
[null,null,2135,null,"PARAFUSO M16 EM ACO GALVANIZADO, COMPRIMENTO = 200 MM, DIAMETRO = 16 MM, ROSCA MAQUINA, CABECA QUADRADA",431,"UN",null,0,0,0]
[null,null,2136,null,"PARAFUSO M16 EM ACO GALVANIZADO, COMPRIMENTO = 250 MM, DIAMETRO = 16 MM, ROSCA MAQUINA, CABECA QUADRADA",432,"UN",null,0,0,0]
[null,null,2137,null,"PARAFUSO M16 EM ACO GALVANIZADO, COMPRIMENTO = 300 MM, DIAMETRO = 16 MM, ROSCA DUPLA",429,"UN",null,0,0,0]
[null,null,2138,null,"PARAFUSO M16 EM ACO GALVANIZADO, COMPRIMENTO = 300 MM, DIAMETRO = 16 MM, ROSCA MAQUINA, CABECA QUADRADA",439,"UN",null,0,0,0]
[null,null,2139,null,"PARAFUSO M16 EM ACO GALVANIZADO, COMPRIMENTO = 350 MM, DIAMETRO = 16 MM, ROSCA MAQUINA, CABECA QUADRADA",433,"UN",null,0,0,0]
[null,null,2140,null,"PARAFUSO M16 EM ACO GALVANIZADO, COMPRIMENTO = 400 MM, DIAMETRO = 16 MM, ROSCA DUPLA",437,"UN",null,0,0,0]
[null,null,2141,null,"PARAFUSO M16 EM ACO GALVANIZADO, COMPRIMENTO = 450 MM, DIAMETRO = 16 MM, ROSCA MAQUINA, CABECA QUADRADA",11790,"UN",null,0,0,0]
[null,null,2142,null,"PARAFUSO M16 EM ACO GALVANIZADO, COMPRIMENTO = 500 MM, DIAMETRO = 16 MM, ROSCA MAQUINA, COM CABECA SEXTAVADA E PORCA",428,"UN",null,0,0,0]
[null,null,2143,null,"PARAFUSO NIQUELADO 3 1/2\" COM ACABAMENTO CROMADO PARA FIXAR PECA SANITARIA, INCLUI PORCA CEGA, ARRUELA E BUCHA DE NYLON TAMANHO S-8",4351,"UN",null,0,0,0]
[null,null,2144,null,"PARAFUSO NIQUELADO COM ACABAMENTO CROMADO PARA FIXAR PECA SANITARIA, INCLUI PORCA CEGA, ARRUELA E BUCHA DE NYLON TAMANHO S-10",4384,"UN",null,0,0,0]
[null,null,2145,null,"PARAFUSO ROSCA SOBERBA ZINCADO CABECA CHATA FENDA SIMPLES 3,2 X 20 MM (3/4 \")",11054,"UN",null,0,0,0]
[null,null,2146,null,"PARAFUSO ROSCA SOBERBA ZINCADO CABECA CHATA FENDA SIMPLES 3,5 X 25 MM (1 \")",11055,"UN",null,0,0,0]
[null,null,2147,null,"PARAFUSO ROSCA SOBERBA ZINCADO CABECA CHATA FENDA SIMPLES 3,8 X 30 MM (1.1/4 \")",11056,"UN",null,0,0,0]
[null,null,2148,null,"PARAFUSO ROSCA SOBERBA ZINCADO CABECA CHATA FENDA SIMPLES 4,8 X 40 MM (1.1/2 \")",11057,"UN",null,0,0,0]
[null,null,2149,null,"PARAFUSO ROSCA SOBERBA ZINCADO CABECA CHATA FENDA SIMPLES 5,5 X 50 MM (2 \")",11059,"UN",null,0,0,0]
[null,null,2150,null,"PARAFUSO ROSCA SOBERBA ZINCADO CABECA CHATA FENDA SIMPLES 5,5 X 65 MM (2.1/2 \")",11058,"UN",null,0,0,0]
[null,null,2151,null,"PARAFUSO ZINCADO 5/16 \" X 250 MM PARA FIXACAO DE TELHA DE FIBROCIMENTO CANALETE 49, INCLUI BUCHA NYLON S-10",4320,"UN",null,0,0,0]
[null,null,2152,null,"PARAFUSO ZINCADO 5/16 \" X 85 MM PARA FIXACAO DE TELHA DE FIBROCIMENTO CANALETE 90, INCLUI BUCHA NYLON S-10",4318,"UN",null,0,0,0]
[null,null,2153,null,"PARAFUSO ZINCADO ROSCA SOBERBA 5/16 \" X 120 MM PARA TELHA FIBROCIMENTO",4380,"UN",null,0,0,0]
[null,null,2154,null,"PARAFUSO ZINCADO ROSCA SOBERBA, CABECA SEXTAVADA, 5/16 \" X 110 MM, PARA FIXACAO DE TELHA EM MADEIRA",4299,"UN",null,0,0,0]
[null,null,2155,null,"PARAFUSO ZINCADO ROSCA SOBERBA, CABECA SEXTAVADA, 5/16 \" X 150 MM, PARA FIXACAO DE TELHA EM MADEIRA",4304,"UN",null,0,0,0]
[null,null,2156,null,"PARAFUSO ZINCADO ROSCA SOBERBA, CABECA SEXTAVADA, 5/16 \" X 180 MM, PARA FIXACAO DE TELHA EM MADEIRA",4305,"UN",null,0,0,0]
[null,null,2157,null,"PARAFUSO ZINCADO ROSCA SOBERBA, CABECA SEXTAVADA, 5/16 \" X 200 MM, PARA FIXACAO DE TELHA EM MADEIRA",4306,"UN",null,0,0,0]
[null,null,2158,null,"PARAFUSO ZINCADO ROSCA SOBERBA, CABECA SEXTAVADA, 5/16 \" X 230 MM, PARA FIXACAO DE TELHA EM MADEIRA",4308,"UN",null,0,0,0]
[null,null,2159,null,"PARAFUSO ZINCADO ROSCA SOBERBA, CABECA SEXTAVADA, 5/16 \" X 250 MM, PARA FIXACAO DE TELHA EM MADEIRA",4302,"UN",null,0,0,0]
[null,null,2160,null,"PARAFUSO ZINCADO ROSCA SOBERBA, CABECA SEXTAVADA, 5/16 \" X 50 MM, PARA FIXACAO DE TELHA EM MADEIRA",4300,"UN",null,0,0,0]
[null,null,2161,null,"PARAFUSO ZINCADO ROSCA SOBERBA, CABECA SEXTAVADA, 5/16 \" X 85 MM, PARA FIXACAO DE TELHA EM MADEIRA",4301,"UN",null,0,0,0]
[null,null,2162,null,"PARAFUSO ZINCADO, AUTOBROCANTE, FLANGEADO, 4,2 X 19\"",40547,"CENTO",null,0,0,0]
[null,null,2163,null,"PARAFUSO ZINCADO, SEXTAVADO, COM ROSCA INTEIRA, DIAMETRO 1/4\", COMPRIMENTO 1/2\"",11962,"UN",null,0,0,0]
[null,null,2164,null,"PARAFUSO ZINCADO, SEXTAVADO, COM ROSCA INTEIRA, DIAMETRO 3/8\", COMPRIMENTO 2\"",4332,"UN",null,0,0,0]
[null,null,2165,null,"PARAFUSO ZINCADO, SEXTAVADO, COM ROSCA INTEIRA, DIAMETRO 5/8\", COMPRIMENTO 2 1/4\"",4331,"UN",null,0,0,0]
[null,null,2166,null,"PARAFUSO ZINCADO, SEXTAVADO, COM ROSCA INTEIRA, DIAMETRO 5/8\", COMPRIMENTO 3\", COM PORCA E ARRUELA DE PRESSAO MEDIA",4336,"UN",null,0,0,0]
[null,null,2167,null,"PARAFUSO ZINCADO, SEXTAVADO, COM ROSCA SOBERBA, DIAMETRO 3/8\", COMPRIMENTO 80 MM",13294,"UN",null,0,0,0]
[null,null,2168,null,"PARAFUSO ZINCADO, SEXTAVADO, COM ROSCA SOBERBA, DIAMETRO 5/16\", COMPRIMENTO 40 MM",11948,"UN",null,0,0,0]
[null,null,2169,null,"PARAFUSO ZINCADO, SEXTAVADO, COM ROSCA SOBERBA, DIAMETRO 5/16\", COMPRIMENTO 80 MM",4382,"UN",null,0,0,0]
[null,null,2170,null,"PARAFUSO ZINCADO, SEXTAVADO, GRAU 5, ROSCA INTEIRA, DIAMETRO 1 1/2\", COMPRIMENTO 4\"",4354,"UN",null,0,0,0]
[null,null,2171,null,"PARAFUSO, ASTM A307 - GRAU A, SEXTAVADO, ZINCADO, DIAMETRO 3/8\" (9,52 MM), COMPRIMENTO 1 \" (25,4 MM)",40839,"CENTO",null,0,0,0]
[null,null,2172,null,"PARAFUSO, AUTO ATARRACHANTE, CABECA CHATA, FENDA SIMPLES, 1/4\u0094 (6,35 MM) X 25 MM",40552,"CENTO",null,0,0,0]
[null,null,2173,null,"PARAFUSO, COMUM, ASTM A307, SEXTAVADO, DIAMETRO 1/2\" (12,7 MM), COMPRIMENTO 1\" (25,4 MM)",40549,"CENTO",null,0,0,0]
[null,null,2174,null,"PARALELEPIPEDO GRANITICO OU BASALTICO, PARA PAVIMENTACAO, SEM FRETE,  *30 A 35* PECAS POR M2",4385,"MIL",null,0,0,0]
[null,null,2175,null,"PARALELEPIPEDO GRANITICO OU BASALTICO, PARA PAVIMENTACAO, SEM FRETE,  *30 A 35* PECAS POR M2",4386,"M2",null,0,0,0]
[null,null,2176,null,"PARA-RAIOS DE BAIXA TENSAO, TENSAO DE OPERACAO *280* V , CORRENTE MAXIMA *20* KA",4272,"UN",null,0,0,0]
[null,null,2177,null,"PARA-RAIOS DE DISTRIBUICAO, TENSAO NOMINAL 15 KV, CORRENTE NOMINAL DE DESCARGA 5 KA",4276,"UN",null,0,0,0]
[null,null,2178,null,"PARA-RAIOS DE DISTRIBUICAO, TENSAO NOMINAL 30 KV, CORRENTE NOMINAL DE DESCARGA 10 KA",4273,"UN",null,0,0,{"$f":"TRUNC(ROUND((I2196*J2196)/12,2),2)","v":0}]
[null,null,2179,null,"PARA-RAIOS TIPO FRANKLIN 350 MM, EM LATAO CROMADO, DUAS DESCIDAS, PARA PROTECAO DE EDIFICACOES CONTRA DESCARGAS ATMOSFERICAS",4274,"UN",null,0,0,0]
[null,null,2180,null,"PASTA DESENGRAXANTE PARA MAOS",38397,"KG",null,0,0,0]
[null,null,2181,null,"PASTA LUBRIFICANTE PARA TUBOS E CONEXOES COM JUNTA ELASTICA (USO EM PVC, ACO, POLIETILENO E OUTROS) ( DE *400* G)",20078,"UN",null,0,0,0]
[null,null,2182,null,"PASTA LUBRIFICANTE PARA TUBOS E CONEXOES COM JUNTA ELASTICA (USO EM PVC, ACO, POLIETILENO E OUTROS) (POTE DE 3.500* G)",20079,"UN",null,0,0,0]
[null,null,2183,null,"PASTA PARA SOLDA DE TUBOS E CONEXOES DE COBRE",39897,"250G",null,0,0,0]
[null,null,2184,null,"PASTA VEDA JUNTAS/ROSCA, LATA DE *500* G, PARA INSTALACOES DE GAS E OUTROS",118,"UN",null,0,0,0]
[null,null,2185,null,"PASTILHA CERAMICA/PORCELANA, REVEST INT/EXT E  PISCINA, CORES BRANCA OU FRIAS, *2,5 X 2,5* CM",4396,"M2",null,0,0,0]
[null,null,2186,null,"PASTILHA CERAMICA/PORCELANA, REVEST INT/EXT E  PISCINA, CORES FRIAS *5 X 5* CM",36881,"M2",null,0,0,0]
[null,null,2187,null,"PASTILHA CERAMICA/PORCELANA, REVEST INT/EXT E  PISCINA, CORES QUENTES *5 X 5* CM",36882,"M2",null,0,0,0]
[null,null,2188,null,"PASTILHA CERAMICA/PORCELANA, REVEST INT/EXT E  PISCINA, CORES QUENTES, *2,5 X 2,5* CM",4397,"M2",null,0,0,0]
[null,null,2189,null,"PASTILHA DE VIDRO CRISTAL, NACIONAL, REVEST INT/EXT E PISCINA, TODAS AS CORES, E MAIOR OU IGUAL A 5 MM  *2,0 X 2,0* CM",34754,"M2",null,0,0,0]
[null,null,2190,null,"PASTILHA DE VIDRO PIGMENTADA *2,0 X 2,0* CM, NACIONAL, PARA REVESTIMENTO INTERNO/EXTERNO E PISCINA, BRANCA OU CORES FRIAS, ESPESSURA MAIOR OU IGUAL A 5 MM",25962,"M2",null,0,0,0]
[null,null,2191,null,"PASTILHA DE VIDRO PIGMENTADA, NACIONAL, REVEST INT/EXT E PISCINA, CORES QUENTES, ESPESSURA MAIOR OU IGUAL A 5 MM  *2,0 X 2,0* CM",34752,"M2",null,0,0,0]
[null,null,2192,null,"PATCH CORD, CATEGORIA 5 E, EXTENSAO DE 1,50 M",39604,"UN",null,0,0,0]
[null,null,2193,null,"PATCH CORD, CATEGORIA 5 E, EXTENSAO DE 2,50 M",39605,"UN",null,0,0,0]
[null,null,2194,null,"PATCH CORD, CATEGORIA 6, EXTENSAO DE 1,50 M",39606,"UN",null,0,0,0]
[null,null,2195,null,"PATCH CORD, CATEGORIA 6, EXTENSAO DE 2,50 M",39607,"UN",null,0,0,0]
[null,null,2196,null,"PATCH PANEL, 24 PORTAS, CATEGORIA 5E, COM RACKS DE 19\" E 1 U DE ALTURA",39594,"UN",null,0,0,0]
[null,null,2197,null,"PATCH PANEL, 24 PORTAS, CATEGORIA 6, COM RACKS DE 19\" E 1 U DE ALTURA",39596,"UN",null,0,0,0]
[null,null,2198,null,"PATCH PANEL, 48 PORTAS, CATEGORIA 6, COM RACKS DE 19\" E 2 U DE ALTURA",39597,"UN",null,0,0,0]
[null,null,2199,null,"PECA DE MADEIRA 2A QUALIDADE 2,5 X 15CM (1X6\") NAO APARELHADA",6194,"M",null,0,0,0]
[null,null,2200,null,"PECA DE MADEIRA 3A QUALIDADE 2,5 X 10CM NAO APARELHADA",4509,"M",null,0,0,0]
[null,null,2201,null,"PECA DE MADEIRA 3A/4A NATIVA/REGIONAL 5 X 5 CM",4513,"M",null,0,0,0]
[null,null,2202,null,"PECA DE MADEIRA 3A/4A QUALIDADE 2,5 X 5CM NAO APARELHADA",4512,"M",null,0,0,0]
[null,null,2203,null,"PECA DE MADEIRA 3A/4A QUALIDADE 7,5 X 10CM NAO APARELHADA",4500,"M",null,0,0,0]
[null,null,2204,null,"PECA DE MADEIRA APARELHADA *7,5 X 7,5* CM (3 X 3 \") MACARANDUBA, ANGELIM OU EQUIVALENTE DA REGIAO",20209,"M",null,0,0,0]
[null,null,2205,null,"PECA DE MADEIRA NAO APARELHADA *7,5 X 7,5* CM (3 X 3 \") MACARANDUBA, ANGELIM OU EQUIVALENTE DA REGIAO",4433,"M",null,0,0,0]
[null,null,2206,null,"PECA DE MADEIRA NATIVA / REGIONAL 7,5 X 7,5CM (3X3) NAO APARELHADA (P/FORMA)",4491,"M",null,0,0,0]
[null,null,2207,null,"PECA DE MADEIRA NATIVA/REGIONAL 1 X 7CM NAO APARELHADA (P/FORMA)",4505,"M",null,0,0,0]
[null,null,2208,null,"PECA DE MADEIRA NATIVA/REGIONAL 2,5 X 7,0 CM (SARRAFO-P/FORMA)",4517,"M",null,0,0,0]
[null,null,2209,null,"PECA DE MADEIRA NATIVA/REGIONAL 7,5 X 12,50 CM (3X5\") NAO APARELHADA (P/FORMA)",4448,"M",null,0,0,0]
[null,null,2210,null,"PEDRA ARDOSIA, CINZA, *40 X 40* CM, E= *1 CM",10731,"M2",null,0,0,0]
[null,null,2211,null,"PEDRA ARDOSIA, CINZA, 20  X  40 CM,  E=  *1 CM",4704,"M2",null,0,0,0]
[null,null,2212,null,"PEDRA ARDOSIA, CINZA, 30  X  30,  E= *1 CM",10730,"M2",null,0,0,0]
[null,null,2213,null,"PEDRA BRITADA GRADUADA, CLASSIFICADA (POSTO PEDREIRA/FORNECEDOR, SEM FRETE)",4729,"M3",null,0,0,0]
[null,null,2214,null,"PEDRA BRITADA N. 0, OU PEDRISCO (4,8 A 9,5 MM) POSTO PEDREIRA/FORNECEDOR, SEM FRETE",4720,"M3",null,0,0,0]
[null,null,2215,null,"PEDRA BRITADA N. 1 (9,5 a 19 MM) POSTO PEDREIRA/FORNECEDOR, SEM FRETE",4721,"M3",null,0,0,0]
[null,null,2216,null,"PEDRA BRITADA N. 2 (19 A 38 MM) POSTO PEDREIRA/FORNECEDOR, SEM FRETE",4718,"M3",null,0,0,0]
[null,null,2217,null,"PEDRA BRITADA N. 3 (38 A 50 MM) POSTO PEDREIRA/FORNECEDOR, SEM FRETE",4722,"M3",null,0,0,0]
[null,null,2218,null,"PEDRA BRITADA N. 4 (50 A 76 MM) POSTO PEDREIRA/FORNECEDOR, SEM FRETE",4723,"M3",null,0,0,0]
[null,null,2219,null,"PEDRA BRITADA N. 5 (76 A 100 MM) POSTO PEDREIRA/FORNECEDOR, SEM FRETE",4727,"M3",null,0,0,0]
[null,null,2220,null,"PEDRA BRITADA OU BICA CORRIDA, NAO CLASSIFICADA (POSTO PEDREIRA/FORNECEDOR, SEM FRETE)",4748,"M3",null,0,0,0]
[null,null,2221,null,"PEDRA DE MAO OU PEDRA RACHAO PARA ARRIMO/FUNDACAO (POSTO PEDREIRA/FORNECEDOR, SEM FRETE)",4730,"M3",null,0,0,0]
[null,null,2222,null,"PEDRA GRANITICA OU BASALTICA IRREGULAR, FAIXA GRANULOMETRICA 100 A 150 MM PARA PAVIMENTACAO OU CALCAMENTO POLIEDRICO, POSTO PEDREIRA / FORNECEDOR (SEM FRETE)",13186,"M3",null,0,0,0]
[null,null,2223,null,"PEDRA GRANITICA OU BASALTO, CACO, RETALHO, CAVACO, TIPO MIRACEMA, MADEIRA, PADUANA, RACHINHA, SANTA ISABEL OU OUTRAS SIMILARES, E=  *1,0 A *2,0 CM",10737,"M2",null,0,0,0]
[null,null,2224,null,"PEDRA GRANITICA, SERRADA, TIPO MIRACEMA, MADEIRA, PADUANA, RACHINHA, SANTA ISABEL OU OUTRAS SIMILARES, *11,5 X  *23 CM, E=  *1,0 A *2,0 CM",10734,"M2",null,0,0,0]
[null,null,2225,null,"PEDRA PORTUGUESA  OU PETIT PAVE, BRANCA OU PRETA",4708,"M2",null,0,0,0]
[null,null,2226,null,"PEDRA QUARTZITO OU CALCARIO LAMINADO, CACO, TIPO CARIRI, ITACOLOMI, LAGOA SANTA, LUMINARIA, PIRENOPOLIS, SAO TOME OU OUTRAS SIMILARES DA REGIAO, E=  *1,5 A *2,5 CM",4712,"M2",null,0,0,0]
[null,null,2227,null,"PEDRA QUARTZITO OU CALCARIO LAMINADO, SERRADA, TIPO CARIRI, ITACOLOMI, LAGOA SANTA, LUMINARIA, PIRENOPOLIS, SAO TOME OU OUTRAS SIMILARES DA REGIAO, *20 X *40 CM, E=  *1,5 A *2,5 CM",4710,"M2",null,0,0,0]
[null,null,2228,null,"PEDREGULHO OU PICARRA DE JAZIDA, AO NATURAL, PARA BASE DE PAVIMENTACAO (RETIRADO NA JAZIDA, SEM TRANSPORTE)",4746,"M3",null,0,0,0]
[null,null,2229,null,"PEITORIL EM MARMORE, POLIDO, BRANCO COMUM, L= *15* CM, E=  *2,0* CM, COM PINGADEIRA",34747,"M",null,0,0,0]
[null,null,2230,null,"PEITORIL EM MARMORE, POLIDO, BRANCO COMUM, L= *15* CM, E=  *3* CM, CORTE RETO",4826,"M",null,0,0,0]
[null,null,2231,null,"PEITORIL PRE-MOLDADO EM GRANILITE, MARMORITE OU GRANITINA, L = *15* CM",41975,"M2",null,0,0,0]
[null,null,2232,null,"PEITORIL/ SOLEIRA EM MARMORE, POLIDO, BRANCO COMUM, L= *25* CM, E=  *3* CM, CORTE RETO",4825,"M",null,0,0,0]
[null,null,2233,null,"PELICULA REFLETIVA, GT 7 ANOS PARA SINALIZACAO VERTICAL",34744,"M2",null,0,0,0]
[null,null,2234,null,"PENDURAL OU PRESILHA REGULADORA, EM ACO GALVANIZADO, COM CORPO, MOLA E REBITE, PARA PERFIL TIPO CANALETA DE ESTRUTURA EM FORROS DRYWALL",39430,"UN",null,0,0,0]
[null,null,2235,null,"PENDURAL OU REGULADOR, COM MOLA, EM ACO GALVANIZADO, PARA PERFIL TIPO T CLICADO DE FORROS REMOVIVEL",39573,"UN",null,0,0,0]
[null,null,2236,null,"PERFIL \"I\" DE ACO LAMINADO, \"I\" 102 X 12,7",4765,"M",null,0,0,0]
[null,null,2237,null,"PERFIL \"I\" DE ACO LAMINADO, \"I\" 152 X 22",4767,"M",null,0,0,0]
[null,null,2238,null,"PERFIL \"I\" DE ACO LAMINADO, \"I\" 152 X 22",4766,"KG",null,0,0,0]
[null,null,2239,null,"PERFIL \"I\" DE ACO LAMINADO, \"I\" 203  X  34,3",10963,"M",null,0,0,0]
[null,null,2240,null,"PERFIL \"I\" DE ACO LAMINADO, \"W\" 150 X 22,5",10962,"KG",null,0,0,0]
[null,null,2241,null,"PERFIL \"I\" DE ACO LAMINADO, \"W\" 250 X 32,7",34742,"KG",null,0,0,0]
[null,null,2242,null,"PERFIL \"I\" DE ACO LAMINADO, \"W\" 310 X 52,0",34740,"KG",null,0,0,{"$f":"TRUNC(ROUND((I2260*J2260)/12,2),2)","v":0}]
[null,null,2243,null,"PERFIL \"I\" DE ACO LAMINADO, \"W\" 410 X 67",4774,"KG",null,0,0,0]
[null,null,2244,null,"PERFIL \"I\" DE ACO LAMINADO, W 250 X 38,50",40313,"KG",null,0,0,0]
[null,null,2245,null,"PERFIL \"U\" CHAPA ACO DOBRADA,  E = 3,04 MM , H = 20 CM, ABAS = 5 CM (4,47 KG/M)",13340,"M",null,0,0,0]
[null,null,2246,null,"PERFIL \"U\" DE ACO LAMINADO, \"U\" 102 X 9,3",10965,"M",null,0,0,0]
[null,null,2247,null,"PERFIL \"U\" DE ACO LAMINADO, \"U\" 152 X 15,6",10966,"KG",null,0,0,0]
[null,null,2248,null,"PERFIL \"U\" ENRIJECIDO DE  ACO GALVANIZADO, DOBRADO, 200 X 75 X 25 MM, E = 3,75 MM",40537,"KG",null,0,0,0]
[null,null,2249,null,"PERFIL \"U\" ENRIJECIDO DE ACO GALVANIZADO, DOBRADO, 150 X 60 X 20 MM, E = 3,00 MM",40536,"KG",null,0,0,0]
[null,null,2250,null,"PERFIL \"U\" SIMPLES DE ACO GALVANIZADO DOBRADO 75 X *40* MM, E = 2,65 MM",40535,"KG",null,0,0,0]
[null,null,2251,null,"PERFIL CANALETA, FORMATO C, EM ACO ZINCADO, PARA ESTRUTURA FORRO DRYWALL, E = 0,5 MM, *46 X 18* (L X H), COMPRIMENTO 3 M",39427,"M",null,0,0,0]
[null,null,2252,null,"PERFIL CANTONEIRA L, LISA, EM ACO, 25 X 30 MM, E = 0,5 MM, PARA ESTRUTURA DRYWALL",39424,"M",null,0,0,0]
[null,null,2253,null,"PERFIL CANTONEIRA L, PERFURADA, EM ACO, 23 X 23 MM, E = 0,5 MM, PARA ESTRUTURA DRYWALL",39425,"M",null,0,0,0]
[null,null,2254,null,"PERFIL CARTOLA DE ACO GALVANIZADO, *20 X 30 X 10* MM, E =  0,8 MM",40664,"KG",null,0,0,0]
[null,null,2255,null,"PERFIL DE ALUMINIO ANODIZADO",34360,"KG",null,0,0,0]
[null,null,2256,null,"PERFIL DE BORRACHA EPDM MACICO *12 X 15* MM PARA ESQUADRIAS",20259,"M",null,0,0,0]
[null,null,2257,null,"PERFIL ELASTOMERICO PRE-FORMADO EM EPMD, PARA JUNTA DE DILATACAO DE PISOS COM POUCA SOLICITACAO, 15 MM DE LARGURA, MOVIMENTACAO DE *11 A 19* MM",14077,"M",null,0,0,0]
[null,null,2258,null,"PERFIL ELASTOMERICO PRE-FORMADO EM EPMD, PARA JUNTA DE DILATACAO DE USO GERAL EM MEDIAS SOLICITACOES, 8 MM DE LARGURA, MOVIMENTACAO DE *5 A 11* MM",3678,"M",null,0,0,0]
[null,null,2259,null,"PERFIL GUIA, FORMATO U, EM ACO ZINCADO, PARA ESTRUTURA PAREDE DRYWALL, E = 0,5 MM, 48  X 3000 MM (L X C)",39418,"M",null,0,0,0]
[null,null,2260,null,"PERFIL GUIA, FORMATO U, EM ACO ZINCADO, PARA ESTRUTURA PAREDE DRYWALL, E = 0,5 MM, 70 X 3000 MM (L X C)",39419,"M",null,0,0,0]
[null,null,2261,null,"PERFIL GUIA, FORMATO U, EM ACO ZINCADO, PARA ESTRUTURA PAREDE DRYWALL, E = 0,5 MM, 90 X 3000 MM (L X C)",39420,"M",null,0,0,0]
[null,null,2262,null,"PERFIL LONGARINA (PRINCIPAL), T CLICADO, EM ACO, BRANCO, PARA FORRO REMOVIVEL, 24 X 3750 MM (L X C)",39571,"M",null,0,0,0]
[null,null,2263,null,"PERFIL MONTANTE, FORMATO C, EM ACO ZINCADO, PARA ESTRUTURA PAREDE DRYWALL, E = 0,5 MM, 48 X 3000 MM (L X C)",39421,"M",null,0,0,0]
[null,null,2264,null,"PERFIL MONTANTE, FORMATO C, EM ACO ZINCADO, PARA ESTRUTURA PAREDE DRYWALL, E = 0,5 MM, 70 X 3000 MM (L X C)",39422,"M",null,0,0,0]
[null,null,2265,null,"PERFIL MONTANTE, FORMATO C, EM ACO ZINCADO, PARA ESTRUTURA PAREDE DRYWALL, E = 0,5 MM, 90 X 3000 MM (L X C)",39423,"M",null,0,0,0]
[null,null,2266,null,"PERFIL RODAPE DE IMPERMEABILIZACAO, FORMATO L, EM ACO ZINCADO, PARA ESTRUTURA DRYWALL, E = 0,5 MM, 220 X 3000 MM (H X C)",39426,"M",null,0,0,0]
[null,null,2267,null,"PERFIL TABICA ABERTA, PERFURADA, FORMATO Z, EM ACO GALVANIZADO NATURAL, LARGURA APROXIMADA 40 MM, PARA ESTRUTURA FORRO DRYWALL",39429,"M",null,0,0,0]
[null,null,2268,null,"PERFIL TABICA FECHADA, LISA, FORMATO Z, EM ACO GALVANIZADO NATURAL, LARGURA TOTAL NA HORIZONTAL *40* MM, PARA ESTRUTURA FORRO DRYWALL",39428,"M",null,0,0,0]
[null,null,2269,null,"PERFIL TIPO CANTONEIRA EM L, EM ACO GALVANIZADO, BRANCO, PARA FORRO REMOVIVEL, *23* X 3000 MM (L X C)",39572,"M",null,0,0,0]
[null,null,2270,null,"PERFIL TRAVESSA (SECUNDARIO), T CLICADO, EM ACO GALVANIZADO , BRANCO, PARA FORRO REMOVIVEL, 24 X 1250 MM (L X C)",39570,"M",null,0,0,0]
[null,null,2271,null,"PERFIL TRAVESSA (SECUNDARIO), T CLICADO, EM ACO GALVANIZADO, BRANCO, PARA FORRO REMOVIVEL, 24 X 625 MM (L X C)",39569,"M",null,0,0,0]
[null,null,2272,null,"PERFIL U / CANALETA DE ALUMINIO, DE ABAS IGUAIS, 1/2\" (1,27 X 1,27 CM), PARA PORTA OU JANELA DE CORRER",11552,"M",null,0,0,0]
[null,null,2273,null,"PERFIL UDC (\"U\" DOBRADO DE CHAPA) SIMPLES DE ACO LAMINADO, GALVANIZADO, ASTM A36, 127 X 50 MM, E= 3 MM",40598,"KG",null,0,0,0]
[null,null,2274,null,"PERFILADO PERFURADO 19 X 38 MM, CHAPA 22",39328,"M",null,0,0,0]
[null,null,2275,null,"PERFILADO PERFURADO DUPLO 38 X 76 MM, CHAPA 22",39029,"M",null,0,0,0]
[null,null,2276,null,"PERFILADO PERFURADO SIMPLES 38 X 38 MM, CHAPA 22",39028,"M",null,0,0,0]
[null,null,2277,null,"PIGMENTO EM PO PARA ARGAMASSAS, CIMENTOS E OUTROS",5327,"KG",null,0,0,0]
[null,null,2278,null,"PILAR DE MADEIRA NAO APARELHADA *10 X 10* CM, MACARANDUBA, ANGELIM OU EQUIVALENTE DA REGIAO",35274,"M",null,0,0,0]
[null,null,2279,null,"PILAR DE MADEIRA NAO APARELHADA *15 X 15* CM, MACARANDUBA, ANGELIM OU EQUIVALENTE DA REGIAO",35275,"M",null,0,0,0]
[null,null,2280,null,"PILAR DE MADEIRA NAO APARELHADA *20 X 20* CM, MACARANDUBA, ANGELIM OU EQUIVALENTE DA REGIAO",35276,"M",null,0,0,0]
[null,null,2281,null,"PINCEL CHATO (TRINCHA) CERDAS GRIS 1.1/2 \" (38 MM)",38386,"UN",null,0,0,0]
[null,null,2282,null,"PINGADEIRA PLASTICA PARA TELHA DE FIBROCIMENTO CANALETE 49/KALHETA OU CANALETE 90/KALHETAO",11091,"UN",null,0,0,0]
[null,null,2283,null,"PINO DE ACO COM ARRUELA CONICA, DIAMETRO ARRUELA = *23* MM E COMP HASTE = *27* MM (ACAO INDIRETA)",37586,"CENTO",null,0,0,0]
[null,null,2284,null,"PINO DE ACO COM FURO, HASTE = 27 MM (ACAO DIRETA)",37395,"CENTO",null,0,0,0]
[null,null,2285,null,"PINO DE ACO COM ROSCA 1/4 \", COMPRIMENTO DA HASTE = 30 MM E ROSCA = 20 MM (ACAO DIRETA)",14147,"CENTO",null,0,0,0]
[null,null,2286,null,"PINO DE ACO LISO 1/4 \", HASTE = *36,5* MM (ACAO DIRETA)",37396,"CENTO",null,0,0,0]
[null,null,2287,null,"PINO DE ACO LISO 1/4 \", HASTE = *53* MM (ACAO DIRETA)",37397,"CENTO",null,0,0,0]
[null,null,2288,null,"PINO GUIA, RETO, COM CHAPA DE LATAO CROMADO, 3/4\", PARA PORTA / JANELA DE CORRER",11559,"UN",null,0,0,0]
[null,null,2289,null,"PINO ROSCA EXTERNA, EM ACO GALVANIZADO, PARA ISOLADOR DE 15KV, DIAMETRO 25 MM, COMPRIMENTO *290* MM",444,"UN",null,0,0,0]
[null,null,2290,null,"PINO ROSCA EXTERNA, EM ACO GALVANIZADO, PARA ISOLADOR DE 25KV, DIAMETRO 35MM, COMPRIMENTO *320* MM",445,"UN",null,0,0,0]
[null,null,2291,null,"PISO DE BORRACHA CANELADO EM PLACAS 50 X 50 CM, E = *3,5* MM, PARA COLA",4801,"M2",null,0,0,0]
[null,null,2292,null,"PISO DE BORRACHA FRISADO OU PASTILHADO, PRETO, EM PLACAS 50 X 50 CM, E = 7 MM, PARA ARGAMASSA",4796,"M2",null,0,0,0]
[null,null,2293,null,"PISO DE BORRACHA PASTILHADO EM PLACAS 50 X 50 CM, E = *3,5* MM, PARA COLA, PRETO",4800,"M2",null,0,0,0]
[null,null,2294,null,"PISO ELEVADO COM 2 PLACAS DE ACO COM ENCHIMENTO DE CONCRETO CELULAR, INCLUSO BASE/HASTE/CRUZETAS, 60 X 60 CM, H = *28* CM, RESISTENCIA CARGA CONCENTRADA 496 KG (COM COLOCACAO)",39694,"M2",null,0,0,0]
[null,null,2295,null,"PISO EM CERAMICA ESMALTADA EXTRA, PEI MAIOR OU IGUAL A 4, FORMATO MAIOR QUE 2025 CM2",1292,"M2",null,0,0,0]
[null,null,2296,null,"PISO EM CERAMICA ESMALTADA EXTRA, PEI MAIOR OU IGUAL A 4, FORMATO MENOR OU IGUAL A 2025 CM2",1287,"M2",null,0,0,0]
[null,null,2297,null,"PISO EM CERAMICA ESMALTADA, COMERCIAL (PADRAO POPULAR), PEI MAIOR OU IGUAL A 3, FORMATO MENOR OU IGUAL A  2025 CM2",1297,"M2",null,0,0,0]
[null,null,2298,null,"PISO EM GRANILITE, MARMORITE OU GRANITINA, AGREGADO COR PRETO, CINZA, PALHA OU BRANCO, E=  *8* MM (INCLUSO EXECUCAO)",4786,"M2",null,0,0,0]
[null,null,2299,null,"PISO EM GRANITO, POLIDO, TIPO AMENDOA/ AMARELO CAPRI/ AMARELO DOURADO CARIOCA OU OUTROS EQUIVALENTES DA REGIAO, FORMATO MENOR OU IGUAL A 3025 CM2, E=  *2* CM",10840,"M2",null,0,0,0]
[null,null,2300,null,"PISO EM GRANITO, POLIDO, TIPO ANDORINHA/ QUARTZ/ CASTELO/ CORUMBA OU OUTROS EQUIVALENTES DA REGIAO, FORMATO MENOR OU IGUAL A 3025 CM2, E=  *2* CM",10841,"M2",null,0,0,0]
[null,null,2301,null,"PISO EM GRANITO, POLIDO, TIPO MARFIM, DALLAS, CARAVELAS OU OUTROS EQUIVALENTES DA REGIAO, FORMATO MENOR OU IGUAL A 3025 CM2, E=  *2* CM",25980,"M2",null,0,0,0]
[null,null,2302,null,"PISO EM GRANITO, POLIDO, TIPO PRETO SAO GABRIEL/ TIJUCA OU OUTROS EQUIVALENTES DA REGIAO, FORMATO MENOR OU IGUAL A 3025 CM2, E=  *2* CM",10842,"M2",null,0,0,0]
[null,null,2303,null,"PISO EM PORCELANATO RETIFICADO EXTRA, FORMATO MENOR OU IGUAL A 2025 CM2",21108,"M2",null,0,0,0]
[null,null,2304,null,"PISO EM REGUA VINILICA SEMIFLEXIVEL, ENCAIXE CLICADO, E = 4 MM (SEM COLOCACAO)",38180,"M2",null,0,0,0]
[null,null,2305,null,"PISO EPOXI AUTONIVELANTE, ESPESSURA *4* MM (INCLUSO EXECUCAO)",40648,"M2",null,0,0,0]
[null,null,2306,null,"PISO EPOXI MULTILAYER, ESPESSURA *2* MM (INCLUSO EXECUCAO)",40649,"M2",null,0,0,{"$f":"TRUNC(ROUND((I2324*J2324)/12,2),2)","v":0}]
[null,null,2307,null,"PISO FULGET (GRANITO LAVADO) EM PLACAS DE *40 X 40* CM (SEM COLOCACAO)",40650,"M2",null,0,0,0]
[null,null,2308,null,"PISO FULGET (GRANITO LAVADO) EM PLACAS DE *75 X 75* CM (SEM COLOCACAO)",40651,"M2",null,0,0,0]
[null,null,2309,null,"PISO FULGET (GRANITO LAVADO) MOLDADO IN LOCO (INCLUSO EXECUCAO)",40652,"M2",null,0,0,0]
[null,null,2310,null,"PISO INDUSTRIAL EM CONCRETO ARMADO DE ACABAMENTO POLIDO, ESPESSURA 12 CM (CIMENTO QUEIMADO) (INCLUSO EXECUCAO)",40647,"M2",null,0,0,0]
[null,null,2311,null,"PISO PODOTATIL DE CONCRETO - DIRECIONAL E ALERTA, *40 X 40 X 2,5* CM",36178,"UN",null,0,0,0]
[null,null,2312,null,"PISO PORCELANATO, BORDA RETA, EXTRA, FORMATO MAIOR QUE 2025 CM2",38195,"M2",null,0,0,0]
[null,null,2313,null,"PISO TATIL ALERTA OU DIRECIONAL, DE BORRACHA, COLORIDO, 25 X 25 CM, E = 5 MM, PARA COLA",38181,"M2",null,0,0,0]
[null,null,2314,null,"PISO TATIL DE ALERTA OU DIRECIONAL DE BORRACHA, PRETO, 25 X 25 CM, E = 5 MM, PARA COLA",38182,"M2",null,0,0,0]
[null,null,2315,null,"PISO TATIL DE ALERTA OU DIRECIONAL, DE BORRACHA, COLORIDO, 25 X 25 CM, E = 12 MM, PARA ARGAMASSA",38186,"M2",null,0,0,0]
[null,null,2316,null,"PISO TATIL DE ALERTA OU DIRECIONAL, DE BORRACHA, PRETO, 25 X 25 CM, E = 12 MM, PARA ARGAMASSA",38185,"M2",null,0,0,0]
[null,null,2317,null,"PISO URETANO, VERSAO REVESTIMENTO AUTONIVELANTE, ESPESSURA VARIÁVEL DE 3 A 4 MM (INCLUSO EXECUCAO)",40654,"M2",null,0,0,0]
[null,null,2318,null,"PISO/ REVESTIMENTO EM GRANITO, POLIDO, TIPO ANDORINHA/ QUARTZ/ CASTELO/ CORUMBA OU OUTROS EQUIVALENTES DA REGIAO, FORMATO MAIOR OU IGUAL A 3025 CM2, E = *2* CM",25981,"M2",null,0,0,0]
[null,null,2319,null,"PISO/ REVESTIMENTO EM MARMORE, POLIDO, BRANCO COMUM, FORMATO MAIOR OU IGUAL A 3025 CM2, E = *2* CM",4822,"M2",null,0,0,0]
[null,null,2320,null,"PISO/ REVESTIMENTO EM MARMORE, POLIDO, BRANCO COMUM, FORMATO MENOR OU IGUAL A 3025 CM2, E = *2* CM",4818,"M2",null,0,0,0]
[null,null,2321,null,"PLACA / CHAPA DE GESSO ACARTONADO, ACABAMENTO VINILICO LISO EM UMA DAS FACES, COR BRANCA, BORDA QUADRADA, E = 9,5 MM, 625 X 1250 MM (L X C), PARA FORRO REMOVIVEL",39567,"M2",null,0,0,0]
[null,null,2322,null,"PLACA / CHAPA DE GESSO ACARTONADO, ACABAMENTO VINILICO LISO EM UMA DAS FACES, COR BRANCA, BORDA QUADRADA, E = 9,5 MM, 625 X 625 MM (L X C), PARA FORRO REMOVIVEL",39566,"M2",null,0,0,0]
[null,null,2323,null,"PLACA CIMENTICIA LISA E = 10 MM, DE 1,20 X 3,00 M (SEM AMIANTO)",11062,"M2",null,0,0,0]
[null,null,2324,null,"PLACA CIMENTICIA LISA E = 6 MM, DE 1,20 X 3,00 M (SEM AMIANTO)",11063,"M2",null,0,0,0]
[null,null,2325,null,"PLACA DE ACRILICO TRANSPARENTE ADESIVADA PARA SINALIZACAO DE PORTAS, BORDA POLIDA, DE *25 X 8*, E = 6 MM (NAO INCLUI ACESSORIOS PARA FIXACAO)",10851,"UN",null,0,0,0]
[null,null,2326,null,"PLACA DE FIBRA MINERAL PARA FORRO, DE 1250 X 625 MM, E = 15 MM, BORDA RETA, COM PINTURA ANTIMOFO (NAO INCLUI PERFIS)",39515,"UN",null,0,0,0]
[null,null,2327,null,"PLACA DE FIBRA MINERAL PARA FORRO, DE 625 X 625 MM, E = 15 MM, BORDA REBAIXADA PARA PERFIL 24 MM, COM PINTURA ANTIMOFO (NAO INCLUI PERFIS)",39516,"UN",null,0,0,0]
[null,null,2328,null,"PLACA DE FIBRA MINERAL PARA FORRO, DE 625 X 625 MM, E = 15 MM, BORDA RETA, COM PINTURA ANTIMOFO (NAO INCLUI PERFIS)",39514,"UN",null,0,0,0]
[null,null,2329,null,"PLACA DE GESSO PARA FORRO, DE  *60 X 60* CM E ESPESSURA DE 12 MM (30 MM NAS BORDAS) SEM COLOCACAO",4812,"M2",null,0,0,0]
[null,null,2330,null,"PLACA DE INAUGURACAO EM BRONZE *35X 50*CM",10849,"UN",null,0,0,0]
[null,null,2331,null,"PLACA DE INAUGURACAO METALICA, *40* CM X *60* CM",10848,"UN",null,0,0,0]
[null,null,2332,null,"PLACA DE OBRA (PARA CONSTRUCAO CIVIL) EM CHAPA GALVANIZADA *N. 22*, DE *2,0 X 1,125* M",4813,"M2",null,0,0,0]
[null,null,2333,null,"PLACA DE SINALIZACAO DE SEGURANCA CONTRA INCENDIO - ALERTA, TRIANGULAR, BASE DE *30* CM, EM PVC *2* MM ANTI-CHAMAS (SIMBOLOS, CORES E PICTOGRAMAS CONFORME NBR 13434)",37560,"UN",null,0,0,0]
[null,null,2334,null,"PLACA DE SINALIZACAO DE SEGURANCA CONTRA INCENDIO, FOTOLUMINESCENTE, QUADRADA, *14 X 14* CM, EM PVC *2* MM ANTI-CHAMAS (SIMBOLOS, CORES E PICTOGRAMAS CONFORME NBR 13434)",37557,"UN",null,0,0,0]
[null,null,2335,null,"PLACA DE SINALIZACAO DE SEGURANCA CONTRA INCENDIO, FOTOLUMINESCENTE, QUADRADA, *20 X 20* CM, EM PVC *2* MM ANTI-CHAMAS (SIMBOLOS, CORES E PICTOGRAMAS CONFORME NBR 13434)",37556,"UN",null,0,0,0]
[null,null,2336,null,"PLACA DE SINALIZACAO DE SEGURANCA CONTRA INCENDIO, FOTOLUMINESCENTE, RETANGULAR, *12 X 40* CM, EM PVC *2* MM ANTI-CHAMAS (SIMBOLOS, CORES E PICTOGRAMAS CONFORME NBR 13434)",37559,"UN",null,0,0,0]
[null,null,2337,null,"PLACA DE SINALIZACAO DE SEGURANCA CONTRA INCENDIO, FOTOLUMINESCENTE, RETANGULAR, *13 X 26* CM, EM PVC *2* MM ANTI-CHAMAS (SIMBOLOS, CORES E PICTOGRAMAS CONFORME NBR 13434)",37539,"UN",null,0,0,0]
[null,null,2338,null,"PLACA DE SINALIZACAO DE SEGURANCA CONTRA INCENDIO, FOTOLUMINESCENTE, RETANGULAR, *20 X 40* CM, EM PVC *2* MM ANTI-CHAMAS (SIMBOLOS, CORES E PICTOGRAMAS CONFORME NBR 13434)",37558,"UN",null,0,0,0]
[null,null,2339,null,"PLACA DE SINALIZACAO EM CHAPA DE ACO NUM 16 COM PINTURA REFLETIVA",34723,"M2",null,0,0,0]
[null,null,2340,null,"PLACA DE SINALIZACAO EM CHAPA DE ALUMINIO COM PINTURA REFLETIVA, E = 2 MM",34721,"M2",null,0,0,0]
[null,null,2341,null,"PLACA DE VENTILACAO PARA TELHA DE FIBROCIMENTO CANALETE 49 KALHETA",4309,"UN",null,0,0,0]
[null,null,2342,null,"PLACA DE VENTILACAO PARA TELHA DE FIBROCIMENTO, CANALETE 90 OU KALHETAO",4307,"UN",null,0,0,0]
[null,null,2343,null,"PLACA NUMERACAO RESIDENCIAL EM CHAPA GALVANIZADA ESMALTADA 12 X 18 CM",10850,"UN",null,0,0,0]
[null,null,2344,null,"PLACA VINILICA SEMIFLEXIVEL PARA PISOS, E = 3,2 MM, 30 X 30 CM (SEM COLOCACAO)",4792,"M2",null,0,0,0]
[null,null,2345,null,"PLACA VINILICA SEMIFLEXIVEL PARA REVESTIMENTO DE PISOS E PAREDES, E = 2 MM (SEM COLOCACAO)",4790,"M2",null,0,0,0]
[null,null,2346,null,"PLACA/PISO DE CONCRETO POROSO/ PAVIMENTO PERMEAVEL/BLOCO DRENANTE DE CONCRETO, 40 CM X 40 CM, E = 6 CM, COR NATURAL",40671,"M2",null,0,0,0]
[null,null,2347,null,"PLACA/TAMPA CEGA EM LATAO ESCOVADO PARA CONDULETE EM LIGA DE ALUMINIO 4 X 4\"",7552,"UN",null,0,0,0]
[null,null,2348,null,"PLUG OU BUJAO DE FERRO GALVANIZADO, DE 1 1/2\"",4893,"UN",null,0,0,0]
[null,null,2349,null,"PLUG OU BUJAO DE FERRO GALVANIZADO, DE 1 1/4\"",4894,"UN",null,0,0,0]
[null,null,2350,null,"PLUG OU BUJAO DE FERRO GALVANIZADO, DE 1\"",4890,"UN",null,0,0,0]
[null,null,2351,null,"PLUG OU BUJAO DE FERRO GALVANIZADO, DE 1/2\"",4888,"UN",null,0,0,0]
[null,null,2352,null,"PLUG OU BUJAO DE FERRO GALVANIZADO, DE 2 1/2\"",12411,"UN",null,0,0,0]
[null,null,2353,null,"PLUG OU BUJAO DE FERRO GALVANIZADO, DE 2\"",4891,"UN",null,0,0,0]
[null,null,2354,null,"PLUG OU BUJAO DE FERRO GALVANIZADO, DE 3/4\"",4889,"UN",null,0,0,0]
[null,null,2355,null,"PLUG OU BUJAO DE FERRO GALVANIZADO, DE 4\"",12412,"UN",null,0,0,0]
[null,null,2356,null,"PLUG PVC P/ ESG PREDIAL  75MM",11073,"UN",null,0,0,0]
[null,null,2357,null,"PLUG PVC P/ ESG PREDIAL 100MM",11071,"UN",null,0,0,0]
[null,null,2358,null,"PLUG PVC P/ ESG PREDIAL 50MM",11072,"UN",null,0,0,0]
[null,null,2359,null,"PLUG PVC ROSCAVEL,  1/2\",  AGUA FRIA PREDIAL (NBR 5648)",4895,"UN",null,0,0,0]
[null,null,2360,null,"PLUG PVC,  JE, DN 100 MM, PARA REDE COLETORA ESGOTO (NBR 10569)",4907,"UN",null,0,0,0]
[null,null,2361,null,"PLUG PVC,  JE, DN 300 MM, PARA REDE COLETORA ESGOTO (NBR 10569)",4904,"UN",null,0,0,0]
[null,null,2362,null,"PLUG PVC, JE, DN 150 MM, PARA REDE COLETORA ESGOTO (NBR 10569)",4902,"UN",null,0,0,0]
[null,null,2363,null,"PLUG PVC, JE, DN 200 MM, PARA REDE COLETORA ESGOTO (NBR 10569)",4908,"UN",null,0,0,0]
[null,null,2364,null,"PLUG PVC, JE, DN 250 MM, PARA REDE COLETORA ESGOTO (NBR 10569)",4909,"UN",null,0,0,0]
[null,null,2365,null,"PLUG PVC, ROSCAVEL 1\", PARA AGUA FRIA PREDIAL",4897,"UN",null,0,0,0]
[null,null,2366,null,"PLUG PVC, ROSCAVEL 3/4\", PARA  AGUA FRIA PREDIAL",4896,"UN",null,0,0,0]
[null,null,2367,null,"PLUG PVC, ROSCAVEL, 1 1/2\",  AGUA FRIA PREDIAL",4900,"UN",null,0,0,0]
[null,null,2368,null,"PLUG PVC, ROSCAVEL, 1 1/4\",  AGUA FRIA PREDIAL",4898,"UN",null,0,0,0]
[null,null,2369,null,"PLUG PVC, ROSCAVEL, 2\",  AGUA FRIA PREDIAL",4899,"UN",null,0,0,0]
[null,null,2370,null,"PO DE MARMORE (POSTO PEDREIRA/FORNECEDOR, SEM FRETE)",11096,"KG",null,0,0,{"$f":"TRUNC(ROUND((I2388*J2388)/12,2),2)","v":0}]
[null,null,2371,null,"PO DE PEDRA (POSTO PEDREIRA/FORNECEDOR, SEM FRETE)",4741,"M3",null,0,0,0]
[null,null,2372,null,"POLIESTIRENO EXPANDIDO/EPS (ISOPOR), PEROLAS, PARA CONCRETO LEVE",3411,"KG",null,0,0,0]
[null,null,2373,null,"POLIESTIRENO EXPANDIDO/EPS (ISOPOR), TIPO 2F, BLOCO",39995,"M3",null,0,0,0]
[null,null,2374,null,"POLIESTIRENO EXPANDIDO/EPS (ISOPOR), TIPO 2F, PLACA, ISOLAMENTO TERMOACUSTICO, E = 10 MM, 1000 X 500 MM",11615,"M2",null,0,0,0]
[null,null,2375,null,"POLIESTIRENO EXPANDIDO/EPS (ISOPOR), TIPO 2F, PLACA, ISOLAMENTO TERMOACUSTICO, E = 20 MM, 1000 X 500 MM",3408,"M2",null,0,0,0]
[null,null,2376,null,"POLIESTIRENO EXPANDIDO/EPS (ISOPOR), TIPO 2F, PLACA, ISOLAMENTO TERMOACUSTICO, E = 50 MM, 1000 X 500 MM",3409,"M2",null,0,0,0]
[null,null,2377,null,"POLVORA NEGRA",11427,"KG",null,0,0,0]
[null,null,2378,null,"PONTEIRO PARA MARTELO ROMPEDOR, DIAMETRO = *28* MM, COMPRIMENTO = *520* MM, ENCAIXE SEXTAVADO",26022,"UN",null,0,0,0]
[null,null,2379,null,"PORCA OLHAL EM ACO GALVANIZADO, DIAMETRO NOMINAL DE 16 MM",421,"UN",null,0,0,0]
[null,null,2380,null,"PORCA OLHAL EM ACO GALVANIZADO, ESPESSURA 16MM, ABERTURA 21MM",12362,"UN",null,0,0,0]
[null,null,2381,null,"PORCA UNIAO/JUNCAO ZINCADA SEXTAVADA 1/4 \", CHAVE 7/16 \", COMPRIMENTO = 25 MM",14148,"UN",null,0,0,0]
[null,null,2382,null,"PORCA ZINCADA, QUADRADA, DIAMETRO 3/8\"",4341,"UN",null,0,0,0]
[null,null,2383,null,"PORCA ZINCADA, QUADRADA, DIAMETRO 5/8\"",4337,"UN",null,0,0,0]
[null,null,2384,null,"PORCA ZINCADA, SEXTAVADA, DIAMETRO 1\"",11971,"UN",null,0,0,0]
[null,null,2385,null,"PORCA ZINCADA, SEXTAVADA, DIAMETRO 1/2\"",4339,"UN",null,0,0,0]
[null,null,2386,null,"PORCA ZINCADA, SEXTAVADA, DIAMETRO 1/4\"",39997,"UN",null,0,0,0]
[null,null,2387,null,"PORCA ZINCADA, SEXTAVADA, DIAMETRO 3/8\"",4342,"UN",null,0,0,0]
[null,null,2388,null,"PORCA ZINCADA, SEXTAVADA, DIAMETRO 5/16\"",4330,"UN",null,0,0,0]
[null,null,2389,null,"PORCA ZINCADA, SEXTAVADA, DIAMETRO 5/8\"",4340,"UN",null,0,0,0]
[null,null,2390,null,"PORTA CADEADO,  3 1/2\", EM ACO ZINCADO, PRETO, PARA PORTAO E JANELA",5088,"UN",null,0,0,0]
[null,null,2391,null,"PORTA CORTA-FOGO PARA SAIDA DE EMERGENCIA, COM FECHADURA, VAO LUZ DE 90 X 210 CM, CLASSE P-90 (NBR 11742)",11154,"UN",null,0,0,0]
[null,null,2392,null,"PORTA DE ABRIR EM ACO TIPO VENEZIANA, COM FUNDO ANTICORROSIVO / PRIMER DE PROTECAO, SEM GUARNICAO/ALIZAR/VISTA, 87 X 210 CM",39022,"UN",null,0,0,0]
[null,null,2393,null,"PORTA DE ABRIR EM ALUMINIO COM LAMBRI HORIZONTAL/LAMINADA, ACABAMENTO ANODIZADO NATURAL, SEM GUARNICAO/ALIZAR/VISTA",4914,"M2",null,0,0,0]
[null,null,2394,null,"PORTA DE ABRIR EM ALUMINIO TIPO VENEZIANA, ACABAMENTO ANODIZADO NATURAL, SEM GUARNICAO/ALIZAR/VISTA",4917,"M2",null,0,0,0]
[null,null,2395,null,"PORTA DE ABRIR EM GRADIL COM BARRA CHATA 3 CM X 1/4\", COM REQUADRO E GUARNICAO - COMPLETO - ACABAMENTO NATURAL",4930,"M2",null,0,0,0]
[null,null,2396,null,"PORTA DE CORRER EM ALUMINIO, DUAS FOLHAS MOVEIS COM VIDRO, FECHADURA E PUXADOR EMBUTIDO, ACABAMENTO ANODIZADO NATURAL, SEM GUARNICAO/ALIZAR/VISTA",4922,"M2",null,0,0,0]
[null,null,2397,null,"PORTA DE MADEIRA TIPO VENEZIANA (EUCALIPTO OU EQUIVALENTE REGIONAL), E = *3,5* CM",4977,"M2",null,0,0,0]
[null,null,2398,null,"PORTA DE MADEIRA, FOLHA LEVE (NBR 15930) DE 60 X 210 CM, E = *35* MM, NUCLEO COLMEIA, CAPA LISA EM HDF, ACABAMENTO EM PRIMER PARA PINTURA",11364,"UN",null,0,0,0]
[null,null,2399,null,"PORTA DE MADEIRA, FOLHA LEVE (NBR 15930) DE 70 X 210 CM, E = *35* MM, NUCLEO COLMEIA, CAPA LISA EM HDF, ACABAMENTO EM PRIMER PARA PINTURA",11365,"UN",null,0,0,0]
[null,null,2400,null,"PORTA DE MADEIRA, FOLHA LEVE (NBR 15930) DE 80 X 210 CM, E = *35* MM, NUCLEO COLMEIA, CAPA LISA EM HDF, ACABAMENTO EM PRIMER PARA PINTURA",11366,"UN",null,0,0,0]
[null,null,2401,null,"PORTA DE MADEIRA, FOLHA LEVE (NBR 15930), E = *35* MM, NUCLEO COLMEIA, CAPA LISA EM HDF, ACABAMENTO MELAMINICO EM PADRAO MADEIRA",11367,"M2",null,0,0,0]
[null,null,2402,null,"PORTA DE MADEIRA, FOLHA MEDIA (NBR 15930) DE 100 X 210 CM, E = 35 MM, NUCLEO SARRAFEADO, CAPA LISA EM HDF, ACABAMENTO EM PRIMER PARA PINTURA",4982,"UN",null,0,0,0]
[null,null,2403,null,"PORTA DE MADEIRA, FOLHA MEDIA (NBR 15930) DE 80 X 210 CM, E = 35 MM, NUCLEO SARRAFEADO, CAPA FRISADA EM HDF, ACABAMENTO MELAMINICO EM PADRAO MADEIRA",4964,"UN",null,0,0,0]
[null,null,2404,null,"PORTA DE MADEIRA, FOLHA MEDIA (NBR 15930) DE 80 X 210 CM, E = 35 MM, NUCLEO SARRAFEADO, CAPA LISA EM HDF, ACABAMENTO EM LAMINADO NATURAL PARA VERNIZ",4992,"UN",null,0,0,0]
[null,null,2405,null,"PORTA DE MADEIRA, FOLHA MEDIA (NBR 15930) DE 80 X 210 CM, E = 35 MM, NUCLEO SARRAFEADO, CAPA LISA EM HDF, ACABAMENTO EM PRIMER PARA PINTURA",10555,"UN",null,0,0,0]
[null,null,2406,null,"PORTA DE MADEIRA, FOLHA MEDIA (NBR 15930) DE 90 X 210 CM, E = 35 MM, NUCLEO SARRAFEADO, CAPA LISA EM HDF, ACABAMENTO EM LAMINADO NATURAL PARA VERNIZ",4987,"UN",null,0,0,0]
[null,null,2407,null,"PORTA DE MADEIRA, FOLHA MEDIA (NBR 15930) DE 90 X 210 CM, E = 35 MM, NUCLEO SARRAFEADO, CAPA LISA EM HDF, ACABAMENTO EM PRIMER PARA PINTURA",10556,"UN",null,0,0,0]
[null,null,2408,null,"PORTA DE MADEIRA, FOLHA PESADA (NBR 15930) DE 80 X 210 CM, E = 35 MM, NUCLEO SOLIDO, CAPA LISA EM HDF, ACABAMENTO EM LAMINADO NATURAL PARA VERNIZ",39502,"UN",null,0,0,0]
[null,null,2409,null,"PORTA DE MADEIRA, FOLHA PESADA (NBR 15930) DE 80 X 210 CM, E = 35 MM, NUCLEO SOLIDO, CAPA LISA EM HDF, ACABAMENTO EM PRIMER PARA PINTURA",39504,"UN",null,0,0,0]
[null,null,2410,null,"PORTA DE MADEIRA, FOLHA PESADA (NBR 15930) DE 90 X 210 CM, E = 35 MM, NUCLEO SOLIDO, CAPA LISA EM HDF, ACABAMENTO EM LAMINADO NATURAL PARA VERNIZ",39503,"UN",null,0,0,0]
[null,null,2411,null,"PORTA DE MADEIRA, FOLHA PESADA (NBR 15930) DE 90 X 210 CM, E = 35 MM, NUCLEO SOLIDO, CAPA LISA EM HDF, ACABAMENTO EM PRIMER PARA PINTURA",39505,"UN",null,0,0,0]
[null,null,2412,null,"PORTA TOALHA BANHO EM METAL CROMADO, TIPO BARRA",21102,"UN",null,0,0,0]
[null,null,2413,null,"PORTA TOALHA ROSTO EM METAL CROMADO, TIPO ARGOLA",21101,"UN",null,0,0,0]
[null,null,2414,null,"PORTA VIDRO TEMPERADO INCOLOR, 2 FOLHAS DE CORRER, E = 10 MM (SEM FERRAGENS E SEM COLOCACAO)",34713,"M2",null,0,0,0]
[null,null,2415,null,"PORTAO BASCULANTE MANUAL EM ACO GALVANIZADO NATURAL, TIPO LAMBRIL COM REQUADRO/BATENTE, CHAPA NUMERO 26, INCLUI FECHADURA (SEM INSTALACAO)",4947,"M2",null,0,0,0]
[null,null,2416,null,"PORTAO BASCULANTE, MANUAL, EM CHAPA TIPO LAMBRIL QUADRADO, COM REQUADRO, ACABAMENTO NATURAL",37563,"M2",null,0,0,0]
[null,null,2417,null,"PORTAO DE ABRIR EM GRADIL DE METALON REDONDO DE 3/4\"  VERTICAL, COM REQUADRO, ACABAMENTO NATURAL - COMPLETO",4948,"M2",null,0,0,0]
[null,null,2418,null,"PORTAO DE CORRER EM CHAPA TIPO PAINEL LAMBRIL QUADRADO, COM PORTA SOCIAL COMPLETA INCLUIDA, COM REQUADRO, ACABAMENTO NATURAL, COM TRILHOS E ROLDANAS",37561,"M2",null,0,0,0]
[null,null,2419,null,"PORTAO DE CORRER EM GRADIL FIXO DE BARRA DE FERRO CHATA DE 3 X 1/4\" NA VERTICAL, SEM REQUADRO, ACABAMENTO NATURAL, COM TRILHOS E ROLDANAS",37562,"M2",null,0,0,0]
[null,null,2420,null,"PORTINHOLA DE ABRIR EM ALUMINIO DE 60 X 80 CM, VENEZIANA VENTILADA 1 FOLHA, ACABAMENTO ANODIZADO NATURAL",37585,"UN",null,0,0,0]
[null,null,2421,null,"POSTE DECORATIVO PARA JARDIM EM ACO TUBULAR, SEM LUMINARIA, H = *2,5* M",12388,"UN",null,0,0,0]
[null,null,2422,null,"POSTE PADRAO SUBTERRANEO 100 A, H = 2,5 M",34695,"UN",null,0,0,0]
[null,null,2423,null,"POZOLANA DE CLASSE C",26028,"T",null,0,0,0]
[null,null,2424,null,"PRANCHA DE MADEIRA APARELHADA *4 X 30* CM, MACARANDUBA, ANGELIM OU EQUIVALENTE DA REGIAO",11844,"M",null,0,0,0]
[null,null,2425,null,"PRANCHA DE MADEIRA NAO APARELHADA *6 X 25* CM, MACARANDUBA, ANGELIM OU EQUIVALENTE DA REGIAO",4465,"M",null,0,0,0]
[null,null,2426,null,"PRANCHA DE MADEIRA NAO APARELHADA *6 X 30* CM, MACARANDUBA, ANGELIM OU EQUIVALENTE DA REGIAO",35273,"M",null,0,0,0]
[null,null,2427,null,"PRANCHA DE MADEIRA NAO APARELHADA *6 X 40* CM, MACARANDUBA, ANGELIM OU EQUIVALENTE DA REGIAO",4470,"M",null,0,0,0]
[null,null,2428,null,"PRANCHAO DE MADEIRA APARELHADA *7,5 X 23* CM (3 X 9 \") MACARANDUBA, ANGELIM OU EQUIVALENTE DA REGIAO",20204,"M",null,0,0,0]
[null,null,2429,null,"PRANCHAO DE MADEIRA APARELHADA *8 X 30* CM, MACARANDUBA, ANGELIM OU EQUIVALENTE DA REGIAO",20208,"M",null,0,0,0]
[null,null,2430,null,"PRANCHAO DE MADEIRA NAO APARELHADA *7,5 X 23* CM (3 x 9 \") MACARANDUBA, ANGELIM OU EQUIVALENTE DA REGIAO",4437,"M",null,0,0,0]
[null,null,2431,null,"PRANCHAO DE MADEIRA NAO APARELHADA *8 X 30* CM, MACARANDUBA, ANGELIM OU EQUIVALENTE DA REGIAO",14580,"M",null,0,0,0]
[null,null,2432,null,"PREGO DE ACO POLIDO COM CABECA 10 X 10 (7/8 X 17)",5065,"KG",null,0,0,0]
[null,null,2433,null,"PREGO DE ACO POLIDO COM CABECA 10 X 11 (1 X 17)",5072,"KG",null,0,0,0]
[null,null,2434,null,"PREGO DE ACO POLIDO COM CABECA 12 X 12",5066,"KG",null,0,0,{"$f":"TRUNC(ROUND((I2452*J2452)/12,2),2)","v":0}]
[null,null,2435,null,"PREGO DE ACO POLIDO COM CABECA 14 X 18 (1 1/2 X 14)",5063,"KG",null,0,0,0]
[null,null,2436,null,"PREGO DE ACO POLIDO COM CABECA 15 X 15 (1 1/4 X 13)",20247,"KG",null,0,0,0]
[null,null,2437,null,"PREGO DE ACO POLIDO COM CABECA 15 X 18 (1 1/2 X 13)",5074,"KG",null,0,0,0]
[null,null,2438,null,"PREGO DE ACO POLIDO COM CABECA 16 X 24 (2 1/4 X 12)",5067,"KG",null,0,0,0]
[null,null,2439,null,"PREGO DE ACO POLIDO COM CABECA 16 X 27 (2 1/2 X 12)",5078,"KG",null,0,0,0]
[null,null,2440,null,"PREGO DE ACO POLIDO COM CABECA 17 X 21 (2 X 11)",5068,"KG",null,0,0,0]
[null,null,2441,null,"PREGO DE ACO POLIDO COM CABECA 17 X 24 (2 1/4 X 11)",5073,"KG",null,0,0,0]
[null,null,2442,null,"PREGO DE ACO POLIDO COM CABECA 17 X 27 (2 1/2 X 11)",5069,"KG",null,0,0,0]
[null,null,2443,null,"PREGO DE ACO POLIDO COM CABECA 17 X 30 (2 3/4 X 11)",5070,"KG",null,0,0,0]
[null,null,2444,null,"PREGO DE ACO POLIDO COM CABECA 18 X 24 (2 1/4 X 10)",5071,"KG",null,0,0,0]
[null,null,2445,null,"PREGO DE ACO POLIDO COM CABECA 18 X 27 (2 1/2 X 10)",5061,"KG",null,0,0,0]
[null,null,2446,null,"PREGO DE ACO POLIDO COM CABECA 18 X 30 (2 3/4 X 10)",5075,"KG",null,0,0,0]
[null,null,2447,null,"PREGO DE ACO POLIDO COM CABECA 19  X 36 (3 1/4  X  9)",39027,"KG",null,0,0,0]
[null,null,2448,null,"PREGO DE ACO POLIDO COM CABECA 19 X 33 (3 X 9)",5062,"KG",null,0,0,0]
[null,null,2449,null,"PREGO DE ACO POLIDO COM CABECA 22 X 48 (4 1/4 X 5)",40568,"KG",null,0,0,0]
[null,null,2450,null,"PREGO DE ACO POLIDO COM CABECA DUPLA 17 X 27 (2 1/2 X 11)",40304,"KG",null,0,0,0]
[null,null,2451,null,"PREGO DE ACO POLIDO SEM CABECA 15 X 15 (1 1/4 X 13)",39026,"KG",null,0,0,0]
[null,null,2452,null,"PRENDEDOR / TRAVA DE PORTA, MONTAGEM PISO / PORTA, EM LATAO / ZAMAC, CROMADO",11572,"UN",null,0,0,0]
[null,null,2453,null,"PRIMER EPOXI",11149,"GL",null,0,0,0]
[null,null,2454,null,"PRIMER PARA MANTA ASFALTICA A BASE DE ASFALTO MODIFICADO DILUIDO EM SOLVENTE, APLICACAO A FRIO",511,"L",null,0,0,0]
[null,null,2455,null,"PRIMER UNIVERSAL, FUNDO ANTICORROSIVO TIPO ZARCAO",11174,"18L",null,0,0,0]
[null,null,2456,null,"PROJETOR RETANGULAR FECHADO PARA LAMPADA VAPOR DE MERCURIO/SODIO 250 W A 500 W, CABECEIRAS EM ALUMINIO FUNDIDO, CORPO EM ALUMINIO ANODIZADO, PARA LAMPADA E40 FECHAMENTO EM VIDRO TEMPERADO.",12273,"UN",null,0,0,0]
[null,null,2457,null,"PROLONGADOR/EXTENSOR PARA ROLO DE PINTURA 3 M",38392,"UN",null,0,0,0]
[null,null,2458,null,"PROLONGAMENTO PVC PARA CAIXA SIFONADA  100 MM X 200 MM (NBR 5688)",11735,"UN",null,0,0,0]
[null,null,2459,null,"PROLONGAMENTO PVC PARA CAIXA SIFONADA 100 MM X 100 MM (NBR 5688)",11733,"UN",null,0,0,0]
[null,null,2460,null,"PROLONGAMENTO PVC PARA CAIXA SIFONADA, 100 MM X 150 MM (NBR 5688)",11734,"UN",null,0,0,0]
[null,null,2461,null,"PROLONGAMENTO PVC PARA CAIXA SIFONADA, 150 MM X 150 MM (NBR 5688)",11737,"UN",null,0,0,0]
[null,null,2462,null,"PROLONGAMENTO PVC PARA CAIXA SIFONADA, 150 MM X 200 MM (NBR 5688)",11738,"UN",null,0,0,0]
[null,null,2463,null,"PROTETOR AUDITIVO TIPO CONCHA COM ABAFADOR DE RUIDOS, ATENUACAO ACIMA DE 22 DB",36143,"UN",null,0,0,0]
[null,null,2464,null,"PROTETOR AUDITIVO TIPO PLUG DE INSERCAO COM CORDAO, ATENUACAO SUPERIOR A 15 DB",36142,"UN",null,0,0,0]
[null,null,2465,null,"PROTETOR SOLAR FPS 30, EMBALAGEM 2 LITROS",36146,"UN",null,0,0,0]
[null,null,2466,null,"PROTETOR/PONTEIRA PLASTICA PARA PONTA DE VERGALHAO DE ATE 1\", TIPO PROTETOR DE ESPERA",39015,"UN",null,0,0,0]
[null,null,2467,null,"PRUMO DE CENTRO EM ACO *400* G",38377,"UN",null,0,0,0]
[null,null,2468,null,"PRUMO DE PAREDE EM ACO 700 A 750 G",38376,"UN",null,0,0,0]
[null,null,2469,null,"PULSADOR CAMPAINHA 10A, 250V (APENAS MODULO)",38116,"UN",null,0,0,0]
[null,null,2470,null,"PULSADOR CAMPAINHA 10A, 250V, CONJUNTO MONTADO PARA EMBUTIR 4\" X 2\" (PLACA + SUPORTE + MODULO)",38066,"UN",null,0,0,0]
[null,null,2471,null,"PULSADOR MINUTERIA 10A, 250V (APENAS MODULO)",38117,"UN",null,0,0,0]
[null,null,2472,null,"PULSADOR MINUTERIA 10A, 250V, CONJUNTO MONTADO PARA EMBUTIR 4\" X 2\" (PLACA + SUPORTE + MODULO)",38067,"UN",null,0,0,0]
[null,null,2473,null,"PUXADOR CENTRAL, TIPO ALCA, EM ZAMAC CROMADO, COM ROSETAS, COMPRIMENTO *100* MM, PARA PORTA / JANELA EM MADEIRA OU METALICA - INCLUI PARAFUSOS",5080,"UN",null,0,0,0]
[null,null,2474,null,"PUXADOR CONCHA DE EMBUTIR PARA JANELA / PORTA DE CORRER, EM LATAO CROMADO, COM FURO CENTRAL PARA CHAVE E FUROS PARA PARAFUSOS, *40 X 100* MM  (LARGURA X ALTURA) - SEM FECHADURA",11522,"UN",null,0,0,0]
[null,null,2475,null,"PUXADOR CONCHA DE EMBUTIR, EM LATAO CROMADO, PARA PORTA / JANELA DE CORRER, LISO, SEM FURO PARA CHAVE, COM FUROS PARA FIXAR PARAFUSOS, *30 X 90* MM (LARGURA X ALTURA)",11523,"UN",null,0,0,0]
[null,null,2476,null,"PUXADOR TIPO PUNHO REDONDO, CENTRAL, EM LATAO CROMADO, COMPRIMENTO DE *110* MM, PARA JANELAS / PORTAS DE CORRER - INCLUI PARAFUSOS",11524,"UN",null,0,0,0]
[null,null,2477,null,"PUXADOR TUBULAR RETO, DUPLO, EM ALUMINIO POLIDO, DIAMETRO APROX.DE 1\", COMPRIMENTO APROX. DE 400 MM, PARA PORTAS DE MADEIRA OU VIDRO",38168,"UN",null,0,0,0]
[null,null,2478,null,"QUADRO DE DISTRIBUICAO COM BARRAMENTO TRIFASICO, DE EMBUTIR, EM CHAPA DE ACO GALVANIZADO, PARA 30 DISJUNTORES DIN, 150 A",12041,"UN",null,0,0,0]
[null,null,2479,null,"QUADRO DE DISTRIBUICAO COM BARRAMENTO TRIFASICO, DE EMBUTIR, EM CHAPA DE ACO GALVANIZADO, PARA 30 DISJUNTORES DIN, 225 A",12043,"UN",null,0,0,0]
[null,null,2480,null,"QUADRO DE DISTRIBUICAO COM BARRAMENTO TRIFASICO, DE EMBUTIR, EM CHAPA DE ACO GALVANIZADO, PARA 36 DISJUNTORES DIN, 100 A",39762,"UN",null,0,0,0]
[null,null,2481,null,"QUADRO DE DISTRIBUICAO COM BARRAMENTO TRIFASICO, DE EMBUTIR, EM CHAPA DE ACO GALVANIZADO, PARA 40 DISJUNTORES DIN, 100 A",12042,"UN",null,0,0,0]
[null,null,2482,null,"QUADRO DE DISTRIBUICAO COM BARRAMENTO TRIFASICO, DE EMBUTIR, EM CHAPA DE ACO GALVANIZADO, PARA 48 DISJUNTORES DIN, 100 A",39763,"UN",null,0,0,0]
[null,null,2483,null,"QUADRO DE DISTRIBUICAO COM BARRAMENTO TRIFASICO, DE SOBREPOR, EM CHAPA DE ACO GALVANIZADO, PARA 30 DISJUNTORES DIN, 100 A",39758,"UN",null,0,0,0]
[null,null,2484,null,"QUADRO DE DISTRIBUICAO COM BARRAMENTO TRIFASICO, DE SOBREPOR, EM CHAPA DE ACO GALVANIZADO, PARA 36 DISJUNTORES DIN, 100 A",39759,"UN",null,0,0,0]
[null,null,2485,null,"QUADRO DE DISTRIBUICAO COM BARRAMENTO TRIFASICO, DE SOBREPOR, EM CHAPA DE ACO GALVANIZADO, PARA 40 DISJUNTORES DIN, 100 A",39760,"UN",null,0,0,0]
[null,null,2486,null,"QUADRO DE DISTRIBUICAO SEM BARRAMENTO, COM PORTA, DE EMBUTIR, EM CHAPA DE ACO GALVANIZADO, PARA 12 DISJUNTORES NEMA",39765,"UN",null,0,0,0]
[null,null,2487,null,"QUADRO DE DISTRIBUICAO SEM BARRAMENTO, COM PORTA, DE EMBUTIR, EM CHAPA DE ACO GALVANIZADO, PARA 3 DISJUNTORES NEMA",13399,"UN",null,0,0,0]
[null,null,2488,null,"QUADRO DE DISTRIBUICAO SEM BARRAMENTO, COM PORTA, DE EMBUTIR, EM CHAPA DE ACO GALVANIZADO, PARA 6 DISJUNTORES NEMA",39764,"UN",null,0,0,0]
[null,null,2489,null,"QUADRO DE DISTRIBUICAO, COM BARRAMENTO TERRA / NEUTRO, DE EMBUTIR, PARA 16 DISJUNTORES DIN",39805,"UN",null,0,0,0]
[null,null,2490,null,"QUADRO DE DISTRIBUICAO, COM BARRAMENTO TERRA / NEUTRO, DE EMBUTIR, PARA 24 DISJUNTORES DIN",39806,"UN",null,0,0,0]
[null,null,2491,null,"QUADRO DE DISTRIBUICAO, COM BARRAMENTO TERRA / NEUTRO, DE EMBUTIR, PARA 36 DISJUNTORES DIN",39807,"UN",null,0,0,0]
[null,null,2492,null,"QUADRO DE DISTRIBUICAO, COM BARRAMENTO TERRA / NEUTRO, DE EMBUTIR, PARA 8 DISJUNTORES DIN",39804,"UN",null,0,0,0]
[null,null,2493,null,"QUADRO DE DISTRIBUICAO, SEM BARRAMENTO, EM PVC, DE EMBUTIR, PARA 16 DISJUNTORES DIN",39796,"UN",null,0,0,0]
[null,null,2494,null,"QUADRO DE DISTRIBUICAO, SEM BARRAMENTO, EM PVC, DE EMBUTIR, PARA 24 DISJUNTORES DIN",39797,"UN",null,0,0,0]
[null,null,2495,null,"QUADRO DE DISTRIBUICAO, SEM BARRAMENTO, EM PVC, DE EMBUTIR, PARA 36 DISJUNTORES DIN",39798,"UN",null,0,0,0]
[null,null,2496,null,"QUADRO DE DISTRIBUICAO, SEM BARRAMENTO, EM PVC, DE EMBUTIR, PARA 4 DISJUNTORES DIN",39794,"UN",null,0,0,0]
[null,null,2497,null,"QUADRO DE DISTRIBUICAO, SEM BARRAMENTO, EM PVC, DE EMBUTIR, PARA 8 DISJUNTORES DIN",39795,"UN",null,0,0,0]
[null,null,2498,null,"QUADRO DE DISTRIBUICAO, SEM BARRAMENTO, EM PVC, DE SOBREPOR, PARA 16 DISJUNTORES DIN",39801,"UN",null,0,0,{"$f":"TRUNC(ROUND((I2516*J2516)/12,2),2)","v":0}]
[null,null,2499,null,"QUADRO DE DISTRIBUICAO, SEM BARRAMENTO, EM PVC, DE SOBREPOR, PARA 24 DISJUNTORES DIN",39802,"UN",null,0,0,0]
[null,null,2500,null,"QUADRO DE DISTRIBUICAO, SEM BARRAMENTO, EM PVC, DE SOBREPOR, PARA 36 DISJUNTORES DIN",39803,"UN",null,0,0,0]
[null,null,2501,null,"QUADRO DE DISTRIBUICAO, SEM BARRAMENTO, EM PVC, DE SOBREPOR, PARA 4 DISJUNTORES DIN",39799,"UN",null,0,0,0]
[null,null,2502,null,"QUADRO DE DISTRIBUICAO, SEM BARRAMENTO, EM PVC, DE SOBREPOR, PARA 8 DISJUNTORES DIN",39800,"UN",null,0,0,0]
[null,null,2503,null,"QUEROSENE",4224,"L",null,0,0,0]
[null,null,2504,null,"RALO FOFO COM REQUADRO, QUADRADO 150 X 150 MM",21059,"UN",null,0,0,0]
[null,null,2505,null,"RALO FOFO COM REQUADRO, QUADRADO 200 X 200 MM",11234,"UN",null,0,0,0]
[null,null,2506,null,"RALO FOFO COM REQUADRO, QUADRADO 250 X 250 MM",21060,"UN",null,0,0,0]
[null,null,2507,null,"RALO FOFO COM REQUADRO, QUADRADO 300 X 300 MM",21061,"UN",null,0,0,0]
[null,null,2508,null,"RALO FOFO COM REQUADRO, QUADRADO 400 X 400 MM",21062,"UN",null,0,0,0]
[null,null,2509,null,"RALO FOFO SEMIESFERICO, 100 MM, PARA LAJES/ CALHAS",11708,"UN",null,0,0,0]
[null,null,2510,null,"RALO FOFO SEMIESFERICO, 150 MM, PARA LAJES/ CALHAS",11709,"UN",null,0,0,0]
[null,null,2511,null,"RALO FOFO SEMIESFERICO, 200 MM, PARA LAJES/ CALHAS",11710,"UN",null,0,0,0]
[null,null,2512,null,"RALO FOFO SEMIESFERICO, 75 MM, PARA LAJES/ CALHAS",11707,"UN",null,0,0,0]
[null,null,2513,null,"RALO SECO PVC CONICO, 100 X 40 MM,  COM GRELHA REDONDA BRANCA",11739,"UN",null,0,0,0]
[null,null,2514,null,"RALO SECO PVC CONICO, 100 X 40 MM, COM GRELHA QUADRADA",11711,"UN",null,0,0,0]
[null,null,2515,null,"RALO SECO PVC QUADRADO, 100 X 100 X 53 MM, SAIDA 40 MM, COM GRELHA BRANCA",5102,"UN",null,0,0,0]
[null,null,2516,null,"RALO SIFONADO PVC CILINDRICO, 100 X 40 MM,  COM GRELHA REDONDA BRANCA",11741,"UN",null,0,0,0]
[null,null,2517,null,"RALO SIFONADO PVC REDONDO CONICO, 100 X 40 MM, COM GRELHA  BRANCA REDONDA",11743,"UN",null,0,0,0]
[null,null,2518,null,"RALO SIFONADO PVC, QUADRADO, 100 X 100 X 53 MM, SAIDA 40 MM, COM GRELHA BRANCA",11745,"UN",null,0,0,0]
[null,null,2519,null,"REATOR ELETRONICO BIVOLT PARA 1 LAMPADA FLUORESCENTE DE 18/20 W",1088,"UN",null,0,0,0]
[null,null,2520,null,"REATOR ELETRONICO BIVOLT PARA 1 LAMPADA FLUORESCENTE DE 36/40 W",1087,"UN",null,0,0,0]
[null,null,2521,null,"REATOR ELETRONICO BIVOLT PARA 2 LAMPADAS FLUORESCENTES DE 14 W",38777,"UN",null,0,0,0]
[null,null,2522,null,"REATOR ELETRONICO BIVOLT PARA 2 LAMPADAS FLUORESCENTES DE 18/20 W",1086,"UN",null,0,0,0]
[null,null,2523,null,"REATOR ELETRONICO BIVOLT PARA 2 LAMPADAS FLUORESCENTES DE 36/40 W",1079,"UN",null,0,0,0]
[null,null,2524,null,"REATOR INTERNO/INTEGRADO PARA LAMPADA VAPOR METALICO 400 W, ALTO FATOR DE POTENCIA",39374,"UN",null,0,0,0]
[null,null,2525,null,"REATOR P/ 1 LAMPADA VAPOR DE MERCURIO 125W USO EXT",12316,"UN",null,0,0,0]
[null,null,2526,null,"REATOR P/ 1 LAMPADA VAPOR DE MERCURIO 250W USO EXT",12317,"UN",null,0,0,0]
[null,null,2527,null,"REATOR P/ 1 LAMPADA VAPOR DE MERCURIO 400W USO EXT",12318,"UN",null,0,0,0]
[null,null,2528,null,"REATOR P/ LAMPADA VAPOR DE SODIO 250W USO EXT",1082,"UN",null,0,0,0]
[null,null,2529,null,"REBITE DE ALUMINIO VAZADO DE REPUXO, 3,2 X 8 MM (1KG = 1025 UNIDADES)",5104,"KG",null,0,0,0]
[null,null,2530,null,"REBOLO ABRASIVO RETO DE USO GERAL GRAO 36, DE 6 X 1 \" (DIAMETRO X ALTURA)",26023,"UN",null,0,0,0]
[null,null,2531,null,"REBOLO ABRASIVO RETO DE USO GERAL GRAO 36, DE 6 X 3/4 \" (DIAMETRO X ALTURA)",2710,"UN",null,0,0,0]
[null,null,2532,null,"REDUCAO EXCENTRICA PVC NBR 10569 P/REDE COLET ESG PB JE 125 X 100MM",20033,"UN",null,0,0,0]
[null,null,2533,null,"REDUCAO EXCENTRICA PVC NBR 10569 P/REDE COLET ESG PB JE 150 X 100MM",20034,"UN",null,0,0,0]
[null,null,2534,null,"REDUCAO EXCENTRICA PVC NBR 10569 P/REDE COLET ESG PB JE 150 X 125MM",20035,"UN",null,0,0,0]
[null,null,2535,null,"REDUCAO EXCENTRICA PVC NBR 10569 P/REDE COLET ESG PB JE 200 X 150MM",20036,"UN",null,0,0,0]
[null,null,2536,null,"REDUCAO EXCENTRICA PVC NBR 10569 P/REDE COLET ESG PB JE 250 X 200MM",20037,"UN",null,0,0,0]
[null,null,2537,null,"REDUCAO EXCENTRICA PVC P/ ESG PREDIAL DN 100 X 50MM",20043,"UN",null,0,0,0]
[null,null,2538,null,"REDUCAO EXCENTRICA PVC P/ ESG PREDIAL DN 100 X 75MM",20044,"UN",null,0,0,0]
[null,null,2539,null,"REDUCAO EXCENTRICA PVC P/ ESG PREDIAL DN 75 X 50MM",20042,"UN",null,0,0,0]
[null,null,2540,null,"REDUCAO EXCENTRICA PVC, SERIE R, DN 100 X 75 MM, PARA ESGOTO PREDIAL",20046,"UN",null,0,0,0]
[null,null,2541,null,"REDUCAO EXCENTRICA PVC, SERIE R, DN 150 X 100 MM, PARA ESGOTO PREDIAL",20047,"UN",null,0,0,0]
[null,null,2542,null,"REDUCAO EXCENTRICA PVC, SERIE R, DN 75 X 50 MM, PARA ESGOTO PREDIAL",20045,"UN",null,0,0,0]
[null,null,2543,null,"REDUCAO FIXA TIPO STORZ, ENGATE RAPIDO 2.1/2\" X 1.1/2\", EM LATAO, PARA INSTALACAO PREDIAL COMBATE A INCENDIO PREDIAL",20972,"UN",null,0,0,0]
[null,null,2544,null,"REDUCAO PVC PBA, JE, BB, DN 75 X 50 / DE 85 X 60 MM, PARA REDE DE AGUA",20032,"UN",null,0,0,0]
[null,null,2545,null,"REDUCAO PVC PBA, JE, PB, DN 100 X 50 / DE 110 X 60 MM, PARA REDE DE AGUA",11321,"UN",null,0,0,0]
[null,null,2546,null,"REDUCAO PVC PBA, JE, PB, DN 100 X 75 / DE 110 X 85 MM, PARA REDE DE AGUA",11323,"UN",null,0,0,0]
[null,null,2547,null,"REDUCAO PVC PBA, JE, PB, DN 75 X 50 / DE 85 X 60 MM, PARA REDE DE AGUA",20327,"UN",null,0,0,0]
[null,null,2548,null,"REDUTOR TIPO THINNER PARA ACABAMENTO",25966,"L",null,0,0,0]
[null,null,2549,null,"REFLETOR REDONDO EM ALUMINIO ANODIZADO PARA LAMPADA VAPOR DE MERCURIO/SODIO, CORPO EM ALUMINIO COM PINTURA EPOXI, PARA LAMPADA E-27 DE 300 W, COM SUPORTE REDONDO E ALCA REGULAVEL PARA FIXACAO.",13390,"UN",null,0,0,0]
[null,null,2550,null,"REGISTRO DE ESFERA DE PASSEIO, PVC PARA POLIETILENO, 20 MM",6034,"UN",null,0,0,0]
[null,null,2551,null,"REGISTRO DE ESFERA PVC, COM BORBOLETA, COM ROSCA EXTERNA, DE 1/2\"",6036,"UN",null,0,0,0]
[null,null,2552,null,"REGISTRO DE ESFERA PVC, COM BORBOLETA, COM ROSCA EXTERNA, DE 3/4\"",6031,"UN",null,0,0,0]
[null,null,2553,null,"REGISTRO DE ESFERA PVC, COM CABECA QUADRADA, COM ROSCA EXTERNA, 1/2\"",6029,"UN",null,0,0,0]
[null,null,2554,null,"REGISTRO DE ESFERA PVC, COM CABECA QUADRADA, COM ROSCA EXTERNA, 3/4\"",6033,"UN",null,0,0,0]
[null,null,2555,null,"REGISTRO DE ESFERA, PVC, COM VOLANTE, VS, ROSCAVEL, DN 1 1/2\", COM CORPO DIVIDIDO",11672,"UN",null,0,0,0]
[null,null,2556,null,"REGISTRO DE ESFERA, PVC, COM VOLANTE, VS, ROSCAVEL, DN 1 1/4\", COM CORPO DIVIDIDO",11669,"UN",null,0,0,0]
[null,null,2557,null,"REGISTRO DE ESFERA, PVC, COM VOLANTE, VS, ROSCAVEL, DN 1\", COM CORPO DIVIDIDO",20055,"UN",null,0,0,0]
[null,null,2558,null,"REGISTRO DE ESFERA, PVC, COM VOLANTE, VS, ROSCAVEL, DN 1/2\", COM CORPO DIVIDIDO",11670,"UN",null,0,0,0]
[null,null,2559,null,"REGISTRO DE ESFERA, PVC, COM VOLANTE, VS, ROSCAVEL, DN 2\", COM CORPO DIVIDIDO",11671,"UN",null,0,0,0]
[null,null,2560,null,"REGISTRO DE ESFERA, PVC, COM VOLANTE, VS, ROSCAVEL, DN 3/4\", COM CORPO DIVIDIDO",6032,"UN",null,0,0,0]
[null,null,2561,null,"REGISTRO DE ESFERA, PVC, COM VOLANTE, VS, SOLDAVEL, DN 20 MM, COM CORPO DIVIDIDO",11673,"UN",null,0,0,0]
[null,null,2562,null,"REGISTRO DE ESFERA, PVC, COM VOLANTE, VS, SOLDAVEL, DN 25 MM, COM CORPO DIVIDIDO",11674,"UN",null,0,0,{"$f":"TRUNC(ROUND((I2580*J2580)/12,2),2)","v":0}]
[null,null,2563,null,"REGISTRO DE ESFERA, PVC, COM VOLANTE, VS, SOLDAVEL, DN 32 MM, COM CORPO DIVIDIDO",11675,"UN",null,0,0,0]
[null,null,2564,null,"REGISTRO DE ESFERA, PVC, COM VOLANTE, VS, SOLDAVEL, DN 40 MM, COM CORPO DIVIDIDO",11676,"UN",null,0,0,0]
[null,null,2565,null,"REGISTRO DE ESFERA, PVC, COM VOLANTE, VS, SOLDAVEL, DN 50 MM, COM CORPO DIVIDIDO",11677,"UN",null,0,0,0]
[null,null,2566,null,"REGISTRO DE ESFERA, PVC, COM VOLANTE, VS, SOLDAVEL, DN 60 MM, COM CORPO DIVIDIDO",11678,"UN",null,0,0,0]
[null,null,2567,null,"REGISTRO DE PRESSAO PVC, ROSCAVEL, VOLANTE SIMPLES, DE 1/2\"",6038,"UN",null,0,0,0]
[null,null,2568,null,"REGISTRO DE PRESSAO PVC, ROSCAVEL, VOLANTE SIMPLES, DE 3/4\"",11718,"UN",null,0,0,0]
[null,null,2569,null,"REGISTRO DE PRESSAO PVC, SOLDAVEL, VOLANTE SIMPLES, DE 20 MM",6037,"UN",null,0,0,0]
[null,null,2570,null,"REGISTRO DE PRESSAO PVC, SOLDAVEL, VOLANTE SIMPLES, DE 25 MM",11719,"UN",null,0,0,0]
[null,null,2571,null,"REGISTRO GAVETA BRUTO EM LATAO FORJADO, BITOLA 1 \" (REF 1509)",6019,"UN",null,0,0,0]
[null,null,2572,null,"REGISTRO GAVETA BRUTO EM LATAO FORJADO, BITOLA 1 1/2 \" (REF 1509)",6010,"UN",null,0,0,0]
[null,null,2573,null,"REGISTRO GAVETA BRUTO EM LATAO FORJADO, BITOLA 1 1/4 \" (REF 1509)",6017,"UN",null,0,0,0]
[null,null,2574,null,"REGISTRO GAVETA BRUTO EM LATAO FORJADO, BITOLA 1/2 \" (REF 1509)",6020,"UN",null,0,0,0]
[null,null,2575,null,"REGISTRO GAVETA BRUTO EM LATAO FORJADO, BITOLA 2 \" (REF 1509)",6028,"UN",null,0,0,0]
[null,null,2576,null,"REGISTRO GAVETA BRUTO EM LATAO FORJADO, BITOLA 2 1/2 \" (REF 1509)",6011,"UN",null,0,0,0]
[null,null,2577,null,"REGISTRO GAVETA BRUTO EM LATAO FORJADO, BITOLA 3 \" (REF 1509)",6012,"UN",null,0,0,0]
[null,null,2578,null,"REGISTRO GAVETA BRUTO EM LATAO FORJADO, BITOLA 3/4 \" (REF 1509)",6016,"UN",null,0,0,0]
[null,null,2579,null,"REGISTRO GAVETA BRUTO EM LATAO FORJADO, BITOLA 4 \" (REF 1509)",6027,"UN",null,0,0,0]
[null,null,2580,null,"REGISTRO GAVETA COM ACABAMENTO E CANOPLA CROMADOS, SIMPLES, BITOLA 1 \" (REF 1509)",6013,"UN",null,0,0,0]
[null,null,2581,null,"REGISTRO GAVETA COM ACABAMENTO E CANOPLA CROMADOS, SIMPLES, BITOLA 1 1/2 \" (REF 1509)",6015,"UN",null,0,0,0]
[null,null,2582,null,"REGISTRO GAVETA COM ACABAMENTO E CANOPLA CROMADOS, SIMPLES, BITOLA 1 1/4 \" (REF 1509)",6014,"UN",null,0,0,0]
[null,null,2583,null,"REGISTRO GAVETA COM ACABAMENTO E CANOPLA CROMADOS, SIMPLES, BITOLA 1/2 \" (REF 1509)",6006,"UN",null,0,0,0]
[null,null,2584,null,"REGISTRO GAVETA COM ACABAMENTO E CANOPLA CROMADOS, SIMPLES, BITOLA 3/4 \" (REF 1509)",6005,"UN",null,0,0,0]
[null,null,2585,null,"REGISTRO OU REGULADOR DE GAS COZINHA, VAZAO DE 2 KG/H, 2,8 KPA",11756,"UN",null,0,0,0]
[null,null,2586,null,"REGISTRO OU VALVULA GLOBO ANGULAR EM LATAO, PARA HIDRANTES EM INSTALACAO PREDIAL DE INCENDIO, 45 GRAUS, DIAMETRO DE 2 1/2\", COM VOLANTE, CLASSE DE PRESSAO DE ATE 200 PSI",10904,"UN",null,0,0,0]
[null,null,2587,null,"REGISTRO PRESSAO BRUTO EM LATAO FORJADO, BITOLA 1/2 \" (REF 1400)",11752,"UN",null,0,0,0]
[null,null,2588,null,"REGISTRO PRESSAO BRUTO EM LATAO FORJADO, BITOLA 3/4 \" (REF 1400)",11753,"UN",null,0,0,0]
[null,null,2589,null,"REGISTRO PRESSAO COM ACABAMENTO E CANOPLA CROMADA, SIMPLES, BITOLA 1/2 \" (REF 1416)",6021,"UN",null,0,0,0]
[null,null,2590,null,"REGISTRO PRESSAO COM ACABAMENTO E CANOPLA CROMADA, SIMPLES, BITOLA 3/4 \" (REF 1416)",6024,"UN",null,0,0,0]
[null,null,2591,null,"REGUA DE ALUMINIO PARA PEDREIRO 2 X 1 \"",38379,"M",null,0,0,0]
[null,null,2592,null,"REJEITO DE MINERIO DE FERRO PARA PAVIMENTACAO (POSTO PEDREIRA/FORNECEDOR, SEM FRETE)",11086,"M3",null,0,0,0]
[null,null,2593,null,"REJUNTE BRANCO, CIMENTICIO",34356,"KG",null,0,0,0]
[null,null,2594,null,"REJUNTE COLORIDO, CIMENTICIO",34357,"KG",null,0,0,0]
[null,null,2595,null,"REJUNTE EPOXI BRANCO",37329,"KG",null,0,0,0]
[null,null,2596,null,"REJUNTE EPOXI COR",37398,"KG",null,0,0,0]
[null,null,2597,null,"RELE FOTOELETRICO INTERNO E EXTERNO BIVOLT 1000 W, DE CONECTOR, SEM BASE",2510,"UN",null,0,0,0]
[null,null,2598,null,"RELE TERMICO BIMETAL PARA USO EM MOTORES TRIFASICOS, TENSAO 380 V, POTENCIA ATE 15 CV, CORRENTE NOMINAL MAXIMA 22 A",12359,"UN",null,0,0,0]
[null,null,2599,null,"REMOVEDOR DE TINTA OLEO/ESMALTE VERNIZ",5320,"L",null,0,0,0]
[null,null,2600,null,"RESINA ACRILICA BASE AGUA - COR BRANCA",7353,"L",null,0,0,0]
[null,null,2601,null,"RESPIRADOR DESCARTAVEL SEM VALVULA DE EXALACAO, PFF 1",36144,"UN",null,0,0,0]
[null,null,2602,null,"RETARDO PARA CORDEL DETONANTE",10518,"UN",null,0,0,0]
[null,null,2603,null,"REVESTIMENTO DE PAREDE EM GRANILITE, MARMORITE OU GRANITINA - ESP = 5 MM (INCLUSO EXECUCAO)",34684,"M2",null,0,0,0]
[null,null,2604,null,"REVESTIMENTO DE PAREDE EM GRANILITE, MARMORITE OU GRANITINA COLORIDO - ESP = 5 MM (INCLUSO EXECUCAO)",34683,"M2",null,0,0,0]
[null,null,2605,null,"REVESTIMENTO EM CERAMICA ESMALTADA COMERCIAL, PEI MENOR OU IGUAL A 3, FORMATO MENOR OU IGUAL A 2025 CM2",533,"M2",null,0,0,0]
[null,null,2606,null,"REVESTIMENTO EM CERAMICA ESMALTADA EXTRA, PEI MAIOR OU IGUAL 4, FORMATO MAIOR A 2025 CM2",10515,"M2",null,0,0,0]
[null,null,2607,null,"REVESTIMENTO EM CERAMICA ESMALTADA EXTRA, PEI MENOR OU IGUAL A 3, FORMATO MENOR OU IGUAL A 2025 CM2",536,"M2",null,0,0,0]
[null,null,2608,null,"REVESTIMENTO EPOXI DE ALTA RESISTENCIA QUIMICA, ISENTO DE SOLVENTES, BICOMPONENTE",153,"L",null,0,0,0]
[null,null,2609,null,"REVESTIMENTO PARA ESCADA EM GRANILITE, MARMORITE OU GRANITINA ESP = 8 MM (INCLUSO EXECUCAO)",34682,"M2",null,0,0,0]
[null,null,2610,null,"RIPA DE MADEIRA APARELHADA *1,5 X 5* CM, MACARANDUBA, ANGELIM OU EQUIVALENTE DA REGIAO",20205,"M",null,0,0,0]
[null,null,2611,null,"RIPA DE MADEIRA NAO APARELHADA *1,5 X 5* CM, MACARANDUBA, ANGELIM OU EQUIVALENTE DA REGIAO",4408,"M",null,0,0,0]
[null,null,2612,null,"RIPA DE MADEIRA NAO APARELHADA 1 X 3* CM, MACARANDUBA, ANGELIM OU EQUIVALENTE DA REGIAO",4412,"M",null,0,0,0]
[null,null,2613,null,"RODAFORRO EM PVC, PARA FORRO DE PVC, COMPRIMENTO 6 M",36250,"M",null,0,0,0]
[null,null,2614,null,"RODAPE ARDOSIA, CINZA, 10 CM, E= *1CM",10857,"M",null,0,0,0]
[null,null,2615,null,"RODAPE DE BORRACHA LISO, H = 70 MM, E = *2* MM, PARA ARGAMASSA, PRETO",4803,"M",null,0,0,0]
[null,null,2616,null,"RODAPE DE MADEIRA MACICA CUMARU/IPE CHAMPANHE OU EQUIVALENTE DA REGIAO, *1,5 X 7 CM",6186,"M",null,0,0,0]
[null,null,2617,null,"RODAPE EM MARMORE, POLIDO, BRANCO COMUM, L= *7* CM, E=  *2* CM, CORTE RETO",4829,"M",null,0,0,0]
[null,null,2618,null,"RODAPE EM POLIESTIRENO, BRANCO, H = *5* CM, E = *1,5* CM",39829,"M",null,0,0,0]
[null,null,2619,null,"RODAPE OU RODABANCADA EM GRANITO, POLIDO, TIPO ANDORINHA/ QUARTZ/ CASTELO/ CORUMBA OU OUTROS EQUIVALENTES DA REGIAO, H= 10 CM, E=  *2,0* CM",20231,"M",null,0,0,0]
[null,null,2620,null,"RODAPE PLANO PARA PISO VINILICO, H = 5 CM",4804,"M",null,0,0,0]
[null,null,2621,null,"RODAPE PRE-MOLDADO DE GRANILITE, MARMORITE OU GRANITINA L = 10 CM",34680,"M",null,0,0,0]
[null,null,2622,null,"RODIZIO PARA TRILHO (TIPO NAPOLEAO),  EM LATAO, COM ROLAMENTO EM ACO, 6 MM, PARA JANELA DE CORRER",11573,"UN",null,0,0,0]
[null,null,2623,null,"RODO PARA CHAO 40 CM COM CABO",38401,"UN",null,0,0,0]
[null,null,2624,null,"ROLDANA CONCOVA DUPLA, EM CHAPA DE ACO, ROLAMENTO INTERNO BLINDADO DE ACO REVESTIDO EM NYLON, PARA PORTA DE CORRER",38179,"UN",null,0,0,0]
[null,null,2625,null,"ROLDANA DUPLA, EM ZAMAC COM CHAPA DE LATAO, ROLAMENTOS EM ACO, PARA PORTA E JANELA DE CORRER",11575,"UN",null,0,0,0]
[null,null,2626,null,"ROLDANA PLASTICA COM PREGO, TAMANHO 30 X 30 MM, PARA INSTALACAO ELETRICA APARENTE",20256,"UN",null,0,0,{"$f":"TRUNC(ROUND((I2644*J2644)/12,2),2)","v":0}]
[null,null,2627,null,"ROLO DE ESPUMA POLIESTER 23 CM (SEM CABO)",38393,"UN",null,0,0,0]
[null,null,2628,null,"ROLO DE LA DE CARNEIRO 23 CM (SEM CABO)",38390,"UN",null,0,0,0]
[null,null,2629,null,"ROSETA QUADRADA, SEM FUROS, EM ACO INOX POLIDO, LARGURA APROXIMADA DE 50 MM, PARA FECHADURA DE PORTA - PARAFUSOS INCLUIDOS",11578,"UN",null,0,0,0]
[null,null,2630,null,"ROSETA REDONDA DE SOBREPOR, SEM FUROS, EM ACO INOX POLIDO, DIAMETRO APROXIMADO DE 50 MM, PARA FECHADURA DE PORTA - PARAFUSOS INCLUIDOS",11577,"UN",null,0,0,0]
[null,null,2631,null,"RUFO EXTERNO DE CHAPA DE ACO GALVANIZADA NUM 26, CORTE 25 CM",1116,"M",null,0,0,0]
[null,null,2632,null,"RUFO EXTERNO DE CHAPA DE ACO GALVANIZADA NUM 26, CORTE 28 CM",1115,"M",null,0,0,0]
[null,null,2633,null,"RUFO EXTERNO/INTERNO DE CHAPA DE ACO GALVANIZADA NUM 26, CORTE 33 CM",1113,"M",null,0,0,0]
[null,null,2634,null,"RUFO INTERNO DE CHAPA DE ACO GALVANIZADA NUM 26, CORTE 50 CM",1114,"M",null,0,0,0]
[null,null,2635,null,"RUFO INTERNO/EXTERNO DE CHAPA DE ACO GALVANIZADA NUM 24, CORTE 25 CM (COLETADO CAIXA)",40872,"M",null,0,0,0]
[null,null,2636,null,"RUFO PARA TELHA ESTRUTURAL DE FIBROCIMENTO 1 ABA (SEM AMIANTO)",20214,"UN",null,0,0,0]
[null,null,2637,null,"RUFO PARA TELHA ESTRUTURAL DE FIBROCIMENTO 2 ABAS, COMPRIMENTO DE 1031 MM (SEM AMIANTO)",11064,"UN",null,0,0,0]
[null,null,2638,null,"RUFO PARA TELHA ONDULADA DE FIBROCIMENTO, E = 6 MM, ABA *260* MM, COMPRIMENTO 1100 MM (SEM AMIANTO)",7237,"UN",null,0,0,0]
[null,null,2639,null,"SABONETEIRA DE PAREDE EM METAL CROMADO",11757,"UN",null,0,0,0]
[null,null,2640,null,"SABONETEIRA PLASTICA TIPO DISPENSER PARA SABONETE LIQUIDO COM RESERVATORIO 800 A 1500 ML",11758,"UN",null,0,0,0]
[null,null,2641,null,"SACO DE RAFIA PARA ENTULHO, NOVO, LISO (SEM CLICHE), *60 x 90* CM",37526,"UN",null,0,0,0]
[null,null,2642,null,"SAIBRO PARA ARGAMASSA (COLETADO NO COMERCIO)",6076,"M3",null,0,0,0]
[null,null,2643,null,"SAPATILHA EM ACO GALVANIZADO PARA CABOS COM DIAMETRO NOMINAL ATE 5/8\"",7581,"UN",null,0,0,0]
[null,null,2644,null,"SARRAFO DE MADEIRA APARELHADA *2 X 10* CM, MACARANDUBA, ANGELIM OU EQUIVALENTE DA REGIAO",20206,"M",null,0,0,0]
[null,null,2645,null,"SARRAFO DE MADEIRA NAO APARELHADA *2,5 X 10 CM, MACARANDUBA, ANGELIM OU EQUIVALENTE DA REGIAO",4460,"M",null,0,0,0]
[null,null,2646,null,"SARRAFO DE MADEIRA NAO APARELHADA *2,5 X 15* CM, MACARANDUBA, ANGELIM OU EQUIVALENTE DA REGIAO",6204,"M",null,0,0,0]
[null,null,2647,null,"SARRAFO DE MADEIRA NAO APARELHADA *2,5 X 7* CM, MACARANDUBA, ANGELIM OU EQUIVALENTE DA REGIAO",4417,"M",null,0,0,0]
[null,null,2648,null,"SARRAFO DE MADEIRA NAO APARELHADA 2,5 X 5 CM, MACARANDUBA, ANGELIM OU EQUIVALENTE DA REGIAO",4415,"M",null,0,0,0]
[null,null,2649,null,"SEIXO ROLADO PARA APLICACAO EM CONCRETO (POSTO PEDREIRA/FORNECEDOR, SEM FRETE)",4734,"M3",null,0,0,0]
[null,null,2650,null,"SELADOR ACRILICO PAREDES INTERNAS/EXTERNAS",6085,"L",null,0,0,0]
[null,null,2651,null,"SELADOR PVA PAREDES INTERNAS",6090,"L",null,0,0,0]
[null,null,2652,null,"SELANTE A BASE DE ALCATRAO E POLIURETANO PARA JUNTAS HORIZONTAIS",11622,"KG",null,0,0,0]
[null,null,2653,null,"SELANTE A BASE DE RESINAS ACRILICAS PARA TRINCAS",6094,"KG",null,0,0,0]
[null,null,2654,null,"SELANTE DE BASE ASFALTICA PARA VEDACAO",7317,"KG",null,0,0,0]
[null,null,2655,null,"SELANTE ELASTICO MONOCOMPONENTE A BASE DE POLIURETANO PARA JUNTAS DIVERSAS",142,"310ML",null,0,0,0]
[null,null,2656,null,"SELANTE TIPO VEDA CALHA PARA METAL E FIBROCIMENTO",38123,"KG",null,0,0,0]
[null,null,2657,null,"SENSOR DE PRESENCA BIVOLT COM FOTOCELULA PARA QUALQUER TIPO DE LAMPADA, POTENCIA MAXIMA *1000* W, USO EXTERNO",39396,"UN",null,0,0,0]
[null,null,2658,null,"SENSOR DE PRESENCA BIVOLT DE PAREDE COM FOTOCELULA PARA QUALQUER TIPO DE LAMPADA POTENCIA MAXIMA *1000* W, USO INTERNO",39392,"UN",null,0,0,0]
[null,null,2659,null,"SENSOR DE PRESENCA BIVOLT DE PAREDE SEM FOTOCELULA PARA QUALQUER TIPO DE LAMPADA POTENCIA MAXIMA *1000* W, USO INTERNO",39393,"UN",null,0,0,0]
[null,null,2660,null,"SENSOR DE PRESENCA BIVOLT DE TETO COM FOTOCELULA PARA QUALQUER TIPO DE LAMPADA POTENCIA MAXIMA *1000* W, USO INTERNO",39394,"UN",null,0,0,0]
[null,null,2661,null,"SENSOR DE PRESENCA BIVOLT DE TETO SEM FOTOCELULA PARA QUALQUER TIPO DE LAMPADA POTENCIA MAXIMA *900* W, USO INTERNO",39395,"UN",null,0,0,0]
[null,null,2662,null,"SERVICO DE BOMBEAMENTO DE CONCRETO COM CONSUMO MINIMO DE 40 M3",25950,"M3",null,0,0,0]
[null,null,2663,null,"SIFAO EM METAL CROMADO PARA PIA AMERICANA, 1.1/2 X 1.1/2 \"",38637,"UN",null,0,0,0]
[null,null,2664,null,"SIFAO EM METAL CROMADO PARA PIA AMERICANA, 1.1/2 X 2 \"",6150,"UN",null,0,0,0]
[null,null,2665,null,"SIFAO EM METAL CROMADO PARA PIA OU LAVATORIO, 1 X 1.1/2 \"",6136,"UN",null,0,0,0]
[null,null,2666,null,"SIFAO EM METAL CROMADO PARA TANQUE, 1.1/4 X 1.1/2 \"",38638,"UN",null,0,0,0]
[null,null,2667,null,"SIFAO PLASTICO EXTENSIVEL UNIVERSAL, TIPO COPO",20262,"UN",null,0,0,0]
[null,null,2668,null,"SIFAO PLASTICO FLEXIVEL SAIDA VERTICAL PARA COLUNA LAVATORIO, 1 X 1.1/2 \"",6148,"UN",null,0,0,0]
[null,null,2669,null,"SIFAO PLASTICO TIPO COPO PARA PIA AMERICANA 1.1/2 X 1.1/2 \"",6145,"UN",null,0,0,0]
[null,null,2670,null,"SIFAO PLASTICO TIPO COPO PARA PIA OU LAVATORIO, 1 X 1.1/2 \"",6149,"UN",null,0,0,0]
[null,null,2671,null,"SIFAO PLASTICO TIPO COPO PARA TANQUE, 1.1/4 X 1.1/2 \"",6146,"UN",null,0,0,0]
[null,null,2672,null,"SILICA ATIVA PARA ADICAO EM CONCRETO E ARGAMASSA",26026,"KG",null,0,0,0]
[null,null,2673,null,"SILICONE ACETICO USO GERAL INCOLOR 280 G",39961,"UN",null,0,0,0]
[null,null,2674,null,"SINALIZADOR NOTURNO SIMPLES PARA PARA-RAIOS, SEM RELE FOTOELETRICO",38061,"UN",null,0,0,0]
[null,null,2675,null,"SISAL EM FIBRA",20250,"KG",null,0,0,0]
[null,null,2676,null,"SODA CAUSTICA EM ESCAMAS",7,"KG",null,0,0,0]
[null,null,2677,null,"SOLDA EM BARRA DE ESTANHO-CHUMBO 50/50",13388,"KG",null,0,0,0]
[null,null,2678,null,"SOLDA ESTANHO/COBRE PARA CONEXOES DE COBRE, FIO 2,5 MM, CARRETEL 500 GR (SEM CHUMBO)",12732,"UN",null,0,0,0]
[null,null,2679,null,"SOLEIRA EM GRANITO, POLIDO, TIPO ANDORINHA/ QUARTZ/ CASTELO/ CORUMBA OU OUTROS EQUIVALENTES DA REGIAO, L= *15* CM, E=  *2,0* CM",20232,"M",null,0,0,0]
[null,null,2680,null,"SOLEIRA PRE-MOLDADA EM GRANILITE, MARMORITE OU GRANITINA, L = *15 CM",10856,"M",null,0,0,0]
[null,null,2681,null,"SOLEIRA/ PEITORIL EM MARMORE, POLIDO, BRANCO COMUM, L= *15* CM, E=  *2* CM,  CORTE RETO",4828,"M",null,0,0,0]
[null,null,2682,null,"SOLEIRA/ TABEIRA EM MARMORE, POLIDO, BRANCO COMUM, L= 5 CM, E=  *2,0* CM",20249,"M",null,0,0,0]
[null,null,2683,null,"SOLUCAO ASFALTICA ELASTOMERICA PARA IMPRIMACAO, APLICACAO A FRIO",11609,"L",null,0,0,0]
[null,null,2684,null,"SOLUCAO LIMPADORA PARA PVC, FRASCO COM 1000 CM3",20083,"UN",null,0,0,0]
[null,null,2685,null,"SOLUCAO LIMPADORA PARA PVC, FRASCO COM 200 CM3",20082,"UN",null,0,0,0]
[null,null,2686,null,"SOLVENTE DILUENTE A BASE DE AGUARRAS",5318,"L",null,0,0,0]
[null,null,2687,null,"SOLVENTE PARA COLA (PARA LAMINADO MELAMINICO) A BASE DE RESINA SINTETICA",10691,"L",null,0,0,0]
[null,null,2688,null,"SOQUETE DE PORCELANA BASE E27, FIXO DE TETO, PARA LAMPADAS",12296,"UN",null,0,0,0]
[null,null,2689,null,"SOQUETE DE PORCELANA BASE E27, PARA USO AO TEMPO, PARA LAMPADAS",12294,"UN",null,0,0,0]
[null,null,2690,null,"SOQUETE DE PVC / TERMOPLASTICO BASE E27, COM CHAVE, PARA LAMPADAS",14543,"UN",null,0,0,{"$f":"TRUNC(ROUND((I2708*J2708)/12,2),2)","v":0}]
[null,null,2691,null,"SOQUETE DE PVC / TERMOPLASTICO BASE E27, COM RABICHO, PARA LAMPADAS",13329,"UN",null,0,0,0]
[null,null,2692,null,"SPRINKLER TIPO PENDENTE, 68 GRAUS CELSIUS (BULBO VERMELHO), ACABAMENTO CROMADO, 1/2\" - 15 MM",21044,"UN",null,0,0,0]
[null,null,2693,null,"SPRINKLER TIPO PENDENTE, 68 GRAUS CELSIUS (BULBO VERMELHO), ACABAMENTO CROMADO, 3/4\" - 20 MM",21045,"UN",null,0,0,0]
[null,null,2694,null,"SPRINKLER TIPO PENDENTE, 68 GRAUS CELSIUS (BULBO VERMELHO), ACABAMENTO NATURAL, 1/2\" - 15 MM",21040,"UN",null,0,0,0]
[null,null,2695,null,"SPRINKLER TIPO PENDENTE, 68 GRAUS CELSIUS (BULBO VERMELHO), ACABAMENTO NATURAL, 3/4\" - 20 MM",21041,"UN",null,0,0,0]
[null,null,2696,null,"SPRINKLER TIPO PENDENTE, 79 GRAUS CELSIUS (BULBO AMARELO), ACABAMENTO CROMADO, 3/4\" - 20 MM",21047,"UN",null,0,0,0]
[null,null,2697,null,"SPRINKLER TIPO PENDENTE, 79 GRAUS CELSIUS (BULBO AMARELO), ACABAMENTO NATURAL, 3/4\" - 20 MM",21043,"UN",null,0,0,0]
[null,null,2698,null,"SPRINKLER TIPO PENDENTE, 79 GRAUS CELSIUS (BULBO AMARELO,) ACABAMENTO NATURAL OU CROMADO, 1/2\" - 15 MM",21042,"UN",null,0,0,0]
[null,null,2699,null,"SUPORTE DE FIXACAO PARA ESPELHO / PLACA 4\" X 2\", PARA 3 MODULOS, PARA INSTALACAO DE TOMADAS E INTERRUPTORES (SOMENTE SUPORTE)",38099,"UN",null,0,0,0]
[null,null,2700,null,"SUPORTE DE FIXACAO PARA ESPELHO / PLACA 4\" X 4\", PARA 6 MODULOS, PARA INSTALACAO DE TOMADAS E INTERRUPTORES (SOMENTE SUPORTE)",38100,"UN",null,0,0,0]
[null,null,2701,null,"SUPORTE DE PVC PARA CALHA PLUVIAL, DIAMETRO ENTRE 119 E 170 MM, PARA DRENAGEM PREDIAL",20061,"UN",null,0,0,0]
[null,null,2702,null,"SUPORTE EM ACO GALVANIZADO PARA TRANSFORMADOR PARA POSTE DUPLO T 185 X 95 MM, CHAPA DE 5/16\"",7576,"UN",null,0,0,0]
[null,null,2703,null,"SUPORTE GUIA SIMPLES COM ROLDANA EM POLIPROPILENO PARA CHUMBAR, H = 20 CM",3384,"UN",null,0,0,0]
[null,null,2704,null,"SUPORTE ISOLADOR REFORCADO DIAMETRO NOMINAL 5/16\", COM ROSCA SOBERBA E BUCHA",7572,"UN",null,0,0,0]
[null,null,2705,null,"SUPORTE ISOLADOR SIMPLES DIAMETRO NOMINAL 5/16\", COM ROSCA SOBERBA E BUCHA",3396,"UN",null,0,0,0]
[null,null,2706,null,"SUPORTE MAO-FRANCESA EM ACO, ABAS IGUAIS 30 CM, CAPACIDADE MINIMA 60 KG, BRANCO",37590,"UN",null,0,0,0]
[null,null,2707,null,"SUPORTE MAO-FRANCESA EM ACO, ABAS IGUAIS 40 CM, CAPACIDADE MINIMA 70 KG, BRANCO",37591,"UN",null,0,0,0]
[null,null,2708,null,"SUPORTE METALICO PARA CALHA PLUVIAL,  ZINCADO, DOBRADO, DIAMETRO ENTRE 119 E 170 MM, PARA DRENAGEM PREDIAL",12626,"UN",null,0,0,0]
[null,null,2709,null,"SUPORTE PARA CALHA DE 150 MM EM FERRO GALVANIZADO",11033,"UN",null,0,0,0]
[null,null,2710,null,"SUPORTE PARA TUBO DIAMETRO NOMINAL 2\", COM ROSCA MECANICA",390,"UN",null,0,0,0]
[null,null,2711,null,"TABUA DE MADEIRA APARELHADA *2,5 X 15* CM, MACARANDUBA, ANGELIM OU EQUIVALENTE DA REGIAO",3993,"M2",null,0,0,0]
[null,null,2712,null,"TABUA DE MADEIRA APARELHADA *2,5 X 25* CM, MACARANDUBA, ANGELIM OU EQUIVALENTE DA REGIAO",3990,"M",null,0,0,0]
[null,null,2713,null,"TABUA DE MADEIRA APARELHADA *2,5 X 30* CM, MACARANDUBA, ANGELIM OU EQUIVALENTE DA REGIAO",3992,"M",null,0,0,0]
[null,null,2714,null,"TABUA MADEIRA 2A QUALIDADE 2,5 X 20,0CM (1 X 8\") NAO APARELHADA",6193,"M",null,0,0,0]
[null,null,2715,null,"TABUA MADEIRA 2A QUALIDADE 2,5 X 30,0CM (1 X 12\") NAO APARELHADA",6189,"M",null,0,0,0]
[null,null,2716,null,"TABUA MADEIRA 3A QUALIDADE 2,5 X 23,0CM (1 X 9\") NAO APARELHADA",10567,"M",null,0,0,0]
[null,null,2717,null,"TABUA MADEIRA 3A QUALIDADE 2,5 X 30,0CM (1 X 12 ) NAO APARELHADA",6212,"M",null,0,0,0]
[null,null,2718,null,"TABUA MADEIRA 3A QUALIDADE 2,5 X 30CM (1 X 12 ) NAO APARELHADA",6188,"M2",null,0,0,0]
[null,null,2719,null,"TACO DE MADEIRA PARA PISO, IPE (CERNE) OU EQUIVALENTE DA REGIAO, 7 X 42 CM, E = 2 CM",6214,"M2",null,0,0,0]
[null,null,2720,null,"TALHADEIRA COM PUNHO DE PROTECAO *20 X 250* MM",38465,"UN",null,0,0,0]
[null,null,2721,null,"TAMPA CEGA EM PVC PARA CONDULETE 4 X 2\"",7543,"UN",null,0,0,0]
[null,null,2722,null,"TAMPA DE CONCRETO PARA PV OU CAIXA DE INSPECAO, DIMENSOES 600 X 600 X 50 MM",13255,"UN",null,0,0,0]
[null,null,2723,null,"TAMPA PARA CONDULETE, EM PVC, COM 1 MODULO RJ",39350,"UN",null,0,0,0]
[null,null,2724,null,"TAMPA PARA CONDULETE, EM PVC, COM 1 OU 2 OU 3 POSTOS PARA INTERRUPTOR",39346,"UN",null,0,0,0]
[null,null,2725,null,"TAMPA PARA CONDULETE, EM PVC, COM 2 MODULOS RJ",39351,"UN",null,0,0,0]
[null,null,2726,null,"TAMPA PARA CONDULETE, EM PVC, COM TOMADA HEXAGONAL",39352,"UN",null,0,0,0]
[null,null,2727,null,"TAMPAO / TERMINAL / PLUG, D = 1 1/4\" , PARA DUTO CORRUGADO PEAD (CABEAMENTO SUBTERRANEO)",2666,"UN",null,0,0,0]
[null,null,2728,null,"TAMPAO / TERMINAL / PLUG, D = 2\" , PARA DUTO CORRUGADO PEAD (CABEAMENTO SUBTERRANEO)",2668,"UN",null,0,0,0]
[null,null,2729,null,"TAMPAO / TERMINAL / PLUG, D = 3\" , PARA DUTO CORRUGADO PEAD (CABEAMENTO SUBTERRANEO)",2664,"UN",null,0,0,0]
[null,null,2730,null,"TAMPAO / TERMINAL / PLUG, D = 4\" , PARA DUTO CORRUGADO PEAD (CABEAMENTO SUBTERRANEO)",2662,"UN",null,0,0,0]
[null,null,2731,null,"TAMPAO COM CORRENTE, EM LATAO, ENGATE RAPIDO 1 1/2\", PARA INSTALACAO PREDIAL DE COMBATE A INCENDIO",20964,"UN",null,0,0,0]
[null,null,2732,null,"TAMPAO COM CORRENTE, EM LATAO, ENGATE RAPIDO 2 1/2\", PARA INSTALACAO PREDIAL DE COMBATE A INCENDIO",10905,"UN",null,0,0,0]
[null,null,2733,null,"TAMPAO COMPLETO PARA TIL, EM PVC,  DN 100 MM, PARA REDE COLETORA DE ESGOTO",6249,"UN",null,0,0,0]
[null,null,2734,null,"TAMPAO COMPLETO PARA TIL, EM PVC,  DN 150 MM, PARA REDE COLETORA DE ESGOTO",6251,"UN",null,0,0,0]
[null,null,2735,null,"TAMPAO COMPLETO PARA TIL, EM PVC,  DN 200 MM, PARA REDE COLETORA DE ESGOTO",6252,"UN",null,0,0,0]
[null,null,2736,null,"TAMPAO COMPLETO PARA TIL, EM PVC,  DN 250 MM, PARA REDE COLETORA DE ESGOTO",6250,"UN",null,0,0,0]
[null,null,2737,null,"TAMPAO FOFO ARTICULADO P/ REGISTRO, CLASSE A15 CARGA MAX 1,5 T, *200 X 200* MM",11289,"UN",null,0,0,0]
[null,null,2738,null,"TAMPAO FOFO SIMPLES COM BASE, CLASSE A15 CARGA MAX 1,5 T, 300 X 300 MM, REDE PLUVIAL/ESGOTO",11315,"UN",null,0,0,0]
[null,null,2739,null,"TAMPAO PARA TELHA ESTRUTURAL DE FIBROCIMENTO 1 ABA, DE 370 X 155 X 76 MM (SEM AMIANTO)",11066,"UN",null,0,0,0]
[null,null,2740,null,"TAMPAO PARA TELHA ESTRUTURAL DE FIBROCIMENTO 2 ABAS, DE 787 X 215 X 60 MM (SEM AMIANTO)",11065,"UN",null,0,0,0]
[null,null,2741,null,"TANQUE DE LAVAR ROUPAS EM CONCRETO PRE-MOLDADO, 1 BOCA, COM APOIO/PES, DE *60 X 65 X 80* CM (L X P X A)",6253,"UN",null,0,0,0]
[null,null,2742,null,"TANQUE DUPLO EM MARMORE SINTETICO COM CUBA LISA E ESFREGADOR, *110 X 60* CM",36790,"UN",null,0,0,0]
[null,null,2743,null,"TANQUE LOUCA BRANCA COM COLUNA *30* L",20271,"UN",null,0,0,0]
[null,null,2744,null,"TANQUE LOUCA BRANCA SUSPENSO *20* L",10423,"UN",null,0,0,0]
[null,null,2745,null,"TANQUE SIMPLES EM MARMORE SINTETICO COM COLUNA, CAPACIDADE *22* L, *60 X 46* CM",37589,"UN",null,0,0,0]
[null,null,2746,null,"TANQUE SIMPLES EM MARMORE SINTETICO DE FIXAR NA PAREDE, CAPACIDADE *22* L, *60 X 46* CM",11690,"UN",null,0,0,0]
[null,null,2747,null,"TANQUE SIMPLES EM MARMORE SINTETICO SUSPENSO, CAPACIDADE *38* L, *60 X 60* CM",20234,"UN",null,0,0,0]
[null,null,2748,null,"TARJETA TIPO LIVRE / OCUPADO, CROMADA, PARA PORTA DE BANHEIRO",11457,"UN",null,0,0,0]
[null,null,2749,null,"TE 45 GRAUS DE FERRO GALVANIZADO, COM ROSCA BSP, DE 1 1/2\"",3593,"UN",null,0,0,0]
[null,null,2750,null,"TE 45 GRAUS DE FERRO GALVANIZADO, COM ROSCA BSP, DE 1 1/4\"",3588,"UN",null,0,0,0]
[null,null,2751,null,"TE 45 GRAUS DE FERRO GALVANIZADO, COM ROSCA BSP, DE 1\"",3587,"UN",null,0,0,0]
[null,null,2752,null,"TE 45 GRAUS DE FERRO GALVANIZADO, COM ROSCA BSP, DE 1/2\"",3585,"UN",null,0,0,0]
[null,null,2753,null,"TE 45 GRAUS DE FERRO GALVANIZADO, COM ROSCA BSP, DE 2 1/2\"",3590,"UN",null,0,0,0]
[null,null,2754,null,"TE 45 GRAUS DE FERRO GALVANIZADO, COM ROSCA BSP, DE 2\"",3589,"UN",null,0,0,{"$f":"TRUNC(ROUND((I2772*J2772)/12,2),2)","v":0}]
[null,null,2755,null,"TE 45 GRAUS DE FERRO GALVANIZADO, COM ROSCA BSP, DE 3/4\"",3586,"UN",null,0,0,0]
[null,null,2756,null,"TE 90 GRAUS EM ACO CARBONO, SOLDAVEL, PRESSAO 3.000 LBS, DN 1 1/2\"",40396,"UN",null,0,0,0]
[null,null,2757,null,"TE 90 GRAUS EM ACO CARBONO, SOLDAVEL, PRESSAO 3.000 LBS, DN 1 1/4\"",40395,"UN",null,0,0,0]
[null,null,2758,null,"TE 90 GRAUS EM ACO CARBONO, SOLDAVEL, PRESSAO 3.000 LBS, DN 1\"",40394,"UN",null,0,0,0]
[null,null,2759,null,"TE 90 GRAUS EM ACO CARBONO, SOLDAVEL, PRESSAO 3.000 LBS, DN 1/2\"",40392,"UN",null,0,0,0]
[null,null,2760,null,"TE 90 GRAUS EM ACO CARBONO, SOLDAVEL, PRESSAO 3.000 LBS, DN 2 1/2\"",40398,"UN",null,0,0,0]
[null,null,2761,null,"TE 90 GRAUS EM ACO CARBONO, SOLDAVEL, PRESSAO 3.000 LBS, DN 2\"",40397,"UN",null,0,0,0]
[null,null,2762,null,"TE 90 GRAUS EM ACO CARBONO, SOLDAVEL, PRESSAO 3.000 LBS, DN 3/4\"",40393,"UN",null,0,0,0]
[null,null,2763,null,"TE DE COBRE (REF 611) SEM ANEL DE SOLDA, BOLSA X BOLSA X BOLSA, 15 MM",12733,"UN",null,0,0,0]
[null,null,2764,null,"TE DE COBRE (REF 611) SEM ANEL DE SOLDA, BOLSA X BOLSA X BOLSA, 22 MM",12734,"UN",null,0,0,0]
[null,null,2765,null,"TE DE COBRE (REF 611) SEM ANEL DE SOLDA, BOLSA X BOLSA X BOLSA, 28 MM",12735,"UN",null,0,0,0]
[null,null,2766,null,"TE DE COBRE (REF 611) SEM ANEL DE SOLDA, BOLSA X BOLSA X BOLSA, 35 MM",12736,"UN",null,0,0,0]
[null,null,2767,null,"TE DE COBRE (REF 611) SEM ANEL DE SOLDA, BOLSA X BOLSA X BOLSA, 42 MM",12737,"UN",null,0,0,0]
[null,null,2768,null,"TE DE COBRE (REF 611) SEM ANEL DE SOLDA, BOLSA X BOLSA X BOLSA, 54 MM",12738,"UN",null,0,0,0]
[null,null,2769,null,"TE DE COBRE (REF 611) SEM ANEL DE SOLDA, BOLSA X BOLSA X BOLSA, 66 MM",12739,"UN",null,0,0,0]
[null,null,2770,null,"TE DE FERRO GALVANIZADO, DE 1 1/2\"",6297,"UN",null,0,0,0]
[null,null,2771,null,"TE DE FERRO GALVANIZADO, DE 1 1/4\"",6296,"UN",null,0,0,0]
[null,null,2772,null,"TE DE FERRO GALVANIZADO, DE 1\"",6323,"UN",null,0,0,0]
[null,null,2773,null,"TE DE FERRO GALVANIZADO, DE 1/2\"",6294,"UN",null,0,0,0]
[null,null,2774,null,"TE DE FERRO GALVANIZADO, DE 2 1/2\"",6299,"UN",null,0,0,0]
[null,null,2775,null,"TE DE FERRO GALVANIZADO, DE 2\"",6298,"UN",null,0,0,0]
[null,null,2776,null,"TE DE FERRO GALVANIZADO, DE 3/4\"",6295,"UN",null,0,0,0]
[null,null,2777,null,"TE DE FERRO GALVANIZADO, DE 4\"",6300,"UN",null,0,0,0]
[null,null,2778,null,"TE DE INSPECAO, PVC,  100 X 75 MM, SERIE NORMAL PARA ESGOTO PREDIAL",7105,"UN",null,0,0,0]
[null,null,2779,null,"TE DE INSPECAO, PVC, SERIE R, 100 X 75 MM, PARA ESGOTO PREDIAL",20183,"UN",null,0,0,0]
[null,null,2780,null,"TE DE INSPECAO, PVC, SERIE R, 150 X 100 MM, PARA ESGOTO PREDIAL",38448,"UN",null,0,0,0]
[null,null,2781,null,"TE DE INSPECAO, PVC, SERIE R, 75 X 75 MM, PARA ESGOTO PREDIAL",20182,"UN",null,0,0,0]
[null,null,2782,null,"TE DE REDUCAO COM ROSCA, PVC, 90 GRAUS, 1 X 3/4\", PARA AGUA FRIA PREDIAL",7119,"UN",null,0,0,0]
[null,null,2783,null,"TE DE REDUCAO COM ROSCA, PVC, 90 GRAUS, 3/4 X 1/2\", PARA AGUA FRIA PREDIAL",7120,"UN",null,0,0,0]
[null,null,2784,null,"TE DE REDUCAO DE FERRO GALVANIZADO, COM ROSCA BSP, DE 1 1/2\" X 1\"",6319,"UN",null,0,0,0]
[null,null,2785,null,"TE DE REDUCAO DE FERRO GALVANIZADO, COM ROSCA BSP, DE 1 1/2\" X 3/4\"",6304,"UN",null,0,0,0]
[null,null,2786,null,"TE DE REDUCAO DE FERRO GALVANIZADO, COM ROSCA BSP, DE 1 1/4\" X 3/4\"",21116,"UN",null,0,0,0]
[null,null,2787,null,"TE DE REDUCAO DE FERRO GALVANIZADO, COM ROSCA BSP, DE 1\" X 1/2\"",6320,"UN",null,0,0,0]
[null,null,2788,null,"TE DE REDUCAO DE FERRO GALVANIZADO, COM ROSCA BSP, DE 1\" X 3/4\"",6303,"UN",null,0,0,0]
[null,null,2789,null,"TE DE REDUCAO DE FERRO GALVANIZADO, COM ROSCA BSP, DE 2 1/2\" X 1 1/2\"",6308,"UN",null,0,0,0]
[null,null,2790,null,"TE DE REDUCAO DE FERRO GALVANIZADO, COM ROSCA BSP, DE 2 1/2\" X 1 1/4\"",6317,"UN",null,0,0,0]
[null,null,2791,null,"TE DE REDUCAO DE FERRO GALVANIZADO, COM ROSCA BSP, DE 2 1/2\" X 1\"",6307,"UN",null,0,0,0]
[null,null,2792,null,"TE DE REDUCAO DE FERRO GALVANIZADO, COM ROSCA BSP, DE 2 1/2\" X 2\"",6309,"UN",null,0,0,0]
[null,null,2793,null,"TE DE REDUCAO DE FERRO GALVANIZADO, COM ROSCA BSP, DE 2\" X 1 1/2\"",6318,"UN",null,0,0,0]
[null,null,2794,null,"TE DE REDUCAO DE FERRO GALVANIZADO, COM ROSCA BSP, DE 2\" X 1 1/4\"",6306,"UN",null,0,0,0]
[null,null,2795,null,"TE DE REDUCAO DE FERRO GALVANIZADO, COM ROSCA BSP, DE 2\" X 1\"",6305,"UN",null,0,0,0]
[null,null,2796,null,"TE DE REDUCAO DE FERRO GALVANIZADO, COM ROSCA BSP, DE 3/4\" X 1/2\"",6302,"UN",null,0,0,0]
[null,null,2797,null,"TE DE REDUCAO, PVC LEVE, CURTO, 90 GRAUS, COM BOLSA PARA ANEL, 150 X 100 MM, PARA ESGOTO",20176,"UN",null,0,0,0]
[null,null,2798,null,"TE DE REDUCAO, PVC PBA, BBB, JE, DN 100 X 50 / DE 110 X 60 MM, PARA REDE AGUA (NBR 10351)",11378,"UN",null,0,0,0]
[null,null,2799,null,"TE DE REDUCAO, PVC PBA, BBB, JE, DN 100 X 75 / DE 110 X 85 MM, PARA REDE AGUA (NBR 10351)",11379,"UN",null,0,0,0]
[null,null,2800,null,"TE DE REDUCAO, PVC PBA, BBB, JE, DN 75 X 50 / DE 85 X 60 MM, PARA REDE AGUA (NBR 10351)",11493,"UN",null,0,0,0]
[null,null,2801,null,"TE DE REDUCAO, PVC, SOLDAVEL, 90 GRAUS, 110 MM X 60 MM, PARA AGUA FRIA PREDIAL",7106,"UN",null,0,0,0]
[null,null,2802,null,"TE DE REDUCAO, PVC, SOLDAVEL, 90 GRAUS, 25 MM X 20 MM, PARA AGUA FRIA PREDIAL",7104,"UN",null,0,0,0]
[null,null,2803,null,"TE DE REDUCAO, PVC, SOLDAVEL, 90 GRAUS, 32 MM X 25 MM, PARA AGUA FRIA PREDIAL",7136,"UN",null,0,0,0]
[null,null,2804,null,"TE DE REDUCAO, PVC, SOLDAVEL, 90 GRAUS, 40 MM X 32 MM, PARA AGUA FRIA PREDIAL",7128,"UN",null,0,0,0]
[null,null,2805,null,"TE DE REDUCAO, PVC, SOLDAVEL, 90 GRAUS, 50 MM X 20 MM, PARA AGUA FRIA PREDIAL",7108,"UN",null,0,0,0]
[null,null,2806,null,"TE DE REDUCAO, PVC, SOLDAVEL, 90 GRAUS, 50 MM X 25 MM, PARA AGUA FRIA PREDIAL",7129,"UN",null,0,0,0]
[null,null,2807,null,"TE DE REDUCAO, PVC, SOLDAVEL, 90 GRAUS, 50 MM X 32 MM, PARA AGUA FRIA PREDIAL",7130,"UN",null,0,0,0]
[null,null,2808,null,"TE DE REDUCAO, PVC, SOLDAVEL, 90 GRAUS, 50 MM X 40 MM, PARA AGUA FRIA PREDIAL",7131,"UN",null,0,0,0]
[null,null,2809,null,"TE DE REDUCAO, PVC, SOLDAVEL, 90 GRAUS, 75 MM X 50 MM, PARA AGUA FRIA PREDIAL",7132,"UN",null,0,0,0]
[null,null,2810,null,"TE DE REDUCAO, PVC, SOLDAVEL, 90 GRAUS, 85 MM X 60 MM, PARA AGUA FRIA PREDIAL",7133,"UN",null,0,0,0]
[null,null,2811,null,"TE DE SERVICO INTEGRADO, EM POLIPROPILENO (PP), PARA TUBOS EM PEAD, 63 X 20 MM - LIGACAO PREDIAL DE AGUA",37422,"UN",null,0,0,0]
[null,null,2812,null,"TE DE SERVICO INTEGRADO, EM POLIPROPILENO (PP), PARA TUBOS EM PEAD/PVC, 60 X 20 MM - LIGACAO PREDIAL DE AGUA",37420,"UN",null,0,0,0]
[null,null,2813,null,"TE DE SERVICO INTEGRADO, EM POLIPROPILENO (PP), PARA TUBOS EM PEAD/PVC, 60 X 32 MM - LIGACAO PREDIAL DE AGUA",37421,"UN",null,0,0,0]
[null,null,2814,null,"TE DE SERVICO, PEAD PE 100, DE 63 X 20 MM, PARA ELETROFUSAO",37440,"UN",null,0,0,0]
[null,null,2815,null,"TE DE SERVICO, PEAD PE 100, DE 63 X 32 MM, PARA ELETROFUSAO",37441,"UN",null,0,0,0]
[null,null,2816,null,"TE DUPLA CURVA BRONZE/LATAO (REF 764) SEM ANEL DE SOLDA, ROSCA F X BOLSA X ROSCA F, 1/2\" X 15 X 1/2\"",39895,"UN",null,0,0,0]
[null,null,2817,null,"TE DUPLA CURVA BRONZE/LATAO (REF 764) SEM ANEL DE SOLDA, ROSCA F X BOLSA X ROSCA F, 3/4\" X 22 X 3/4\"",39896,"UN",null,0,0,0]
[null,null,2818,null,"TE MISTURADOR COM INSERTO METALICO, FEMEA, PPR, DN 25 MM X 3/4\", PARA AGUA QUENTE E FRIA PREDIAL",39000,"UN",null,0,0,{"$f":"TRUNC(ROUND((I2836*J2836)/12,2),2)","v":0}]
[null,null,2819,null,"TE MISTURADOR, PPR, F M M, DN 20 X 20 MM, PARA AGUA QUENTE PREDIAL",38454,"UN",null,0,0,0]
[null,null,2820,null,"TE MISTURADOR, PPR, F M M, DN 25 X 25 MM, PARA AGUA QUENTE PREDIAL",38455,"UN",null,0,0,0]
[null,null,2821,null,"TE NORMAL, PPR, SOLDAVEL, 90 GRAUS, DN 20 X 20 X 20 MM, PARA AGUA QUENTE PREDIAL",36362,"UN",null,0,0,0]
[null,null,2822,null,"TE NORMAL, PPR, SOLDAVEL, 90 GRAUS, DN 25 X 25 X 25 MM, PARA AGUA QUENTE PREDIAL",36298,"UN",null,0,0,0]
[null,null,2823,null,"TE NORMAL, PPR, SOLDAVEL, 90 GRAUS, DN 32 X 32 X 32 MM, PARA AGUA QUENTE PREDIAL",38456,"UN",null,0,0,0]
[null,null,2824,null,"TE NORMAL, PPR, SOLDAVEL, 90 GRAUS, DN 40 X 40 X 40 MM, PARA AGUA QUENTE PREDIAL",38457,"UN",null,0,0,0]
[null,null,2825,null,"TE NORMAL, PPR, SOLDAVEL, 90 GRAUS, DN 50 X 50 X 50 MM, PARA AGUA QUENTE PREDIAL",38458,"UN",null,0,0,0]
[null,null,2826,null,"TE NORMAL, PPR, SOLDAVEL, 90 GRAUS, DN 63 X 63 X 63 MM, PARA AGUA QUENTE PREDIAL",38459,"UN",null,0,0,0]
[null,null,2827,null,"TE NORMAL, PPR, SOLDAVEL, 90 GRAUS, DN 75 X 75 X 75 MM, PARA AGUA QUENTE PREDIAL",38460,"UN",null,0,0,0]
[null,null,2828,null,"TE NORMAL, PPR, SOLDAVEL, 90 GRAUS, DN 90 X 90 X 90 MM, PARA AGUA QUENTE PREDIAL",38461,"UN",null,0,0,0]
[null,null,2829,null,"TE PVC ROSCAVEL 90 GRAUS, 1\", PARA  AGUA FRIA PREDIAL",7094,"UN",null,0,0,0]
[null,null,2830,null,"TE PVC SOLDAVEL, BBB, 90 GRAUS, DN 40 MM, PARA ESGOTO SECUNDARIO PREDIAL",7116,"UN",null,0,0,0]
[null,null,2831,null,"TE PVC, ROSCAVEL, 90 GRAUS, 1 1/2\", AGUA FRIA PREDIAL",7118,"UN",null,0,0,0]
[null,null,2832,null,"TE PVC, ROSCAVEL, 90 GRAUS, 1 1/4\", AGUA FRIA PREDIAL",7117,"UN",null,0,0,0]
[null,null,2833,null,"TE PVC, ROSCAVEL, 90 GRAUS, 1/2\",  AGUA FRIA PREDIAL",7098,"UN",null,0,0,0]
[null,null,2834,null,"TE PVC, ROSCAVEL, 90 GRAUS, 2\",  AGUA FRIA PREDIAL",7110,"UN",null,0,0,0]
[null,null,2835,null,"TE PVC, ROSCAVEL, 90 GRAUS, 3/4\", AGUA FRIA PREDIAL",7123,"UN",null,0,0,0]
[null,null,2836,null,"TE PVC, SOLDAVEL, COM BUCHA DE LATAO NA BOLSA CENTRAL, 90 GRAUS, 20 MM X 1/2\", PARA AGUA FRIA PREDIAL",7121,"UN",null,0,0,0]
[null,null,2837,null,"TE PVC, SOLDAVEL, COM BUCHA DE LATAO NA BOLSA CENTRAL, 90 GRAUS, 25 MM X 1/2\", PARA AGUA FRIA PREDIAL",7137,"UN",null,0,0,0]
[null,null,2838,null,"TE PVC, SOLDAVEL, COM BUCHA DE LATAO NA BOLSA CENTRAL, 90 GRAUS, 25 MM X 3/4\", PARA AGUA FRIA PREDIAL",7122,"UN",null,0,0,0]
[null,null,2839,null,"TE PVC, SOLDAVEL, COM BUCHA DE LATAO NA BOLSA CENTRAL, 90 GRAUS, 32 MM X 3/4\", PARA AGUA FRIA PREDIAL",7114,"UN",null,0,0,0]
[null,null,2840,null,"TE PVC, SOLDAVEL, COM ROSCA NA BOLSA CENTRAL, 90 GRAUS, 20 MM X 1/2\", PARA AGUA FRIA PREDIAL",7109,"UN",null,0,0,0]
[null,null,2841,null,"TE PVC, SOLDAVEL, COM ROSCA NA BOLSA CENTRAL, 90 GRAUS, 25 MM X 1/2\", PARA AGUA FRIA PREDIAL",7135,"UN",null,0,0,0]
[null,null,2842,null,"TE PVC, SOLDAVEL, COM ROSCA NA BOLSA CENTRAL, 90 GRAUS, 25 MM X 3/4\", PARA AGUA FRIA PREDIAL",37947,"UN",null,0,0,0]
[null,null,2843,null,"TE PVC, SOLDAVEL, COM ROSCA NA BOLSA CENTRAL, 90 GRAUS, 32 MM X 3/4\", PARA AGUA FRIA PREDIAL",7103,"UN",null,0,0,0]
[null,null,2844,null,"TE RANHURADO EM FERRO FUNDIDO, DN 50 (2\")",40419,"UN",null,0,0,0]
[null,null,2845,null,"TE RANHURADO EM FERRO FUNDIDO, DN 65 (2 1/2\")",40420,"UN",null,0,0,0]
[null,null,2846,null,"TE REDUCAO PVC, ROSCAVEL, 90 GRAUS,  1.1/2\" X 3/4\",  AGUA FRIA PREDIAL",7126,"UN",null,0,0,0]
[null,null,2847,null,"TE SANITARIO, PVC, DN 100 X 100 MM, SERIE NORMAL, PARA ESGOTO PREDIAL",7091,"UN",null,0,0,0]
[null,null,2848,null,"TE SANITARIO, PVC, DN 100 X 50 MM, SERIE NORMAL, PARA ESGOTO PREDIAL",11655,"UN",null,0,0,0]
[null,null,2849,null,"TE SANITARIO, PVC, DN 100 X 75 MM, SERIE NORMAL PARA ESGOTO PREDIAL",11656,"UN",null,0,0,0]
[null,null,2850,null,"TE SANITARIO, PVC, DN 40 X 40 MM, SERIE NORMAL, PARA ESGOTO PREDIAL",37948,"UN",null,0,0,0]
[null,null,2851,null,"TE SANITARIO, PVC, DN 50 X 50 MM, SERIE NORMAL, PARA ESGOTO PREDIAL",7097,"UN",null,0,0,0]
[null,null,2852,null,"TE SANITARIO, PVC, DN 75 X 50 MM, SERIE NORMAL PARA ESGOTO PREDIAL",11657,"UN",null,0,0,0]
[null,null,2853,null,"TE SANITARIO, PVC, DN 75 X 75 MM, SERIE NORMAL PARA ESGOTO PREDIAL",11658,"UN",null,0,0,0]
[null,null,2854,null,"TE SOLDAVEL, PVC, 90 GRAUS, 110 MM, PARA AGUA FRIA PREDIAL (NBR 5648)",7146,"UN",null,0,0,0]
[null,null,2855,null,"TE SOLDAVEL, PVC, 90 GRAUS, 20 MM, PARA AGUA FRIA PREDIAL (NBR 5648)",7138,"UN",null,0,0,0]
[null,null,2856,null,"TE SOLDAVEL, PVC, 90 GRAUS, 25 MM, PARA AGUA FRIA PREDIAL (NBR 5648)",7139,"UN",null,0,0,0]
[null,null,2857,null,"TE SOLDAVEL, PVC, 90 GRAUS, 32 MM, PARA AGUA FRIA PREDIAL (NBR 5648)",7140,"UN",null,0,0,0]
[null,null,2858,null,"TE SOLDAVEL, PVC, 90 GRAUS, 40 MM, PARA AGUA FRIA PREDIAL (NBR 5648)",7141,"UN",null,0,0,0]
[null,null,2859,null,"TE SOLDAVEL, PVC, 90 GRAUS, 60 MM, PARA AGUA FRIA PREDIAL (NBR 5648)",7143,"UN",null,0,0,0]
[null,null,2860,null,"TE SOLDAVEL, PVC, 90 GRAUS, 75 MM, PARA AGUA FRIA PREDIAL (NBR 5648)",7144,"UN",null,0,0,0]
[null,null,2861,null,"TE SOLDAVEL, PVC, 90 GRAUS, 85 MM, PARA AGUA FRIA PREDIAL (NBR 5648)",7145,"UN",null,0,0,0]
[null,null,2862,null,"TE SOLDAVEL, PVC, 90 GRAUS,50 MM, PARA AGUA FRIA PREDIAL (NBR 5648)",7142,"UN",null,0,0,0]
[null,null,2863,null,"TE, PVC LEVE, CURTO, 90 GRAUS, 150 MM, PARA ESGOTO",20174,"UN",null,0,0,0]
[null,null,2864,null,"TE, PVC PBA, BBB, 90 GRAUS, DN 100 / DE 110 MM, PARA REDE  AGUA (NBR 10351)",41892,"UN",null,0,0,0]
[null,null,2865,null,"TE, PVC PBA, BBB, 90 GRAUS, DN 50 / DE 60 MM, PARA REDE AGUA (NBR 10351)",7048,"UN",null,0,0,0]
[null,null,2866,null,"TE, PVC PBA, BBB, 90 GRAUS, DN 75 / DE 85 MM, PARA REDE AGUA (NBR 10351)",7088,"UN",null,0,0,0]
[null,null,2867,null,"TE, PVC, 90 GRAUS, BBB, JE, DN 100 MM, PARA REDE COLETORA ESGOTO (NBR 10569)",7082,"UN",null,0,0,0]
[null,null,2868,null,"TE, PVC, 90 GRAUS, BBB, JE, DN 150 MM, PARA REDE COLETORA ESGOTO (NBR 10569)",7069,"UN",null,0,0,0]
[null,null,2869,null,"TE, PVC, 90 GRAUS, BBB, JE, DN 200 MM, PARA REDE COLETORA ESGOTO (NBR 10569)",7070,"UN",null,0,0,0]
[null,null,2870,null,"TE, PVC, 90 GRAUS, BBP, JE, DN 100 MM, PARA REDE COLETORA ESGOTO (NBR 10569)",20172,"UN",null,0,0,0]
[null,null,2871,null,"TE, PVC, SERIE R, 100 X 100 MM, PARA ESGOTO PREDIAL",20179,"UN",null,0,0,0]
[null,null,2872,null,"TE, PVC, SERIE R, 100 X 75 MM, PARA ESGOTO PREDIAL",20178,"UN",null,0,0,0]
[null,null,2873,null,"TE, PVC, SERIE R, 150 X 100 MM, PARA ESGOTO PREDIAL",20180,"UN",null,0,0,0]
[null,null,2874,null,"TE, PVC, SERIE R, 150 X 150 MM, PARA ESGOTO PREDIAL",20181,"UN",null,0,0,0]
[null,null,2875,null,"TE, PVC, SERIE R, 75 X 75 MM, PARA ESGOTO PREDIAL",20177,"UN",null,0,0,0]
[null,null,2876,null,"TELA ARAME GALVANIZADO REVESTIDO COM PVC, MALHA HEXAGONAL DUPLA TORCAO, 8 X 10 CM (ZN/AL + PVC), FIO *2,4* MM",37712,"M2",null,0,0,0]
[null,null,2877,null,"TELA DE ACO SOLDADA GALVANIZADA/ZINCADA PARA ALVENARIA, FIO  D = *1,20 A 1,70* MM, MALHA 15 X 15 MM, (C X L) *50 X 12* CM",34547,"M",null,0,0,0]
[null,null,2878,null,"TELA DE ACO SOLDADA GALVANIZADA/ZINCADA PARA ALVENARIA, FIO  D = *1,20 A 1,70* MM, MALHA 15 X 15 MM, (C X L) *50 X 17,5* CM",34548,"M",null,0,0,0]
[null,null,2879,null,"TELA DE ACO SOLDADA GALVANIZADA/ZINCADA PARA ALVENARIA, FIO  D = *1,24 MM, MALHA 25 X 25 MM",37411,"M2",null,0,0,0]
[null,null,2880,null,"TELA DE ACO SOLDADA GALVANIZADA/ZINCADA PARA ALVENARIA, FIO D = *1,20 A 1,70* MM, MALHA 15 X 15 MM, (C X L) *50 X 10,5* CM",34558,"M",null,0,0,0]
[null,null,2881,null,"TELA DE ACO SOLDADA GALVANIZADA/ZINCADA PARA ALVENARIA, FIO D = *1,20 A 1,70* MM, MALHA 15 X 15 MM, (C X L) *50 X 6* CM",34550,"M",null,0,0,0]
[null,null,2882,null,"TELA DE ACO SOLDADA GALVANIZADA/ZINCADA PARA ALVENARIA, FIO D = *1,20 A 1,70* MM, MALHA 15 X 15 MM, (C X L) *50 X 7,5* CM",34557,"M",null,0,0,{"$f":"TRUNC(ROUND((I2900*J2900)/12,2),2)","v":0}]
[null,null,2883,null,"TELA DE ACO SOLDADA NERVURADA CA-60, Q-138, (2,20 KG/M2), DIAMETRO DO FIO = 4,2 MM, LARGURA =  2,45 X 120 M DE COMPRIMENTO, ESPACAMENTO DA MALHA = 10  X 10 CM",7155,"M2",null,0,0,0]
[null,null,2884,null,"TELA DE ACO SOLDADA NERVURADA CA-60, Q-138, (2,20 KG/M2), DIAMETRO DO FIO = 4,2 MM, LARGURA =  2,45 X 120 M DE COMPRIMENTO, ESPACAMENTO DA MALHA = 10 X 10 CM",7154,"KG",null,0,0,0]
[null,null,2885,null,"TELA DE ACO SOLDADA NERVURADA CA-60, Q-61, (0,97 KG/M2), DIAMETRO DO FIO = 3,4 MM, LARGURA =  2,45 X 120 M DE COMPRIMENTO, ESPACAMENTO DA MALHA = 15  X 15 CM",10915,"KG",null,0,0,0]
[null,null,2886,null,"TELA DE ACO SOLDADA NERVURADA CA-60, Q-61, (0,97 KG/M2), DIAMETRO DO FIO = 3,4 MM, LARGURA =  2,45 X 120 M DE COMPRIMENTO, ESPACAMENTO DA MALHA = 15 X 15 CM",10917,"M2",null,0,0,0]
[null,null,2887,null,"TELA DE ACO SOLDADA NERVURADA CA-60, Q-92, (1,48 KG/M2), DIAMETRO DO FIO = 4,2 MM, LARGURA =  2,45 X 60 M DE COMPRIMENTO, ESPACAMENTO DA MALHA = 15  X 15 CM",21141,"M2",null,0,0,0]
[null,null,2888,null,"TELA DE ACO SOLDADA NERVURADA CA-60, Q-92, (1,48 KG/M2), DIAMETRO DO FIO = 4,2 MM, LARGURA =  2,45 X 60 M DE COMPRIMENTO, ESPACAMENTO DA MALHA = 15 X 15 CM",10916,"KG",null,0,0,0]
[null,null,2889,null,"TELA DE ACO SOLDADA NERVURADA, CA-60, L-159, (1,69 KG/M2), DIAMETRO DO FIO = 4,5 MM, LARGURA =  2,45 M, ESPACAMENTO DA MALHA = 30 X 10 CM",39508,"M2",null,0,0,0]
[null,null,2890,null,"TELA DE ACO SOLDADA NERVURADA, CA-60, Q-113, (1,8 KG/M2), DIAMETRO DO FIO = 3,8 MM, LARGURA =  2,45 M, ESPACAMENTO DA MALHA = 10 X 10 CM",39507,"M2",null,0,0,0]
[null,null,2891,null,"TELA DE ACO SOLDADA NERVURADA, CA-60, Q-196, (3,11 KG/M2), DIAMETRO DO FIO = 5,0 MM, LARGURA =  2,45 M, ESPACAMENTO DA MALHA = 10 X 10 CM",7156,"M2",null,0,0,0]
[null,null,2892,null,"TELA DE ACO SOLDADA NERVURADA, CA-60, T-196, (2,11 KG/M2), DIAMETRO DO FIO = 5,0 MM, LARGURA =  2,45 M, ESPACAMENTO DA MALHA = 30 X 10 CM",39509,"M2",null,0,0,0]
[null,null,2893,null,"TELA DE ANIAGEM (JUTA)",25988,"M2",null,0,0,0]
[null,null,2894,null,"TELA DE ARAME GALV QUADRANGULAR / LOSANGULAR,  FIO 2,11 MM (14  BWG), MALHA  8 X 8 CM, H = 2 M",10928,"M2",null,0,0,0]
[null,null,2895,null,"TELA DE ARAME GALV QUADRANGULAR / LOSANGULAR,  FIO 2,11 MM (14 BWG), MALHA  5 X 5 CM, H = 2 M",7167,"M2",null,0,0,0]
[null,null,2896,null,"TELA DE ARAME GALV QUADRANGULAR / LOSANGULAR,  FIO 2,77 MM (12  BWG), MALHA  10 X 10 CM, H = 2 M",10933,"M2",null,0,0,0]
[null,null,2897,null,"TELA DE ARAME GALV QUADRANGULAR / LOSANGULAR,  FIO 2,77 MM (12  BWG), MALHA  8 X 8 CM, H = 2 M",10927,"M2",null,0,0,0]
[null,null,2898,null,"TELA DE ARAME GALV QUADRANGULAR / LOSANGULAR,  FIO 2,77 MM (12 BWG), MALHA  5 X 5 CM, H = 2 M",7158,"M2",null,0,0,0]
[null,null,2899,null,"TELA DE ARAME GALV QUADRANGULAR / LOSANGULAR,  FIO 3,4 MM (10  BWG), MALHA  5 X 5 CM, H = 2 M",7162,"M2",null,0,0,0]
[null,null,2900,null,"TELA DE ARAME GALV QUADRANGULAR / LOSANGULAR,  FIO 4,19 MM (8 BWG), MALHA  5 X 5 CM, H = 2 M",10932,"M2",null,0,0,0]
[null,null,2901,null,"TELA DE ARAME GALV REVESTIDO EM PVC, QUADRANGULAR / LOSANGULAR,  FIO 1,24 MM (18 BWG), BITOLA = *1,9* MM, MALHA  1,9 X 1,9  CM, H = 2 M",40706,"M2",null,0,0,0]
[null,null,2902,null,"TELA DE ARAME GALV REVESTIDO EM PVC, QUADRANGULAR / LOSANGULAR,  FIO 2,11 MM (14 BWG), BITOLA FINAL = *2,8* MM, MALHA  *8 X 8* CM, H = 2 M",10937,"M2",null,0,0,0]
[null,null,2903,null,"TELA DE ARAME GALV REVESTIDO EM PVC, QUADRANGULAR / LOSANGULAR,  FIO 2,77 MM (12 BWG), BITOLA FINAL = *3,8* MM, MALHA  7,5 X 7,5 CM, H = 2 M",10935,"M2",null,0,0,0]
[null,null,2904,null,"TELA DE ARAME GALV REVESTIDO EM PVC, QUADRANGULAR/LOSANGULAR, FIO 2,77 MM (12 BWG), MALHA 3 X 3 CM, H = 2 M",40707,"M2",null,0,0,0]
[null,null,2905,null,"TELA DE ARAME GALV, HEXAGONAL,  FIO 0,56 MM (24  BWG), MALHA  1/2\", H = 1 M",10931,"M2",null,0,0,0]
[null,null,2906,null,"TELA DE ARAME ONDULADA,  FIO *2,77* MM (10  BWG), MALHA  5 X 5 CM, H = 2 M",7164,"M2",null,0,0,0]
[null,null,2907,null,"TELA DE FIBRA DE VIDRO, ACABAMENTO ANTI-ALCALINO, MALHA 10 X 10 MM",36887,"M2",null,0,0,0]
[null,null,2908,null,"TELA EM METAL PARA ESTUQUE (DEPLOYE)",7161,"M2",null,0,0,0]
[null,null,2909,null,"TELA FACHADEIRA EM POLIETILENO, ROLO DE 3 X 100 M (L X C), COR BRANCA, SEM LOGOMARCA - PARA PROTECAO DE OBRAS",7170,"M2",null,0,0,0]
[null,null,2910,null,"TELA PLASTICA LARANJA, TIPO TAPUME PARA SINALIZACAO, MALHA RETANGULAR, ROLO 1.20 X 50 M (L X C)",37524,"M",null,0,0,0]
[null,null,2911,null,"TELA PLASTICA TECIDA LISTRADA BRANCA E LARANJA, TIPO GUARDA CORPO, EM POLIETILENO MONOFILADO, ROLO 1,20 X 50 M (L X C)",37525,"M",null,0,0,0]
[null,null,2912,null,"TELA SOLDADA ARAME GALVANIZADO 12 BWG (2,77MM), MALHA 15 X 5 CM",10920,"M2",null,0,0,0]
[null,null,2913,null,"TELHA ALUMINIO ONDULADA, ALTURA = *18* MM, E = 0,5 MM",7238,"M2",null,0,0,0]
[null,null,2914,null,"TELHA ALUMINIO ONDULADA, ALTURA = *18* MM, E = 0,6 MM",7239,"M2",null,0,0,0]
[null,null,2915,null,"TELHA ALUMINIO ONDULADA, ALTURA = *18* MM, E = 0,7 MM",7240,"M2",null,0,0,0]
[null,null,2916,null,"TELHA CERAMICA TIPO AMERICANA, COMPRIMENTO DE *45* CM, RENDIMENTO DE *12* TELHAS/M2",36789,"UN",null,0,0,0]
[null,null,2917,null,"TELHA CERAMICA TIPO COLONIAL, COMPRIMENTO DE *44* CM, RENDIMENTO DE *26* TELHAS/M2",7173,"MIL",null,0,0,0]
[null,null,2918,null,"TELHA CERAMICA TIPO COLONIAL, COMPRIMENTO DE *44* CM, RENDIMENTO DE *26* TELHAS/M2",7176,"UN",null,0,0,0]
[null,null,2919,null,"TELHA CERAMICA TIPO FRANCESA, COMPRIMENTO DE *40* CM, RENDIMENTO DE *16* TELHAS/M2",7183,"UN",null,0,0,0]
[null,null,2920,null,"TELHA CERAMICA TIPO PAULISTA, COMPRIMENTO DE *48* CM, RENDIMENTO DE *26* TELHAS/M2",7180,"UN",null,0,0,0]
[null,null,2921,null,"TELHA CERAMICA TIPO PLAN, COMPRIMENTO DE *47* CM, RENDIMENTO DE *26* TELHAS/M2",11088,"UN",null,0,0,0]
[null,null,2922,null,"TELHA CERAMICA TIPO PORTUGUESA, COMPRIMENTO DE *40* CM, RENDIMENTO DE *16* TELHAS/M2",36788,"UN",null,0,0,0]
[null,null,2923,null,"TELHA CERAMICA TIPO ROMANA, COMPRIMENTO DE *41* CM,  RENDIMENTO DE *16* TELHAS/M2",7175,"UN",null,0,0,0]
[null,null,2924,null,"TELHA DE ACO ZINCADO ONDULADA, A = *17* MM, E = 0,5 MM, SEM PINTURA",25007,"M2",null,0,0,0]
[null,null,2925,null,"TELHA DE ACO ZINCADO TRAPEZOIDAL AUTOPORTANTE, A = 120 MM, E = 0,95 MM, COM PINTURA ELETROSTATICA BRANCA EM 1 FACE",14171,"M2",null,0,0,0]
[null,null,2926,null,"TELHA DE ACO ZINCADO TRAPEZOIDAL AUTOPORTANTE, A = 120 MM, E = 0,95 MM, SEM PINTURA",14170,"M2",null,0,0,0]
[null,null,2927,null,"TELHA DE ACO ZINCADO TRAPEZOIDAL AUTOPORTANTE, A = 259 MM, E = 0,95 MM, COM PINTURA ELETROSTATICA BRANCA EM 1 FACE",14173,"M2",null,0,0,0]
[null,null,2928,null,"TELHA DE ACO ZINCADO TRAPEZOIDAL AUTOPORTANTE, A = 259 MM, E = 0,95 MM, SEM PINTURA",14172,"M2",null,0,0,0]
[null,null,2929,null,"TELHA DE ACO ZINCADO TRAPEZOIDAL, A = *40* MM, E = 0,5 MM, SEM PINTURA",7243,"M2",null,0,0,0]
[null,null,2930,null,"TELHA DE ALUMINIO TRAPEZOIDAL, ALTURA = 38 MM, E = 0,5 MM (LARGURA = 1056 MM E COMPRIMENTO = 5000 MM)",11067,"UN",null,0,0,0]
[null,null,2931,null,"TELHA DE ALUMINIO TRAPEZOIDAL, ALTURA = 38 MM, E = 0,7 MM (LARGURA = 1056 MM E COMPRIMENTO = 5000 MM)",11068,"UN",null,0,0,0]
[null,null,2932,null,"TELHA DE CONCRETO TIPO CLASSICA, COR CINZA, COMPRIMENTO DE *42* CM, RENDIMENTO DE *10* TELHAS/M2 (COLETADO CAIXA)",40865,"UN",null,0,0,0]
[null,null,2933,null,"TELHA DE FIBRA DE VIDRO ONDULADA INCOLOR, E = 0,6 MM, DE *0,50 X 2,44* M",7184,"M2",null,0,0,0]
[null,null,2934,null,"TELHA DE FIBROCIMENTO E = 6 MM, DE 3,00 X 1,06 M (SEM AMIANTO)",34458,"UN",null,0,0,0]
[null,null,2935,null,"TELHA DE FIBROCIMENTO E = 6 MM, DE 4,10 X 1,06 M (SEM AMIANTO)",34464,"UN",null,0,0,0]
[null,null,2936,null,"TELHA DE FIBROCIMENTO E = 6 MM, DE 4,60 X 1,06 M (SEM AMIANTO)",34468,"UN",null,0,0,0]
[null,null,2937,null,"TELHA DE FIBROCIMENTO E = 8 MM, DE 3,00 X 1,06 M (SEM AMIANTO)",34473,"UN",null,0,0,0]
[null,null,2938,null,"TELHA DE FIBROCIMENTO E = 8 MM, DE 4,10 X 1,06 M (SEM AMIANTO)",34480,"UN",null,0,0,0]
[null,null,2939,null,"TELHA DE FIBROCIMENTO E = 8 MM, DE 4,60 X 1,06 M (SEM AMIANTO)",34486,"UN",null,0,0,0]
[null,null,2940,null,"TELHA DE FIBROCIMENTO E= 8 MM, DE *3,70 X 1,06* M (SEM AMIANTO)",7202,"M2",null,0,0,0]
[null,null,2941,null,"TELHA DE FIBROCIMENTO ONDULADA E = 4 MM, DE 1,22 X 0,50 M (SEM AMIANTO)",7190,"UN",null,0,0,0]
[null,null,2942,null,"TELHA DE FIBROCIMENTO ONDULADA E = 4 MM, DE 2,13 X 0,50 M (SEM AMIANTO)",34417,"UN",null,0,0,0]
[null,null,2943,null,"TELHA DE FIBROCIMENTO ONDULADA E = 4 MM, DE 2,44 X 0,50 M (SEM AMIANTO)",7191,"UN",null,0,0,0]
[null,null,2944,null,"TELHA DE FIBROCIMENTO ONDULADA E = 4 MM, DE 2,44 X 0,50 M (SEM AMIANTO)",7213,"M2",null,0,0,0]
[null,null,2945,null,"TELHA DE FIBROCIMENTO ONDULADA E = 6 MM, DE 1,53 X 1,10 M (SEM AMIANTO)",7195,"UN",null,0,0,0]
[null,null,2946,null,"TELHA DE FIBROCIMENTO ONDULADA E = 6 MM, DE 1,83 X 1,10 M (SEM AMIANTO)",7186,"UN",null,0,0,{"$f":"TRUNC(ROUND((I2964*J2964)/12,2),2)","v":0}]
[null,null,2947,null,"TELHA DE FIBROCIMENTO ONDULADA E = 6 MM, DE 2,44 X 1,10 M (SEM AMIANTO)",7207,"UN",null,0,0,0]
[null,null,2948,null,"TELHA DE FIBROCIMENTO ONDULADA E = 6 MM, DE 2,44 X 1,10 M (SEM AMIANTO)",7194,"M2",null,0,0,0]
[null,null,2949,null,"TELHA DE FIBROCIMENTO ONDULADA E = 6 MM, DE 3,66 X 1,10 M (SEM AMIANTO)",7197,"UN",null,0,0,0]
[null,null,2950,null,"TELHA DE FIBROCIMENTO ONDULADA E = 8 MM, DE 1,53 X 1,10 M (SEM AMIANTO)",7192,"UN",null,0,0,0]
[null,null,2951,null,"TELHA DE FIBROCIMENTO ONDULADA E = 8 MM, DE 1,83 X 1,10 M (SEM AMIANTO)",7193,"UN",null,0,0,0]
[null,null,2952,null,"TELHA DE FIBROCIMENTO ONDULADA E = 8 MM, DE 2,44 X 1,10 M (SEM AMIANTO)",7189,"UN",null,0,0,0]
[null,null,2953,null,"TELHA DE FIBROCIMENTO ONDULADA E = 8 MM, DE 3,66 X 1,10 M (SEM AMIANTO)",34402,"UN",null,0,0,0]
[null,null,2954,null,"TELHA DE FIBROCIMENTO ONDULADA E = 8 MM, DE 3,66 X 1,10 M (SEM AMIANTO)",7198,"M2",null,0,0,0]
[null,null,2955,null,"TELHA DE VIDRO TIPO FRANCESA, *39 X 23* CM",7245,"UN",null,0,0,0]
[null,null,2956,null,"TELHA ESTRUTURAL DE FIBROCIMENTO 1 ABA, DE 0,52 X 2,00 M (SEM AMIANTO)",34425,"UN",null,0,0,0]
[null,null,2957,null,"TELHA ESTRUTURAL DE FIBROCIMENTO 1 ABA, DE 0,52 X 2,50 M (SEM AMIANTO)",7223,"UN",null,0,0,0]
[null,null,2958,null,"TELHA ESTRUTURAL DE FIBROCIMENTO 1 ABA, DE 0,52 X 3,60 M (SEM AMIANTO)",7234,"UN",null,0,0,0]
[null,null,2959,null,"TELHA ESTRUTURAL DE FIBROCIMENTO 1 ABA, DE 0,52 X 4,00 M (SEM AMIANTO)",7224,"UN",null,0,0,0]
[null,null,2960,null,"TELHA ESTRUTURAL DE FIBROCIMENTO 1 ABA, DE 0,52 X 4,50 M (SEM AMIANTO)",7210,"UN",null,0,0,0]
[null,null,2961,null,"TELHA ESTRUTURAL DE FIBROCIMENTO 1 ABA, DE 0,52 X 4,50 M (SEM AMIANTO)",7221,"M2",null,0,0,0]
[null,null,2962,null,"TELHA ESTRUTURAL DE FIBROCIMENTO 1 ABA, DE 0,52 X 5,00 M (SEM AMIANTO)",7225,"UN",null,0,0,0]
[null,null,2963,null,"TELHA ESTRUTURAL DE FIBROCIMENTO 1 ABA, DE 0,52 X 5,50 M (SEM AMIANTO)",7226,"UN",null,0,0,0]
[null,null,2964,null,"TELHA ESTRUTURAL DE FIBROCIMENTO 1 ABA, DE 0,52 X 6,00 M (SEM AMIANTO)",7236,"UN",null,0,0,0]
[null,null,2965,null,"TELHA ESTRUTURAL DE FIBROCIMENTO 2 ABAS, DE 1,00 X 3,00 M (SEM AMIANTO)",7229,"UN",null,0,0,0]
[null,null,2966,null,"TELHA ESTRUTURAL DE FIBROCIMENTO 2 ABAS, DE 1,00 X 4,60 M (SEM AMIANTO)",7230,"UN",null,0,0,0]
[null,null,2967,null,"TELHA ESTRUTURAL DE FIBROCIMENTO 2 ABAS, DE 1,00 X 6,00 M (SEM AMIANTO)",7231,"UN",null,0,0,0]
[null,null,2968,null,"TELHA ESTRUTURAL DE FIBROCIMENTO 2 ABAS, DE 1,00 X 7,40 M (SEM AMIANTO)",7220,"UN",null,0,0,0]
[null,null,2969,null,"TELHA ESTRUTURAL DE FIBROCIMENTO 2 ABAS, DE 1,00 X 8,20 M (SEM AMIANTO)",34447,"UN",null,0,0,0]
[null,null,2970,null,"TELHA ESTRUTURAL DE FIBROCIMENTO 2 ABAS, DE 1,00 X 9,20 M (SEM AMIANTO)",7233,"UN",null,0,0,0]
[null,null,2971,null,"TELHA GALVALUME COM ISOLAMENTO TERMOACUSTICO EM ESPUMA RIGIDA DE POLIURETANO (PU) INJETADO, E = 30 MM, DENSIDADE 35 KG/M3, COM DUAS FACES TRAPEZOIDAIS (NAO INCLUI ACESSORIOS DE FIXACAO) (COLETADO CAIXA)",42172,"M2",null,0,0,0]
[null,null,2972,null,"TELHA ISOLANTE COM NUCLEO EM POLIESTIRENO (EPS), E = 30 MM, REVESTIDA EM ACO ZINCADO *0,5* MM COM PRE-PINTURA NAS DUAS FACES, FACE SUPERIOR EM TELHA TRAPEZOIDAL E FACE INFERIOR EM CHAPA PLANA (NAO INCLUI ACESSORIOS DE FIXACAO)",39520,"M2",null,0,0,0]
[null,null,2973,null,"TELHA ISOLANTE COM NUCLEO EM POLIESTIRENO (EPS), E = 50 MM, REVESTIDA EM ACO ZINCADO *0,5* MM COM PRE-PINTURA NAS DUAS FACES, FACE SUPERIOR EM TELHA TRAPEZOIDAL E FACE INFERIOR EM CHAPA PLANA (NAO INCLUI ACESSORIOS DE FIXACAO)",39521,"M2",null,0,0,0]
[null,null,2974,null,"TELHA ISOLANTE COM NUCLEO EM POLIESTIRENO (EPS), E = 50 MM, REVESTIDA EM TELHA TRAPEZOIDAL DE ACO ZINCADO *0,5* MM COM PRE-PINTURA NAS DUAS FACES (NAO INCLUI ACESSORIOS DE FIXACAO)",39522,"M2",null,0,0,0]
[null,null,2975,null,"TELHA VIDRO TIPO CANAL OU COLONIAL, C = 46 A 50 CM",7246,"UN",null,0,0,0]
[null,null,2976,null,"TERMINAL A COMPRESSAO EM COBRE ESTANHADO PARA CABO 10 MM2, 1 FURO E 1 COMPRESSAO, PARA PARAFUSO DE FIXACAO M6",1574,"UN",null,0,0,0]
[null,null,2977,null,"TERMINAL A COMPRESSAO EM COBRE ESTANHADO PARA CABO 120 MM2, 1 FURO E 1 COMPRESSAO, PARA PARAFUSO DE FIXACAO M12",1581,"UN",null,0,0,0]
[null,null,2978,null,"TERMINAL A COMPRESSAO EM COBRE ESTANHADO PARA CABO 16 MM2, 1 FURO E 1 COMPRESSAO, PARA PARAFUSO DE FIXACAO M6",1575,"UN",null,0,0,0]
[null,null,2979,null,"TERMINAL A COMPRESSAO EM COBRE ESTANHADO PARA CABO 2,5 MM2, 1 FURO E 1 COMPRESSAO, PARA PARAFUSO DE FIXACAO M5",1570,"UN",null,0,0,0]
[null,null,2980,null,"TERMINAL A COMPRESSAO EM COBRE ESTANHADO PARA CABO 25 MM2, 1 FURO E 1 COMPRESSAO, PARA PARAFUSO DE FIXACAO M8",1576,"UN",null,0,0,0]
[null,null,2981,null,"TERMINAL A COMPRESSAO EM COBRE ESTANHADO PARA CABO 35 MM2, 1 FURO E 1 COMPRESSAO, PARA PARAFUSO DE FIXACAO M8",1577,"UN",null,0,0,0]
[null,null,2982,null,"TERMINAL A COMPRESSAO EM COBRE ESTANHADO PARA CABO 4 MM2, 1 FURO E 1 COMPRESSAO, PARA PARAFUSO DE FIXACAO M5",1571,"UN",null,0,0,0]
[null,null,2983,null,"TERMINAL A COMPRESSAO EM COBRE ESTANHADO PARA CABO 50 MM2, 1 FURO E 1 COMPRESSAO, PARA PARAFUSO DE FIXACAO M8",1578,"UN",null,0,0,0]
[null,null,2984,null,"TERMINAL A COMPRESSAO EM COBRE ESTANHADO PARA CABO 6 MM2, 1 FURO E 1 COMPRESSAO, PARA PARAFUSO DE FIXACAO M6",1573,"UN",null,0,0,0]
[null,null,2985,null,"TERMINAL A COMPRESSAO EM COBRE ESTANHADO PARA CABO 70 MM2, 1 FURO E 1 COMPRESSAO, PARA PARAFUSO DE FIXACAO M10",1579,"UN",null,0,0,0]
[null,null,2986,null,"TERMINAL A COMPRESSAO EM COBRE ESTANHADO PARA CABO 95 MM2, 1 FURO E 1 COMPRESSAO, PARA PARAFUSO DE FIXACAO M12",1580,"UN",null,0,0,0]
[null,null,2987,null,"TERMINAL AEREO EM ACO GALVANIZADO DN 5/16\", COMPRIMENTO DE 350MM, COM BASE DE FIXACAO HORIZONTAL",7571,"UN",null,0,0,0]
[null,null,2988,null,"TERMINAL DE VENTILACAO, 100 MM, SERIE NORMAL, ESGOTO PREDIAL",39321,"UN",null,0,0,0]
[null,null,2989,null,"TERMINAL DE VENTILACAO, 50 MM, SERIE NORMAL, ESGOTO PREDIAL",39319,"UN",null,0,0,0]
[null,null,2990,null,"TERMINAL DE VENTILACAO, 75 MM, SERIE NORMAL, ESGOTO PREDIAL",39320,"UN",null,0,0,0]
[null,null,2991,null,"TERMINAL METALICO A PRESSAO 1 CABO, PARA CABOS DE 4 A 10 MM2, COM 2 FUROS PARA FIXACAO",1542,"UN",null,0,0,0]
[null,null,2992,null,"TERMINAL METALICO A PRESSAO PARA 1 CABO DE 120 MM2, COM 1 FURO DE FIXACAO",1591,"UN",null,0,0,0]
[null,null,2993,null,"TERMINAL METALICO A PRESSAO PARA 1 CABO DE 150 A 185 MM2, COM 2 FUROS PARA FIXACAO",1547,"UN",null,0,0,0]
[null,null,2994,null,"TERMINAL METALICO A PRESSAO PARA 1 CABO DE 150 MM2, COM 1 FURO DE FIXACAO",38196,"UN",null,0,0,0]
[null,null,2995,null,"TERMINAL METALICO A PRESSAO PARA 1 CABO DE 16 A 25 MM2, COM 2 FUROS PARA FIXACAO",1543,"UN",null,0,0,0]
[null,null,2996,null,"TERMINAL METALICO A PRESSAO PARA 1 CABO DE 16 MM2, COM 1 FURO DE FIXACAO",1585,"UN",null,0,0,0]
[null,null,2997,null,"TERMINAL METALICO A PRESSAO PARA 1 CABO DE 185 MM2, COM 1 FURO DE FIXACAO",1593,"UN",null,0,0,0]
[null,null,2998,null,"TERMINAL METALICO A PRESSAO PARA 1 CABO DE 240 MM2, COM 1 FURO DE FIXACAO",11838,"UN",null,0,0,0]
[null,null,2999,null,"TERMINAL METALICO A PRESSAO PARA 1 CABO DE 25 A 35 MM2, COM 2 FUROS PARA FIXACAO",1594,"UN",null,0,0,0]
[null,null,3000,null,"TERMINAL METALICO A PRESSAO PARA 1 CABO DE 25 MM2, COM 1 FURO DE FIXACAO",1586,"UN",null,0,0,0]
[null,null,3001,null,"TERMINAL METALICO A PRESSAO PARA 1 CABO DE 300 MM2, COM 1 FURO DE FIXACAO",11839,"UN",null,0,0,0]
[null,null,3002,null,"TERMINAL METALICO A PRESSAO PARA 1 CABO DE 35 MM2, COM 1 FURO DE FIXACAO",1587,"UN",null,0,0,0]
[null,null,3003,null,"TERMINAL METALICO A PRESSAO PARA 1 CABO DE 50 A 70 MM2, COM 2 FUROS PARA FIXACAO",1545,"UN",null,0,0,0]
[null,null,3004,null,"TERMINAL METALICO A PRESSAO PARA 1 CABO DE 50 MM2, COM 1 FURO DE FIXACAO",1588,"UN",null,0,0,0]
[null,null,3005,null,"TERMINAL METALICO A PRESSAO PARA 1 CABO DE 6 A 10 MM2, COM 1 FURO DE FIXACAO",1535,"UN",null,0,0,0]
[null,null,3006,null,"TERMINAL METALICO A PRESSAO PARA 1 CABO DE 70 MM2, COM 1 FURO DE FIXACAO",1589,"UN",null,0,0,0]
[null,null,3007,null,"TERMINAL METALICO A PRESSAO PARA 1 CABO DE 95 A 120 MM2, COM 2 FUROS PARA FIXACAO",1546,"UN",null,0,0,0]
[null,null,3008,null,"TERMINAL METALICO A PRESSAO PARA 1 CABO DE 95 MM2, COM 1 FURO DE FIXACAO",1590,"UN",null,0,0,0]
[null,null,3009,null,"TERRA VEGETAL (ENSACADA)",38128,"KG",null,0,0,0]
[null,null,3010,null,"TERRA VEGETAL (GRANEL)",7253,"M3",null,0,0,{"$f":"TRUNC(ROUND((I3028*J3028)/12,2),2)","v":0}]
[null,null,3011,null,"TESTEIRA ANTIDERRAPANTE PARA PISO VINILICO *5 X 2,5* CM, E = 2 MM",4806,"M",null,0,0,0]
[null,null,3012,null,"TIJOLO CERAMICO LAMINADO 5,5 X 11 X 23 CM",34401,"UN",null,0,0,0]
[null,null,3013,null,"TIJOLO CERAMICO MACICO *5 X 10 X 20* CM",7258,"UN",null,0,0,0]
[null,null,3014,null,"TIJOLO CERAMICO MACICO APARENTE *6 X 12 X 24* CM",7260,"UN",null,0,0,0]
[null,null,3015,null,"TIJOLO CERAMICO MACICO APARENTE 2 FUROS, *6,5 X 10 X 20* CM",7256,"UN",null,0,0,0]
[null,null,3016,null,"TIJOLO CERAMICO REFRATARIO 2,5 X 11,4 X 22,9 CM",34400,"UN",null,0,0,0]
[null,null,3017,null,"TIJOLO CERAMICO REFRATARIO 6,3 X 11,4 X 22,9 CM",10617,"UN",null,0,0,0]
[null,null,3018,null,"TIL DE PASSAGEM, EM PVC, JE, BBB, DN 100 X 100 MM, PARA REDE COLETORA DE ESGOTO NBR 10569",7280,"UN",null,0,0,0]
[null,null,3019,null,"TIL PARA LIGACAO PREDIAL, EM PVC, JE, BBB, DN 100 X 100 MM, PARA REDE COLETORA ESGOTO (NBR 10569)",7274,"UN",null,0,0,0]
[null,null,3020,null,"TIL TUBO QUEDA, EM PVC, JE, BBB, DN 100 X 100 MM, PARA REDE COLETORA DE ESGOTO (NBR 10569)",11663,"UN",null,0,0,0]
[null,null,3021,null,"TINTA A BASE DE RESINA ACRILICA EMULSIONADA EM AGUA, PARA SINALIZACAO HORIZONTAL VIARIA (NBR 13699)",38121,"L",null,0,0,0]
[null,null,3022,null,"TINTA A BASE DE RESINA ACRILICA, PARA SINALIZACAO HORIZONTAL VIARIA (NBR 11862)",7343,"L",null,0,0,0]
[null,null,3023,null,"TINTA A OLEO BRILHANTE PARA MADEIRA E METAIS",7287,"GL",null,0,0,0]
[null,null,3024,null,"TINTA ACRILICA PARA CERAMICA",7350,"L",null,0,0,0]
[null,null,3025,null,"TINTA ACRILICA PREMIUM PARA PISO",7347,"GL",null,0,0,0]
[null,null,3026,null,"TINTA ACRILICA PREMIUM PARA PISO",7348,"L",null,0,0,0]
[null,null,3027,null,"TINTA ACRILICA PREMIUM, COR BRANCO  FOSCO",7355,"GL",null,0,0,0]
[null,null,3028,null,"TINTA ACRILICA PREMIUM, COR BRANCO FOSCO",7356,"L",null,0,0,0]
[null,null,3029,null,"TINTA ASFALTICA IMPERMEABILIZANTE DILUIDA EM SOLVENTE, PARA MATERIAIS CIMENTICIOS, METAL E MADEIRA",7313,"L",null,0,0,0]
[null,null,3030,null,"TINTA ASFALTICA IMPERMEABILIZANTE DISPERSA EM AGUA, PARA MATERIAIS CIMENTICIOS",7319,"L",null,0,0,0]
[null,null,3031,null,"TINTA BORRACHA CLORADA, ACABAMENTO SEMIBRILHO, BRANCA",38119,"L",null,0,0,0]
[null,null,3032,null,"TINTA BORRACHA CLORADA, ACABAMENTO SEMIBRILHO, CORES VIVAS",7314,"L",null,0,0,0]
[null,null,3033,null,"TINTA BORRACHA, CLORADA, ACABAMENTO SEMIBRILHO, PRETA",38131,"L",null,0,0,0]
[null,null,3034,null,"TINTA EPOXI PREMIUM, BRANCA",7304,"L",null,0,0,0]
[null,null,3035,null,"TINTA ESMALTE SINTETICO GRAFITE COM PROTECAO PARA METAIS FERROSOS",7293,"L",null,0,0,0]
[null,null,3036,null,"TINTA ESMALTE SINTETICO PREMIUM ACETINADO",7311,"L",null,0,0,0]
[null,null,3037,null,"TINTA ESMALTE SINTETICO PREMIUM BRILHANTE",7292,"L",null,0,0,0]
[null,null,3038,null,"TINTA ESMALTE SINTETICO PREMIUM FOSCO",7288,"L",null,0,0,0]
[null,null,3039,null,"TINTA LATEX ACRILICA ECONOMICA, COR BRANCA",35693,"L",null,0,0,0]
[null,null,3040,null,"TINTA LATEX ACRILICA STANDARD, COR BRANCA",35692,"L",null,0,0,0]
[null,null,3041,null,"TINTA LATEX PVA PREMIUM,  COR BRANCA",7344,"GL",null,0,0,0]
[null,null,3042,null,"TINTA LATEX PVA PREMIUM, COR BRANCA",7345,"L",null,0,0,0]
[null,null,3043,null,"TINTA LATEX PVA STANDARD, COR BRANCA",35691,"L",null,0,0,0]
[null,null,3044,null,"TINTA MINERAL IMPERMEAVEL EM PO, BRANCA",7342,"KG",null,0,0,0]
[null,null,3045,null,"TINTA PROTETORA SUPERFICIE METALICA ALUMINIO",7306,"L",null,0,0,0]
[null,null,3046,null,"TINTA/REVESTIMENTO  A BASE DE RESINA EPOXI COM ALCATRAO, BICOMPONENTE",154,"L",null,0,0,0]
[null,null,3047,null,"TINTA/REVESTIMENTO A BASE DE RESINA EPOXI COM ALCATRAO, BICOMPONENTE",7338,"KG",null,0,0,0]
[null,null,3048,null,"TIRANTE COM ELO, EM ARAME GALVANIZADO RIGIDO, NUMERO 10, COMPRIMENTO 2000 MM, PARA PENDURAL DE FORRO REMOVIVEL",39574,"UN",null,0,0,0]
[null,null,3049,null,"TIRANTE EM FERRO GALVANIZADO PARA CONTRAVENTAMENTO DE TELHA CANALETE 90, 1/4 \" X 400 MM",11060,"UN",null,0,0,0]
[null,null,3050,null,"TOALHEIRO PLASTICO TIPO DISPENSER PARA PAPEL TOALHA INTERFOLHADO",37401,"UN",null,0,0,0]
[null,null,3051,null,"TOMADA 2P+T 10A, 250V  (APENAS MODULO)",38101,"UN",null,0,0,0]
[null,null,3052,null,"TOMADA 2P+T 10A, 250V, CONJUNTO MONTADO PARA EMBUTIR 4\" X 2\" (PLACA + SUPORTE + MODULO)",7528,"UN",null,0,0,0]
[null,null,3053,null,"TOMADA 2P+T 10A, 250V, CONJUNTO MONTADO PARA SOBREPOR 4\" X 2\" (CAIXA + MODULO)",12147,"UN",null,0,0,0]
[null,null,3054,null,"TOMADA 2P+T 20A 250V, CONJUNTO MONTADO PARA EMBUTIR 4\" X 2\" (PLACA + SUPORTE + MODULO)",38075,"UN",null,0,0,0]
[null,null,3055,null,"TOMADA 2P+T 20A, 250V  (APENAS MODULO)",38102,"UN",null,0,0,0]
[null,null,3056,null,"TOMADA INDUSTRIAL DE EMBUTIR 3P+T 30 A, 440 V, COM TRAVA, COM PLACA",7525,"UN",null,0,0,0]
[null,null,3057,null,"TOMADA INDUSTRIAL DE EMBUTIR 3P+T 30 A, 440 V, COM TRAVA, SEM PLACA",7524,"UN",null,0,0,0]
[null,null,3058,null,"TOMADA PARA ANTENA DE TV, CABO COAXIAL DE 9 MM (APENAS MODULO)",38105,"UN",null,0,0,0]
[null,null,3059,null,"TOMADA PARA ANTENA DE TV, CABO COAXIAL DE 9 MM, CONJUNTO MONTADO PARA EMBUTIR 4\" X 2\" (PLACA + SUPORTE + MODULO)",38084,"UN",null,0,0,0]
[null,null,3060,null,"TOMADA RJ11, 2 FIOS (APENAS MODULO)",38103,"UN",null,0,0,0]
[null,null,3061,null,"TOMADA RJ11, 2 FIOS, CONJUNTO MONTADO PARA EMBUTIR 4\" X 2\" (PLACA + SUPORTE + MODULO)",38082,"UN",null,0,0,0]
[null,null,3062,null,"TOMADA RJ45, 8 FIOS, CAT 5E (APENAS MODULO)",38104,"UN",null,0,0,0]
[null,null,3063,null,"TOMADA RJ45, 8 FIOS, CAT 5E, CONJUNTO MONTADO PARA EMBUTIR 4\" X 2\" (PLACA + SUPORTE + MODULO)",38083,"UN",null,0,0,0]
[null,null,3064,null,"TOMADAS (2 MODULOS) 2P+T 10A, 250V, CONJUNTO MONTADO PARA EMBUTIR 4\" X 2\" (PLACA + SUPORTE + MODULOS)",38076,"UN",null,0,0,0]
[null,null,3065,null,"TORNEIRA CROMADA COM BICO PARA JARDIM/TANQUE 1/2 \" OU 3/4 \" (REF 1153)",11762,"UN",null,0,0,0]
[null,null,3066,null,"TORNEIRA CROMADA CURTA SEM BICO PARA TANQUE, PADRAO POPULAR, 1/2 \" OU 3/4 \" (REF 1140)",13418,"UN",null,0,0,0]
[null,null,3067,null,"TORNEIRA CROMADA CURTA SEM BICO PARA USO GERAL  1/2 \" OU 3/4 \" (REF 1152)",13984,"UN",null,0,0,0]
[null,null,3068,null,"TORNEIRA CROMADA DE MESA PARA COZINHA BICA MOVEL COM AREJADOR 1/2 \" OU 3/4 \" (REF 1167)",11772,"UN",null,0,0,0]
[null,null,3069,null,"TORNEIRA CROMADA DE MESA PARA LAVATORIO COM SENSOR DE PRESENCA",36795,"UN",null,0,0,0]
[null,null,3070,null,"TORNEIRA CROMADA DE MESA PARA LAVATORIO TEMPORIZADA PRESSAO BICA BAIXA",36796,"UN",null,0,0,0]
[null,null,3071,null,"TORNEIRA CROMADA DE MESA PARA LAVATORIO, BICA ALTA (REF 1195)",36791,"UN",null,0,0,0]
[null,null,3072,null,"TORNEIRA CROMADA DE MESA PARA LAVATORIO, PADRAO POPULAR, 1/2 \" OU 3/4 \" (REF 1193)",13415,"UN",null,0,0,0]
[null,null,3073,null,"TORNEIRA CROMADA DE PAREDE LONGA PARA LAVATORIO (REF 1178)",36792,"UN",null,0,0,0]
[null,null,3074,null,"TORNEIRA CROMADA DE PAREDE PARA COZINHA BICA MOVEL COM AREJADOR 1/2 \" OU 3/4 \" (REF 1168)",11773,"UN",null,0,0,{"$f":"TRUNC(ROUND((I3092*J3092)/12,2),2)","v":0}]
[null,null,3075,null,"TORNEIRA CROMADA DE PAREDE PARA COZINHA COM AREJADOR 1/2 \" OU 3/4 \" (REF 1157)",11775,"UN",null,0,0,0]
[null,null,3076,null,"TORNEIRA CROMADA DE PAREDE PARA COZINHA COM AREJADOR, PADRAO POPULAR, 1/2 \" OU 3/4 \" (REF 1159)",13983,"UN",null,0,0,0]
[null,null,3077,null,"TORNEIRA CROMADA DE PAREDE PARA COZINHA SEM AREJADOR, PADRAO POPULAR, 1/2 \" OU 3/4 \" (REF 1158)",13416,"UN",null,0,0,0]
[null,null,3078,null,"TORNEIRA CROMADA SEM BICO PARA TANQUE 1/2 \" OU 3/4 \" (REF 1143)",13417,"UN",null,0,0,0]
[null,null,3079,null,"TORNEIRA CROMADA SEM BICO PARA TANQUE, PADRAO POPULAR, 1/2 \" OU 3/4 \" (REF 1126)",7604,"UN",null,0,0,0]
[null,null,3080,null,"TORNEIRA ELETRICA DE PAREDE, BICA ALTA, PARA COZINHA, 5500 W (110/220 V)",11777,"UN",null,0,0,0]
[null,null,3081,null,"TORNEIRA METAL AMARELO COM BICO PARA JARDIM, PADRAO POPULAR, 1/2 \" OU 3/4 \" (REF 1128)",7602,"UN",null,0,0,0]
[null,null,3082,null,"TORNEIRA METAL AMARELO CURTA SEM BICO PARA TANQUE, PADRAO POPULAR, 1/2 \" OU 3/4 \" (REF 1120)",7603,"UN",null,0,0,0]
[null,null,3083,null,"TORNEIRA METALICA DE BOIA CONVENCIONAL PARA CAIXA D'AGUA, 1\", COM HASTE METALICA E BALAO PLASTICO",11825,"UN",null,0,0,0]
[null,null,3084,null,"TORNEIRA METALICA DE BOIA CONVENCIONAL PARA CAIXA D'AGUA, 1.1/2\", COM HASTE METALICA E BALAO PLASTICO",11763,"UN",null,0,0,0]
[null,null,3085,null,"TORNEIRA METALICA DE BOIA CONVENCIONAL PARA CAIXA D'AGUA, 1.1/4\", COM HASTE METALICA E BALAO PLASTICO",11764,"UN",null,0,0,0]
[null,null,3086,null,"TORNEIRA METALICA DE BOIA CONVENCIONAL PARA CAIXA D'AGUA, 1/2 \", COM HASTE METALICA E BALAO METALICO",11826,"UN",null,0,0,0]
[null,null,3087,null,"TORNEIRA METALICA DE BOIA CONVENCIONAL PARA CAIXA D'AGUA, 1/2\", COM HASTE METALICA E BALAO PLASTICO",11829,"UN",null,0,0,0]
[null,null,3088,null,"TORNEIRA METALICA DE BOIA CONVENCIONAL PARA CAIXA D'AGUA, 2\", COM HASTE METALICA E BALAO PLASTICO",11767,"UN",null,0,0,0]
[null,null,3089,null,"TORNEIRA METALICA DE BOIA CONVENCIONAL PARA CAIXA D'AGUA, 3/4 \", COM HASTE METALICA E BALAO METALICO",7606,"UN",null,0,0,0]
[null,null,3090,null,"TORNEIRA METALICA DE BOIA CONVENCIONAL PARA CAIXA D'AGUA, 3/4\", COM HASTE METALICA E BALAO PLASTICO",11830,"UN",null,0,0,0]
[null,null,3091,null,"TORNEIRA METALICA DE BOIA VAZAO TOTAL PARA CAIXA D'AGUA, 1\", COM HASTE METALICA E BALAO PLASTICO",11765,"UN",null,0,0,0]
[null,null,3092,null,"TORNEIRA METALICA DE BOIA VAZAO TOTAL PARA CAIXA D'AGUA, 1/2\", COM HASTE METALICA E BALAO PLASTICO",11766,"UN",null,0,0,0]
[null,null,3093,null,"TORNEIRA METALICA DE BOIA VAZAO TOTAL PARA CAIXA D'AGUA, 3/4\", COM HASTE METALICA E BALAO PLASTICO",11824,"UN",null,0,0,0]
[null,null,3094,null,"TORNEIRA PLASTICA DE BOIA CONVENCIONAL PARA CAIXA DE AGUA, 3/4 \", COM HASTE METALICA E COM BALAO PLASTICO (PADRAO POPULAR)",40329,"UN",null,0,0,0]
[null,null,3095,null,"TORNEIRA PLASTICA DE BOIA PARA CAIXA DE DESCARGA,  1/2\", COM HASTE  METALICA E BALAO PLASTICO",11823,"UN",null,0,0,0]
[null,null,3096,null,"TORNEIRA PLASTICA DE MESA PARA LAVATORIO 1/2 \"",11832,"UN",null,0,0,0]
[null,null,3097,null,"TORNEIRA PLASTICA DE MESA, BICA MOVEL, PARA COZINHA 1/2 \"",11822,"UN",null,0,0,0]
[null,null,3098,null,"TORNEIRA PLASTICA PARA TANQUE 1/2 \" OU 3/4 \" COM BICO PARA MANGUEIRA",11831,"UN",null,0,0,0]
[null,null,3099,null,"TRILHO EM ALUMINIO \"U\", COM ABAULADO PARA ROLDANA DE PORTA DE CORRER, *40 X 40* MM",11581,"M",null,0,0,0]
[null,null,3100,null,"TRILHO QUADRADO, EM ALUMINIO (VERGALHAO MACICO), 1/4\", (*6 X 6* CM), PARA RODIZIOS",11580,"M",null,0,0,0]
[null,null,3101,null,"TRINCO / FECHO TIPO AVIAO, EM ZAMAC CROMADO, *60* MM, PARA JANELAS - INCLUI PARAFUSOS",38177,"UN",null,0,0,0]
[null,null,3102,null,"TUBO / MANGUEIRA PRETA EM POLIETILENO, LINHA PESADA OU REFORCADA, TIPO ESPAGUETE, PARA INJECAO DE CALDA DE CIMENTO, D = 1/2\", ESPESSURA 1,5 MM",39848,"M",null,0,0,0]
[null,null,3103,null,"TUBO ACO CARBONO COM COSTURA, NBR 5580, CLASSE L, DN = 15 MM, E = 2,25 MM, 1,06 KG/M",20999,"M",null,0,0,0]
[null,null,3104,null,"TUBO ACO CARBONO COM COSTURA, NBR 5580, CLASSE L, DN = 25 MM, E = 2,65 MM, 2,02 KG/M",21001,"M",null,0,0,0]
[null,null,3105,null,"TUBO ACO CARBONO COM COSTURA, NBR 5580, CLASSE L, DN = 40 MM, E = 3,0 MM, 3,34 KG/M",21003,"M",null,0,0,0]
[null,null,3106,null,"TUBO ACO CARBONO COM COSTURA, NBR 5580, CLASSE M, DN = 25 MM, E = 3,35 MM, *2,50* KG//M",21019,"M",null,0,0,0]
[null,null,3107,null,"TUBO ACO CARBONO COM COSTURA, NBR 5580, CLASSE M, DN = 40 MM, E = 3,35 MM, *3,71* KG//M",21021,"M",null,0,0,0]
[null,null,3108,null,"TUBO ACO GALVANIZADO COM COSTURA, CLASSE LEVE, DN 15 MM ( 1/2\"),  E = 2,25 MM,  *1,2* KG/M (NBR 5580)",21008,"M",null,0,0,0]
[null,null,3109,null,"TUBO ACO GALVANIZADO COM COSTURA, CLASSE LEVE, DN 20 MM ( 3/4\"),  E = 2,25 MM,  *1,3* KG/M (NBR 5580)",21009,"M",null,0,0,0]
[null,null,3110,null,"TUBO ACO GALVANIZADO COM COSTURA, CLASSE LEVE, DN 25 MM ( 1\"),  E = 2,65 MM,  *2,11* KG/M (NBR 5580)",21010,"M",null,0,0,0]
[null,null,3111,null,"TUBO ACO GALVANIZADO COM COSTURA, CLASSE LEVE, DN 32 MM ( 1 1/4\"),  E = 2,65 MM,  *2,71* KG/M (NBR 5580)",21011,"M",null,0,0,0]
[null,null,3112,null,"TUBO ACO GALVANIZADO COM COSTURA, CLASSE LEVE, DN 40 MM ( 1 1/2\"),  E = 3,00 MM,  *3,48* KG/M (NBR 5580)",21012,"M",null,0,0,0]
[null,null,3113,null,"TUBO ACO GALVANIZADO COM COSTURA, CLASSE LEVE, DN 50 MM ( 2\"),  E = 3,00 MM,  *4,40* KG/M (NBR 5580)",21013,"M",null,0,0,0]
[null,null,3114,null,"TUBO ACO GALVANIZADO COM COSTURA, CLASSE LEVE, DN 65 MM ( 2 1/2\"),  E = 3,35 MM, * 6,23* KG/M (NBR 5580)",21014,"M",null,0,0,0]
[null,null,3115,null,"TUBO ACO GALVANIZADO COM COSTURA, CLASSE MEDIA, DN 1.1/2\", E = *3,25* MM, PESO *3,61* KG/M (NBR 5580)",7697,"M",null,0,0,0]
[null,null,3116,null,"TUBO ACO GALVANIZADO COM COSTURA, CLASSE MEDIA, DN 1.1/4\", E = *3,25* MM, PESO *3,14* KG/M (NBR 5580)",7698,"M",null,0,0,0]
[null,null,3117,null,"TUBO ACO GALVANIZADO COM COSTURA, CLASSE MEDIA, DN 1/2\", E = *2,65* MM, PESO *1,22* KG/M (NBR 5580)",7691,"M",null,0,0,0]
[null,null,3118,null,"TUBO ACO GALVANIZADO COM COSTURA, CLASSE MEDIA, DN 2\", E = *3,65* MM, PESO *5,10* KG/M (NBR 5580)",7696,"M",null,0,0,0]
[null,null,3119,null,"TUBO ACO GALVANIZADO COM COSTURA, CLASSE MEDIA, DN 2.1/2\", E = *3,65* MM, PESO *6,51* KG/M (NBR 5580)",7701,"M",null,0,0,0]
[null,null,3120,null,"TUBO ACO GALVANIZADO COM COSTURA, CLASSE MEDIA, DN 3/4\", E = *2,65* MM, PESO *1,58* KG/M (NBR 5580)",7700,"M",null,0,0,0]
[null,null,3121,null,"TUBO ACO GALVANIZADO COM COSTURA, CLASSE MEDIA, DN 4\", E = 4,50* MM, PESO 12,10* KG/M (NBR 5580)",7693,"M",null,0,0,0]
[null,null,3122,null,"TUBO ACO INDUSTRIAL DN 2\" (50,8 MM) E=1,50MM, PESO= 1,8237 KG/M",13356,"M",null,0,0,0]
[null,null,3123,null,"TUBO COLETOR DE ESGOTO PVC, JEI, DN 100 MM (NBR  7362)",36365,"M",null,0,0,0]
[null,null,3124,null,"TUBO COLETOR DE ESGOTO PVC, JEI, DN 200 MM (NBR 7362)",41930,"M",null,0,0,0]
[null,null,3125,null,"TUBO COLETOR DE ESGOTO PVC, JEI, DN 250 MM (NBR 7362)",41931,"M",null,0,0,0]
[null,null,3126,null,"TUBO COLETOR DE ESGOTO, PVC, JEI, DN 150 MM  (NBR 7362)",41936,"M",null,0,0,0]
[null,null,3127,null,"TUBO DE COBRE FLEXIVEL, D = 1/2 \", E = 0,79 MM, PARA AR-CONDICIONADO/ INSTALACOES GAS RESIDENCIAIS E COMERCIAIS",39660,"M",null,0,0,0]
[null,null,3128,null,"TUBO DE COBRE FLEXIVEL, D = 1/4 \", E = 0,79 MM, PARA AR-CONDICIONADO/ INSTALACOES GAS RESIDENCIAIS E COMERCIAIS",39662,"M",null,0,0,0]
[null,null,3129,null,"TUBO DE COBRE FLEXIVEL, D = 3/16 \", E = 0,79 MM, PARA AR-CONDICIONADO/ INSTALACOES GAS RESIDENCIAIS E COMERCIAIS",39661,"M",null,0,0,0]
[null,null,3130,null,"TUBO DE COBRE FLEXIVEL, D = 3/4 \", E = 0,79 MM, PARA AR-CONDICIONADO/ INSTALACOES GAS RESIDENCIAIS E COMERCIAIS",39666,"M",null,0,0,0]
[null,null,3131,null,"TUBO DE COBRE FLEXIVEL, D = 3/8 \", E = 0,79 MM, PARA AR-CONDICIONADO/ INSTALACOES GAS RESIDENCIAIS E COMERCIAIS",39664,"M",null,0,0,0]
[null,null,3132,null,"TUBO DE COBRE FLEXIVEL, D = 5/16 \", E = 0,79 MM, PARA AR-CONDICIONADO/ INSTALACOES GAS RESIDENCIAIS E COMERCIAIS",39663,"M",null,0,0,0]
[null,null,3133,null,"TUBO DE COBRE FLEXIVEL, D = 5/8 \", E = 0,79 MM, PARA AR-CONDICIONADO/ INSTALACOES GAS RESIDENCIAIS E COMERCIAIS",39665,"M",null,0,0,0]
[null,null,3134,null,"TUBO DE COBRE, CLASSE \"A\", DN = 2\" (54 MM), PARA INSTALACOES DE MEDIA PRESSAO PARA GASES COMBUSTIVEIS E MEDICINAIS",39752,"M",null,0,0,0]
[null,null,3135,null,"TUBO DE DESCARGA PVC, PARA LIGACAO CAIXA DE DESCARGA - EMBUTIR, 40 MM X 150 CM",12613,"UN",null,0,0,0]
[null,null,3136,null,"TUBO DE DESCIDA EXTERNO DE PVC PARA CAIXA DE DESCARGA EXTERNA ALTA - 40 MM X 1,60 M",1031,"UN",null,0,0,0]
[null,null,3137,null,"TUBO DE ESPUMA DE POLIETILENO EXPANDIDO FLEXIVEL PARA ISOLAMENTO TERMICO DE TUBULACAO DE AR CONDICIONADO, AGUA QUENTE,  DN 1 1/2\", E= 10 MM",39707,"M",null,0,0,0]
[null,null,3138,null,"TUBO DE ESPUMA DE POLIETILENO EXPANDIDO FLEXIVEL PARA ISOLAMENTO TERMICO DE TUBULACAO DE AR CONDICIONADO, AGUA QUENTE,  DN 1 1/4\", E= 10 MM",39708,"M",null,0,0,{"$f":"TRUNC(ROUND((I3156*J3156)/12,2),2)","v":0}]
[null,null,3139,null,"TUBO DE ESPUMA DE POLIETILENO EXPANDIDO FLEXIVEL PARA ISOLAMENTO TERMICO DE TUBULACAO DE AR CONDICIONADO, AGUA QUENTE,  DN 1 1/8\", E= 10 MM",39710,"M",null,0,0,0]
[null,null,3140,null,"TUBO DE ESPUMA DE POLIETILENO EXPANDIDO FLEXIVEL PARA ISOLAMENTO TERMICO DE TUBULACAO DE AR CONDICIONADO, AGUA QUENTE,  DN 1 3/8\", E= 10 MM",39709,"M",null,0,0,0]
[null,null,3141,null,"TUBO DE ESPUMA DE POLIETILENO EXPANDIDO FLEXIVEL PARA ISOLAMENTO TERMICO DE TUBULACAO DE AR CONDICIONADO, AGUA QUENTE,  DN 1 5/8\", E= 10 MM",39711,"M",null,0,0,0]
[null,null,3142,null,"TUBO DE ESPUMA DE POLIETILENO EXPANDIDO FLEXIVEL PARA ISOLAMENTO TERMICO DE TUBULACAO DE AR CONDICIONADO, AGUA QUENTE,  DN 1\", E= 10 MM",39714,"M",null,0,0,0]
[null,null,3143,null,"TUBO DE ESPUMA DE POLIETILENO EXPANDIDO FLEXIVEL PARA ISOLAMENTO TERMICO DE TUBULACAO DE AR CONDICIONADO, AGUA QUENTE,  DN 1/2\", E= 10 MM",39712,"M",null,0,0,0]
[null,null,3144,null,"TUBO DE ESPUMA DE POLIETILENO EXPANDIDO FLEXIVEL PARA ISOLAMENTO TERMICO DE TUBULACAO DE AR CONDICIONADO, AGUA QUENTE,  DN 1/4\", E= 10 MM",39713,"M",null,0,0,0]
[null,null,3145,null,"TUBO DE ESPUMA DE POLIETILENO EXPANDIDO FLEXIVEL PARA ISOLAMENTO TERMICO DE TUBULACAO DE AR CONDICIONADO, AGUA QUENTE,  DN 3/4\", E= 10 MM",39715,"M",null,0,0,0]
[null,null,3146,null,"TUBO DE ESPUMA DE POLIETILENO EXPANDIDO FLEXIVEL PARA ISOLAMENTO TERMICO DE TUBULACAO DE AR CONDICIONADO, AGUA QUENTE,  DN 3/8\", E= 10 MM",39716,"M",null,0,0,0]
[null,null,3147,null,"TUBO DE ESPUMA DE POLIETILENO EXPANDIDO FLEXIVEL PARA ISOLAMENTO TERMICO DE TUBULACAO DE AR CONDICIONADO, AGUA QUENTE,  DN 7/8\", E= 10 MM",39718,"M",null,0,0,0]
[null,null,3148,null,"TUBO DE POLIETILENO DE ALTA DENSIDADE (PEAD), PE-80, DE = 20 MM X 2,3 MM DE PAREDE, PARA LIGACAO DE AGUA PREDIAL (NBR 15561)",9813,"M",null,0,0,0]
[null,null,3149,null,"TUBO DE POLIETILENO DE ALTA DENSIDADE (PEAD), PE-80, DE = 32 MM X 3,0 MM DE PAREDE, PARA LIGACAO DE AGUA PREDIAL (NBR 15561)",9815,"M",null,0,0,0]
[null,null,3150,null,"TUBO DE POLIETILENO DE ALTA DENSIDADE, PEAD, PE-80, DE = 110 MM X 10,0 MM PAREDE, ( SDR 11 - PN 12,5 ) PARA REDE DE AGUA OU ESGOTO (NBR 15561)",25888,"M",null,0,0,0]
[null,null,3151,null,"TUBO DE POLIETILENO DE ALTA DENSIDADE, PEAD, PE-80, DE = 160 MM X 14,6 MM PAREDE, (SDR 11 - PN 12,5 ) PARA REDE DE AGUA OU ESGOTO (NBR 15561)",25878,"M",null,0,0,0]
[null,null,3152,null,"TUBO DE POLIETILENO DE ALTA DENSIDADE, PEAD, PE-80, DE= 50 MM X 4,6 MM PAREDE, (SDR 11 - PN 12,5) PARA REDE DE AGUA OU ESGOTO (NBR 15561)",25883,"M",null,0,0,0]
[null,null,3153,null,"TUBO DE POLIETILENO DE ALTA DENSIDADE, PEAD, PE-80, DE= 75 MM X 6,9 MM PAREDE, ( SRD 11 - PN 12,5 ) PARA REDE DE AGUA OU ESGOTO (NBR 15561)",25886,"M",null,0,0,0]
[null,null,3154,null,"TUBO DE PVC, PBL, TIPO LEVE, DN = 125 MM,  PARA VENTILACAO",9876,"M",null,0,0,0]
[null,null,3155,null,"TUBO DE PVC, PBL, TIPO LEVE, DN = 250 MM,  PARA VENTILACAO",9877,"M",null,0,0,0]
[null,null,3156,null,"TUBO DE PVC, PBL, TIPO LEVE, DN = 300 MM,  PARA VENTILACAO",9878,"M",null,0,0,0]
[null,null,3157,null,"TUBO DRENO, CORRUGADO, ESPIRALADO, FLEXIVEL, PERFURADO, EM POLIETILENO DE ALTA DENSIDADE (PEAD), DN *160* MM, (6\") PARA DRENAGEM - EM BARRA (NORMA DNIT 093/2006 - EM)",38053,"M",null,0,0,0]
[null,null,3158,null,"TUBO DRENO, CORRUGADO, ESPIRALADO, FLEXIVEL, PERFURADO, EM POLIETILENO DE ALTA DENSIDADE (PEAD), DN *200* MM, (8\") PARA DRENAGEM - EM BARRA (NORMA DNIT 093/2006 - EM)",38054,"M",null,0,0,0]
[null,null,3159,null,"TUBO DRENO, CORRUGADO, ESPIRALADO, FLEXIVEL, PERFURADO, EM POLIETILENO DE ALTA DENSIDADE (PEAD), DN 100 MM, (4\") PARA DRENAGEM - EM ROLO (NORMA DNIT 093/2006 - E.M)",38052,"M",null,0,0,0]
[null,null,3160,null,"TUBO DRENO, CORRUGADO, ESPIRALADO, FLEXIVEL, PERFURADO, EM POLIETILENO DE ALTA DENSIDADE (PEAD), DN 65 MM, (2 1/2\") PARA DRENAGEM - EM ROLO (NORMA DNIT 093/2006 - EM)",38051,"M",null,0,0,0]
[null,null,3161,null,"TUBO PVC  SERIE NORMAL, DN 100 MM, PARA ESGOTO  PREDIAL (NBR 5688)",9836,"M",null,0,0,0]
[null,null,3162,null,"TUBO PVC  SERIE NORMAL, DN 150 MM, PARA ESGOTO  PREDIAL (NBR 5688)",20065,"M",null,0,0,0]
[null,null,3163,null,"TUBO PVC  SERIE NORMAL, DN 40 MM, PARA ESGOTO  PREDIAL (NBR 5688)",9835,"M",null,0,0,0]
[null,null,3164,null,"TUBO PVC CORRUGADO, PAREDE DUPLA, JE, DN 150 MM, REDE COLETORA ESGOTO",38032,"M",null,0,0,0]
[null,null,3165,null,"TUBO PVC CORRUGADO, PAREDE DUPLA, JE, DN 200 MM, REDE COLETORA ESGOTO",38033,"M",null,0,0,0]
[null,null,3166,null,"TUBO PVC CORRUGADO, PAREDE DUPLA, JE, DN 250 MM, REDE COLETORA ESGOTO",38034,"M",null,0,0,0]
[null,null,3167,null,"TUBO PVC DEFOFO, JEI, 1 MPA, DN 100 MM, PARA REDE DE AGUA (NBR 7665)",9825,"M",null,0,0,0]
[null,null,3168,null,"TUBO PVC DEFOFO, JEI, 1 MPA, DN 150 MM, PARA REDE DE  AGUA (NBR 7665)",9828,"M",null,0,0,0]
[null,null,3169,null,"TUBO PVC PBA JEI, CLASSE 12, DN 100 MM, PARA REDE DE AGUA (NBR 5647)",36374,"M",null,0,0,0]
[null,null,3170,null,"TUBO PVC PBA JEI, CLASSE 12, DN 50 MM, PARA REDE DE AGUA (NBR 5647)",36084,"M",null,0,0,0]
[null,null,3171,null,"TUBO PVC PBA JEI, CLASSE 12, DN 75 MM, PARA REDE DE AGUA (NBR 5647)",36373,"M",null,0,0,0]
[null,null,3172,null,"TUBO PVC PBA JEI, CLASSE 15, DN 100 MM, PARA REDE DE AGUA (NBR 5647)",36377,"M",null,0,0,0]
[null,null,3173,null,"TUBO PVC PBA JEI, CLASSE 15, DN 50 MM, PARA REDE DE AGUA (NBR 5647)",36375,"M",null,0,0,0]
[null,null,3174,null,"TUBO PVC PBA JEI, CLASSE 15, DN 75 MM, PARA REDE DE AGUA (NBR 5647)",36376,"M",null,0,0,0]
[null,null,3175,null,"TUBO PVC PBA JEI, CLASSE 20, DN 100 MM, PARA REDE DE AGUA (NBR 5647)",36380,"M",null,0,0,0]
[null,null,3176,null,"TUBO PVC PBA JEI, CLASSE 20, DN 50 MM, PARA REDE DE AGUA (NBR 5647)",36378,"M",null,0,0,0]
[null,null,3177,null,"TUBO PVC PBA JEI, CLASSE 20, DN 75 MM, PARA REDE DE AGUA (NBR 5647)",36379,"M",null,0,0,0]
[null,null,3178,null,"TUBO PVC ROSCAVEL, 3/4\",  AGUA FRIA PREDIAL",9859,"M",null,0,0,0]
[null,null,3179,null,"TUBO PVC SERIE NORMAL, DN 50 MM, PARA ESGOTO PREDIAL (NBR 5688)",9838,"M",null,0,0,0]
[null,null,3180,null,"TUBO PVC SERIE NORMAL, DN 75 MM, PARA ESGOTO PREDIAL (NBR 5688)",9837,"M",null,0,0,0]
[null,null,3181,null,"TUBO PVC, FLEXIVEL, CORRUGADO, PERFURADO, DN 110 MM, PARA DRENAGEM, SISTEMA IRRIGACAO",9833,"M",null,0,0,0]
[null,null,3182,null,"TUBO PVC, FLEXIVEL, CORRUGADO, PERFURADO, DN 65 MM, PARA DRENAGEM, SISTEMA IRRIGACAO",9830,"M",null,0,0,0]
[null,null,3183,null,"TUBO PVC, RIGIDO, CORRUGADO, PERFURADO, DN 150 MM, PARA DRENAGEM, SISTEMA IRRIGACAO",9834,"M",null,0,0,0]
[null,null,3184,null,"TUBO PVC, ROSCAVEL,  2 1/2\", AGUA FRIA PREDIAL",9863,"M",null,0,0,0]
[null,null,3185,null,"TUBO PVC, ROSCAVEL,  2\", PARA AGUA FRIA PREDIAL",9860,"M",null,0,0,0]
[null,null,3186,null,"TUBO PVC, ROSCAVEL, 1 1/2\",  AGUA FRIA PREDIAL",9862,"M",null,0,0,0]
[null,null,3187,null,"TUBO PVC, ROSCAVEL, 1 1/4\", AGUA FRIA PREDIAL",9861,"M",null,0,0,0]
[null,null,3188,null,"TUBO PVC, ROSCAVEL, 1\", AGUA FRIA PREDIAL",9866,"M",null,0,0,0]
[null,null,3189,null,"TUBO PVC, ROSCAVEL, 1/2\", AGUA FRIA PREDIAL",9856,"M",null,0,0,0]
[null,null,3190,null,"TUBO PVC, ROSCAVEL, 4\",  AGUA FRIA PREDIAL",9864,"M",null,0,0,0]
[null,null,3191,null,"TUBO PVC, SERIE R, DN 100 MM, PARA ESGOTO OU AGUAS PLUVIAIS PREDIAL (NBR 5688)",9841,"M",null,0,0,0]
[null,null,3192,null,"TUBO PVC, SERIE R, DN 150 MM, PARA ESGOTO OU AGUAS PLUVIAIS PREDIAL (NBR 5688)",9840,"M",null,0,0,0]
[null,null,3193,null,"TUBO PVC, SERIE R, DN 40 MM, PARA ESGOTO OU AGUAS PLUVIAIS PREDIAL (NBR 5688)",20067,"M",null,0,0,0]
[null,null,3194,null,"TUBO PVC, SERIE R, DN 50 MM, PARA ESGOTO OU AGUAS PLUVIAIS PREDIAL (NBR 5688)",20068,"M",null,0,0,0]
[null,null,3195,null,"TUBO PVC, SERIE R, DN 75 MM, PARA ESGOTO OU AGUAS PLUVIAIS PREDIAL (NBR 5688)",9839,"M",null,0,0,0]
[null,null,3196,null,"TUBO PVC, SOLDAVEL, DN 110 MM, AGUA FRIA (NBR-5648)",9870,"M",null,0,0,0]
[null,null,3197,null,"TUBO PVC, SOLDAVEL, DN 20 MM, AGUA FRIA (NBR-5648)",9867,"M",null,0,0,0]
[null,null,3198,null,"TUBO PVC, SOLDAVEL, DN 25 MM, AGUA FRIA (NBR-5648)",9868,"M",null,0,0,0]
[null,null,3199,null,"TUBO PVC, SOLDAVEL, DN 32 MM, AGUA FRIA (NBR-5648)",9869,"M",null,0,0,0]
[null,null,3200,null,"TUBO PVC, SOLDAVEL, DN 40 MM, AGUA FRIA (NBR-5648)",9874,"M",null,0,0,0]
[null,null,3201,null,"TUBO PVC, SOLDAVEL, DN 50 MM, PARA AGUA FRIA (NBR-5648)",9875,"M",null,0,0,0]
[null,null,3202,null,"TUBO PVC, SOLDAVEL, DN 60 MM, AGUA FRIA (NBR-5648)",9873,"M",null,0,0,{"$f":"TRUNC(ROUND((I3220*J3220)/12,2),2)","v":0}]
[null,null,3203,null,"TUBO PVC, SOLDAVEL, DN 75 MM, AGUA FRIA (NBR-5648)",9871,"M",null,0,0,0]
[null,null,3204,null,"TUBO PVC, SOLDAVEL, DN 85 MM, AGUA FRIA (NBR-5648)",9872,"M",null,0,0,0]
[null,null,3205,null,"UNIAO COM ASSENTO CONICO DE BRONZE, DIAMETRO 1\"",12425,"UN",null,0,0,0]
[null,null,3206,null,"UNIAO COM ASSENTO CONICO DE BRONZE, DIAMETRO 1/2\"",12426,"UN",null,0,0,0]
[null,null,3207,null,"UNIAO COM ASSENTO CONICO DE BRONZE, DIAMETRO 2'",12428,"UN",null,0,0,0]
[null,null,3208,null,"UNIAO COM ASSENTO CONICO DE BRONZE, DIAMETRO 3/4\"",12430,"UN",null,0,0,0]
[null,null,3209,null,"UNIAO COM ASSENTO CONICO DE FERRO LONGO (MACHO-FEMEA), DIAMETRO 1 1/2\"",12432,"UN",null,0,0,0]
[null,null,3210,null,"UNIAO COM ASSENTO CONICO DE FERRO LONGO (MACHO-FEMEA), DIAMETRO 1\"",12433,"UN",null,0,0,0]
[null,null,3211,null,"UNIAO COM ASSENTO CONICO DE FERRO LONGO (MACHO-FEMEA), DIAMETRO 1/2\"",12434,"UN",null,0,0,0]
[null,null,3212,null,"UNIAO COM ASSENTO CONICO DE FERRO LONGO (MACHO-FEMEA), DIAMETRO 3/4\"",12439,"UN",null,0,0,0]
[null,null,3213,null,"UNIAO COM FLANGE PPR, DN 40 MM, PARA AGUA QUENTE PREDIAL",36357,"UN",null,0,0,0]
[null,null,3214,null,"UNIAO DE FERRO GALVANIZADO, COM ASSENTO CONICO DE BRONZE, DE 1 1/2\"",12424,"UN",null,0,0,0]
[null,null,3215,null,"UNIAO DE FERRO GALVANIZADO, COM ASSENTO CONICO DE BRONZE, DE 1 1/4\"",12440,"UN",null,0,0,0]
[null,null,3216,null,"UNIAO DE FERRO GALVANIZADO, COM ROSCA BSP, COM ASSENTO PLANO, DE 1 1/2\"",9884,"UN",null,0,0,0]
[null,null,3217,null,"UNIAO DE FERRO GALVANIZADO, COM ROSCA BSP, COM ASSENTO PLANO, DE 1 1/4\"",9888,"UN",null,0,0,0]
[null,null,3218,null,"UNIAO DE FERRO GALVANIZADO, COM ROSCA BSP, COM ASSENTO PLANO, DE 1\"",9886,"UN",null,0,0,0]
[null,null,3219,null,"UNIAO DE FERRO GALVANIZADO, COM ROSCA BSP, COM ASSENTO PLANO, DE 1/2\"",9883,"UN",null,0,0,0]
[null,null,3220,null,"UNIAO DE FERRO GALVANIZADO, COM ROSCA BSP, COM ASSENTO PLANO, DE 2 1/2\"",9889,"UN",null,0,0,0]
[null,null,3221,null,"UNIAO DE FERRO GALVANIZADO, COM ROSCA BSP, COM ASSENTO PLANO, DE 2\"",9887,"UN",null,0,0,0]
[null,null,3222,null,"UNIAO DE FERRO GALVANIZADO, COM ROSCA BSP, COM ASSENTO PLANO, DE 3/4\"",9885,"UN",null,0,0,0]
[null,null,3223,null,"UNIAO DUPLA PPR DN 20 MM, PARA AGUA QUENTE PREDIAL",36313,"UN",null,0,0,0]
[null,null,3224,null,"UNIAO DUPLA PPR DN 25 MM, PARA AGUA QUENTE PREDIAL",36316,"UN",null,0,0,0]
[null,null,3225,null,"UNIAO EM POLIPROPILENO (PP), PARA TUBO EM PEAD, 20 MM - LIGACAO PREDIAL DE AGUA",64,"UN",null,0,0,0]
[null,null,3226,null,"UNIAO EM POLIPROPILENO (PP), PARA TUBO EM PEAD, 32 MM - LIGACAO PREDIAL DE AGUA",37423,"UN",null,0,0,0]
[null,null,3227,null,"UNIAO PVC, ROSCAVEL 1/2\",  AGUA FRIA PREDIAL",9892,"UN",null,0,0,0]
[null,null,3228,null,"UNIAO PVC, ROSCAVEL 2\",  AGUA FRIA PREDIAL",9893,"UN",null,0,0,0]
[null,null,3229,null,"UNIAO PVC, ROSCAVEL, 1 1/2\",  AGUA FRIA PREDIAL",9901,"UN",null,0,0,0]
[null,null,3230,null,"UNIAO PVC, ROSCAVEL, 1 1/4\",  AGUA FRIA PREDIAL",9896,"UN",null,0,0,0]
[null,null,3231,null,"UNIAO PVC, ROSCAVEL, 1\",  AGUA FRIA PREDIAL",9900,"UN",null,0,0,0]
[null,null,3232,null,"UNIAO PVC, ROSCAVEL, 3/4\",  AGUA FRIA PREDIAL",9899,"UN",null,0,0,0]
[null,null,3233,null,"UNIAO PVC, SOLDAVEL, 110 MM,  PARA AGUA FRIA PREDIAL",9908,"UN",null,0,0,0]
[null,null,3234,null,"UNIAO PVC, SOLDAVEL, 20 MM,  PARA AGUA FRIA PREDIAL",9905,"UN",null,0,0,0]
[null,null,3235,null,"UNIAO PVC, SOLDAVEL, 25 MM,  PARA AGUA FRIA PREDIAL",9906,"UN",null,0,0,0]
[null,null,3236,null,"UNIAO PVC, SOLDAVEL, 32 MM,  PARA AGUA FRIA PREDIAL",9895,"UN",null,0,0,0]
[null,null,3237,null,"UNIAO PVC, SOLDAVEL, 40 MM,  PARA AGUA FRIA PREDIAL",9894,"UN",null,0,0,0]
[null,null,3238,null,"UNIAO PVC, SOLDAVEL, 50 MM,  PARA AGUA FRIA PREDIAL",9897,"UN",null,0,0,0]
[null,null,3239,null,"UNIAO PVC, SOLDAVEL, 60 MM,  PARA AGUA FRIA PREDIAL",9910,"UN",null,0,0,0]
[null,null,3240,null,"UNIAO PVC, SOLDAVEL, 75 MM,  PARA AGUA FRIA PREDIAL",9909,"UN",null,0,0,0]
[null,null,3241,null,"UNIAO TIPO STORZ, COM EMPATACAO INTERNA TIPO ANEL DE EXPANSAO, ENGATE RAPIDO 1 1/2\", PARA MANGUEIRA DE COMBATE A INCENDIO PREDIAL",20973,"UN",null,0,0,0]
[null,null,3242,null,"VALVULA DE DESCARGA EM METAL CROMADO PARA MICTORIO COM ACIONAMENTO POR PRESSAO E FECHAMENTO AUTOMATICO",21112,"UN",null,0,0,0]
[null,null,3243,null,"VALVULA DE DESCARGA METALICA, BASE 1 1/2 \" E ACABAMENTO METALICO CROMADO",10228,"UN",null,0,0,0]
[null,null,3244,null,"VALVULA DE DESCARGA METALICA, BASE 1 1/4 \" E ACABAMENTO METALICO CROMADO",11781,"UN",null,0,0,0]
[null,null,3245,null,"VALVULA DE ESFERA BRUTA EM BRONZE, BITOLA 1 \" (REF 1552-B)",11746,"UN",null,0,0,0]
[null,null,3246,null,"VALVULA DE ESFERA BRUTA EM BRONZE, BITOLA 1 1/2 \" (REF 1552-B)",11751,"UN",null,0,0,0]
[null,null,3247,null,"VALVULA DE ESFERA BRUTA EM BRONZE, BITOLA 1 1/4 \" (REF 1552-B)",11750,"UN",null,0,0,0]
[null,null,3248,null,"VALVULA DE ESFERA BRUTA EM BRONZE, BITOLA 1/2 \" (REF 1552-B)",11748,"UN",null,0,0,0]
[null,null,3249,null,"VALVULA DE ESFERA BRUTA EM BRONZE, BITOLA 2 \" (REF 1552-B)",11747,"UN",null,0,0,0]
[null,null,3250,null,"VALVULA DE ESFERA BRUTA EM BRONZE, BITOLA 3/4 \" (REF 1552-B)",11749,"UN",null,0,0,0]
[null,null,3251,null,"VALVULA DE RETENCAO DE BRONZE, PE COM CRIVOS, EXTREMIDADE COM ROSCA, DE 1 1/2\", PARA FUNDO DE POCO",10236,"UN",null,0,0,0]
[null,null,3252,null,"VALVULA DE RETENCAO DE BRONZE, PE COM CRIVOS, EXTREMIDADE COM ROSCA, DE 1 1/4\", PARA FUNDO DE POCO",10233,"UN",null,0,0,0]
[null,null,3253,null,"VALVULA DE RETENCAO DE BRONZE, PE COM CRIVOS, EXTREMIDADE COM ROSCA, DE 1\", PARA FUNDO DE POCO",10234,"UN",null,0,0,0]
[null,null,3254,null,"VALVULA DE RETENCAO DE BRONZE, PE COM CRIVOS, EXTREMIDADE COM ROSCA, DE 2 1/2\", PARA FUNDO DE POCO",10231,"UN",null,0,0,0]
[null,null,3255,null,"VALVULA DE RETENCAO DE BRONZE, PE COM CRIVOS, EXTREMIDADE COM ROSCA, DE 2\", PARA FUNDO DE POCO",10232,"UN",null,0,0,0]
[null,null,3256,null,"VALVULA DE RETENCAO DE BRONZE, PE COM CRIVOS, EXTREMIDADE COM ROSCA, DE 3/4\", PARA FUNDO DE POCO",10229,"UN",null,0,0,0]
[null,null,3257,null,"VALVULA DE RETENCAO HORIZONTAL, DE BRONZE (PN-25), 1 1/2\", 400 PSI, TAMPA DE PORCA DE UNIAO, EXTREMIDADES COM ROSCA",10409,"UN",null,0,0,0]
[null,null,3258,null,"VALVULA DE RETENCAO HORIZONTAL, DE BRONZE (PN-25), 1 1/4\", 400 PSI, TAMPA DE PORCA DE UNIAO, EXTREMIDADES COM ROSCA",10411,"UN",null,0,0,0]
[null,null,3259,null,"VALVULA DE RETENCAO HORIZONTAL, DE BRONZE (PN-25), 1\", 400 PSI, TAMPA DE PORCA DE UNIAO, EXTREMIDADES COM ROSCA",10410,"UN",null,0,0,0]
[null,null,3260,null,"VALVULA DE RETENCAO HORIZONTAL, DE BRONZE (PN-25), 1/2\", 400 PSI, TAMPA DE PORCA DE UNIAO, EXTREMIDADES COM ROSCA",10404,"UN",null,0,0,0]
[null,null,3261,null,"VALVULA DE RETENCAO HORIZONTAL, DE BRONZE (PN-25), 2\", 400 PSI, TAMPA DE PORCA DE UNIAO, EXTREMIDADES COM ROSCA",10408,"UN",null,0,0,0]
[null,null,3262,null,"VALVULA DE RETENCAO HORIZONTAL, DE BRONZE (PN-25), 3/4\", 400 PSI, TAMPA DE PORCA DE UNIAO, EXTREMIDADES COM ROSCA",10412,"UN",null,0,0,0]
[null,null,3263,null,"VALVULA DE RETENCAO VERTICAL, DE BRONZE (PN-16), 1 1/2\", 200 PSI, EXTREMIDADES COM ROSCA",10416,"UN",null,0,0,0]
[null,null,3264,null,"VALVULA DE RETENCAO VERTICAL, DE BRONZE (PN-16), 1 1/4\", 200 PSI, EXTREMIDADES COM ROSCA",10419,"UN",null,0,0,0]
[null,null,3265,null,"VALVULA DE RETENCAO VERTICAL, DE BRONZE (PN-16), 1\", 200 PSI, EXTREMIDADES COM ROSCA",10418,"UN",null,0,0,0]
[null,null,3266,null,"VALVULA DE RETENCAO VERTICAL, DE BRONZE (PN-16), 1/2\", 200 PSI, EXTREMIDADES COM ROSCA",21092,"UN",null,0,0,{"$f":"TRUNC(ROUND((I3284*J3284)/12,2),2)","v":0}]
[null,null,3267,null,"VALVULA DE RETENCAO VERTICAL, DE BRONZE (PN-16), 2 1/2\", 200 PSI, EXTREMIDADES COM ROSCA",12657,"UN",null,0,0,0]
[null,null,3268,null,"VALVULA DE RETENCAO VERTICAL, DE BRONZE (PN-16), 2\", 200 PSI, EXTREMIDADES COM ROSCA",10417,"UN",null,0,0,0]
[null,null,3269,null,"VALVULA DE RETENCAO VERTICAL, DE BRONZE (PN-16), 3\", 200 PSI, EXTREMIDADES COM ROSCA",10414,"UN",null,0,0,0]
[null,null,3270,null,"VALVULA DE RETENCAO VERTICAL, DE BRONZE (PN-16), 3/4\", 200 PSI, EXTREMIDADES COM ROSCA",10413,"UN",null,0,0,0]
[null,null,3271,null,"VALVULA EM METAL CROMADO PARA LAVATORIO, 1 \" SEM LADRAO",38643,"UN",null,0,0,0]
[null,null,3272,null,"VALVULA EM METAL CROMADO PARA PIA AMERICANA 3.1/2 X 1.1/2 \"",6157,"UN",null,0,0,0]
[null,null,3273,null,"VALVULA EM METAL CROMADO PARA TANQUE, 1.1/2 \" SEM LADRAO",37588,"UN",null,0,0,0]
[null,null,3274,null,"VALVULA EM PLASTICO BRANCO COM SAIDA LISA PARA TANQUE 1.1/4 \" X 1.1/2 \"",6152,"UN",null,0,0,0]
[null,null,3275,null,"VALVULA EM PLASTICO BRANCO PARA LAVATORIO 1 \", SEM UNHO, COM LADRAO",6158,"UN",null,0,0,0]
[null,null,3276,null,"VALVULA EM PLASTICO BRANCO PARA TANQUE 1.1/4 \" X 1.1/2 \", SEM UNHO E SEM LADRAO",6156,"UN",null,0,0,0]
[null,null,3277,null,"VALVULA EM PLASTICO BRANCO PARA TANQUE OU LAVATORIO 1 \", SEM UNHO E SEM LADRAO",6153,"UN",null,0,0,0]
[null,null,3278,null,"VALVULA EM PLASTICO CROMADO PARA LAVATORIO 1 \", SEM UNHO, COM LADRAO",6154,"UN",null,0,0,0]
[null,null,3279,null,"VALVULA EM PLASTICO CROMADO TIPO AMERICANA PARA PIA DE COZINHA 3.1/2 \" X 1.1/2 \", SEM ADAPTADOR",6155,"UN",null,0,0,0]
[null,null,3280,null,"VARA / PERFIL PARA CREMONA, EM FERRO CROMADO, COMPRIMENTO DE 120 CM",3115,"UN",null,0,0,0]
[null,null,3281,null,"VARA / PERFIL PARA CREMONA, EM FERRO CROMADO, COMPRIMENTO DE 150 CM",3116,"UN",null,0,0,0]
[null,null,3282,null,"VARA/ PERFIL PARA CREMONA, EM LATAO CROMADO, COMPRIMENTO DE 120 CM",38166,"UN",null,0,0,0]
[null,null,3283,null,"VARIADOR DE LUMINOSIDADE ROTATIVO (DIMMER) 127 V, 300 W (APENAS MODULO)",38108,"UN",null,0,0,0]
[null,null,3284,null,"VARIADOR DE LUMINOSIDADE ROTATIVO (DIMMER) 127V, 300W, CONJUNTO MONTADO PARA EMBUTIR 4\" X 2\" (PLACA + SUPORTE + MODULO)",38087,"UN",null,0,0,0]
[null,null,3285,null,"VARIADOR DE LUMINOSIDADE ROTATIVO (DIMMER) 220 V, 600 W (APENAS MODULO)",38109,"UN",null,0,0,0]
[null,null,3286,null,"VARIADOR DE LUMINOSIDADE ROTATIVO (DIMMER) 220V, 600W, CONJUNTO MONTADO PARA EMBUTIR 4\" X 2\" (PLACA + SUPORTE + MODULO)",38088,"UN",null,0,0,0]
[null,null,3287,null,"VARIADOR DE VELOCIDADE PARA VENTILADOR 127 V, 150 W (APENAS MODULO)",38110,"UN",null,0,0,0]
[null,null,3288,null,"VARIADOR DE VELOCIDADE PARA VENTILADOR 127V, 150W + 2 INTERRUPTORES PARALELOS, PARA REVERSAO E LAMPADA, CONJUNTO MONTADO PARA EMBUTIR 4\" X 2\" (PLACA + SUPORTE + MODULOS)",38089,"UN",null,0,0,0]
[null,null,3289,null,"VARIADOR DE VELOCIDADE PARA VENTILADOR 220 V, 250 W (APENAS MODULO)",38111,"UN",null,0,0,0]
[null,null,3290,null,"VARIADOR DE VELOCIDADE PARA VENTILADOR 220V, 250W + 2 INTERRUPTORES PARALELOS, PARA REVERSAO E LAMPADA, CONJUNTO MONTADO PARA EMBUTIR 4\" X 2\" (PLACA + SUPORTE + MODULOS)",38090,"UN",null,0,0,0]
[null,null,3291,null,"VASSOURA 40 CM COM CABO",38400,"UN",null,0,0,0]
[null,null,3292,null,"VEDACAO DE CALHA, EM BORRACHA COR PRETA, MEDIDA ENTRE 119 E 170 MM, PARA DRENAGEM PLUVIAL PREDIAL",12627,"UN",null,0,0,0]
[null,null,3293,null,"VEDACAO PVC, 100 MM, PARA SAIDA VASO SANITARIO",6138,"UN",null,0,0,0]
[null,null,3294,null,"VERGALHAO ZINCADO ROSCA TOTAL, 1/4 \" (6,3 MM)",39996,"M",null,0,0,0]
[null,null,3295,null,"VERNIZ POLIURETANO BRILHANTE PARA MADEIRA, COM FILTRO SOLAR, USO INTERNO E EXTERNO",10478,"L",null,0,0,0]
[null,null,3296,null,"VERNIZ POLIURETANO BRILHANTE PARA MADEIRA, SEM FILTRO SOLAR, USO INTERNO E EXTERNO",40514,"L",null,0,0,0]
[null,null,3297,null,"VERNIZ SINTETICO BRILHANTE PARA MADEIRA TIPO COPAL, USO INTERNO",10475,"L",null,0,0,0]
[null,null,3298,null,"VERNIZ SINTETICO BRILHANTE PARA MADEIRA, COM FILTRO SOLAR, USO INTERNO E EXTERNO (BASE SOLVENTE)",10481,"L",null,0,0,0]
[null,null,3299,null,"VEU DE VIDRO/VEU DE SUPERFICIE 30 A 35 G/M2",4031,"M2",null,0,0,0]
[null,null,3300,null,"VEU POLIESTER",4030,"M2",null,0,0,0]
[null,null,3301,null,"VIDRO COMUM LAMINADO LISO INCOLOR DUPLO, ESPESSURA TOTAL 8 MM (CADA CAMADA DE 4 MM) - COLOCADO",34391,"M2",null,0,0,0]
[null,null,3302,null,"VIDRO COMUM LAMINADO, LISO, INCOLOR, DUPLO, ESPESSURA TOTAL 6 MM (CADA CAMADA E= 3 MM) - COLOCADO",10496,"M2",null,0,0,0]
[null,null,3303,null,"VIDRO COMUM LAMINADO, LISO, INCOLOR, TRIPLO, ESPESSURA TOTAL 12 MM (CADA CAMADA E=  4 MM) - COLOCADO",10497,"M2",null,0,0,0]
[null,null,3304,null,"VIDRO COMUM LAMINADO, LISO, INCOLOR, TRIPLO, ESPESSURA TOTAL 15 MM (CADA CAMADA E = 5 MM) - COLOCADO",10504,"M2",null,0,0,0]
[null,null,3305,null,"VIDRO CRISTAL COLORIDO, 10 MM, PINTADO NA COR BRANCA",34390,"M2",null,0,0,0]
[null,null,3306,null,"VIDRO CRISTAL COLORIDO, 4 MM, PINTADO NA COR BRANCA",34389,"M2",null,0,0,0]
[null,null,3307,null,"VIDRO CRISTAL COLORIDO, 6 MM, PINTADO NA COR BRANCA",34388,"M2",null,0,0,0]
[null,null,3308,null,"VIDRO CRISTAL COLORIDO, 8 MM, PINTADO NA COR BRANCA",34387,"M2",null,0,0,0]
[null,null,3309,null,"VIDRO LISO FUME E = 4MM - SEM COLOCACAO",11188,"M2",null,0,0,0]
[null,null,3310,null,"VIDRO LISO FUME E = 6MM - SEM COLOCACAO",11189,"M2",null,0,0,0]
[null,null,3311,null,"VIDRO LISO FUME, E = 5 MM - SEM COLOCACAO",21107,"M2",null,0,0,0]
[null,null,3312,null,"VIDRO LISO INCOLOR 10 MM - SEM COLOCACAO",34386,"M2",null,0,0,0]
[null,null,3313,null,"VIDRO LISO INCOLOR 2 A 3 MM - SEM COLOCACAO",10490,"M2",null,0,0,0]
[null,null,3314,null,"VIDRO LISO INCOLOR 4MM - SEM COLOCACAO",10492,"M2",null,0,0,0]
[null,null,3315,null,"VIDRO LISO INCOLOR 5MM - SEM COLOCACAO",10493,"M2",null,0,0,0]
[null,null,3316,null,"VIDRO LISO INCOLOR 6 MM - SEM COLOCACAO",10491,"M2",null,0,0,0]
[null,null,3317,null,"VIDRO LISO INCOLOR 8MM  -  SEM COLOCACAO",34385,"M2",null,0,0,0]
[null,null,3318,null,"VIDRO MARTELADO OU CANELADO, 4 MM - SEM COLOCACAO",10499,"M2",null,0,0,0]
[null,null,3319,null,"VIDRO PLANO ARAMADO E = 6 MM - SEM COLOCACAO",34384,"M2",null,0,0,0]
[null,null,3320,null,"VIDRO PLANO ARMADO E = 7MM - SEM COLOCACAO",11185,"M2",null,0,0,0]
[null,null,3321,null,"VIDRO TEMPERADO INCOLOR E = 10 MM, SEM COLOCACAO",10507,"M2",null,0,0,0]
[null,null,3322,null,"VIDRO TEMPERADO INCOLOR E = 6 MM, SEM COLOCACAO",10505,"M2",null,0,0,0]
[null,null,3323,null,"VIDRO TEMPERADO INCOLOR E = 8 MM, SEM COLOCACAO",10506,"M2",null,0,0,0]
[null,null,3324,null,"VIDRO TEMPERADO INCOLOR PARA PORTA DE ABRIR, E = 10 MM (SEM FERRAGENS E SEM COLOCACAO)",5031,"M2",null,0,0,0]
[null,null,3325,null,"VIDRO TEMPERADO VERDE E = 10 MM, SEM COLOCACAO",10502,"M2",null,0,0,0]
[null,null,3326,null,"VIDRO TEMPERADO VERDE E = 6 MM, SEM COLOCACAO",10501,"M2",null,0,0,0]
[null,null,3327,null,"VIDRO TEMPERADO VERDE E = 8 MM, SEM COLOCACAO",10503,"M2",null,0,0,0]
[null,null,3328,null,"VIGA DE ESCORAMAENTO H20, DE MADEIRA, PESO DE 5,00 A 5,20 KG/M, COM EXTREMIDADES PLASTICAS",40270,"M",null,0,0,0]
[null,null,3329,null,"VIGA DE MADEIRA APARELHADA *6 X 12* CM, MACARANDUBA, ANGELIM OU EQUIVALENTE DA REGIAO",20213,"M",null,0,0,0]
[null,null,3330,null,"VIGA DE MADEIRA APARELHADA *6 X 16* CM, MACARANDUBA, ANGELIM OU EQUIVALENTE DA REGIAO",20211,"M",null,0,0,{"$f":"TRUNC(ROUND((I3348*J3348)/12,2),2)","v":0}]
[null,null,3331,null,"VIGA DE MADEIRA NAO APARELHADA *6 X 16* CM, MACARANDUBA, ANGELIM OU EQUIVALENTE DA REGIAO",4472,"M",null,0,0,0]
[null,null,3332,null,"VIGA DE MADEIRA NAO APARELHADA *6 X 20* CM, MACARANDUBA, ANGELIM OU EQUIVALENTE DA REGIAO",35272,"M",null,0,0,0]
[null,null,3333,null,"VIGA DE MADEIRA NAO APARELHADA 6 X 12 CM, MACARANDUBA, ANGELIM OU EQUIVALENTE DA REGIAO",4425,"M",null,0,0,0]
[null,null,3334,null,"VIGA DE MADEIRA NAO APARELHADA 8 X 16 CM, MACARANDUBA, ANGELIM OU EQUIVALENTE DA REGIAO",4481,"M",null,0,0,0]
[null,null,3335,null,"VIGOTA DE MADEIRA NAO APARELHADA *5 X 10* CM, MACARANDUBA, ANGELIM OU EQUIVALENTE DA REGIAO",4487,"M",null,0,0,0]
[null,null,"Valor Estimado Anual",null,null,null,null,null,null,null,{"$f":"SUM(K19:K3353)","v":0}]
[]
[]
[null,null,"CUSTOS INDIRETOS, LUCRO E TRIBUTOS"]
[null,null,null,null,null,null,null,null,null,null,"Valor"]
[null,null,null,"Custo Total por Empregado",null,null,null,null,null,null,{"$f":"K3354","v":0}]
[null,null,null,"Custos Indiretos / Despesas Operacionais e Administrativas",null,null,null,null,null,{"$f":"'Dados Proponente'!$I$51","v":0.03},{"$f":"TRUNC(ROUND($J3360*$K3359,2),2)","v":0}]
[null,null,null,"Lucro",null,null,null,null,null,{"$f":"'Dados Proponente'!$I$52","v":6.7900000000000002E-2},{"$f":"TRUNC(ROUND($J3361*(K3359+$K3360),2),2)","v":0}]
[null,null,null,"Tributos"]
[null,null,null,null,"Tributos Federais:",null,null,null,null,{"$f":"SUM(J3364:J3365)","v":3.6499999999999998E-2},{"$f":"SUM(K3364:K3365)","v":0}]
[null,null,null,null,null,null,null,null,"COFINS",{"$f":"'Dados Proponente'!$I$25","v":0.03},{"$f":"TRUNC(ROUND($J3364*K3372,2),2)","v":0}]
[null,null,null,null,null,null,null,null,"PIS",{"$f":"'Dados Proponente'!$I$24","v":6.4999999999999997E-3},{"$f":"TRUNC(ROUND($J3365*K3372,2),2)","v":0}]
[null,null,null,null,"  ",null,"Obs.: Vedada a inclusão de IRPJ e CSLL."]
[null,null,null,null,"Tributos Estaduais (especificar):",null," ",null,null,{"$f":"'Dados Proponente'!$I$54","v":0},{"$f":"TRUNC(ROUND($J3367*K3372,2),2)","v":0}]
[null,null,null,null,"Tributos Municipais:"]
[null,null,null,null,null,null,null,null,"ISSQN",{"$f":"'Dados Proponente'!$I$28","v":0.05},{"$f":"TRUNC(ROUND($J3369*K3372,2),2)","v":0}]
[]
[null,null,null,null,"Outros Tributos (especificar):",null," ",null,null,{"$f":"'Dados Proponente'!$I$55","v":0},{"$f":"TRUNC(ROUND($J3371*K3372,2),2)","v":0}]
[null,null,null,"Total dos Custos Indiretos, Lucro e Tributos",null,null,null,null,null,null,{"$f":"TRUNC(ROUND(SUM(K3359:K3361)/(1-$J3363-$J3369),2),2)","v":0}]
[]
[null,null,"Observação: A planilha está concebida para efetuar automaticamente os cálculos, devendo ser alimentados somente os valores nos campos em amarelo."]

{"sheet":"Consumo - Limpeza","index":20,"n_rows":77,"n_cols":49,"rows_kept":77,"cut":false,"hidden":true,"merged":[[68,45,68,46],[69,45,69,46],[70,45,70,46],[71,45,71,46],[72,45,72,46],[73,45,73,46],[74,45,74,46],[16,45,16,46],[60,45,60,46],[61,45,61,46],[62,45,62,46],[63,45,63,46],[64,45,64,46],[65,45,65,46],[66,45,66,46],[67,45,67,46],[16,13,16,14],[16,15,16,16],[16,17,16,18],[16,19,16,20],[3,1,3,3],[3,7,3,8],[8,4,8,8],[10,4,10,5],[16,5,17,5],[16,6,17,6],[16,7,16,8],[16,47,16,48],[60,7,60,8],[60,9,60,10],[60,11,60,12],[60,13,60,14],[60,15,60,16],[60,17,60,18],[60,19,60,20],[60,21,60,22],[60,23,60,24],[16,33,16,34],[16,35,16,36],[16,37,16,38],[16,39,16,40],[16,41,16,42],[16,43,16,44],[16,21,16,22],[16,23,16,24],[16,25,16,26],[16,27,16,28],[16,29,16,30],[16,31,16,32],[16,9,16,10],[16,11,16,12],[60,37,60,38],[60,39,60,40],[60,41,60,42],[60,43,60,44],[60,47,60,48],[61,7,61,8],[61,9,61,10],[61,11,61,12],[61,13,61,14],[61,15,61,16],[60,25,60,26],[60,27,60,28],[60,29,60,30],[60,31,60,32],[60,33,60,34],[60,35,60,36],[61,41,61,42],[61,43,61,44],[61,47,61,48],[61,33,61,34],[61,35,61,36],[61,37,61,38],[61,39,61,40],[62,7,62,8],[62,9,62,10],[62,11,62,12],[62,13,62,14],[62,15,62,16],[62,17,62,18],[62,19,62,20],[61,29,61,30],[61,31,61,32],[61,17,61,18],[61,19,61,20],[61,21,61,22],[61,23,61,24],[61,25,61,26],[61,27,61,28],[62,47,62,48],[63,7,63,8],[63,9,63,10],[63,11,63,12],[63,13,63,14],[63,15,63,16],[63,17,63,18],[63,19,63,20],[63,21,63,22],[63,23,63,24],[62,33,62,34],[62,35,62,36],[62,37,62,38],[62,39,62,40],[62,41,62,42],[62,43,62,44],[62,21,62,22],[62,23,62,24],[62,25,62,26],[62,27,62,28],[62,29,62,30],[62,31,62,32],[63,37,63,38],[63,39,63,40],[63,41,63,42],[63,43,63,44],[63,47,63,48],[64,7,64,8],[64,9,64,10],[64,11,64,12],[64,13,64,14],[64,15,64,16],[63,25,63,26],[63,27,63,28],[63,29,63,30],[63,31,63,32],[63,33,63,34],[63,35,63,36],[64,41,64,42],[64,43,64,44],[64,47,64,48],[64,33,64,34],[64,35,64,36],[64,37,64,38],[64,39,64,40],[65,7,65,8],[65,9,65,10],[65,11,65,12],[65,13,65,14],[65,15,65,16],[65,17,65,18],[65,19,65,20],[64,29,64,30],[64,31,64,32],[64,17,64,18],[64,19,64,20],[64,21,64,22],[64,23,64,24],[64,25,64,26],[64,27,64,28],[65,47,65,48],[66,7,66,8],[66,9,66,10],[66,11,66,12],[66,13,66,14],[66,15,66,16],[66,17,66,18],[66,19,66,20],[66,21,66,22],[66,23,66,24],[65,33,65,34],[65,35,65,36],[65,37,65,38],[65,39,65,40],[65,41,65,42],[65,43,65,44],[65,21,65,22],[65,23,65,24],[65,25,65,26],[65,27,65,28],[65,29,65,30],[65,31,65,32],[66,37,66,38],[66,39,66,40],[66,41,66,42],[66,43,66,44],[66,47,66,48],[67,7,67,8],[67,9,67,10],[67,11,67,12],[67,13,67,14],[67,15,67,16],[66,25,66,26],[66,27,66,28],[66,29,66,30],[66,31,66,32],[66,33,66,34],[66,35,66,36],[67,41,67,42],[67,43,67,44],[67,47,67,48],[67,33,67,34],[67,35,67,36],[67,37,67,38],[67,39,67,40],[68,7,68,8],[68,9,68,10],[68,11,68,12],[68,13,68,14],[68,15,68,16],[68,17,68,18],[68,19,68,20],[67,29,67,30],[67,31,67,32],[67,17,67,18],[67,19,67,20],[67,21,67,22],[67,23,67,24],[67,25,67,26],[67,27,67,28],[68,47,68,48],[69,7,69,8],[69,9,69,10],[69,11,69,12],[69,13,69,14],[69,15,69,16],[69,17,69,18],[69,19,69,20],[69,21,69,22],[69,23,69,24],[68,33,68,34],[68,35,68,36],[68,37,68,38],[68,39,68,40],[68,41,68,42],[68,43,68,44],[68,21,68,22],[68,23,68,24],[68,25,68,26],[68,27,68,28],[68,29,68,30],[68,31,68,32],[69,37,69,38],[69,39,69,40],[69,43,69,44],[69,47,69,48],[70,7,70,8],[70,9,70,10],[70,11,70,12],[70,13,70,14],[70,15,70,16],[69,25,69,26],[69,27,69,28],[69,29,69,30],[69,31,69,32],[69,33,69,34],[69,35,69,36],[70,41,70,42],[70,43,70,44],[70,47,70,48],[70,33,70,34],[70,35,70,36],[70,37,70,38],[70,39,70,40],[70,29,70,30],[70,31,70,32],[70,17,70,18],[70,19,70,20],[70,21,70,22],[70,23,70,24],[70,25,70,26],[70,27,70,28],[69,41,69,42],[72,37,72,38],[72,39,72,40],[71,7,71,8],[71,9,71,10],[71,11,71,12],[71,13,71,14],[71,15,71,16],[71,17,71,18],[71,19,71,20],[73,17,73,18],[73,19,73,20],[71,47,71,48],[72,7,72,8],[72,9,72,10],[72,11,72,12],[72,13,72,14],[72,15,72,16],[72,17,72,18],[72,19,72,20],[72,21,72,22],[72,23,72,24],[71,33,71,34],[71,35,71,36],[71,37,71,38],[71,39,71,40],[71,41,71,42],[71,43,71,44],[71,21,71,22],[71,23,71,24],[71,25,71,26],[71,27,71,28],[71,29,71,30],[71,31,71,32],[74,13,74,14],[74,15,74,16],[72,43,72,44],[72,47,72,48],[73,7,73,8],[73,9,73,10],[73,11,73,12],[73,13,73,14],[73,15,73,16],[72,25,72,26],[72,27,72,28],[72,29,72,30],[72,31,72,32],[72,33,72,34],[72,35,72,36],[73,41,73,42],[73,43,73,44],[73,47,73,48],[73,33,73,34],[73,35,73,36],[73,37,73,38],[73,39,73,40],[73,29,73,30],[73,31,73,32],[74,17,74,18],[74,19,74,20],[73,21,73,22],[73,23,73,24],[73,25,73,26],[73,27,73,28],[72,41,72,42],[74,47,74,48],[76,2,76,8],[74,33,74,34],[74,35,74,36],[74,37,74,38],[74,39,74,40],[74,41,74,42],[74,43,74,44],[74,21,74,22],[74,23,74,24],[74,25,74,26],[74,27,74,28],[74,29,74,30],[74,31,74,32],[74,7,74,8],[74,9,74,10],[74,11,74,12]]}
[null,"10 - MATERIAIS PARA SERVIÇOS DE LIMPEZA"]
[]
[]
[null,"Processo nº:",null,null,{"$f":"IF(ISBLANK('Dados Contratação'!$B$6),\"000/2014\",'Dados Contratação'!$B$6)","v":"15940/2022"},null,"Licitação:",{"$f":"IF(ISBLANK('Dados Contratação'!D6),\"(NÚMERO LICITAÇÃO)\",'Dados Contratação'!D6)","v":"(NÚMERO LICITAÇÃO)"}]
[null,"Descrição:",null,null,{"$f":"'Dados Contratação'!B10","v":"Prestação dos serviços de apoio Administrativo aos Gestores e Fiscais de Contratos"}]
[]
[null,"Data Pregão:",null,null,{"$f":"IF(ISBLANK('Dados Contratação'!$E$6),\"dd/mm/aaaa\",'Dados Contratação'!$E$6)","v":"dd/mm/aaaa"},null,"Horário do Pregão:",{"$f":"IF(ISBLANK('Dados Contratação'!$F$6),\"00:00\",'Dados Contratação'!$F$6)","v":"00:00"}]
[]
[null,"Empresa:",null,null,{"$f":"IF(ISBLANK('Dados Proponente'!$B$6),\"(NOME DA EMPRESA)\",'Dados Proponente'!$B$6)","v":"(NOME DA EMPRESA)"}]
[]
[null,"CNPJ:   ",null,null,{"$f":"IF(ISBLANK('Dados Proponente'!$H$6),\"(CNPJ)\",'Dados Proponente'!$H$6)","v":"(CNPJ)"}]
[]
[]
[null,null,"MATERIAIS PARA MANUTENÇÃO (PREÇO TRT)"]
[]
[null,null,null,"MATERIAIS TRT (QTDE: PREVISÃO ANUAL)"]
[null,null,null,null,null,"Unidade","Valor","TRT - SEDE",null,"FÓRUM C. GRANDE",null,"FÓRUM DOURADOS",null,"FÓRUM TRÊS LAGOAS",null,"VT. AMAMBAI",null,"VT. AQUIDAUANA",null,"VT. BATAGUASSU",null,"VT. CASSILÂNDIA",null,"VT. CORUMBÁ",null,"VT. COXIM",null,"VT. FÁTIMA DO SUL",null,"VT. JARDIM",null,"VT. MUNDO NOVO",null,"VT. NAVIRAÍ",null,"VT. NOVA ANDRADINA",null,"VT. PARANAÍBA",null,"VT. PONTA PORÃ",null,"VT. RIO BRILHANTE",null,"VT. SÃO GABRIEL",null,"VT. CHAPADÃO DO SUL",null,"TOTAL INSUMOS"]
[null,null,null,null,null,null,null,"Qtd.","Custo Mensal","Qtd.","Custo Mensal","Qtd.","Custo Mensal","Qtd.","Custo Mensal","Qtd.","Custo Mensal","Qtd.","Custo Mensal","Qtd.","Custo Mensal","Qtd.","Custo Mensal","Qtd.","Custo Mensal","Qtd.","Custo Mensal","Qtd.","Custo Mensal","Qtd.","Custo Mensal","Qtd.","Custo Mensal","Qtd.","Custo Mensal","Qtd.","Custo Mensal","Qtd.","Custo Mensal","Qtd.","Custo Mensal","Qtd.","Custo Mensal","Qtd.","Custo Mensal","Qtd.","Custo Mensal","Qtd.","Custo Mensal"]
[null,null,1,"Água sanitária de 1ª qualidade 1 litro",null,"Litro",0,0,{"$f":"$G19*H19","v":0},0,{"$f":"$G19*J19","v":0},0,{"$f":"$G19*L19","v":0},0,{"$f":"$G19*N19","v":0},0,{"$f":"$G19*P19","v":0},0,{"$f":"$G19*R19","v":0},0,{"$f":"$G19*T19","v":0},0,{"$f":"$G19*V19","v":0},0,{"$f":"$G19*X19","v":0},0,{"$f":"$G19*Z19","v":0},0,{"$f":"$G19*AB19","v":0},0,{"$f":"$G19*AD19","v":0},0,{"$f":"$G19*AF19","v":0},0,{"$f":"$G19*AH19","v":0},0,{"$f":"$G19*AJ19","v":0},0,{"$f":"$G19*AL19","v":0},0,{"$f":"$G19*AN19","v":0},0,{"$f":"$G19*AP19","v":0},0,{"$f":"$G19*AR19","v":0},0,{"$f":"$G19*AT19","v":0},{"$f":"SUM(H19,J19,L19,N19,P19,R19,T19,V19,X19,Z19,AB19,AD19,AF19,AH19,AJ19,AL19,AN19,AP19,AR19,AT19)","v":0},{"$f":"$G19*AV19","v":0}]
[null,null,2,"Álcool 92%, de 1ª qualidade 1litro",null,"Litro",0,0,{"$f":"$G20*H20","v":0},0,{"$f":"$G20*J20","v":0},0,{"$f":"$G20*L20","v":0},0,{"$f":"$G20*N20","v":0},0,{"$f":"$G20*P20","v":0},0,{"$f":"$G20*R20","v":0},0,{"$f":"$G20*T20","v":0},0,{"$f":"$G20*V20","v":0},0,{"$f":"$G20*X20","v":0},0,{"$f":"$G20*Z20","v":0},0,{"$f":"$G20*AB20","v":0},0,{"$f":"$G20*AD20","v":0},0,{"$f":"$G20*AF20","v":0},0,{"$f":"$G20*AH20","v":0},0,{"$f":"$G20*AJ20","v":0},0,{"$f":"$G20*AL20","v":0},0,{"$f":"$G20*AN20","v":0},0,{"$f":"$G20*AP20","v":0},0,{"$f":"$G20*AR20","v":0},0,{"$f":"$G20*AT20","v":0},{"$f":"SUM(H20,J20,L20,N20,P20,R20,T20,V20,X20,Z20,AB20,AD20,AF20,AH20,AJ20,AL20,AN20,AP20,AR20,AT20)","v":0},{"$f":"$G20*AV20","v":0}]
[null,null,3,"Álcool 70% em gel 500 ml",null,"Litro",0,0,0,0,0,0,0,0,0,0,0,0,0,0,0,0,0,0,0,0,0,0,0,0,0,0,0,0,0,0,0,0,0,0,0,0,0,0,0,0,0,0,0]
[null,null,4,"Cera líquida incolor 750 ml",null,"Litro",0,0,0,0,0,0,0,0,0,0,0,0,0,0,0,0,0,0,0,0,0,0,0,0,0,0,0,0,0,0,0,0,0,0,0,0,0,0,0,0,0,0,0]
[null,null,5,"Detergente 500 ml",null,"Litro",0,0,0,0,0,0,0,0,0,0,0,0,0,0,0,0,0,0,0,0,0,0,0,0,0,0,0,0,0,0,0,0,0,0,0,0,0,0,0,0,0,0,0]
[1,null,6,"Desengordurante, com amoníaco",null,"Litro",0,0,0,0,0,0,0,0,0,0,0,0,0,0,0,0,0,0,0,0,0,0,0,0,0,0,0,0,0,0,0,0,0,0,0,0,0,0,0,0,0,0,0]
[null,null,7,"Desinfetante uso geral",null,"Litro",0,0,0,0,0,0,0,0,0,0,0,0,0,0,0,0,0,0,0,0,0,0,0,0,0,0,0,0,0,0,0,0,0,0,0,0,0,0,0,0,0,0,0]
[null,null,8,"Disco verde/preto para enceradeira industrial",null,"Unidade",0,0,0,0,0,0,0,0,0,0,0,0,0,0,0,0,0,0,0,0,0,0,0,0,0,0,0,0,0,0,0,0,0,0,0,0,0,0,0,0,0,0,0]
[null,null,9,"Desodorizador de ambientes (400ml)",null,"Unidade",0,0,0,0,0,0,0,0,0,0,0,0,0,0,0,0,0,0,0,0,0,0,0,0,0,0,0,0,0,0,0,0,0,0,0,0,0,0,0,0,0,0,0]
[null,null,10,"Esponja de lã de aço pct c/ 8 unidades",null,"PCT",0,0,0,0,0,0,0,0,0,0,0,0,0,0,0,0,0,0,0,0,0,0,0,0,0,0,0,0,0,0,0,0,0,0,0,0,0,0,0,0,0,0,0]
[null,null,11,"Esponja dupla-face",null,"Unidade",0,0,0,0,0,0,0,0,0,0,0,0,0,0,0,0,0,0,0,0,0,0,0,0,0,0,0,0,0,0,0,0,0,0,0,0,0,0,0,0,0,0,0]
[null,null,12,"Flanela de algodão, 40x60 ou 50x50 cm.",null,"Unidade",0,0,0,0,0,0,0,0,0,0,0,0,0,0,0,0,0,0,0,0,0,0,0,0,0,0,0,0,0,0,0,0,0,0,0,0,0,0,0,0,0,0,0]
[null,null,13,"Inseticida contra pragas em spray aerosol",null,"Unidade",0,0,0,0,0,0,0,0,0,0,0,0,0,0,0,0,0,0,0,0,0,0,0,0,0,0,0,0,0,0,0,0,0,0,0,0,0,0,0,0,0,0,0]
[null,null,14,"Isca formicida 100g",null,"Quilograma",0,0,0,0,0,0,0,0,0,0,0,0,0,0,0,0,0,0,0,0,0,0,0,0,0,0,0,0,0,0,0,0,0,0,0,0,0,0,0,0,0,0,0]
[null,null,15,"Limpa pedras 1 litro",null,"Litro",0,0,0,0,0,0,0,0,0,0,0,0,0,0,0,0,0,0,0,0,0,0,0,0,0,0,0,0,0,0,0,0,0,0,0,0,0,0,0,0,0,0,0]
[null,null,16,"Limpa-vidros 500ml",null,"Litro",0,0,0,0,0,0,0,0,0,0,0,0,0,0,0,0,0,0,0,0,0,0,0,0,0,0,0,0,0,0,0,0,0,0,0,0,0,0,0,0,0,0,0]
[null,null,17,"Limpador multiuso 500 ml",null,"Litro",0,0,0,0,0,0,0,0,0,0,0,0,0,0,0,0,0,0,0,0,0,0,0,0,0,0,0,0,0,0,0,0,0,0,0,0,0,0,0,0,0,0,0]
[null,null,18,"Lustra móvel 200ml",null,"Litro",0,0,0,0,0,0,0,0,0,0,0,0,0,0,0,0,0,0,0,0,0,0,0,0,0,0,0,0,0,0,0,0,0,0,0,0,0,0,0,0,0,0,0]
[null,null,19,"Luva em látex para limpeza",null,"Par",0,0,0,0,0,0,0,0,0,0,0,0,0,0,0,0,0,0,0,0,0,0,0,0,0,0,0,0,0,0,0,0,0,0,0,0,0,0,0,0,0,0,0]
[null,null,20,"Óleo lubrificante em spray",null,"Frasco",0,0,0,0,0,0,0,0,0,0,0,0,0,0,0,0,0,0,0,0,0,0,0,0,0,0,0,0,0,0,0,0,0,0,0,0,0,0,0,0,0,0,0]
[null,null,21,"Pano de chão ",null,"Unidade",0,0,0,0,0,0,0,0,0,0,0,0,0,0,0,0,0,0,0,0,0,0,0,0,0,0,0,0,0,0,0,0,0,0,0,0,0,0,0,0,0,0,0]
[null,null,22,"Papel higiênico, branco",null,"pcte c/ 4 rolos",0,0,0,0,0,0,0,0,0,0,0,0,0,0,0,0,0,0,0,0,0,0,0,0,0,0,0,0,0,0,0,0,0,0,0,0,0,0,0,0,0,0,0]
[null,null,23,"Pastilha sanitária - 1 unidade",null,"Unidade",0,0,0,0,0,0,0,0,0,0,0,0,0,0,0,0,0,0,0,0,0,0,0,0,0,0,0,0,0,0,0,0,0,0,0,0,0,0,0,0,0,0,0]
[null,null,24,"Sabão em barra 200 g",null,"Unidade",0,0,0,0,0,0,0,0,0,0,0,0,0,0,0,0,0,0,0,0,0,0,0,0,0,0,0,0,0,0,0,0,0,0,0,0,0,0,0,0,0,0,0]
[null,null,25,"Sabão em pó 1 kg ",null,"Quilograma",0,0,0,0,0,0,0,0,0,0,0,0,0,0,0,0,0,0,0,0,0,0,0,0,0,0,0,0,0,0,0,0,0,0,0,0,0,0,0,0,0,0,0]
[null,null,26,"Sabão líquido 1 litro",null,"Litro",0,0,0,0,0,0,0,0,0,0,0,0,0,0,0,0,0,0,0,0,0,0,0,0,0,0,0,0,0,0,0,0,0,0,0,0,0,0,0,0,0,0,0]
[null,null,27,"Sabonete em barra 90 g",null,"Barra",0,0,0,0,0,0,0,0,0,0,0,0,0,0,0,0,0,0,0,0,0,0,0,0,0,0,0,0,0,0,0,0,0,0,0,0,0,0,0,0,0,0,0]
[null,null,28,"Sabonete líquido, galão c/ 5 litros, cremoso, com ph fisiologico (5,0-7,0)",null,"Litro",0,0,0,0,0,0,0,0,0,0,0,0,0,0,0,0,0,0,0,0,0,0,0,0,0,0,0,0,0,0,0,0,0,0,0,0,0,0,0,0,0,0,0]
[null,null,29,"Saco de lixo preto, capacidade 100 litros",null,"Unidade",0,0,0,0,0,0,0,0,0,0,0,0,0,0,0,0,0,0,0,0,0,0,0,0,0,0,0,0,0,0,0,0,0,0,0,0,0,0,0,0,0,0,0]
[null,null,30,"Saco de lixo preto, capacidade 40 ou 50 litros",null,"Unidade",0,0,0,0,0,0,0,0,0,0,0,0,0,0,0,0,0,0,0,0,0,0,0,0,0,0,0,0,0,0,0,0,0,0,0,0,0,0,0,0,0,0,0]
[null,null,31,"Saco de pano para limpeza de piso",null,"Unidade",0,0,0,0,0,0,0,0,0,0,0,0,0,0,0,0,0,0,0,0,0,0,0,0,0,0,0,0,0,0,0,0,0,0,0,0,0,0,0,0,0,0,0]
[null,null,32,"Saponáceo em pó 500g",null,"Quilograma",0,0,0,0,0,0,0,0,0,0,0,0,0,0,0,0,0,0,0,0,0,0,0,0,0,0,0,0,0,0,0,0,0,0,0,0,0,0,0,0,0,0,0]
[null,null,33,"Toalha de papel interfolha, triplex 20x26 ou 23x26 1250 folhas",null,"Fardo",0,0,0,0,0,0,0,0,0,0,0,0,0,0,0,0,0,0,0,0,0,0,0,0,0,0,0,0,0,0,0,0,0,0,0,0,0,0,0,0,0,0,0]
[null,null,34,"Refil Mop Abrasivo Esfrebom",null,"Unidade",0,0,0,0,0,0,0,0,0,0,0,0,0,0,0,0,0,0,0,0,0,0,0,0,0,0,0,0,0,0,0,0,0,0,0,0,0,0,0,0,0,0,0]
[null,null,35,"Refil Mop sekito ",null,"Unidade",0,0,0,0,0,0,0,0,0,0,0,0,0,0,0,0,0,0,0,0,0,0,0,0,0,0,0,0,0,0,0,0,0,0,0,0,0,0,0,0,0,0,0]
[null,null,36,"Brilha inox spray 500ml",null,"Unidade",0,0,0,0,0,0,0,0,0,0,0,0,0,0,0,0,0,0,0,0,0,0,0,0,0,0,0,0,0,0,0,0,0,0,0,0,0,0,0,0,0,0,0]
[null,null,37,"Limpa couro",null,"Unidade",0,0,0,0,0,0,0,0,0,0,0,0,0,0,0,0,0,0,0,0,0,0,0,0,0,0,0,0,0,0,0,0,0,0,0,0,0,0,0,0,0,0,0]
[null,null,37,"kit de Limpeza tela de led 100ml",null,"Unidade",0,0,0,0,0,0,0,0,0,0,0,0,{"$f":"$G56*R56","v":0},0,0,0,0,0,0,0,0,0,0,0,0,0,0,0,0,0,0,0,0,0,0,0,0,0,0,0,0,0,0]
[null,null,"Valor Estimado Mensal",null,null,null,null,null,{"$f":"SUM(I19:I56)","v":0},null,{"$f":"SUM(K19:K56)","v":0},null,{"$f":"SUM(M19:M56)","v":0},null,{"$f":"SUM(O19:O56)","v":0},null,{"$f":"SUM(Q19:Q56)","v":0},null,{"$f":"SUM(S19:S56)","v":0},null,{"$f":"SUM(U19:U56)","v":0},null,{"$f":"SUM(W19:W56)","v":0},null,{"$f":"SUM(Y19:Y56)","v":0},null,{"$f":"SUM(AA19:AA56)","v":0},null,{"$f":"SUM(AC19:AC56)","v":0},null,{"$f":"SUM(AE19:AE56)","v":0},null,{"$f":"SUM(AG19:AG56)","v":0},null,{"$f":"SUM(AI19:AI56)","v":0},null,{"$f":"SUM(AK19:AK56)","v":0},null,{"$f":"SUM(AM19:AM56)","v":0},null,{"$f":"SUM(AO19:AO56)","v":0},null,{"$f":"SUM(AQ19:AQ56)","v":0},null,{"$f":"SUM(AS19:AS56)","v":0},null,{"$f":"SUM(AU19:AU56)","v":0},null,{"$f":"SUM(I57,K57,M57,O57,Q57,S57,U57,W57,Y57,AA57,AC57,AE57,AG57,AI57,AK57,AM57,AO57,AQ57,AS57)","v":0}]
[]
[]
[null,null,"CUSTOS INDIRETOS, LUCRO E TRIBUTOS DOS INSUMOS"]
[null,null,null,null,null,null,null,"TRT - SEDE",null,"FÓRUM C. GRANDE",null,"FÓRUM DOURADOS",null,"FÓRUM TRÊS LAGOAS",null,"VT. AMAMBAI",null,"VT. AQUIDAUANA",null,"VT. BATAGUASSU",null,"VT. CASSILÂNDIA",null,"VT. CORUMBÁ",null,"VT. COXIM",null,"VT. FÁTIMA DO SUL",null,"VT. JARDIM",null,"VT. MUNDO NOVO",null,"VT. NAVIRAÍ",null,"VT. NOVA ANDRADINA",null,"VT. PARANAÍBA",null,"VT. PONTA PORÃ",null,"VT. RIO BRILHANTE",null,"VT. SÃO GABRIEL",null,"VT. RIO BRILHANTE",null,"TOTAL INSUMOS"]
[null,null,null,"Custo Total por Empregado",null,null,null,{"$f":"I57","v":0},null,{"$f":"K57","v":0},null,{"$f":"M57","v":0},null,{"$f":"O57","v":0},null,{"$f":"Q57","v":0},null,{"$f":"S57","v":0},null,{"$f":"U57","v":0},null,{"$f":"W57","v":0},null,{"$f":"Y57","v":0},null,{"$f":"AA57","v":0},null,{"$f":"AC57","v":0},null,{"$f":"AE57","v":0},null,{"$f":"AG57","v":0},null,{"$f":"AI57","v":0},null,{"$f":"AK57","v":0},null,{"$f":"AM57","v":0},null,{"$f":"AO57","v":0},null,{"$f":"AQ57","v":0},null,{"$f":"AS57","v":0},null,{"$f":"AU57","v":0},null,{"$f":"SUM(H62:AU62)","v":0}]
[null,null,null,"Custos Indiretos / Despesas Operacionais e Administrativas",null,null,{"$f":"'Dados Proponente'!$I$51","v":0.03},{"$f":"TRUNC(ROUND($G63*H$62,2),2)","v":0},null,{"$f":"TRUNC(ROUND($G63*J$62,2),2)","v":0},null,{"$f":"TRUNC(ROUND($G63*L$62,2),2)","v":0},null,{"$f":"TRUNC(ROUND($G63*N$62,2),2)","v":0},null,{"$f":"TRUNC(ROUND($G63*P$62,2),2)","v":0},null,{"$f":"TRUNC(ROUND($G63*R$62,2),2)","v":0},null,{"$f":"TRUNC(ROUND($G63*T$62,2),2)","v":0},null,{"$f":"TRUNC(ROUND($G63*V$62,2),2)","v":0},null,{"$f":"TRUNC(ROUND($G63*X$62,2),2)","v":0},null,{"$f":"TRUNC(ROUND($G63*Z$62,2),2)","v":0},null,{"$f":"TRUNC(ROUND($G63*AB$62,2),2)","v":0},null,{"$f":"TRUNC(ROUND($G63*AD$62,2),2)","v":0},null,{"$f":"TRUNC(ROUND($G63*AF$62,2),2)","v":0},null,{"$f":"TRUNC(ROUND($G63*AH$62,2),2)","v":0},null,{"$f":"TRUNC(ROUND($G63*AJ$62,2),2)","v":0},null,{"$f":"TRUNC(ROUND($G63*AL$62,2),2)","v":0},null,{"$f":"TRUNC(ROUND($G63*AN$62,2),2)","v":0},null,{"$f":"TRUNC(ROUND($G63*AP$62,2),2)","v":0},null,{"$f":"TRUNC(ROUND($G63*AR$62,2),2)","v":0},null,{"$f":"TRUNC(ROUND($G63*AT$62,2),2)","v":0},null,{"$f":"SUM(H63:AU63)","v":0}]
[null,null,null,"Lucro",null,null,{"$f":"'Dados Proponente'!$I$52","v":6.7900000000000002E-2},{"$f":"TRUNC(ROUND($G64*(H$62+H$63),2),2)","v":0},null,{"$f":"TRUNC(ROUND($G64*(J$62+J$63),2),2)","v":0},null,{"$f":"TRUNC(ROUND($G64*(L$62+L$63),2),2)","v":0},null,{"$f":"TRUNC(ROUND($G64*(N$62+N$63),2),2)","v":0},null,{"$f":"TRUNC(ROUND($G64*(P$62+P$63),2),2)","v":0},null,{"$f":"TRUNC(ROUND($G64*(R$62+R$63),2),2)","v":0},null,{"$f":"TRUNC(ROUND($G64*(T$62+T$63),2),2)","v":0},null,{"$f":"TRUNC(ROUND($G64*(V$62+V$63),2),2)","v":0},null,{"$f":"TRUNC(ROUND($G64*(X$62+X$63),2),2)","v":0},null,{"$f":"TRUNC(ROUND($G64*(Z$62+Z$63),2),2)","v":0},null,{"$f":"TRUNC(ROUND($G64*(AB$62+AB$63),2),2)","v":0},null,{"$f":"TRUNC(ROUND($G64*(AD$62+AD$63),2),2)","v":0},null,{"$f":"TRUNC(ROUND($G64*(AF$62+AF$63),2),2)","v":0},null,{"$f":"TRUNC(ROUND($G64*(AH$62+AH$63),2),2)","v":0},null,{"$f":"TRUNC(ROUND($G64*(AJ$62+AJ$63),2),2)","v":0},null,{"$f":"TRUNC(ROUND($G64*(AL$62+AL$63),2),2)","v":0},null,{"$f":"TRUNC(ROUND($G64*(AN$62+AN$63),2),2)","v":0},null,{"$f":"TRUNC(ROUND($G64*(AP$62+AP$63),2),2)","v":0},null,{"$f":"TRUNC(ROUND($G64*(AR$62+AR$63),2),2)","v":0},null,{"$f":"TRUNC(ROUND($G64*(AT$62+AT$63),2),2)","v":0},null,{"$f":"SUM(H64:AU64)","v":0}]
[null,null,null,"Tributos"]
[null,null,null,null,"Tributos Federais:",null,{"$f":"SUM(G67:G68)","v":3.6499999999999998E-2},{"$f":"SUM(H67:H68)","v":0},null,{"$f":"SUM(J67:J68)","v":0},null,{"$f":"SUM(L67:L68)","v":0},null,{"$f":"SUM(N67:N68)","v":0},null,{"$f":"SUM(P67:P68)","v":0},null,{"$f":"SUM(R67:R68)","v":0},null,{"$f":"SUM(T67:T68)","v":0},null,{"$f":"SUM(V67:V68)","v":0},null,{"$f":"SUM(X67:X68)","v":0},null,{"$f":"SUM(Z67:Z68)","v":0},null,{"$f":"SUM(AB67:AB68)","v":0},null,{"$f":"SUM(AD67:AD68)","v":0},null,{"$f":"SUM(AF67:AF68)","v":0},null,{"$f":"SUM(AH67:AH68)","v":0},null,{"$f":"SUM(AJ67:AJ68)","v":0},null,{"$f":"SUM(AL67:AL68)","v":0},null,{"$f":"SUM(AN67:AN68)","v":0},null,{"$f":"SUM(AP67:AP68)","v":0},null,{"$f":"SUM(AR67:AR68)","v":0},null,{"$f":"SUM(AT67:AT68)","v":0},null,{"$f":"SUM(H66:AU66)","v":0}]
[null,null,null,null,null,"COFINS",{"$f":"'Dados Proponente'!$I$25","v":0.03},{"$f":"TRUNC(ROUND($G67*H$75,2),2)","v":0},null,{"$f":"TRUNC(ROUND($G67*J$75,2),2)","v":0},null,{"$f":"TRUNC(ROUND($G67*L$75,2),2)","v":0},null,{"$f":"TRUNC(ROUND($G67*N$75,2),2)","v":0},null,0,null,0,null,0,null,0,null,0,null,0,null,0,null,{"$f":"TRUNC(ROUND($G67*AD$75,2),2)","v":0},null,0,null,0,null,0,null,0,null,0,null,0,null,0,null,0,null,{"$f":"SUM(H67:AU67)","v":0}]
[null,null,null,null,null,"PIS",{"$f":"'Dados Proponente'!$I$24","v":6.4999999999999997E-3},{"$f":"TRUNC(ROUND($G68*H$75,2),2)","v":0},null,0,null,0,null,0,null,0,null,0,null,0,null,0,null,0,null,0,null,0,null,0,null,0,null,0,null,0,null,0,null,0,null,0,null,0,null,0,null,0]
[null,null,null,null,"Obs.: Vedada a inclusão de IRPJ e CSLL."]
[null,null,null,null,"Tributos Estaduais (especificar):",null,{"$f":"'Dados Proponente'!$I$54","v":0},{"$f":"TRUNC(ROUND($G70*H$75,2),2)","v":0},null,{"$f":"TRUNC(ROUND($G70*J$75,2),2)","v":0},null,{"$f":"TRUNC(ROUND($G70*L$75,2),2)","v":0},null,{"$f":"TRUNC(ROUND($G70*N$75,2),2)","v":0},null,0,null,0,null,0,null,0,null,0,null,0,null,0,null,0,null,0,null,0,null,0,null,0,null,0,null,0,null,0,null,0,null,{"$f":"SUM(H70:AU70)","v":0}]
[null,null,null,null,"Tributos Municipais:"]
[null,null,null,null,null,"ISSQN",{"$f":"'Dados Proponente'!$I$28","v":0.05},{"$f":"TRUNC(ROUND($G72*H$75,2),2)","v":0},null,{"$f":"TRUNC(ROUND($G72*J$75,2),2)","v":0},null,{"$f":"TRUNC(ROUND($G72*L$75,2),2)","v":0},null,{"$f":"TRUNC(ROUND($G72*N$75,2),2)","v":0},null,0,null,0,null,0,null,0,null,0,null,0,null,0,null,0,null,0,null,0,null,0,null,0,null,0,null,0,null,0,null,0,null,{"$f":"SUM(H72:AU72)","v":0}]
[]
[null,null,null,null,"Outros Tributos (especificar):",null,{"$f":"'Dados Proponente'!$I$55","v":0},{"$f":"TRUNC(ROUND($G74*H$75,2),2)","v":0},null,{"$f":"TRUNC(ROUND($G74*J$75,2),2)","v":0},null,{"$f":"TRUNC(ROUND($G74*L$75,2),2)","v":0},null,{"$f":"TRUNC(ROUND($G74*N$75,2),2)","v":0},null,0,null,0,null,0,null,0,null,0,null,0,null,0,null,0,null,0,null,0,null,0,null,0,null,0,null,0,null,0,null,0,null,{"$f":"SUM(H74:AU74)","v":0}]
[null,null,null,"Total dos Custos Indiretos, Lucro e Tributos",null,null,null,{"$f":"TRUNC(ROUND(SUM(H62:H64)/(1-$G66-$G72),2),2)","v":0},null,{"$f":"TRUNC(ROUND(SUM(J62:J64)/(1-$G66-$G72),2),2)","v":0},null,{"$f":"TRUNC(ROUND(SUM(L62:L64)/(1-$G66-$G72),2),2)","v":0},null,{"$f":"TRUNC(ROUND(SUM(N62:N64)/(1-$G66-$G72),2),2)","v":0},null,{"$f":"TRUNC(ROUND(SUM(P62:P64)/(1-$G66-$G72),2),2)","v":0},null,{"$f":"TRUNC(ROUND(SUM(R62:R64)/(1-$G66-$G72),2),2)","v":0},null,{"$f":"TRUNC(ROUND(SUM(T62:T64)/(1-$G66-$G72),2),2)","v":0},null,{"$f":"TRUNC(ROUND(SUM(V62:V64)/(1-$G66-$G72),2),2)","v":0},null,{"$f":"TRUNC(ROUND(SUM(X62:X64)/(1-$G66-$G72),2),2)","v":0},null,{"$f":"TRUNC(ROUND(SUM(Z62:Z64)/(1-$G66-$G72),2),2)","v":0},null,{"$f":"TRUNC(ROUND(SUM(AB62:AB64)/(1-$G66-$G72),2),2)","v":0},null,{"$f":"TRUNC(ROUND(SUM(AD62:AD64)/(1-$G66-$G72),2),2)","v":0},null,{"$f":"TRUNC(ROUND(SUM(AF62:AF64)/(1-$G66-$G72),2),2)","v":0},null,{"$f":"TRUNC(ROUND(SUM(AH62:AH64)/(1-$G66-$G72),2),2)","v":0},null,{"$f":"TRUNC(ROUND(SUM(AJ62:AJ64)/(1-$G66-$G72),2),2)","v":0},null,{"$f":"TRUNC(ROUND(SUM(AL62:AL64)/(1-$G66-$G72),2),2)","v":0},null,{"$f":"TRUNC(ROUND(SUM(AN62:AN64)/(1-$G66-$G72),2),2)","v":0},null,{"$f":"TRUNC(ROUND(SUM(AP62:AP64)/(1-$G66-$G72),2),2)","v":0},null,{"$f":"TRUNC(ROUND(SUM(AR62:AR64)/(1-$G66-$G72),2),2)","v":0},null,{"$f":"TRUNC(ROUND(SUM(AT62:AT64)/(1-$G66-$G72),2),2)","v":0},null,{"$f":"SUM(H75:AU75)","v":0}]
[]
[null,null,"Observação: A planilha está concebida para efetuar automaticamente os cálculos, devendo ser alimentados somente os valores nos campos em amarelo."]

{"sheet":"Consumo - Copeiragem","index":21,"n_rows":61,"n_cols":13,"rows_kept":61,"cut":false,"hidden":true,"merged":[[3,1,3,3],[3,7,3,8],[8,4,8,8],[10,4,10,5],[16,5,17,5],[16,6,17,6],[16,7,16,8],[27,3,27,4],[16,9,16,10],[16,11,16,12],[18,3,18,4],[19,3,19,4],[20,3,20,4],[21,3,21,4],[22,3,22,4],[23,3,23,4],[24,3,24,4],[25,3,25,4],[26,3,26,4],[39,3,39,4],[28,3,28,4],[29,3,29,4],[30,3,30,4],[31,3,31,4],[32,3,32,4],[33,3,33,4],[34,3,34,4],[35,3,35,4],[36,3,36,4],[37,3,37,4],[38,3,38,4],[44,7,44,8],[44,9,44,10],[44,11,44,12],[45,7,45,8],[45,9,45,10],[45,11,45,12],[46,7,46,8],[46,9,46,10],[46,11,46,12],[47,7,47,8],[47,9,47,10],[47,11,47,12],[48,7,48,8],[48,9,48,10],[48,11,48,12],[49,7,49,8],[49,9,49,10],[49,11,49,12],[50,7,50,8],[50,9,50,10],[50,11,50,12],[51,7,51,8],[51,9,51,10],[51,11,51,12],[52,7,52,8],[52,9,52,10],[52,11,52,12],[53,7,53,8],[53,9,53,10],[53,11,53,12],[54,7,54,8],[54,9,54,10],[54,11,54,12],[55,7,55,8],[55,9,55,10],[55,11,55,12],[58,7,58,8],[58,9,58,10],[58,11,58,12],[60,2,60,8],[56,7,56,8],[56,9,56,10],[56,11,56,12],[57,7,57,8],[57,9,57,10],[57,11,57,12]]}
[null,"10 - MATERIAIS PARA SERVIÇOS DE COPEIRAGEM"]
[]
[]
[null,"Processo nº:",null,null,{"$f":"IF(ISBLANK('Dados Contratação'!$B$6),\"000/2014\",'Dados Contratação'!$B$6)","v":"15940/2022"},null,"Licitação:",{"$f":"IF(ISBLANK('Dados Contratação'!D6),\"(NÚMERO LICITAÇÃO)\",'Dados Contratação'!D6)","v":"(NÚMERO LICITAÇÃO)"}]
[null,"Descrição:",null,null,{"$f":"'Dados Contratação'!B10","v":"Prestação dos serviços de apoio Administrativo aos Gestores e Fiscais de Contratos"}]
[]
[null,"Data Pregão:",null,null,{"$f":"IF(ISBLANK('Dados Contratação'!$E$6),\"dd/mm/aaaa\",'Dados Contratação'!$E$6)","v":"dd/mm/aaaa"},null,"Horário do Pregão:",{"$f":"IF(ISBLANK('Dados Contratação'!$F$6),\"00:00\",'Dados Contratação'!$F$6)","v":"00:00"}]
[]
[null,"Empresa:",null,null,{"$f":"IF(ISBLANK('Dados Proponente'!$B$6),\"(NOME DA EMPRESA)\",'Dados Proponente'!$B$6)","v":"(NOME DA EMPRESA)"}]
[]
[null,"CNPJ:   ",null,null,{"$f":"IF(ISBLANK('Dados Proponente'!$H$6),\"(CNPJ)\",'Dados Proponente'!$H$6)","v":"(CNPJ)"}]
[]
[]
[null,null,"MATERIAIS PARA MANUTENÇÃO (PREÇO TRT)"]
[]
[null,null,null,"MATERIAIS TRT (QTDE: PREVISÃO ANUAL)"]
[null,null,null,null,null,"Unidade","Valor","TRT - SEDE",null,"FÓRUM C. GRANDE",null,"TOTAL INSUMOS"]
[null,null,null,null,null,null,null,"Qtd.","Custo Mensal","Qtd.","Custo Mensal","Qtd.","Custo Mensal"]
[null,null,1,"Açúcar tipo cristal, branco, pacote de 2 kg.",null,"Pacote",0,0,{"$f":"$G19*H19","v":0},0,{"$f":"$G19*J19","v":0},{"$f":"SUM(H19,J19)","v":0},{"$f":"$G19*L19","v":0}]
[null,null,2,"Água sanitária de 1ª qualidade",null,"Litro",0,0,{"$f":"$G20*H20","v":0},0,{"$f":"$G20*J20","v":0},{"$f":"SUM(H20,J20)","v":0},{"$f":"$G20*L20","v":0}]
[null,null,3,"Álcool 92%, de 1ª qualidade",null,"Litro",0,0,0,0,0,0,0]
[null,null,4,"Brilho inox, embalagem com 500 ml",null,"Frasco",0,0,0,0,0,0,0]
[null,null,5,"Café torrado e moído do Tipo Superior, pacotes com 500g.",null,"Pacote",0,0,0,0,0,0,0]
[1,null,6,"Chá-mate, sabor natural, caixa Peso líquido de cada caixa: 250 gramas.",null,"Caixa",0,0,0,0,0,0,0]
[null,null,7,"Coador de pano para cafeteira industrial Consercaf CIP20",null,"Unidade",0,0,0,0,0,0,0]
[null,null,8,"Detergente neutro, embalagem com 500 ml",null,"Unidade",0,0,0,0,0,0,0]
[null,null,9,"Esponja de lã de aço, pacote com 8 unidades",null,"Pacote",0,0,0,0,0,0,0]
[null,null,10,"Esponja dupla-face",null,"Unidade",0,0,0,0,0,0,0]
[null,null,11,"Filtro para café de papel grande (103) - caixa com 30 unidades",null,"Caixa",0,0,0,0,0,0,0]
[null,null,12,"Flanela de algodão, 40x60 ou 50x50 cm.",null,"Unidade",0,0,0,0,0,0,0]
[null,null,13,"Inseticida contra pragas em spray aerosol, frasco com, no mínimo, 300 ml",null,"Unidade",0,0,0,0,0,0,0]
[null,null,14,"Limpa alumínio, frasco com, no mínimo, 300 ml",null,"Unidade",0,0,0,0,0,0,0]
[null,null,15,"Limpador multiuso, frasco com, no mínimo, 500 ml",null,"Unidade",0,0,0,0,0,0,0]
[null,null,16,"Pano de chão alvejado",null,"Unidade",0,0,0,0,0,0,0]
[null,null,17,"Pano de prato",null,"Unidade",0,0,0,0,0,0,0]
[null,null,18,"Sabão em barra, pacote com 5 barras",null,"Pacote",0,0,0,0,0,0,0]
[null,null,19,"Saco de lixo biodegradável, capacidade 40 ou 50 litros, pacote com 50 unidades",null,"Pacote",0,0,0,0,0,0,0]
[null,null,20,"Saponáceo em pó",null,"Quilograma",0,0,0,0,0,0,0]
[null,null,21,"Toalha de papel, p/ copa, c/ no mín. 60 toalhas, pacote com 2 rolos",null,"Pacote",0,0,0,0,0,0,0]
[null,null,22,"Suporte para filtro de café grande (103)",null,"Pacote",0,0,0,0,0,0,0]
[null,null,"Valor Estimado Mensal",null,null,null,null,null,{"$f":"SUM(I19:I40)","v":0},null,{"$f":"SUM(K19:K40)","v":0},null,{"$f":"SUM(I41,K41)","v":0}]
[]
[]
[null,null,"CUSTOS INDIRETOS, LUCRO E TRIBUTOS DOS INSUMOS"]
[null,null,null,null,null,null,null,"TRT - SEDE",null,"FÓRUM C. GRANDE",null,"TOTAL INSUMOS"]
[null,null,null,"Custo Total por Empregado",null,null,null,{"$f":"I41","v":0},null,{"$f":"K41","v":0},null,{"$f":"SUM(H46:K46)","v":0}]
[null,null,null,"Custos Indiretos / Despesas Operacionais e Administrativas",null,null,{"$f":"'Dados Proponente'!$I$51","v":0.03},{"$f":"TRUNC(ROUND($G47*H$46,2),2)","v":0},null,{"$f":"TRUNC(ROUND($G47*J$46,2),2)","v":0},null,{"$f":"SUM(H47:K47)","v":0}]
[null,null,null,"Lucro",null,null,{"$f":"'Dados Proponente'!$I$52","v":6.7900000000000002E-2},{"$f":"TRUNC(ROUND($G48*(H$46+H$47),2),2)","v":0},null,{"$f":"TRUNC(ROUND($G48*(J$46+J$47),2),2)","v":0},null,{"$f":"SUM(H48:K48)","v":0}]
[null,null,null,"Tributos"]
[null,null,null,null,"Tributos Federais:",null,{"$f":"SUM(G51:G52)","v":3.6499999999999998E-2},{"$f":"SUM(H51:H52)","v":0},null,{"$f":"SUM(J51:J52)","v":0},null,{"$f":"SUM(H50:K50)","v":0}]
[null,null,null,null,null,"COFINS",{"$f":"'Dados Proponente'!$I$25","v":0.03},{"$f":"TRUNC(ROUND($G51*H$59,2),2)","v":0},null,{"$f":"TRUNC(ROUND($G51*J$59,2),2)","v":0},null,{"$f":"SUM(H51:K51)","v":0}]
[null,null,null,null,null,"PIS",{"$f":"'Dados Proponente'!$I$24","v":6.4999999999999997E-3},{"$f":"TRUNC(ROUND($G52*H$59,2),2)","v":0},null,{"$f":"TRUNC(ROUND($G52*J$59,2),2)","v":0},null,{"$f":"SUM(H52:K52)","v":0}]
[null,null,null,null,"Obs.: Vedada a inclusão de IRPJ e CSLL."]
[null,null,null,null,"Tributos Estaduais (especificar):",null,{"$f":"'Dados Proponente'!$I$54","v":0},{"$f":"TRUNC(ROUND($G54*H$59,2),2)","v":0},null,{"$f":"TRUNC(ROUND($G54*J$59,2),2)","v":0},null,{"$f":"SUM(H54:K54)","v":0}]
[null,null,null,null,"Tributos Municipais:"]
[null,null,null,null,null,"ISSQN",{"$f":"'Dados Proponente'!$I$28","v":0.05},{"$f":"TRUNC(ROUND($G56*H$59,2),2)","v":0},null,{"$f":"TRUNC(ROUND($G56*J$59,2),2)","v":0},null,{"$f":"SUM(H56:K56)","v":0}]
[]
[null,null,null,null,"Outros Tributos (especificar):",null,{"$f":"'Dados Proponente'!$I$55","v":0},{"$f":"TRUNC(ROUND($G58*H$59,2),2)","v":0},null,{"$f":"TRUNC(ROUND($G58*J$59,2),2)","v":0},null,{"$f":"SUM(H58:K58)","v":0}]
[null,null,null,"Total dos Custos Indiretos, Lucro e Tributos",null,null,null,{"$f":"TRUNC(ROUND(SUM(H46:H48)/(1-$G50-$G56),2),2)","v":0},null,{"$f":"TRUNC(ROUND(SUM(J46:K48)/(1-$G50-$G56),2),2)","v":0},null,{"$f":"SUM(H59:K59)","v":0}]
[]
[null,null,"Observação: A planilha está concebida para efetuar automaticamente os cálculos, devendo ser alimentados somente os valores nos campos em amarelo."]

{"sheet":"Auditagem","index":22,"n_rows":190,"n_cols":32,"rows_kept":190,"cut":false,"hidden":false,"merged":[[6,31,7,31],[168,6,168,8],[187,2,187,6],[164,6,164,8],[3,1,3,3],[3,4,3,5],[3,8,3,9],[6,1,6,8],[7,1,7,8],[115,5,115,8],[122,5,122,8],[129,5,129,8],[136,5,136,8],[4,4,4,9]]}
[null,"11 - CONDENSAÇÃO DA PLANILHA DE CUSTOS E FORMAÇÃO DE PREÇOS PARA AUDITAGEM"]
[]
[]
[null,"Processo nº:",null,null,{"$f":"IF(ISBLANK('Dados Contratação'!$B$6),\"000/2014\",'Dados Contratação'!$B$6)","v":"15940/2022"},null,null,"Licitação:",{"$f":"IF(ISBLANK('Dados Contratação'!D6),\"(NÚMERO DA LICITAÇÃO)\",'Dados Contratação'!D6)","v":"(NÚMERO DA LICITAÇÃO)"}]
[null,"Descrição:",null,null,{"$f":"'Dados Contratação'!B10","v":"Prestação dos serviços de apoio Administrativo aos Gestores e Fiscais de Contratos"}]
[]
[null,"Posto de Trabalho",null,null,null,null,null,null,null,{"$f":"'Dados Contratação'!$C19","v":"Encarregado"},{"$f":"'Dados Contratação'!$C20","v":"Encarregado"},{"$f":"'Dados Contratação'!$C21","v":"Contador"},{"$f":"'Dados Contratação'!$C22","v":"Profissional"},{"$f":"'Dados Contratação'!$C23","v":"Profissional"},{"$f":"'Dados Contratação'!$C24","v":"Profissional"},{"$f":"'Dados Contratação'!$C25","v":"Profissional"},{"$f":"'Dados Contratação'!$C26","v":"Profissional"},{"$f":"'Dados Contratação'!$C27","v":"Profissional"},{"$f":"'Dados Contratação'!$C28","v":"Profissional"},{"$f":"'Dados Contratação'!$C29","v":"Profissional"},{"$f":"'Dados Contratação'!$C30","v":"Profissional"},{"$f":"'Dados Contratação'!$C31","v":"Profissional"},{"$f":"'Dados Contratação'!$C32","v":"Profissional"},{"$f":"'Dados Contratação'!$C33","v":"Profissional"},{"$f":"'Dados Contratação'!$C34","v":"Profissional"},{"$f":"'Dados Contratação'!$C35","v":"Profissional"},{"$f":"'Dados Contratação'!$C36","v":"Profissional"},{"$f":"'Dados Contratação'!$C37","v":"Profissional"},{"$f":"'Dados Contratação'!$C38","v":"Profissional"},{"$f":"'Dados Contratação'!$C39","v":"Profissional"},{"$f":"'Dados Contratação'!$C40","v":"Profissional"},"Totalização"]
[null,"Local do Posto de Trabalho",null,null,null,null,null,null,null,{"$f":"'Dados Contratação'!$D19","v":"Prédio-Sede do TRT/24ª Região"},{"$f":"'Dados Contratação'!$D20","v":"Fórum Trabalhista de Campo Grande"},{"$f":"'Dados Contratação'!$D21","v":"Prédio-Sede do TRT/24ª Região"},{"$f":"'Dados Contratação'!$D22","v":"Fórum Trabalhista de Campo Grande"},{"$f":"'Dados Contratação'!$D23","v":"Fórum Trabalhista de Dourados"},{"$f":"'Dados Contratação'!$D24","v":"Fórum Trabalhista de Três Lagoas"},{"$f":"'Dados Contratação'!$D25","v":"Vara do Trabalho de Amambaí"},{"$f":"'Dados Contratação'!$D26","v":"Vara do Trabalho de Aquidauana"},{"$f":"'Dados Contratação'!$D27","v":"Vara do Trabalho de Bataguassu"},{"$f":"'Dados Contratação'!$D28","v":"Posto Avançado de Cassilândia"},{"$f":"'Dados Contratação'!$D29","v":"Vara do Trabalho de Corumbá"},{"$f":"'Dados Contratação'!$D30","v":"Vara do Trabalho de Coxim"},{"$f":"'Dados Contratação'!$D31","v":"Vara do Trabalho de Fátima do Sul"},{"$f":"'Dados Contratação'!$D32","v":"Vara do Trabalho de Jardim"},{"$f":"'Dados Contratação'!$D33","v":"Vara do Trabalho de Mundo Novo"},{"$f":"'Dados Contratação'!$D34","v":"Vara do Trabalho de Naviraí"},{"$f":"'Dados Contratação'!$D35","v":"Vara do Trabalho de Nova Andradina"},{"$f":"'Dados Contratação'!$D36","v":"Vara do Trabalho de Paranaíba"},{"$f":"'Dados Contratação'!$D37","v":"Vara do Trabalho de Ponta Porã"},{"$f":"'Dados Contratação'!$D38","v":"Vara do Trabalho de Rio Brilhante"},{"$f":"'Dados Contratação'!$D39","v":"Vara do Trabalho de São Gabriel do Oeste"},{"$f":"'Dados Contratação'!$D40","v":"Vara do Trabalho de Chapadão do Sul"}]
[]
[]
[null,null,"MÓDULO 1 - COMPOSIÇÃO DA REMUNERAÇÃO"]
[null,null,null,null,null,null,null,null,null,"Valor","Valor","Valor","Valor","Valor","Valor","Valor","Valor","Valor","Valor","Valor","Valor","Valor","Valor","Valor","Valor","Valor","Valor","Valor","Valor","Valor","Valor","Valor"]
[null,null,null,"Salário Base",null,null,null,null,null,{"$f":"IF(Apoio!$K$11=0,0,IF('Dados Contratação'!$J$19=0,0,IF(Apoio!$K$11=3,Encargos_Benefícios!$H$26,Encargos_Benefícios!$H18)))","v":0},{"$f":"IF(Apoio!$K$11=0,0,IF('Dados Contratação'!$J$20=0,0,IF(Apoio!$K$11=3,Encargos_Benefícios!$H$26,Encargos_Benefícios!$H18)))","v":0},{"$f":"IF(Apoio!$K$11=0,0,IF('Dados Contratação'!$J$21=0,0,IF(Apoio!$K$11=3,Encargos_Benefícios!$H$28,Encargos_Benefícios!$H18)))","v":4189},{"$f":"IF(Apoio!$K$11=0,0,IF('Dados Contratação'!$J$22=0,0,IF(Apoio!$K$11=3,Encargos_Benefícios!$H$29,Encargos_Benefícios!$H18)))","v":0},{"$f":"IF(Apoio!$K$11=0,0,IF('Dados Contratação'!$J$23=0,0,IF(Apoio!$K$11=3,Encargos_Benefícios!$H$30,Encargos_Benefícios!$H18)))","v":0},{"$f":"IF(Apoio!$K$11=0,0,IF('Dados Contratação'!$J$24=0,0,IF(Apoio!$K$11=3,Encargos_Benefícios!$H$31,Encargos_Benefícios!$H18)))","v":0},{"$f":"IF(Apoio!$K$11=0,0,IF('Dados Contratação'!$J$25=0,0,IF(Apoio!$K$11=3,Encargos_Benefícios!$H$31,Encargos_Benefícios!$H18)))","v":0},{"$f":"IF(Apoio!$K$11=0,0,IF('Dados Contratação'!$J$26=0,0,IF(Apoio!$K$11=3,Encargos_Benefícios!$H$27,Encargos_Benefícios!$H18)))","v":0},{"$f":"IF(Apoio!$K$11=0,0,IF('Dados Contratação'!$J$27=0,0,IF(Apoio!$K$11=3,Encargos_Benefícios!$H$30,Encargos_Benefícios!$H18)))","v":0},{"$f":"IF(Apoio!$K$11=0,0,IF('Dados Contratação'!$J$28=0,0,IF(Apoio!$K$11=3,Encargos_Benefícios!$H$31,Encargos_Benefícios!$H18)))","v":0},{"$f":"IF(Apoio!$K$11=0,0,IF('Dados Contratação'!$J$29=0,0,Encargos_Benefícios!$H18))","v":0},{"$f":"IF(Apoio!$K$11=0,0,IF('Dados Contratação'!$J$30=0,0,Encargos_Benefícios!$H18))","v":0},{"$f":"IF(Apoio!$K$11=0,0,IF('Dados Contratação'!$J$31=0,0,Encargos_Benefícios!$H18))","v":0},{"$f":"IF(Apoio!$K$11=0,0,IF('Dados Contratação'!$J$32=0,0,Encargos_Benefícios!$H18))","v":0},{"$f":"IF(Apoio!$K$11=0,0,IF('Dados Contratação'!$J$33=0,0,Encargos_Benefícios!$H18))","v":0},{"$f":"IF(Apoio!$K$11=0,0,IF('Dados Contratação'!$J$34=0,0,Encargos_Benefícios!$H18))","v":0},{"$f":"IF(Apoio!$K$11=0,0,IF('Dados Contratação'!$J$35=0,0,Encargos_Benefícios!$H18))","v":0},{"$f":"IF(Apoio!$K$11=0,0,IF('Dados Contratação'!$J$36=0,0,Encargos_Benefícios!$H18))","v":0},{"$f":"IF(Apoio!$K$11=0,0,IF('Dados Contratação'!$J$37=0,0,Encargos_Benefícios!$H18))","v":0},{"$f":"IF(Apoio!$K$11=0,0,IF('Dados Contratação'!$J$38=0,0,Encargos_Benefícios!$H18))","v":0},{"$f":"IF(Apoio!$K$11=0,0,IF('Dados Contratação'!$J$39=0,0,Encargos_Benefícios!$H18))","v":0},{"$f":"IF(Apoio!$K$11=0,0,IF('Dados Contratação'!$J$40=0,0,Encargos_Benefícios!$H18))","v":0},{"$f":"SUM(J13:AE13)","v":4189}]
[null,null,null,"Adicional de Periculosidade",null,null,null,null,null,{"$f":"IF('Dados Contratação'!$K$19=\"Sim\",TRUNC(ROUND(Encarregado!$J25*J$13,2),2),0)","v":0},{"$f":"IF('Dados Contratação'!$K$20=\"Sim\",TRUNC(ROUND(Encarregado!$J25*K$13,2),2),0)","v":0},{"$f":"IF('Dados Contratação'!$K$21=\"Sim\",TRUNC(ROUND(Profissional!$J25*L13,2),2),0)","v":0},{"$f":"IF('Dados Contratação'!$K$22=\"Sim\",TRUNC(ROUND(Profissional!$J25*M13,2),2),0)","v":0},{"$f":"IF('Dados Contratação'!$K$23=\"Sim\",TRUNC(ROUND(Profissional!$J25*N13,2),2),0)","v":0},{"$f":"IF('Dados Contratação'!$K$24=\"Sim\",TRUNC(ROUND(Profissional!$J25*O13,2),2),0)","v":0},{"$f":"IF('Dados Contratação'!$K$25=\"Sim\",TRUNC(ROUND(Profissional!$J25*P13,2),2),0)","v":0},{"$f":"IF('Dados Contratação'!$K$26=\"Sim\",TRUNC(ROUND(Profissional!$J25*Q13,2),2),0)","v":0},{"$f":"IF('Dados Contratação'!$K$27=\"Sim\",TRUNC(ROUND(Profissional!$J25*R13,2),2),0)","v":0},{"$f":"IF('Dados Contratação'!$K$28=\"Sim\",TRUNC(ROUND(Profissional!$J25*S13,2),2),0)","v":0},{"$f":"IF('Dados Contratação'!$K$29=\"Sim\",TRUNC(ROUND(Profissional!$J25*T13,2),2),0)","v":0},{"$f":"IF('Dados Contratação'!$K$30=\"Sim\",TRUNC(ROUND(Profissional!$J25*U13,2),2),0)","v":0},{"$f":"IF('Dados Contratação'!$K$31=\"Sim\",TRUNC(ROUND(Profissional!$J25*V13,2),2),0)","v":0},{"$f":"IF('Dados Contratação'!$K$32=\"Sim\",TRUNC(ROUND(Profissional!$J25*W13,2),2),0)","v":0},{"$f":"IF('Dados Contratação'!$K$33=\"Sim\",TRUNC(ROUND(Profissional!$J25*X13,2),2),0)","v":0},{"$f":"IF('Dados Contratação'!$K$34=\"Sim\",TRUNC(ROUND(Profissional!$J25*Y13,2),2),0)","v":0},{"$f":"IF('Dados Contratação'!$K$35=\"Sim\",TRUNC(ROUND(Profissional!$J25*Z13,2),2),0)","v":0},{"$f":"IF('Dados Contratação'!$K$36=\"Sim\",TRUNC(ROUND(Profissional!$J25*AA13,2),2),0)","v":0},{"$f":"IF('Dados Contratação'!$K$37=\"Sim\",TRUNC(ROUND(Profissional!$J25*AB13,2),2),0)","v":0},{"$f":"IF('Dados Contratação'!$K$38=\"Sim\",TRUNC(ROUND(Profissional!$J25*AC13,2),2),0)","v":0},{"$f":"IF('Dados Contratação'!$K$39=\"Sim\",TRUNC(ROUND(Profissional!$J25*AD13,2),2),0)","v":0},{"$f":"IF('Dados Contratação'!$K$40=\"Sim\",TRUNC(ROUND(Profissional!$J25*AE13,2),2),0)","v":0},0]
[null,null,null,"Adicional de Insalubridade",null,null,null,null,null,{"$f":"IF('Dados Contratação'!$L$19=\"Sim\",TRUNC(ROUND(Encarregado!$J26*Encarregado!$G19,2),2),0)","v":0},{"$f":"IF('Dados Contratação'!$L$20=\"Sim\",TRUNC(ROUND(Encarregado!$J26*Encarregado!$G19,2),2),0)","v":0},{"$f":"IF('Dados Contratação'!$L$21=\"Sim\",TRUNC(ROUND(Profissional!$J26*Encarregado!$G19,2),2),0)","v":0},{"$f":"IF('Dados Contratação'!$L$22=\"Sim\",TRUNC(ROUND(Profissional!$J26*Encarregado!$G19,2),2),0)","v":0},{"$f":"IF('Dados Contratação'!$L$23=\"Sim\",TRUNC(ROUND(Profissional!$J26*Encarregado!$G19,2),2),0)","v":0},{"$f":"IF('Dados Contratação'!$L$24=\"Sim\",TRUNC(ROUND(Profissional!$J26*Encarregado!$G19,2),2),0)","v":0},{"$f":"IF('Dados Contratação'!$L$25=\"Sim\",TRUNC(ROUND(Profissional!$J26*Encarregado!$G19,2),2),0)","v":0},{"$f":"IF('Dados Contratação'!$L$26=\"Sim\",TRUNC(ROUND(Profissional!$J26*Encarregado!$G19,2),2),0)","v":0},{"$f":"IF('Dados Contratação'!$L$27=\"Sim\",TRUNC(ROUND(Profissional!$J26*Encarregado!$G19,2),2),0)","v":0},{"$f":"IF('Dados Contratação'!$L$28=\"Sim\",TRUNC(ROUND(Profissional!$J26*Encarregado!$G19,2),2),0)","v":0},{"$f":"IF('Dados Contratação'!$L$29=\"Sim\",TRUNC(ROUND(Profissional!$J26*Encarregado!$G19,2),2),0)","v":0},{"$f":"IF('Dados Contratação'!$L$30=\"Sim\",TRUNC(ROUND(Profissional!$J26*Encarregado!$G19,2),2),0)","v":0},{"$f":"IF('Dados Contratação'!$L$31=\"Sim\",TRUNC(ROUND(Profissional!$J26*Encarregado!$G19,2),2),0)","v":0},{"$f":"IF('Dados Contratação'!$L$32=\"Sim\",TRUNC(ROUND(Profissional!$J26*Encarregado!$G19,2),2),0)","v":0},{"$f":"IF('Dados Contratação'!$L$33=\"Sim\",TRUNC(ROUND(Profissional!$J26*Encarregado!$G19,2),2),0)","v":0},{"$f":"IF('Dados Contratação'!$L$34=\"Sim\",TRUNC(ROUND(Profissional!$J26*Encarregado!$G19,2),2),0)","v":0},{"$f":"IF('Dados Contratação'!$L$35=\"Sim\",TRUNC(ROUND(Profissional!$J26*Encarregado!$G19,2),2),0)","v":0},{"$f":"IF('Dados Contratação'!$L$36=\"Sim\",TRUNC(ROUND(Profissional!$J26*Encarregado!$G19,2),2),0)","v":0},{"$f":"IF('Dados Contratação'!$L$37=\"Sim\",TRUNC(ROUND(Profissional!$J26*Encarregado!$G19,2),2),0)","v":0},{"$f":"IF('Dados Contratação'!$L$38=\"Sim\",TRUNC(ROUND(Profissional!$J26*Encarregado!$G19,2),2),0)","v":0},{"$f":"IF('Dados Contratação'!$L$39=\"Sim\",TRUNC(ROUND(Profissional!$J26*Encarregado!$G19,2),2),0)","v":0},{"$f":"IF('Dados Contratação'!$L$40=\"Sim\",TRUNC(ROUND(Profissional!$J26*Encarregado!$G19,2),2),0)","v":0},0]
[null,null,null,"Gratificação Adicional de Risco de Vida",null,null,null,null,null,{"$f":"TRUNC(ROUND(Encarregado!$J27*J$13,2),2)","v":0},{"$f":"TRUNC(ROUND(Encarregado!$J27*K$13,2),2)","v":0},{"$f":"TRUNC(ROUND(Profissional!$J27*L$13,2),2)","v":0},{"$f":"TRUNC(ROUND(Profissional!$J27*M$13,2),2)","v":0},{"$f":"TRUNC(ROUND(Profissional!$J27*N$13,2),2)","v":0},{"$f":"TRUNC(ROUND(Profissional!$J27*O$13,2),2)","v":0},{"$f":"TRUNC(ROUND(Profissional!$J27*P$13,2),2)","v":0},{"$f":"TRUNC(ROUND(Profissional!$J27*Q$13,2),2)","v":0},{"$f":"TRUNC(ROUND(Profissional!$J27*R$13,2),2)","v":0},{"$f":"TRUNC(ROUND(Profissional!$J27*S$13,2),2)","v":0},{"$f":"TRUNC(ROUND(Profissional!$J27*T$13,2),2)","v":0},{"$f":"TRUNC(ROUND(Profissional!$J27*U$13,2),2)","v":0},{"$f":"TRUNC(ROUND(Profissional!$J27*V$13,2),2)","v":0},{"$f":"TRUNC(ROUND(Profissional!$J27*W$13,2),2)","v":0},{"$f":"TRUNC(ROUND(Profissional!$J27*X$13,2),2)","v":0},{"$f":"TRUNC(ROUND(Profissional!$J27*Y$13,2),2)","v":0},{"$f":"TRUNC(ROUND(Profissional!$J27*Z$13,2),2)","v":0},{"$f":"TRUNC(ROUND(Profissional!$J27*AA$13,2),2)","v":0},{"$f":"TRUNC(ROUND(Profissional!$J27*AB$13,2),2)","v":0},{"$f":"TRUNC(ROUND(Profissional!$J27*AC$13,2),2)","v":0},{"$f":"TRUNC(ROUND(Profissional!$J27*AD$13,2),2)","v":0},{"$f":"TRUNC(ROUND(Profissional!$J27*AE$13,2),2)","v":0},0]
[null,null,null,"Gratificação por Cargo de Confiança",null,null,null,null,null,{"$f":"TRUNC(ROUND(Encarregado!$J28*J$13,2),2)","v":0},{"$f":"TRUNC(ROUND(Encarregado!$J28*K$13,2),2)","v":0},{"$f":"TRUNC(ROUND(Profissional!$J28*L$13,2),2)","v":0},{"$f":"TRUNC(ROUND(Profissional!$J28*M$13,2),2)","v":0},{"$f":"TRUNC(ROUND(Profissional!$J28*N$13,2),2)","v":0},{"$f":"TRUNC(ROUND(Profissional!$J28*O$13,2),2)","v":0},{"$f":"TRUNC(ROUND(Profissional!$J28*P$13,2),2)","v":0},{"$f":"TRUNC(ROUND(Profissional!$J28*Q$13,2),2)","v":0},{"$f":"TRUNC(ROUND(Profissional!$J28*R$13,2),2)","v":0},{"$f":"TRUNC(ROUND(Profissional!$J28*S$13,2),2)","v":0},{"$f":"TRUNC(ROUND(Profissional!$J28*T$13,2),2)","v":0},{"$f":"TRUNC(ROUND(Profissional!$J28*U$13,2),2)","v":0},{"$f":"TRUNC(ROUND(Profissional!$J28*V$13,2),2)","v":0},{"$f":"TRUNC(ROUND(Profissional!$J28*W$13,2),2)","v":0},{"$f":"TRUNC(ROUND(Profissional!$J28*X$13,2),2)","v":0},{"$f":"TRUNC(ROUND(Profissional!$J28*Y$13,2),2)","v":0},{"$f":"TRUNC(ROUND(Profissional!$J28*Z$13,2),2)","v":0},{"$f":"TRUNC(ROUND(Profissional!$J28*AA$13,2),2)","v":0},{"$f":"TRUNC(ROUND(Profissional!$J28*AB$13,2),2)","v":0},{"$f":"TRUNC(ROUND(Profissional!$J28*AC$13,2),2)","v":0},{"$f":"TRUNC(ROUND(Profissional!$J28*AD$13,2),2)","v":0},{"$f":"TRUNC(ROUND(Profissional!$J28*AE$13,2),2)","v":0},0]
[null,null,null,"Gratificação por Cargo de Confiança:",null,null,null,null,null,{"$f":"IF(Apoio!$K$11=0,0,IF('Dados Contratação'!$J$19=0,0,Encarregado!$K$29))","v":0},{"$f":"IF(Apoio!$K$11=0,0,IF('Dados Contratação'!$J$20=0,0,Encarregado!$K$29))","v":0},{"$f":"IF(Apoio!$K$11=0,0,IF('Dados Contratação'!$J$21=0,0,Profissional!$K$29))","v":0},{"$f":"IF(Apoio!$K$11=0,0,IF('Dados Contratação'!$J$22=0,0,Profissional!$K$29))","v":0},{"$f":"IF(Apoio!$K$11=0,0,IF('Dados Contratação'!$J$23=0,0,Profissional!$K$29))","v":0},{"$f":"IF(Apoio!$K$11=0,0,IF('Dados Contratação'!$J$24=0,0,Profissional!$K$29))","v":0},{"$f":"IF(Apoio!$K$11=0,0,IF('Dados Contratação'!$J$25=0,0,Profissional!$K$29))","v":0},{"$f":"IF(Apoio!$K$11=0,0,IF('Dados Contratação'!$J$26=0,0,Profissional!$K$29))","v":0},{"$f":"IF(Apoio!$K$11=0,0,IF('Dados Contratação'!$J$27=0,0,Profissional!$K$29))","v":0},{"$f":"IF(Apoio!$K$11=0,0,IF('Dados Contratação'!$J$28=0,0,Profissional!$K$29))","v":0},{"$f":"IF(Apoio!$K$11=0,0,IF('Dados Contratação'!$J$29=0,0,Profissional!$K$29))","v":0},{"$f":"IF(Apoio!$K$11=0,0,IF('Dados Contratação'!$J$30=0,0,Profissional!$K$29))","v":0},{"$f":"IF(Apoio!$K$11=0,0,IF('Dados Contratação'!$J$31=0,0,Profissional!$K$29))","v":0},{"$f":"IF(Apoio!$K$11=0,0,IF('Dados Contratação'!$J$32=0,0,Profissional!$K$29))","v":0},{"$f":"IF(Apoio!$K$11=0,0,IF('Dados Contratação'!$J$33=0,0,Profissional!$K$29))","v":0},{"$f":"IF(Apoio!$K$11=0,0,IF('Dados Contratação'!$J$34=0,0,Profissional!$K$29))","v":0},{"$f":"IF(Apoio!$K$11=0,0,IF('Dados Contratação'!$J$35=0,0,Profissional!$K$29))","v":0},{"$f":"IF(Apoio!$K$11=0,0,IF('Dados Contratação'!$J$36=0,0,Profissional!$K$29))","v":0},{"$f":"IF(Apoio!$K$11=0,0,IF('Dados Contratação'!$J$37=0,0,Profissional!$K$29))","v":0},{"$f":"IF(Apoio!$K$11=0,0,IF('Dados Contratação'!$J$38=0,0,Profissional!$K$29))","v":0},{"$f":"IF(Apoio!$K$11=0,0,IF('Dados Contratação'!$J$39=0,0,Profissional!$K$29))","v":0},{"$f":"IF(Apoio!$K$11=0,0,IF('Dados Contratação'!$J$40=0,0,Profissional!$K$29))","v":0},0]
[null,null,null,"Outros: ",null,null,null,null,null,{"$f":"IF(Apoio!$K$11=0,0,IF('Dados Contratação'!$J$19=0,0,Encarregado!$K$30))","v":0},{"$f":"IF(Apoio!$K$11=0,0,IF('Dados Contratação'!$J$20=0,0,Encarregado!$K$30))","v":0},{"$f":"IF(Apoio!$K$11=0,0,IF('Dados Contratação'!$J$21=0,0,Profissional!$K$30))","v":0},{"$f":"IF(Apoio!$K$11=0,0,IF('Dados Contratação'!$J$22=0,0,Profissional!$K$30))","v":0},{"$f":"IF(Apoio!$K$11=0,0,IF('Dados Contratação'!$J$23=0,0,Profissional!$K$30))","v":0},{"$f":"IF(Apoio!$K$11=0,0,IF('Dados Contratação'!$J$24=0,0,Profissional!$K$30))","v":0},{"$f":"IF(Apoio!$K$11=0,0,IF('Dados Contratação'!$J$25=0,0,Profissional!$K$30))","v":0},{"$f":"IF(Apoio!$K$11=0,0,IF('Dados Contratação'!$J$26=0,0,Profissional!$K$30))","v":0},{"$f":"IF(Apoio!$K$11=0,0,IF('Dados Contratação'!$J$27=0,0,Profissional!$K$30))","v":0},{"$f":"IF(Apoio!$K$11=0,0,IF('Dados Contratação'!$J$28=0,0,Profissional!$K$30))","v":0},{"$f":"IF(Apoio!$K$11=0,0,IF('Dados Contratação'!$J$29=0,0,Profissional!$K$30))","v":0},{"$f":"IF(Apoio!$K$11=0,0,IF('Dados Contratação'!$J$30=0,0,Profissional!$K$30))","v":0},{"$f":"IF(Apoio!$K$11=0,0,IF('Dados Contratação'!$J$31=0,0,Profissional!$K$30))","v":0},{"$f":"IF(Apoio!$K$11=0,0,IF('Dados Contratação'!$J$32=0,0,Profissional!$K$30))","v":0},{"$f":"IF(Apoio!$K$11=0,0,IF('Dados Contratação'!$J$33=0,0,Profissional!$K$30))","v":0},{"$f":"IF(Apoio!$K$11=0,0,IF('Dados Contratação'!$J$34=0,0,Profissional!$K$30))","v":0},{"$f":"IF(Apoio!$K$11=0,0,IF('Dados Contratação'!$J$35=0,0,Profissional!$K$30))","v":0},{"$f":"IF(Apoio!$K$11=0,0,IF('Dados Contratação'!$J$36=0,0,Profissional!$K$30))","v":0},{"$f":"IF(Apoio!$K$11=0,0,IF('Dados Contratação'!$J$37=0,0,Profissional!$K$30))","v":0},{"$f":"IF(Apoio!$K$11=0,0,IF('Dados Contratação'!$J$38=0,0,Profissional!$K$30))","v":0},{"$f":"IF(Apoio!$K$11=0,0,IF('Dados Contratação'!$J$39=0,0,Profissional!$K$30))","v":0},{"$f":"IF(Apoio!$K$11=0,0,IF('Dados Contratação'!$J$40=0,0,Profissional!$K$30))","v":0},0]
[null,null,null,"Subtotal de Remuneração",null,null,null,null,null,{"$f":"SUM(J13:J19)","v":0},{"$f":"SUM(K13:K19)","v":0},{"$f":"SUM(L13:L19)","v":4189},0,0,0,0,0,0,0,0,0,0,0,0,0,0,0,0,0,0,0,4189]
[null,null,null,"Adicional de Hora Extra / Semanal (Diurna - 50%)",null,null,null,null,null,{"$f":"IF('Dados Contratação'!$J$19=0,0,TRUNC(ROUND(((J$20/220)*(24*('Hora Extra'!J28)))*1.5,2),2))","v":0},{"$f":"IF('Dados Contratação'!$J$20=0,0,TRUNC(ROUND(((L$20/220)*(24*('Hora Extra'!K28)))*1.5,2),2))","v":0},{"$f":"IF('Dados Contratação'!$J$21=0,0,TRUNC(ROUND(((L$20/220)*(24*('Hora Extra'!L28)))*1.5,2),2))","v":0},{"$f":"IF('Dados Contratação'!$J$22=0,0,TRUNC(ROUND((($M$20/220)*(24*('Hora Extra'!M28)))*1.5,2),2))","v":0},{"$f":"IF('Dados Contratação'!$J$23=0,0,TRUNC(ROUND((($N$20/220)*(24*('Hora Extra'!N28)))*1.5,2),2))","v":0},{"$f":"IF('Dados Contratação'!$J$24=0,0,TRUNC(ROUND((($O$20/220)*(24*('Hora Extra'!O28)))*1.5,2),2))","v":0},{"$f":"IF('Dados Contratação'!$J$25=0,0,TRUNC(ROUND((($P$20/220)*(24*('Hora Extra'!P28)))*1.5,2),2))","v":0},{"$f":"IF('Dados Contratação'!$J$26=0,0,TRUNC(ROUND((($Q$20/220)*(24*('Hora Extra'!Q28)))*1.5,2),2))","v":0},{"$f":"IF('Dados Contratação'!$J$27=0,0,TRUNC(ROUND((($R$20/220)*(24*('Hora Extra'!R28)))*1.5,2),2))","v":0},{"$f":"IF('Dados Contratação'!$J$28=0,0,TRUNC(ROUND((($S$20/220)*(24*('Hora Extra'!S28)))*1.5,2),2))","v":0},{"$f":"IF('Dados Contratação'!$J$29=0,0,TRUNC(ROUND((($T$20/220)*(24*('Hora Extra'!T28)))*1.5,2),2))","v":0},{"$f":"IF('Dados Contratação'!$J$30=0,0,TRUNC(ROUND((($U$20/220)*(24*('Hora Extra'!U28)))*1.5,2),2))","v":0},{"$f":"IF('Dados Contratação'!$J$31=0,0,TRUNC(ROUND((($V$20/220)*(24*('Hora Extra'!V28)))*1.5,2),2))","v":0},{"$f":"IF('Dados Contratação'!$J$32=0,0,TRUNC(ROUND((($W$20/220)*(24*('Hora Extra'!W28)))*1.5,2),2))","v":0},{"$f":"IF('Dados Contratação'!$J$33=0,0,TRUNC(ROUND((($X$20/220)*(24*('Hora Extra'!X28)))*1.5,2),2))","v":0},{"$f":"IF('Dados Contratação'!$J$34=0,0,TRUNC(ROUND((($Y$20/220)*(24*('Hora Extra'!Y28)))*1.5,2),2))","v":0},{"$f":"IF('Dados Contratação'!$J$35=0,0,TRUNC(ROUND((($Z$20/220)*(24*('Hora Extra'!Z28)))*1.5,2),2))","v":0},{"$f":"IF('Dados Contratação'!$J$36=0,0,TRUNC(ROUND((($AA$20/220)*(24*('Hora Extra'!AA28)))*1.5,2),2))","v":0},{"$f":"IF('Dados Contratação'!$J$37=0,0,TRUNC(ROUND((($AB$20/220)*(24*('Hora Extra'!AB28)))*1.5,2),2))","v":0},{"$f":"IF('Dados Contratação'!$J$38=0,0,TRUNC(ROUND((($AC$20/220)*(24*('Hora Extra'!AC28)))*1.5,2),2))","v":0},{"$f":"IF('Dados Contratação'!$J$39=0,0,TRUNC(ROUND((($AD$20/220)*(24*('Hora Extra'!AD28)))*1.5,2),2))","v":0},{"$f":"IF('Dados Contratação'!$J$40=0,0,TRUNC(ROUND((($AE$20/220)*(24*('Hora Extra'!AE28)))*1.5,2),2))","v":0},{"$f":"SUM(J21:AE21)","v":0}]
[null,null,null,"Adicional de Hora Extra / Semanal (Noturna - 50% + 20%)",null,null,null,null,null,{"$f":"IF('Dados Contratação'!$J$19=0,0,TRUNC(ROUND((((J$20/220)*(24*('Hora Extra'!J29)))*1.5)*1.2,2),2))","v":0},{"$f":"IF('Dados Contratação'!$J$20=0,0,TRUNC(ROUND((((L$20/220)*(24*('Hora Extra'!K29)))*1.5)*1.2,2),2))","v":0},{"$f":"IF('Dados Contratação'!$J$21=0,0,TRUNC(ROUND((((L$20/220)*(24*('Hora Extra'!L29)))*1.5)*1.2,2),2))","v":0},{"$f":"IF('Dados Contratação'!$J$22=0,0,TRUNC(ROUND(((($M$20/220)*(24*('Hora Extra'!M29)))*1.5)*1.2,2),2))","v":0},{"$f":"IF('Dados Contratação'!$J$23=0,0,TRUNC(ROUND(((($N$20/220)*(24*('Hora Extra'!N29)))*1.5)*1.2,2),2))","v":0},{"$f":"IF('Dados Contratação'!$J$24=0,0,TRUNC(ROUND(((($O$20/220)*(24*('Hora Extra'!O29)))*1.5)*1.2,2),2))","v":0},{"$f":"IF('Dados Contratação'!$J$25=0,0,TRUNC(ROUND(((($P$20/220)*(24*('Hora Extra'!P29)))*1.5)*1.2,2),2))","v":0},{"$f":"IF('Dados Contratação'!$J$26=0,0,TRUNC(ROUND(((($Q$20/220)*(24*('Hora Extra'!Q29)))*1.5)*1.2,2),2))","v":0},{"$f":"IF('Dados Contratação'!$J$27=0,0,TRUNC(ROUND(((($R$20/220)*(24*('Hora Extra'!R29)))*1.5)*1.2,2),2))","v":0},{"$f":"IF('Dados Contratação'!$J$28=0,0,TRUNC(ROUND(((($S$20/220)*(24*('Hora Extra'!S29)))*1.5)*1.2,2),2))","v":0},{"$f":"IF('Dados Contratação'!$J$29=0,0,TRUNC(ROUND(((($T$20/220)*(24*('Hora Extra'!T29)))*1.5)*1.2,2),2))","v":0},{"$f":"IF('Dados Contratação'!$J$30=0,0,TRUNC(ROUND(((($U$20/220)*(24*('Hora Extra'!U29)))*1.5)*1.2,2),2))","v":0},{"$f":"IF('Dados Contratação'!$J$31=0,0,TRUNC(ROUND(((($V$20/220)*(24*('Hora Extra'!V29)))*1.5)*1.2,2),2))","v":0},{"$f":"IF('Dados Contratação'!$J$32=0,0,TRUNC(ROUND(((($W$20/220)*(24*('Hora Extra'!W29)))*1.5)*1.2,2),2))","v":0},{"$f":"IF('Dados Contratação'!$J$33=0,0,TRUNC(ROUND(((($X$20/220)*(24*('Hora Extra'!X29)))*1.5)*1.2,2),2))","v":0},{"$f":"IF('Dados Contratação'!$J$34=0,0,TRUNC(ROUND(((($Y$20/220)*(24*('Hora Extra'!Y29)))*1.5)*1.2,2),2))","v":0},{"$f":"IF('Dados Contratação'!$J$35=0,0,TRUNC(ROUND(((($Z$20/220)*(24*('Hora Extra'!Z29)))*1.5)*1.2,2),2))","v":0},{"$f":"IF('Dados Contratação'!$J$36=0,0,TRUNC(ROUND(((($AA$20/220)*(24*('Hora Extra'!AA29)))*1.5)*1.2,2),2))","v":0},{"$f":"IF('Dados Contratação'!$J$37=0,0,TRUNC(ROUND(((($AB$20/220)*(24*('Hora Extra'!AB29)))*1.5)*1.2,2),2))","v":0},{"$f":"IF('Dados Contratação'!$J$38=0,0,TRUNC(ROUND(((($AC$20/220)*(24*('Hora Extra'!AC29)))*1.5)*1.2,2),2))","v":0},{"$f":"IF('Dados Contratação'!$J$39=0,0,TRUNC(ROUND(((($AD$20/220)*(24*('Hora Extra'!AD29)))*1.5)*1.2,2),2))","v":0},{"$f":"IF('Dados Contratação'!$J$40=0,0,TRUNC(ROUND(((($AE$20/220)*(24*('Hora Extra'!AE29)))*1.5)*1.2,2),2))","v":0},0]
[null,null,null,"Adicional de Hora Extra / Domingo e Feriado (Diurna - 100%)",null,null,null,null,null,{"$f":"IF('Dados Contratação'!$J$19=0,0,TRUNC(ROUND(((J$20/220)*(24*('Hora Extra'!J30)))*2,2),2))","v":0},{"$f":"IF('Dados Contratação'!$J$20=0,0,TRUNC(ROUND(((L$20/220)*(24*('Hora Extra'!K30)))*2,2),2))","v":0},{"$f":"IF('Dados Contratação'!$J$21=0,0,TRUNC(ROUND(((L$20/220)*(24*('Hora Extra'!L30)))*2,2),2))","v":0},{"$f":"IF('Dados Contratação'!$J$22=0,0,TRUNC(ROUND((($M$20/220)*(24*('Hora Extra'!M30)))*2,2),2))","v":0},{"$f":"IF('Dados Contratação'!$J$23=0,0,TRUNC(ROUND((($N$20/220)*(24*('Hora Extra'!N30)))*2,2),2))","v":0},{"$f":"IF('Dados Contratação'!$J$24=0,0,TRUNC(ROUND((($O$20/220)*(24*('Hora Extra'!O30)))*2,2),2))","v":0},{"$f":"IF('Dados Contratação'!$J$25=0,0,TRUNC(ROUND((($P$20/220)*(24*('Hora Extra'!P30)))*2,2),2))","v":0},{"$f":"IF('Dados Contratação'!$J$26=0,0,TRUNC(ROUND((($Q$20/220)*(24*('Hora Extra'!Q30)))*2,2),2))","v":0},{"$f":"IF('Dados Contratação'!$J$27=0,0,TRUNC(ROUND((($R$20/220)*(24*('Hora Extra'!R30)))*2,2),2))","v":0},{"$f":"IF('Dados Contratação'!$J$28=0,0,TRUNC(ROUND((($S$20/220)*(24*('Hora Extra'!S30)))*2,2),2))","v":0},{"$f":"IF('Dados Contratação'!$J$29=0,0,TRUNC(ROUND((($T$20/220)*(24*('Hora Extra'!T30)))*2,2),2))","v":0},{"$f":"IF('Dados Contratação'!$J$30=0,0,TRUNC(ROUND((($U$20/220)*(24*('Hora Extra'!U30)))*2,2),2))","v":0},{"$f":"IF('Dados Contratação'!$J$31=0,0,TRUNC(ROUND((($V$20/220)*(24*('Hora Extra'!V30)))*2,2),2))","v":0},{"$f":"IF('Dados Contratação'!$J$32=0,0,TRUNC(ROUND((($W$20/220)*(24*('Hora Extra'!W30)))*2,2),2))","v":0},{"$f":"IF('Dados Contratação'!$J$33=0,0,TRUNC(ROUND((($X$20/220)*(24*('Hora Extra'!X30)))*2,2),2))","v":0},{"$f":"IF('Dados Contratação'!$J$34=0,0,TRUNC(ROUND((($Y$20/220)*(24*('Hora Extra'!Y30)))*2,2),2))","v":0},{"$f":"IF('Dados Contratação'!$J$35=0,0,TRUNC(ROUND((($Z$20/220)*(24*('Hora Extra'!Z30)))*2,2),2))","v":0},{"$f":"IF('Dados Contratação'!$J$36=0,0,TRUNC(ROUND((($AA$20/220)*(24*('Hora Extra'!AA30)))*2,2),2))","v":0},{"$f":"IF('Dados Contratação'!$J$37=0,0,TRUNC(ROUND((($AB$20/220)*(24*('Hora Extra'!AB30)))*2,2),2))","v":0},{"$f":"IF('Dados Contratação'!$J$38=0,0,TRUNC(ROUND((($AC$20/220)*(24*('Hora Extra'!AC30)))*2,2),2))","v":0},{"$f":"IF('Dados Contratação'!$J$39=0,0,TRUNC(ROUND((($AD$20/220)*(24*('Hora Extra'!AD30)))*2,2),2))","v":0},{"$f":"IF('Dados Contratação'!$J$40=0,0,TRUNC(ROUND((($AE$20/220)*(24*('Hora Extra'!AE30)))*2,2),2))","v":0},0]
[null,null,null,"Adicional de Hora Extra / Domingo e Feriado Noturna - 100% + 20%)",null,null,null,null,null,{"$f":"IF('Dados Contratação'!$J$19=0,0,TRUNC(ROUND((((J$20/220)*(24*('Hora Extra'!J31)))*2)*1.2,2),2))","v":0},{"$f":"IF('Dados Contratação'!$J$20=0,0,TRUNC(ROUND((((L$20/220)*(24*('Hora Extra'!K31)))*2)*1.2,2),2))","v":0},{"$f":"IF('Dados Contratação'!$J$21=0,0,TRUNC(ROUND((((L$20/220)*(24*('Hora Extra'!L31)))*2)*1.2,2),2))","v":0},{"$f":"IF('Dados Contratação'!$J$22=0,0,TRUNC(ROUND(((($M$20/220)*(24*('Hora Extra'!M31)))*2)*1.2,2),2))","v":0},{"$f":"IF('Dados Contratação'!$J$23=0,0,TRUNC(ROUND(((($N$20/220)*(24*('Hora Extra'!N31)))*2)*1.2,2),2))","v":0},{"$f":"IF('Dados Contratação'!$J$24=0,0,TRUNC(ROUND(((($O$20/220)*(24*('Hora Extra'!O31)))*2)*1.2,2),2))","v":0},{"$f":"IF('Dados Contratação'!$J$25=0,0,TRUNC(ROUND(((($P$20/220)*(24*('Hora Extra'!P31)))*2)*1.2,2),2))","v":0},{"$f":"IF('Dados Contratação'!$J$26=0,0,TRUNC(ROUND(((($Q$20/220)*(24*('Hora Extra'!Q31)))*2)*1.2,2),2))","v":0},{"$f":"IF('Dados Contratação'!$J$27=0,0,TRUNC(ROUND(((($R$20/220)*(24*('Hora Extra'!R31)))*2)*1.2,2),2))","v":0},{"$f":"IF('Dados Contratação'!$J$28=0,0,TRUNC(ROUND(((($S$20/220)*(24*('Hora Extra'!S31)))*2)*1.2,2),2))","v":0},{"$f":"IF('Dados Contratação'!$J$29=0,0,TRUNC(ROUND(((($T$20/220)*(24*('Hora Extra'!T31)))*2)*1.2,2),2))","v":0},{"$f":"IF('Dados Contratação'!$J$30=0,0,TRUNC(ROUND(((($U$20/220)*(24*('Hora Extra'!U31)))*2)*1.2,2),2))","v":0},{"$f":"IF('Dados Contratação'!$J$31=0,0,TRUNC(ROUND(((($V$20/220)*(24*('Hora Extra'!V31)))*2)*1.2,2),2))","v":0},{"$f":"IF('Dados Contratação'!$J$32=0,0,TRUNC(ROUND(((($W$20/220)*(24*('Hora Extra'!W31)))*2)*1.2,2),2))","v":0},{"$f":"IF('Dados Contratação'!$J$33=0,0,TRUNC(ROUND(((($X$20/220)*(24*('Hora Extra'!X31)))*2)*1.2,2),2))","v":0},{"$f":"IF('Dados Contratação'!$J$34=0,0,TRUNC(ROUND(((($Y$20/220)*(24*('Hora Extra'!Y31)))*2)*1.2,2),2))","v":0},{"$f":"IF('Dados Contratação'!$J$35=0,0,TRUNC(ROUND(((($Z$20/220)*(24*('Hora Extra'!Z31)))*2)*1.2,2),2))","v":0},{"$f":"IF('Dados Contratação'!$J$36=0,0,TRUNC(ROUND(((($AA$20/220)*(24*('Hora Extra'!AA31)))*2)*1.2,2),2))","v":0},{"$f":"IF('Dados Contratação'!$J$37=0,0,TRUNC(ROUND(((($AB$20/220)*(24*('Hora Extra'!AB31)))*2)*1.2,2),2))","v":0},{"$f":"IF('Dados Contratação'!$J$38=0,0,TRUNC(ROUND(((($AC$20/220)*(24*('Hora Extra'!AC31)))*2)*1.2,2),2))","v":0},{"$f":"IF('Dados Contratação'!$J$39=0,0,TRUNC(ROUND(((($AD$20/220)*(24*('Hora Extra'!AD31)))*2)*1.2,2),2))","v":0},{"$f":"IF('Dados Contratação'!$J$40=0,0,TRUNC(ROUND(((($AE$20/220)*(24*('Hora Extra'!AE31)))*2)*1.2,2),2))","v":0},0]
[null,null,null,"Descanso Semanal Remurerado",null,null,null,null,null,{"$f":"IF('Dados Contratação'!$J$19=0,0,TRUNC(ROUND(SUM(J21:J24)/6,2),0))","v":0},{"$f":"IF('Dados Contratação'!$J$20=0,0,TRUNC(ROUND(SUM(K21:K24)/6,2),0))","v":0},{"$f":"IF('Dados Contratação'!$J$21=0,0,TRUNC(ROUND(SUM(L21:L24)/6,2),0))","v":0},{"$f":"IF('Dados Contratação'!$J$22=0,0,TRUNC(ROUND(SUM(M21:M24)/6,2),0))","v":0},{"$f":"IF('Dados Contratação'!$J$23=0,0,TRUNC(ROUND(SUM(N21:N24)/6,2),0))","v":0},{"$f":"IF('Dados Contratação'!$J$24=0,0,TRUNC(ROUND(SUM(O21:O24)/6,2),0))","v":0},{"$f":"IF('Dados Contratação'!$J$25=0,0,TRUNC(ROUND(SUM(P21:P24)/6,2),0))","v":0},{"$f":"IF('Dados Contratação'!$J$26=0,0,TRUNC(ROUND(SUM(Q21:Q24)/6,2),0))","v":0},{"$f":"IF('Dados Contratação'!$J$27=0,0,TRUNC(ROUND(SUM(R21:R24)/6,2),0))","v":0},{"$f":"IF('Dados Contratação'!$J$28=0,0,TRUNC(ROUND(SUM(S21:S24)/6,2),0))","v":0},{"$f":"IF('Dados Contratação'!$J$29=0,0,TRUNC(ROUND(SUM(T21:T24)/6,2),0))","v":0},{"$f":"IF('Dados Contratação'!$J$30=0,0,TRUNC(ROUND(SUM(U21:U24)/6,2),0))","v":0},{"$f":"IF('Dados Contratação'!$J$31=0,0,TRUNC(ROUND(SUM(V21:V24)/6,2),0))","v":0},{"$f":"IF('Dados Contratação'!$J$32=0,0,TRUNC(ROUND(SUM(W21:W24)/6,2),0))","v":0},{"$f":"IF('Dados Contratação'!$J$33=0,0,TRUNC(ROUND(SUM(X21:X24)/6,2),0))","v":0},{"$f":"IF('Dados Contratação'!$J$34=0,0,TRUNC(ROUND(SUM(Y21:Y24)/6,2),0))","v":0},{"$f":"IF('Dados Contratação'!$J$35=0,0,TRUNC(ROUND(SUM(Z21:Z24)/6,2),0))","v":0},{"$f":"IF('Dados Contratação'!$J$36=0,0,TRUNC(ROUND(SUM(AA21:AA24)/6,2),0))","v":0},{"$f":"IF('Dados Contratação'!$J$37=0,0,TRUNC(ROUND(SUM(AB21:AB24)/6,2),0))","v":0},{"$f":"IF('Dados Contratação'!$J$38=0,0,TRUNC(ROUND(SUM(AC21:AC24)/6,2),0))","v":0},{"$f":"IF('Dados Contratação'!$J$39=0,0,TRUNC(ROUND(SUM(AD21:AD24)/6,2),0))","v":0},{"$f":"IF('Dados Contratação'!$J$40=0,0,TRUNC(ROUND(SUM(AE21:AE24)/6,2),0))","v":0},{"$f":"SUM(J25:AE25)","v":0}]
[null,null,null,"Adicional Noturno",null,null,null,null,null,{"$f":"IF('Dados Contratação'!$M$19=\"Sim\",TRUNC((ROUND(($J$13+$J$16)*Encarregado!$J$32*(8/12),2)),2),0)","v":0},{"$f":"IF('Dados Contratação'!$M$20=\"Sim\",TRUNC((ROUND(($J$13+$J$16)*Encarregado!$J$32*(8/12),2)),2),0)","v":0},{"$f":"IF('Dados Contratação'!$M$21=\"Sim\",TRUNC((ROUND(($L$13+$L$16)*Profissional!$J$32*(8/12),2)),2),0)","v":0},{"$f":"IF('Dados Contratação'!$M$21=\"Sim\",TRUNC((ROUND(($M$13+$M$16)*Profissional!$J$32*(8/12),2)),2),0)","v":0},{"$f":"IF('Dados Contratação'!$M$23=\"Sim\",TRUNC((ROUND(($N$13+$N$16)*Profissional!$J$32*(8/12),2)),2),0)","v":0},{"$f":"IF('Dados Contratação'!$M$24=\"Sim\",TRUNC((ROUND(($O$13+$O$16)*Profissional!$J$32*(8/12),2)),2),0)","v":0},{"$f":"IF('Dados Contratação'!$M$25=\"Sim\",TRUNC((ROUND(($P$13+$P$16)*Profissional!$J$32*(8/12),2)),2),0)","v":0},{"$f":"IF('Dados Contratação'!$M$26=\"Sim\",TRUNC((ROUND(($Q$13+$Q$16)*Profissional!$J$32*(8/12),2)),2),0)","v":0},{"$f":"IF('Dados Contratação'!$M$27=\"Sim\",TRUNC((ROUND(($R$13+$R$16)*Profissional!$J$32*(8/12),2)),2),0)","v":0},{"$f":"IF('Dados Contratação'!$M$28=\"Sim\",TRUNC((ROUND((S13+S16)*Profissional!$J$32*(8/12),2)),2),0)","v":0},{"$f":"IF('Dados Contratação'!$M$29=\"Sim\",TRUNC((ROUND((T13+T16)*Profissional!$J$32*(8/12),2)),2),0)","v":0},{"$f":"IF('Dados Contratação'!$M$30=\"Sim\",TRUNC((ROUND((U13+U16)*Profissional!$J$32*(8/12),2)),2),0)","v":0},{"$f":"IF('Dados Contratação'!$M$31=\"Sim\",TRUNC((ROUND((V13+V16)*Profissional!$J$32*(8/12),2)),2),0)","v":0},{"$f":"IF('Dados Contratação'!$M$32=\"Sim\",TRUNC((ROUND((W13+W16)*Profissional!$J$32*(8/12),2)),2),0)","v":0},{"$f":"IF('Dados Contratação'!$M$33=\"Sim\",TRUNC((ROUND((X13+X16)*Profissional!$J$32*(8/12),2)),2),0)","v":0},{"$f":"IF('Dados Contratação'!$M$34=\"Sim\",TRUNC((ROUND((Y13+Y16)*Profissional!$J$32*(8/12),2)),2),0)","v":0},{"$f":"IF('Dados Contratação'!$M$35=\"Sim\",TRUNC((ROUND((Z13+Z16)*Profissional!$J$32*(8/12),2)),2),0)","v":0},{"$f":"IF('Dados Contratação'!$M$36=\"Sim\",TRUNC((ROUND((AA13+AA16)*Profissional!$J$32*(8/12),2)),2),0)","v":0},{"$f":"IF('Dados Contratação'!$M$37=\"Sim\",TRUNC((ROUND((AB13+AB16)*Profissional!$J$32*(8/12),2)),2),0)","v":0},{"$f":"IF('Dados Contratação'!$M$38=\"Sim\",TRUNC((ROUND((AC13+AC16)*Profissional!$J$32*(8/12),2)),2),0)","v":0},{"$f":"IF('Dados Contratação'!$M$39=\"Sim\",TRUNC((ROUND((AD13+AD16)*Profissional!$J$32*(8/12),2)),2),0)","v":0},{"$f":"IF('Dados Contratação'!$M$40=\"Sim\",TRUNC((ROUND((AE13+AE16)*Profissional!$J$32*(8/12),2)),2),0)","v":0},0]
[null,null,null,"Repercussão do Adicional Noturno no DSR",null,null,null,null,null,{"$f":"IF('Dados Contratação'!$M$19=\"Sim\",TRUNC((ROUND($J26/30.4375*Encarregado!$J33/2,2)),2),0)","v":0},{"$f":"IF('Dados Contratação'!$M$20=\"Sim\",TRUNC((ROUND($J26/30.4375*Encarregado!$J33/2,2)),2),0)","v":0},{"$f":"IF('Dados Contratação'!$M$21=\"Sim\",TRUNC((ROUND($L26/30.4375*Profissional!$J33/2,2)),2),0)","v":0},{"$f":"IF('Dados Contratação'!$M$21=\"Sim\",TRUNC((ROUND($M26/30.4375*Profissional!$J33/2,2)),2),0)","v":0},{"$f":"IF('Dados Contratação'!$M$23=\"Sim\",TRUNC((ROUND($N26/30.4375*Profissional!$J33/2,2)),2),0)","v":0},{"$f":"IF('Dados Contratação'!$M$24=\"Sim\",TRUNC((ROUND($O26/30.4375*Profissional!$J33/2,2)),2),0)","v":0},{"$f":"IF('Dados Contratação'!$M$25=\"Sim\",TRUNC((ROUND($P26/30.4375*Profissional!$J33/2,2)),2),0)","v":0},{"$f":"IF('Dados Contratação'!$M$26=\"Sim\",TRUNC((ROUND($Q26/30.4375*Profissional!$J33/2,2)),2),0)","v":0},{"$f":"IF('Dados Contratação'!$M$27=\"Sim\",TRUNC((ROUND($R26/30.4375*Profissional!$J33/2,2)),2),0)","v":0},{"$f":"IF('Dados Contratação'!$M$28=\"Sim\",TRUNC((ROUND($S26/30.4375*Profissional!$J33/2,2)),2),0)","v":0},{"$f":"IF('Dados Contratação'!$M$29=\"Sim\",TRUNC((ROUND($T26/30.4375*Profissional!$J33/2,2)),2),0)","v":0},{"$f":"IF('Dados Contratação'!$M$30=\"Sim\",TRUNC((ROUND($U26/30.4375*Profissional!$J33/2,2)),2),0)","v":0},{"$f":"IF('Dados Contratação'!$M$31=\"Sim\",TRUNC((ROUND($V26/30.4375*Profissional!$J33/2,2)),2),0)","v":0},{"$f":"IF('Dados Contratação'!$M$32=\"Sim\",TRUNC((ROUND($W26/30.4375*Profissional!$J33/2,2)),2),0)","v":0},{"$f":"IF('Dados Contratação'!$M$33=\"Sim\",TRUNC((ROUND($X26/30.4375*Profissional!$J33/2,2)),2),0)","v":0},{"$f":"IF('Dados Contratação'!$M$34=\"Sim\",TRUNC((ROUND($Y26/30.4375*Profissional!$J33/2,2)),2),0)","v":0},{"$f":"IF('Dados Contratação'!$M$35=\"Sim\",TRUNC((ROUND($Z26/30.4375*Profissional!$J33/2,2)),2),0)","v":0},{"$f":"IF('Dados Contratação'!$M$36=\"Sim\",TRUNC((ROUND($AA26/30.4375*Profissional!$J33/2,2)),2),0)","v":0},{"$f":"IF('Dados Contratação'!$M$37=\"Sim\",TRUNC((ROUND($AB26/30.4375*Profissional!$J33/2,2)),2),0)","v":0},{"$f":"IF('Dados Contratação'!$M$38=\"Sim\",TRUNC((ROUND($AC26/30.4375*Profissional!$J33/2,2)),2),0)","v":0},{"$f":"IF('Dados Contratação'!$M$39=\"Sim\",TRUNC((ROUND($AD26/30.4375*Profissional!$J33/2,2)),2),0)","v":0},{"$f":"IF('Dados Contratação'!$M$40=\"Sim\",TRUNC((ROUND($W26/30.4375*Profissional!$J33/2,2)),2),0)","v":0},0]
[null,null,null,"Hora Noturna Adicional",null,null,null,null,null,{"$f":"IF('Dados Contratação'!$M$19=\"Sim\",TRUNC((ROUND(($J$13+$J$16)*Encarregado!$J34*1.2,2)),2),0)","v":0},{"$f":"IF('Dados Contratação'!$M$20=\"Sim\",TRUNC((ROUND(($K$13+$K$16)*Encarregado!$J34*1.2,2)),2),0)","v":0},{"$f":"IF('Dados Contratação'!$M$21=\"Sim\",TRUNC((ROUND(($L$13+$L$16)*Profissional!$J34*1.2,2)),2),0)","v":0},{"$f":"IF('Dados Contratação'!$M$21=\"Sim\",TRUNC((ROUND(($M$13+$M$16)*Profissional!$J34*1.2,2)),2),0)","v":0},{"$f":"IF('Dados Contratação'!$M$23=\"Sim\",TRUNC((ROUND(($N$13+$N$16)*Profissional!$J34*1.2,2)),2),0)","v":0},{"$f":"IF('Dados Contratação'!$M$24=\"Sim\",TRUNC((ROUND(($O$13+$O$16)*Profissional!$J34*1.2,2)),2),0)","v":0},{"$f":"IF('Dados Contratação'!$M$25=\"Sim\",TRUNC((ROUND(($P$13+$P$16)*Profissional!$J34*1.2,2)),2),0)","v":0},{"$f":"IF('Dados Contratação'!$M$26=\"Sim\",TRUNC((ROUND(($Q$13+$Q$16)*Profissional!$J34*1.2,2)),2),0)","v":0},{"$f":"IF('Dados Contratação'!$M$27=\"Sim\",TRUNC((ROUND(($R$13+$R$16)*Profissional!$J34*1.2,2)),2),0)","v":0},{"$f":"IF('Dados Contratação'!$M$28=\"Sim\",TRUNC((ROUND((S13+S16)*Profissional!$J34*1.2,2)),2),0)","v":0},{"$f":"IF('Dados Contratação'!$M$29=\"Sim\",TRUNC((ROUND((T13+T16)*Profissional!$J34*1.2,2)),2),0)","v":0},{"$f":"IF('Dados Contratação'!$M$30=\"Sim\",TRUNC((ROUND((U13+U16)*Profissional!$J34*1.2,2)),2),0)","v":0},{"$f":"IF('Dados Contratação'!$M$31=\"Sim\",TRUNC((ROUND((V13+V16)*Profissional!$J34*1.2,2)),2),0)","v":0},{"$f":"IF('Dados Contratação'!$M$32=\"Sim\",TRUNC((ROUND((W13+W16)*Profissional!$J34*1.2,2)),2),0)","v":0},{"$f":"IF('Dados Contratação'!$M$33=\"Sim\",TRUNC((ROUND((X13+X16)*Profissional!$J34*1.2,2)),2),0)","v":0},{"$f":"IF('Dados Contratação'!$M$34=\"Sim\",TRUNC((ROUND((Y13+Y16)*Profissional!$J34*1.2,2)),2),0)","v":0},{"$f":"IF('Dados Contratação'!$M$35=\"Sim\",TRUNC((ROUND((Z13+Z16)*Profissional!$J34*1.2,2)),2),0)","v":0},{"$f":"IF('Dados Contratação'!$M$36=\"Sim\",TRUNC((ROUND((AA13+AA16)*Profissional!$J34*1.2,2)),2),0)","v":0},{"$f":"IF('Dados Contratação'!$M$37=\"Sim\",TRUNC((ROUND((AB13+AB16)*Profissional!$J34*1.2,2)),2),0)","v":0},{"$f":"IF('Dados Contratação'!$M$38=\"Sim\",TRUNC((ROUND((AC13+AC16)*Profissional!$J34*1.2,2)),2),0)","v":0},{"$f":"IF('Dados Contratação'!$M$39=\"Sim\",TRUNC((ROUND((AD13+AD16)*Profissional!$J34*1.2,2)),2),0)","v":0},{"$f":"IF('Dados Contratação'!$M$40=\"Sim\",TRUNC((ROUND((AE13+AE16)*Profissional!$J34*1.2,2)),2),0)","v":0},0]
[null,null,null,"Repercussão da Hora Noturna Adicional no DSR",null,null,null,null,null,{"$f":"IF('Dados Contratação'!$M$19=\"Sim\",TRUNC((ROUND($J28/30.4375*Encarregado!$J35/2,2)),2),0)","v":0},{"$f":"IF('Dados Contratação'!$M$20=\"Sim\",TRUNC((ROUND($K28/30.4375*Encarregado!$J35/2,2)),2),0)","v":0},{"$f":"IF('Dados Contratação'!$M$21=\"Sim\",TRUNC((ROUND($L28/30.4375*Profissional!$J35/2,2)),2),0)","v":0},{"$f":"IF('Dados Contratação'!$M$22=\"Sim\",TRUNC((ROUND($M28/30.4375*Profissional!$J35/2,2)),2),0)","v":0},{"$f":"IF('Dados Contratação'!$M$23=\"Sim\",TRUNC((ROUND($N28/30.4375*Profissional!$J35/2,2)),2),0)","v":0},{"$f":"IF('Dados Contratação'!$M$24=\"Sim\",TRUNC((ROUND($O28/30.4375*Profissional!$J35/2,2)),2),0)","v":0},{"$f":"IF('Dados Contratação'!$M$25=\"Sim\",TRUNC((ROUND($P28/30.4375*Profissional!$J35/2,2)),2),0)","v":0},{"$f":"IF('Dados Contratação'!$M$26=\"Sim\",TRUNC((ROUND($Q28/30.4375*Profissional!$J35/2,2)),2),0)","v":0},{"$f":"IF('Dados Contratação'!$M$27=\"Sim\",TRUNC((ROUND($R28/30.4375*Profissional!$J35/2,2)),2),0)","v":0},{"$f":"IF('Dados Contratação'!$M$28=\"Sim\",TRUNC((ROUND($S28/30.4375*Profissional!$J35/2,2)),2),0)","v":0},{"$f":"IF('Dados Contratação'!$M$29=\"Sim\",TRUNC((ROUND($T28/30.4375*Profissional!$J35/2,2)),2),0)","v":0},{"$f":"IF('Dados Contratação'!$M$30=\"Sim\",TRUNC((ROUND($U28/30.4375*Profissional!$J35/2,2)),2),0)","v":0},{"$f":"IF('Dados Contratação'!$M$31=\"Sim\",TRUNC((ROUND($V28/30.4375*Profissional!$J35/2,2)),2),0)","v":0},{"$f":"IF('Dados Contratação'!$M$32=\"Sim\",TRUNC((ROUND($W28/30.4375*Profissional!$J35/2,2)),2),0)","v":0},{"$f":"IF('Dados Contratação'!$M$33=\"Sim\",TRUNC((ROUND($X28/30.4375*Profissional!$J35/2,2)),2),0)","v":0},{"$f":"IF('Dados Contratação'!$M$34=\"Sim\",TRUNC((ROUND($Y28/30.4375*Profissional!$J35/2,2)),2),0)","v":0},{"$f":"IF('Dados Contratação'!$M$35=\"Sim\",TRUNC((ROUND($Z28/30.4375*Profissional!$J35/2,2)),2),0)","v":0},{"$f":"IF('Dados Contratação'!$M$36=\"Sim\",TRUNC((ROUND($AA28/30.4375*Profissional!$J35/2,2)),2),0)","v":0},{"$f":"IF('Dados Contratação'!$M$37=\"Sim\",TRUNC((ROUND($AB28/30.4375*Profissional!$J35/2,2)),2),0)","v":0},{"$f":"IF('Dados Contratação'!$M$38=\"Sim\",TRUNC((ROUND($AC28/30.4375*Profissional!$J35/2,2)),2),0)","v":0},{"$f":"IF('Dados Contratação'!$M$39=\"Sim\",TRUNC((ROUND($AD28/30.4375*Profissional!$J35/2,2)),2),0)","v":0},{"$f":"IF('Dados Contratação'!$M$40=\"Sim\",TRUNC((ROUND($AE28/30.4375*Profissional!$J35/2,2)),2),0)","v":0},0]
[null,null,null,"Adicional de Hora Extra",null,null,null,null,null,{"$f":"IF('Dados Contratação'!$N$19=\"Sim\",TRUNC((ROUND(($J$13+$J16+$J26+$J27+$J28+$J29)/220*Encarregado!$J36,2)),2),0)","v":0},{"$f":"IF('Dados Contratação'!$N$20=\"Sim\",TRUNC((ROUND(($K$13+$K16+$K26+$K27+$K28+$K29)/220*Encarregado!$J36,2)),2),0)","v":0},{"$f":"IF('Dados Contratação'!$N$21=\"Sim\",TRUNC((ROUND(($L$13+$L16+$L26+$L27+$L28+$L29)/220*Profissional!$J36,2)),2),0)","v":0},{"$f":"IF('Dados Contratação'!$N$22=\"Sim\",TRUNC((ROUND((M13+M16+M26+M27+M28+M29)/220*Profissional!$J36,2)),2),0)","v":0},{"$f":"IF('Dados Contratação'!$N$23=\"Sim\",TRUNC((ROUND((N13+N16+N26+N27+N28+N29)/220*Profissional!$J36,2)),2),0)","v":0},{"$f":"IF('Dados Contratação'!$N$24=\"Sim\",TRUNC((ROUND((O13+O16+O26+O27+O28+O29)/220*Profissional!$J36,2)),2),0)","v":0},{"$f":"IF('Dados Contratação'!$N$25=\"Sim\",TRUNC((ROUND((P13+P16+P26+P27+P28+P29)/220*Profissional!$J36,2)),2),0)","v":0},{"$f":"IF('Dados Contratação'!$N$26=\"Sim\",TRUNC((ROUND((Q13+Q16+Q26+Q27+Q28+Q29)/220*Profissional!$J36,2)),2),0)","v":0},{"$f":"IF('Dados Contratação'!$N$27=\"Sim\",TRUNC((ROUND((R13+R16+R26+R27+R28+R29)/220*Profissional!$J36,2)),2),0)","v":0},{"$f":"IF('Dados Contratação'!$N$28=\"Sim\",TRUNC((ROUND((S13+S16+S26+S27+S28+S29)/220*Profissional!$J36,2)),2),0)","v":0},{"$f":"IF('Dados Contratação'!$N$29=\"Sim\",TRUNC((ROUND((T13+T16+T26+T27+T28+T29)/220*Profissional!$J36,2)),2),0)","v":0},{"$f":"IF('Dados Contratação'!$N$30=\"Sim\",TRUNC((ROUND((U13+U16+U26+U27+U28+U29)/220*Profissional!$J36,2)),2),0)","v":0},{"$f":"IF('Dados Contratação'!$N$31=\"Sim\",TRUNC((ROUND((V13+V16+V26+V27+V28+V29)/220*Profissional!$J36,2)),2),0)","v":0},{"$f":"IF('Dados Contratação'!$N$32=\"Sim\",TRUNC((ROUND((W13+W16+W26+W27+W28+W29)/220*Profissional!$J36,2)),2),0)","v":0},{"$f":"IF('Dados Contratação'!$N$33=\"Sim\",TRUNC((ROUND((X13+X16+X26+X27+X28+X29)/220*Profissional!$J36,2)),2),0)","v":0},{"$f":"IF('Dados Contratação'!$N$34=\"Sim\",TRUNC((ROUND((Y13+Y16+Y26+Y27+Y28+Y29)/220*Profissional!$J36,2)),2),0)","v":0},{"$f":"IF('Dados Contratação'!$N$35=\"Sim\",TRUNC((ROUND((Z13+Z16+Z26+Z27+Z28+Z29)/220*Profissional!$J36,2)),2),0)","v":0},{"$f":"IF('Dados Contratação'!$N$36=\"Sim\",TRUNC((ROUND((AA13+AA16+AA26+AA27+AA28+AA29)/220*Profissional!$J36,2)),2),0)","v":0},{"$f":"IF('Dados Contratação'!$N$37=\"Sim\",TRUNC((ROUND((AB13+AB16+AB26+AB27+AB28+AB29)/220*Profissional!$J36,2)),2),0)","v":0},{"$f":"IF('Dados Contratação'!$N$38=\"Sim\",TRUNC((ROUND((AC13+AC16+AC26+AC27+AC28+AC29)/220*Profissional!$J36,2)),2),0)","v":0},{"$f":"IF('Dados Contratação'!$N$39=\"Sim\",TRUNC((ROUND((AD13+AD16+AD26+AD27+AD28+AD29)/220*Profissional!$J36,2)),2),0)","v":0},{"$f":"IF('Dados Contratação'!$N$40=\"Sim\",TRUNC((ROUND((AE13+AE16+AE26+AE27+AE28+AE29)/220*Profissional!$J36,2)),2),0)","v":0},0]
[null,null,null,"Repercussão do Adicional de Hora Extra no DSR",null,null,null,null,null,{"$f":"IF('Dados Contratação'!$N$19=\"Sim\",TRUNC((ROUND($J30/30.4375*Encarregado!$J37/2,2)),2),0)","v":0},{"$f":"IF('Dados Contratação'!$N$20=\"Sim\",TRUNC((ROUND($K30/30.4375*Encarregado!$J37/2,2)),2),0)","v":0},{"$f":"IF('Dados Contratação'!$N$21=\"Sim\",TRUNC((ROUND($L30/30.4375*Profissional!$J37/2,2)),2),0)","v":0},{"$f":"IF('Dados Contratação'!$N$22=\"Sim\",TRUNC((ROUND($M30/30.4375*Profissional!$J37/2,2)),2),0)","v":0},{"$f":"IF('Dados Contratação'!$N$23=\"Sim\",TRUNC((ROUND($N30/30.4375*Profissional!$J37/2,2)),2),0)","v":0},{"$f":"IF('Dados Contratação'!$N$24=\"Sim\",TRUNC((ROUND($O30/30.4375*Profissional!$J37/2,2)),2),0)","v":0},{"$f":"IF('Dados Contratação'!$N$25=\"Sim\",TRUNC((ROUND($P30/30.4375*Profissional!$J37/2,2)),2),0)","v":0},{"$f":"IF('Dados Contratação'!$N$26=\"Sim\",TRUNC((ROUND($Q30/30.4375*Profissional!$J37/2,2)),2),0)","v":0},{"$f":"IF('Dados Contratação'!$N$27=\"Sim\",TRUNC((ROUND($R30/30.4375*Profissional!$J37/2,2)),2),0)","v":0},{"$f":"IF('Dados Contratação'!$N$28=\"Sim\",TRUNC((ROUND($S30/30.4375*Profissional!$J37/2,2)),2),0)","v":0},{"$f":"IF('Dados Contratação'!$N$29=\"Sim\",TRUNC((ROUND($T30/30.4375*Profissional!$J37/2,2)),2),0)","v":0},{"$f":"IF('Dados Contratação'!$N$30=\"Sim\",TRUNC((ROUND($U30/30.4375*Profissional!$J37/2,2)),2),0)","v":0},{"$f":"IF('Dados Contratação'!$N$31=\"Sim\",TRUNC((ROUND($V30/30.4375*Profissional!$J37/2,2)),2),0)","v":0},{"$f":"IF('Dados Contratação'!$N$32=\"Sim\",TRUNC((ROUND($W30/30.4375*Profissional!$J37/2,2)),2),0)","v":0},{"$f":"IF('Dados Contratação'!$N$33=\"Sim\",TRUNC((ROUND($X30/30.4375*Profissional!$J37/2,2)),2),0)","v":0},{"$f":"IF('Dados Contratação'!$N$34=\"Sim\",TRUNC((ROUND($Y30/30.4375*Profissional!$J37/2,2)),2),0)","v":0},{"$f":"IF('Dados Contratação'!$N$35=\"Sim\",TRUNC((ROUND($Z30/30.4375*Profissional!$J37/2,2)),2),0)","v":0},{"$f":"IF('Dados Contratação'!$N$36=\"Sim\",TRUNC((ROUND($AA30/30.4375*Profissional!$J37/2,2)),2),0)","v":0},{"$f":"IF('Dados Contratação'!$N$37=\"Sim\",TRUNC((ROUND($AB30/30.4375*Profissional!$J37/2,2)),2),0)","v":0},{"$f":"IF('Dados Contratação'!$N$38=\"Sim\",TRUNC((ROUND($AC30/30.4375*Profissional!$J37/2,2)),2),0)","v":0},{"$f":"IF('Dados Contratação'!$N$39=\"Sim\",TRUNC((ROUND($AD30/30.4375*Profissional!$J37/2,2)),2),0)","v":0},{"$f":"IF('Dados Contratação'!$N$40=\"Sim\",TRUNC((ROUND($AE30/30.4375*Profissional!$J37/2,2)),2),0)","v":0},0]
[null,null,null,"Adicional de Hora Extra (Domingos e Feriados)",null,null,null,null,null,{"$f":"IF('Dados Contratação'!$N$19=\"Sim\",TRUNC((ROUND((($J$13+$J18+$J28+$J29+$J30+$J31)/220)*2*Encarregado!$J38,2)),2),0)","v":0},{"$f":"IF('Dados Contratação'!$N$20=\"Sim\",TRUNC((ROUND((($K$13+$K18+$K28+$K29+$K30+$K31)/220)*2*Encarregado!$J38,2)),2),0)","v":0},{"$f":"IF('Dados Contratação'!$N$21=\"Sim\",TRUNC((ROUND((($L$13+$L18+$L28+$L29+$L30+$L31)/220)*2*Profissional!$J38,2)),2),0)","v":0},{"$f":"IF('Dados Contratação'!$N$22=\"Sim\",TRUNC((ROUND(((M15+M18+M28+M29+M30+M31)/220)*2*Profissional!$J38,2)),2),0)","v":0},{"$f":"IF('Dados Contratação'!$N$23=\"Sim\",TRUNC((ROUND(((N15+N18+N28+N29+N30+N31)/220)*2*Profissional!$J38,2)),2),0)","v":0},{"$f":"IF('Dados Contratação'!$N$24=\"Sim\",TRUNC((ROUND(((O15+O18+O28+O29+O30+O31)/220)*2*Profissional!$J38,2)),2),0)","v":0},{"$f":"IF('Dados Contratação'!$N$25=\"Sim\",TRUNC((ROUND(((P15+P18+P28+P29+P30+P31)/220)*2*Profissional!$J38,2)),2),0)","v":0},{"$f":"IF('Dados Contratação'!$N$26=\"Sim\",TRUNC((ROUND(((Q15+Q18+Q28+Q29+Q30+Q31)/220)*2*Profissional!$J38,2)),2),0)","v":0},{"$f":"IF('Dados Contratação'!$N$27=\"Sim\",TRUNC((ROUND(((R15+R18+R28+R29+R30+R31)/220)*2*Profissional!$J38,2)),2),0)","v":0},{"$f":"IF('Dados Contratação'!$N$28=\"Sim\",TRUNC((ROUND(((S15+S18+S28+S29+S30+S31)/220)*2*Profissional!$J38,2)),2),0)","v":0},{"$f":"IF('Dados Contratação'!$N$29=\"Sim\",TRUNC((ROUND(((T15+T18+T28+T29+T30+T31)/220)*2*Profissional!$J38,2)),2),0)","v":0},{"$f":"IF('Dados Contratação'!$N$30=\"Sim\",TRUNC((ROUND(((U15+U18+U28+U29+U30+U31)/220)*2*Profissional!$J38,2)),2),0)","v":0},{"$f":"IF('Dados Contratação'!$N$31=\"Sim\",TRUNC((ROUND(((V15+V18+V28+V29+V30+V31)/220)*2*Profissional!$J38,2)),2),0)","v":0},{"$f":"IF('Dados Contratação'!$N$32=\"Sim\",TRUNC((ROUND(((W15+W18+W28+W29+W30+W31)/220)*2*Profissional!$J38,2)),2),0)","v":0},{"$f":"IF('Dados Contratação'!$N$33=\"Sim\",TRUNC((ROUND(((X15+X18+X28+X29+X30+X31)/220)*2*Profissional!$J38,2)),2),0)","v":0},{"$f":"IF('Dados Contratação'!$N$34=\"Sim\",TRUNC((ROUND(((Y15+Y18+Y28+Y29+Y30+Y31)/220)*2*Profissional!$J38,2)),2),0)","v":0},{"$f":"IF('Dados Contratação'!$N$35=\"Sim\",TRUNC((ROUND(((Z15+Z18+Z28+Z29+Z30+Z31)/220)*2*Profissional!$J38,2)),2),0)","v":0},{"$f":"IF('Dados Contratação'!$N$36=\"Sim\",TRUNC((ROUND(((AA15+AA18+AA28+AA29+AA30+AA31)/220)*2*Profissional!$J38,2)),2),0)","v":0},{"$f":"IF('Dados Contratação'!$N$37=\"Sim\",TRUNC((ROUND(((AB15+AB18+AB28+AB29+AB30+AB31)/220)*2*Profissional!$J38,2)),2),0)","v":0},{"$f":"IF('Dados Contratação'!$N$38=\"Sim\",TRUNC((ROUND(((AC15+AC18+AC28+AC29+AC30+AC31)/220)*2*Profissional!$J38,2)),2),0)","v":0},{"$f":"IF('Dados Contratação'!$N$39=\"Sim\",TRUNC((ROUND(((AD15+AD18+AD28+AD29+AD30+AD31)/220)*2*Profissional!$J38,2)),2),0)","v":0},{"$f":"IF('Dados Contratação'!$N$40=\"Sim\",TRUNC((ROUND(((AE15+AE18+AE28+AE29+AE30+AE31)/220)*2*Profissional!$J38,2)),2),0)","v":0},{"$f":"SUM(J32:AE32)","v":0}]
[null,null,null,"Repercussão do Adicional de Hora Extra no DSR (Domingos e Feriados)",null,null,null,null,null,{"$f":"IF('Dados Contratação'!$N$19=\"Sim\",TRUNC((ROUND($J32/30.4375*Encarregado!$J39/2,2)),2),0)","v":0},{"$f":"IF('Dados Contratação'!$N$20=\"Sim\",TRUNC((ROUND($K32/30.4375*Encarregado!$J39/2,2)),2),0)","v":0},{"$f":"IF('Dados Contratação'!$N$21=\"Sim\",TRUNC((ROUND($L32/30.4375*Profissional!$J39/2,2)),2),0)","v":0},{"$f":"IF('Dados Contratação'!$N$22=\"Sim\",TRUNC((ROUND($M32/30.4375*Profissional!$J39/2,2)),2),0)","v":0},{"$f":"IF('Dados Contratação'!$N$23=\"Sim\",TRUNC((ROUND($N32/30.4375*Profissional!$J39/2,2)),2),0)","v":0},{"$f":"IF('Dados Contratação'!$N$24=\"Sim\",TRUNC((ROUND($O32/30.4375*Profissional!$J39/2,2)),2),0)","v":0},{"$f":"IF('Dados Contratação'!$N$25=\"Sim\",TRUNC((ROUND($P32/30.4375*Profissional!$J39/2,2)),2),0)","v":0},{"$f":"IF('Dados Contratação'!$N$26=\"Sim\",TRUNC((ROUND($Q32/30.4375*Profissional!$J39/2,2)),2),0)","v":0},{"$f":"IF('Dados Contratação'!$N$27=\"Sim\",TRUNC((ROUND($R32/30.4375*Profissional!$J39/2,2)),2),0)","v":0},{"$f":"IF('Dados Contratação'!$N$28=\"Sim\",TRUNC((ROUND($S32/30.4375*Profissional!$J39/2,2)),2),0)","v":0},{"$f":"IF('Dados Contratação'!$N$29=\"Sim\",TRUNC((ROUND($T32/30.4375*Profissional!$J39/2,2)),2),0)","v":0},{"$f":"IF('Dados Contratação'!$N$30=\"Sim\",TRUNC((ROUND($U32/30.4375*Profissional!$J39/2,2)),2),0)","v":0},{"$f":"IF('Dados Contratação'!$N$31=\"Sim\",TRUNC((ROUND($V32/30.4375*Profissional!$J39/2,2)),2),0)","v":0},{"$f":"IF('Dados Contratação'!$N$32=\"Sim\",TRUNC((ROUND($W32/30.4375*Profissional!$J39/2,2)),2),0)","v":0},{"$f":"IF('Dados Contratação'!$N$33=\"Sim\",TRUNC((ROUND($X32/30.4375*Profissional!$J39/2,2)),2),0)","v":0},{"$f":"IF('Dados Contratação'!$N$34=\"Sim\",TRUNC((ROUND($Y32/30.4375*Profissional!$J39/2,2)),2),0)","v":0},{"$f":"IF('Dados Contratação'!$N$35=\"Sim\",TRUNC((ROUND($Z32/30.4375*Profissional!$J39/2,2)),2),0)","v":0},{"$f":"IF('Dados Contratação'!$N$36=\"Sim\",TRUNC((ROUND($AA32/30.4375*Profissional!$J39/2,2)),2),0)","v":0},{"$f":"IF('Dados Contratação'!$N$37=\"Sim\",TRUNC((ROUND($AB32/30.4375*Profissional!$J39/2,2)),2),0)","v":0},{"$f":"IF('Dados Contratação'!$N$38=\"Sim\",TRUNC((ROUND($AC32/30.4375*Profissional!$J39/2,2)),2),0)","v":0},{"$f":"IF('Dados Contratação'!$N$39=\"Sim\",TRUNC((ROUND($AD32/30.4375*Profissional!$J39/2,2)),2),0)","v":0},{"$f":"IF('Dados Contratação'!$N$40=\"Sim\",TRUNC((ROUND($AE32/30.4375*Profissional!$J39/2,2)),2),0)","v":0},0]
[null,null,null,"Subtotal de Remuneração - Base de Cálculo para Encargos Trabalhistas",null,null,null,null,null,{"$f":"SUM(J20:J33)","v":0},0,4189,0,0,0,0,0,0,0,0,0,0,0,0,0,0,0,0,0,0,0,4189]
[null,null,null,"Intervalo Intrajornada",null,null,null,null,null,{"$f":"IF('Dados Contratação'!$O$19=\"Sim\",TRUNC(ROUND(Encarregado!$J41*(ROUND(((($J$13+J17+J18+J19)/220)*1.5),2)),2),2),0)","v":0},{"$f":"IF('Dados Contratação'!$O$20=\"Sim\",TRUNC(ROUND(Encarregado!$J41*(ROUND(((($K$13+K17+K18+K19)/220)*1.5),2)),2),2),0)","v":0},{"$f":"IF('Dados Contratação'!$O$21=\"Sim\",TRUNC(ROUND(Profissional!$J41*(ROUND(((($L$13+L17+L18+L19)/220)*1.5),2)),2),2),0)","v":0},{"$f":"IF('Dados Contratação'!$O$22=\"Sim\",TRUNC(ROUND(Profissional!$J41*(ROUND((((M13+M17+M18+M19)/220)*1.5),2)),2),2),0)","v":0},{"$f":"IF('Dados Contratação'!$O$23=\"Sim\",TRUNC(ROUND(Profissional!$J41*(ROUND((((N13+N17+N18+N19)/220)*1.5),2)),2),2),0)","v":0},{"$f":"IF('Dados Contratação'!$O$24=\"Sim\",TRUNC(ROUND(Profissional!$J41*(ROUND((((O13+O17+O18+O19)/220)*1.5),2)),2),2),0)","v":0},{"$f":"IF('Dados Contratação'!$O$25=\"Sim\",TRUNC(ROUND(Profissional!$J41*(ROUND((((P13+P17+P18+P19)/220)*1.5),2)),2),2),0)","v":0},{"$f":"IF('Dados Contratação'!$O$26=\"Sim\",TRUNC(ROUND(Profissional!$J41*(ROUND((((Q13+Q17+Q18+Q19)/220)*1.5),2)),2),2),0)","v":0},{"$f":"IF('Dados Contratação'!$O$27=\"Sim\",TRUNC(ROUND(Profissional!$J41*(ROUND((((R13+R17+R18+R19)/220)*1.5),2)),2),2),0)","v":0},{"$f":"IF('Dados Contratação'!$O$28=\"Sim\",TRUNC(ROUND(Profissional!$J41*(ROUND((((S13+S17+S18+S19)/220)*1.5),2)),2),2),0)","v":0},{"$f":"IF('Dados Contratação'!$O$29=\"Sim\",TRUNC(ROUND(Profissional!$J41*(ROUND((((T13+T17+T18+T19)/220)*1.5),2)),2),2),0)","v":0},{"$f":"IF('Dados Contratação'!$O$30=\"Sim\",TRUNC(ROUND(Profissional!$J41*(ROUND((((U13+U17+U18+U19)/220)*1.5),2)),2),2),0)","v":0},{"$f":"IF('Dados Contratação'!$O$31=\"Sim\",TRUNC(ROUND(Profissional!$J41*(ROUND((((V13+V17+V18+V19)/220)*1.5),2)),2),2),0)","v":0},{"$f":"IF('Dados Contratação'!$O$32=\"Sim\",TRUNC(ROUND(Profissional!$J41*(ROUND((((W13+W17+W18+W19)/220)*1.5),2)),2),2),0)","v":0},{"$f":"IF('Dados Contratação'!$O$33=\"Sim\",TRUNC(ROUND(Profissional!$J41*(ROUND((((X13+X17+X18+X19)/220)*1.5),2)),2),2),0)","v":0},{"$f":"IF('Dados Contratação'!$O$34=\"Sim\",TRUNC(ROUND(Profissional!$J41*(ROUND((((Y13+Y17+Y18+Y19)/220)*1.5),2)),2),2),0)","v":0},{"$f":"IF('Dados Contratação'!$O$35=\"Sim\",TRUNC(ROUND(Profissional!$J41*(ROUND((((Z13+Z17+Z18+Z19)/220)*1.5),2)),2),2),0)","v":0},{"$f":"IF('Dados Contratação'!$O$36=\"Sim\",TRUNC(ROUND(Profissional!$J41*(ROUND((((AA13+AA17+AA18+AA19)/220)*1.5),2)),2),2),0)","v":0},{"$f":"IF('Dados Contratação'!$O$37=\"Sim\",TRUNC(ROUND(Profissional!$J41*(ROUND((((AB13+AB17+AB18+AB19)/220)*1.5),2)),2),2),0)","v":0},{"$f":"IF('Dados Contratação'!$O$38=\"Sim\",TRUNC(ROUND(Profissional!$J41*(ROUND((((AC13+AC17+AC18+AC19)/220)*1.5),2)),2),2),0)","v":0},{"$f":"IF('Dados Contratação'!$O$39=\"Sim\",TRUNC(ROUND(Profissional!$J41*(ROUND((((AD13+AD17+AD18+AD19)/220)*1.5),2)),2),2),0)","v":0},{"$f":"IF('Dados Contratação'!$O$40=\"Sim\",TRUNC(ROUND(Profissional!$J41*(ROUND((((AE13+AE17+AE18+AE19)/220)*1.5),2)),2),2),0)","v":0},{"$f":"SUM(J35:AE35)","v":0}]
[null,null,null,"Outros: ",null,null,null,null,null,{"$f":"IF(Apoio!$K$11=0,0,IF('Dados Contratação'!$J$19=0,0,Encarregado!$K42))","v":0},{"$f":"IF(Apoio!$K$11=0,0,IF('Dados Contratação'!$J$20=0,0,Encarregado!$K42))","v":0},{"$f":"IF(Apoio!$K$11=0,0,IF('Dados Contratação'!$J$21=0,0,Profissional!$K42))","v":0},{"$f":"IF(Apoio!$K$11=0,0,IF('Dados Contratação'!$J$22=0,0,Profissional!$K42))","v":0},{"$f":"IF(Apoio!$K$11=0,0,IF('Dados Contratação'!$J$23=0,0,Profissional!$K42))","v":0},{"$f":"IF(Apoio!$K$11=0,0,IF('Dados Contratação'!$J$24=0,0,Profissional!$K42))","v":0},{"$f":"IF(Apoio!$K$11=0,0,IF('Dados Contratação'!$J$25=0,0,Profissional!$K42))","v":0},{"$f":"IF(Apoio!$K$11=0,0,IF('Dados Contratação'!$J$26=0,0,Profissional!$K42))","v":0},{"$f":"IF(Apoio!$K$11=0,0,IF('Dados Contratação'!$J$27=0,0,Profissional!$K42))","v":0},{"$f":"IF(Apoio!$K$11=0,0,IF('Dados Contratação'!$J$28=0,0,Profissional!$K42))","v":0},{"$f":"IF(Apoio!$K$11=0,0,IF('Dados Contratação'!$J$29=0,0,Profissional!$K42))","v":0},{"$f":"IF(Apoio!$K$11=0,0,IF('Dados Contratação'!$J$30=0,0,Profissional!$K42))","v":0},{"$f":"IF(Apoio!$K$11=0,0,IF('Dados Contratação'!$J$31=0,0,Profissional!$K42))","v":0},{"$f":"IF(Apoio!$K$11=0,0,IF('Dados Contratação'!$J$32=0,0,Profissional!$K42))","v":0},{"$f":"IF(Apoio!$K$11=0,0,IF('Dados Contratação'!$J$33=0,0,Profissional!$K42))","v":0},{"$f":"IF(Apoio!$K$11=0,0,IF('Dados Contratação'!$J$34=0,0,Profissional!$K42))","v":0},{"$f":"IF(Apoio!$K$11=0,0,IF('Dados Contratação'!$J$35=0,0,Profissional!$K42))","v":0},{"$f":"IF(Apoio!$K$11=0,0,IF('Dados Contratação'!$J$36=0,0,Profissional!$K42))","v":0},{"$f":"IF(Apoio!$K$11=0,0,IF('Dados Contratação'!$J$37=0,0,Profissional!$K42))","v":0},{"$f":"IF(Apoio!$K$11=0,0,IF('Dados Contratação'!$J$38=0,0,Profissional!$K42))","v":0},{"$f":"IF(Apoio!$K$11=0,0,IF('Dados Contratação'!$J$39=0,0,Profissional!$K42))","v":0},{"$f":"IF(Apoio!$K$11=0,0,IF('Dados Contratação'!$J$40=0,0,Profissional!$K42))","v":0},0]
[null,null,null,"Total de Remuneração",null,null,null,null,null,{"$f":"SUM(J34:J36)","v":0},{"$f":"SUM(K34:K36)","v":0},{"$f":"SUM(L34:L36)","v":4189},0,0,0,0,0,0,0,0,0,0,0,0,0,0,0,0,0,0,0,4189]
[]
[null,null,"MÓDULO 2 - ENCARGOS E BENEFÍCIOS"]
[null,null,null,"SUBMÓDULO 2.1 - 13º SALÁRIO E ADICIONAL DE FÉRIAS"]
[null,null,null,null,null,null,null,null,null,"Valor","Valor","Valor","Valor","Valor","Valor","Valor","Valor","Valor","Valor","Valor","Valor","Valor","Valor","Valor","Valor","Valor","Valor","Valor","Valor","Valor","Valor","Valor"]
[null,null,null,null,"13º Salário",null,null,null,null,{"$f":"TRUNC(ROUND(Encargos_Benefícios!$H47*J34,2),2)","v":0},{"$f":"TRUNC(ROUND(Encargos_Benefícios!$H47*K34,2),2)","v":0},{"$f":"TRUNC(ROUND(Encargos_Benefícios!$H47*L34,2),2)","v":348.94},{"$f":"TRUNC(ROUND(Encargos_Benefícios!$H47*M34,2),2)","v":0},{"$f":"TRUNC(ROUND(Encargos_Benefícios!$H47*N34,2),2)","v":0},{"$f":"TRUNC(ROUND(Encargos_Benefícios!$H47*O34,2),2)","v":0},{"$f":"TRUNC(ROUND(Encargos_Benefícios!$H47*P34,2),2)","v":0},{"$f":"TRUNC(ROUND(Encargos_Benefícios!$H47*Q34,2),2)","v":0},{"$f":"TRUNC(ROUND(Encargos_Benefícios!$H47*R34,2),2)","v":0},{"$f":"TRUNC(ROUND(Encargos_Benefícios!$H47*S34,2),2)","v":0},{"$f":"TRUNC(ROUND(Encargos_Benefícios!$H47*T34,2),2)","v":0},{"$f":"TRUNC(ROUND(Encargos_Benefícios!$H47*U34,2),2)","v":0},{"$f":"TRUNC(ROUND(Encargos_Benefícios!$H47*V34,2),2)","v":0},{"$f":"TRUNC(ROUND(Encargos_Benefícios!$H47*W34,2),2)","v":0},{"$f":"TRUNC(ROUND(Encargos_Benefícios!$H47*X34,2),2)","v":0},{"$f":"TRUNC(ROUND(Encargos_Benefícios!$H47*Y34,2),2)","v":0},{"$f":"TRUNC(ROUND(Encargos_Benefícios!$H47*Z34,2),2)","v":0},{"$f":"TRUNC(ROUND(Encargos_Benefícios!$H47*AA34,2),2)","v":0},{"$f":"TRUNC(ROUND(Encargos_Benefícios!$H47*AB34,2),2)","v":0},{"$f":"TRUNC(ROUND(Encargos_Benefícios!$H47*AC34,2),2)","v":0},{"$f":"TRUNC(ROUND(Encargos_Benefícios!$H47*AD34,2),2)","v":0},{"$f":"TRUNC(ROUND(Encargos_Benefícios!$H47*AE34,2),2)","v":0},{"$f":"SUM(J42:AE42)","v":348.94}]
[null,null,null,null,"Adicional de Férias",null,null,null,null,{"$f":"TRUNC(ROUND(Encargos_Benefícios!$H48*J34,2),2)","v":0},{"$f":"TRUNC(ROUND(Encargos_Benefícios!$H48*K34,2),2)","v":0},{"$f":"TRUNC(ROUND(Encargos_Benefícios!$H48*L34,2),2)","v":116.45},{"$f":"TRUNC(ROUND(Encargos_Benefícios!$H48*M34,2),2)","v":0},{"$f":"TRUNC(ROUND(Encargos_Benefícios!$H48*N34,2),2)","v":0},{"$f":"TRUNC(ROUND(Encargos_Benefícios!$H48*O34,2),2)","v":0},{"$f":"TRUNC(ROUND(Encargos_Benefícios!$H48*P34,2),2)","v":0},{"$f":"TRUNC(ROUND(Encargos_Benefícios!$H48*Q34,2),2)","v":0},{"$f":"TRUNC(ROUND(Encargos_Benefícios!$H48*R34,2),2)","v":0},{"$f":"TRUNC(ROUND(Encargos_Benefícios!$H48*S34,2),2)","v":0},{"$f":"TRUNC(ROUND(Encargos_Benefícios!$H48*T34,2),2)","v":0},{"$f":"TRUNC(ROUND(Encargos_Benefícios!$H48*U34,2),2)","v":0},{"$f":"TRUNC(ROUND(Encargos_Benefícios!$H48*V34,2),2)","v":0},{"$f":"TRUNC(ROUND(Encargos_Benefícios!$H48*W34,2),2)","v":0},{"$f":"TRUNC(ROUND(Encargos_Benefícios!$H48*X34,2),2)","v":0},{"$f":"TRUNC(ROUND(Encargos_Benefícios!$H48*Y34,2),2)","v":0},{"$f":"TRUNC(ROUND(Encargos_Benefícios!$H48*Z34,2),2)","v":0},{"$f":"TRUNC(ROUND(Encargos_Benefícios!$H48*AA34,2),2)","v":0},{"$f":"TRUNC(ROUND(Encargos_Benefícios!$H48*AB34,2),2)","v":0},{"$f":"TRUNC(ROUND(Encargos_Benefícios!$H48*AC34,2),2)","v":0},{"$f":"TRUNC(ROUND(Encargos_Benefícios!$H48*AD34,2),2)","v":0},{"$f":"TRUNC(ROUND(Encargos_Benefícios!$H48*AE34,2),2)","v":0},{"$f":"SUM(J43:AE43)","v":116.45}]
[null,null,null,"Subtotal do 13º Salário e Adicional de Férias",null,null,null,null,null,{"$f":"SUM(J42:J43)","v":0},{"$f":"SUM(K42:K43)","v":0},465.39,0,0,0,0,0,0,0,0,0,0,0,0,0,0,0,0,0,0,0,{"$f":"SUM(AF42:AF43)","v":465.39}]
[null,null,null,null,"Incidência dos encargos previstos no Submódulo 2.2",null,null,null,null,{"$f":"TRUNC(ROUND(Encargos_Benefícios!$H49*J44,2),2)","v":0},{"$f":"TRUNC(ROUND(Encargos_Benefícios!$H49*K44,2),2)","v":0},{"$f":"TRUNC(ROUND(Encargos_Benefícios!$H49*L44,2),2)","v":171.26},{"$f":"TRUNC(ROUND(Encargos_Benefícios!$H49*M44,2),2)","v":0},{"$f":"TRUNC(ROUND(Encargos_Benefícios!$H49*N44,2),2)","v":0},{"$f":"TRUNC(ROUND(Encargos_Benefícios!$H49*O44,2),2)","v":0},{"$f":"TRUNC(ROUND(Encargos_Benefícios!$H49*P44,2),2)","v":0},{"$f":"TRUNC(ROUND(Encargos_Benefícios!$H49*Q44,2),2)","v":0},{"$f":"TRUNC(ROUND(Encargos_Benefícios!$H49*R44,2),2)","v":0},{"$f":"TRUNC(ROUND(Encargos_Benefícios!$H49*S44,2),2)","v":0},{"$f":"TRUNC(ROUND(Encargos_Benefícios!$H49*T44,2),2)","v":0},{"$f":"TRUNC(ROUND(Encargos_Benefícios!$H49*U44,2),2)","v":0},{"$f":"TRUNC(ROUND(Encargos_Benefícios!$H49*V44,2),2)","v":0},{"$f":"TRUNC(ROUND(Encargos_Benefícios!$H49*W44,2),2)","v":0},{"$f":"TRUNC(ROUND(Encargos_Benefícios!$H49*X44,2),2)","v":0},{"$f":"TRUNC(ROUND(Encargos_Benefícios!$H49*Y44,2),2)","v":0},{"$f":"TRUNC(ROUND(Encargos_Benefícios!$H49*Z44,2),2)","v":0},{"$f":"TRUNC(ROUND(Encargos_Benefícios!$H49*AA44,2),2)","v":0},{"$f":"TRUNC(ROUND(Encargos_Benefícios!$H49*AB44,2),2)","v":0},{"$f":"TRUNC(ROUND(Encargos_Benefícios!$H49*AC44,2),2)","v":0},{"$f":"TRUNC(ROUND(Encargos_Benefícios!$H49*AD44,2),2)","v":0},{"$f":"TRUNC(ROUND(Encargos_Benefícios!$H49*AE44,2),2)","v":0},{"$f":"SUM(J45:AE45)","v":171.26}]
[null,null,null,"Total do Submódulo 2.1 com a Incidência dos encargos previstos no Submódulo 2.2",null,null,null,null,null,{"$f":"SUM(J44:J45)","v":0},{"$f":"SUM(K44:K45)","v":0},636.65,0,0,0,0,0,0,0,0,0,0,0,0,0,0,0,0,0,0,0,{"$f":"SUM(AF44:AF45)","v":636.65}]
[]
[null,null,null,"SUBMÓDULO 2.2 - ENCARGOS PREVIDENCIÁRIOS, FGTS E OUTRAS CONTRIBUIÇÕES"]
[null,null,null,null,null,null,null,null,null,"Valor","Valor","Valor","Valor","Valor","Valor","Valor","Valor","Valor","Valor","Valor","Valor","Valor","Valor","Valor","Valor","Valor","Valor","Valor","Valor","Valor","Valor","Valor"]
[null,null,null,null,"INSS",null,null,null,null,{"$f":"TRUNC(ROUND(Encargos_Benefícios!$H38*(J$34),2),2)","v":0},{"$f":"TRUNC(ROUND(Encargos_Benefícios!$H38*(K$34),2),2)","v":0},{"$f":"TRUNC(ROUND(Encargos_Benefícios!$H38*(L$34),2),2)","v":837.8},{"$f":"TRUNC(ROUND(Encargos_Benefícios!$H38*(M$34),2),2)","v":0},{"$f":"TRUNC(ROUND(Encargos_Benefícios!$H38*(N$34),2),2)","v":0},{"$f":"TRUNC(ROUND(Encargos_Benefícios!$H38*(O$34),2),2)","v":0},{"$f":"TRUNC(ROUND(Encargos_Benefícios!$H38*(P$34),2),2)","v":0},{"$f":"TRUNC(ROUND(Encargos_Benefícios!$H38*(Q$34),2),2)","v":0},{"$f":"TRUNC(ROUND(Encargos_Benefícios!$H38*(R$34),2),2)","v":0},{"$f":"TRUNC(ROUND(Encargos_Benefícios!$H38*(S$34),2),2)","v":0},{"$f":"TRUNC(ROUND(Encargos_Benefícios!$H38*(T$34),2),2)","v":0},{"$f":"TRUNC(ROUND(Encargos_Benefícios!$H38*(U$34),2),2)","v":0},{"$f":"TRUNC(ROUND(Encargos_Benefícios!$H38*(V$34),2),2)","v":0},{"$f":"TRUNC(ROUND(Encargos_Benefícios!$H38*(W$34),2),2)","v":0},{"$f":"TRUNC(ROUND(Encargos_Benefícios!$H38*(X$34),2),2)","v":0},{"$f":"TRUNC(ROUND(Encargos_Benefícios!$H38*(Y$34),2),2)","v":0},{"$f":"TRUNC(ROUND(Encargos_Benefícios!$H38*(Z$34),2),2)","v":0},{"$f":"TRUNC(ROUND(Encargos_Benefícios!$H38*(AA$34),2),2)","v":0},{"$f":"TRUNC(ROUND(Encargos_Benefícios!$H38*(AB$34),2),2)","v":0},{"$f":"TRUNC(ROUND(Encargos_Benefícios!$H38*(AC$34),2),2)","v":0},{"$f":"TRUNC(ROUND(Encargos_Benefícios!$H38*(AD$34),2),2)","v":0},{"$f":"TRUNC(ROUND(Encargos_Benefícios!$H38*(AE$34),2),2)","v":0},{"$f":"SUM(J50:AE50)","v":837.8}]
[null,null,null,null,"SESI ou SESC",null,null,null,null,{"$f":"TRUNC(ROUND(Encargos_Benefícios!$H39*(J$34),2),2)","v":0},{"$f":"TRUNC(ROUND(Encargos_Benefícios!$H39*(K$34),2),2)","v":0},{"$f":"TRUNC(ROUND(Encargos_Benefícios!$H39*(L$34),2),2)","v":62.84},{"$f":"TRUNC(ROUND(Encargos_Benefícios!$H39*(M$34),2),2)","v":0},{"$f":"TRUNC(ROUND(Encargos_Benefícios!$H39*(N$34),2),2)","v":0},{"$f":"TRUNC(ROUND(Encargos_Benefícios!$H39*(O$34),2),2)","v":0},{"$f":"TRUNC(ROUND(Encargos_Benefícios!$H39*(P$34),2),2)","v":0},{"$f":"TRUNC(ROUND(Encargos_Benefícios!$H39*(Q$34),2),2)","v":0},{"$f":"TRUNC(ROUND(Encargos_Benefícios!$H39*(R$34),2),2)","v":0},{"$f":"TRUNC(ROUND(Encargos_Benefícios!$H39*(S$34),2),2)","v":0},{"$f":"TRUNC(ROUND(Encargos_Benefícios!$H39*(T$34),2),2)","v":0},{"$f":"TRUNC(ROUND(Encargos_Benefícios!$H39*(U$34),2),2)","v":0},{"$f":"TRUNC(ROUND(Encargos_Benefícios!$H39*(V$34),2),2)","v":0},{"$f":"TRUNC(ROUND(Encargos_Benefícios!$H39*(W$34),2),2)","v":0},{"$f":"TRUNC(ROUND(Encargos_Benefícios!$H39*(X$34),2),2)","v":0},{"$f":"TRUNC(ROUND(Encargos_Benefícios!$H39*(Y$34),2),2)","v":0},{"$f":"TRUNC(ROUND(Encargos_Benefícios!$H39*(Z$34),2),2)","v":0},{"$f":"TRUNC(ROUND(Encargos_Benefícios!$H39*(AA$34),2),2)","v":0},{"$f":"TRUNC(ROUND(Encargos_Benefícios!$H39*(AB$34),2),2)","v":0},{"$f":"TRUNC(ROUND(Encargos_Benefícios!$H39*(AC$34),2),2)","v":0},{"$f":"TRUNC(ROUND(Encargos_Benefícios!$H39*(AD$34),2),2)","v":0},{"$f":"TRUNC(ROUND(Encargos_Benefícios!$H39*(AE$34),2),2)","v":0},62.84]
[null,null,null,null,"SENAI ou SENAC",null,null,null,null,{"$f":"TRUNC(ROUND(Encargos_Benefícios!$H40*(J$34),2),2)","v":0},{"$f":"TRUNC(ROUND(Encargos_Benefícios!$H40*(K$34),2),2)","v":0},{"$f":"TRUNC(ROUND(Encargos_Benefícios!$H40*(L$34),2),2)","v":41.89},{"$f":"TRUNC(ROUND(Encargos_Benefícios!$H40*(M$34),2),2)","v":0},{"$f":"TRUNC(ROUND(Encargos_Benefícios!$H40*(N$34),2),2)","v":0},{"$f":"TRUNC(ROUND(Encargos_Benefícios!$H40*(O$34),2),2)","v":0},{"$f":"TRUNC(ROUND(Encargos_Benefícios!$H40*(P$34),2),2)","v":0},{"$f":"TRUNC(ROUND(Encargos_Benefícios!$H40*(Q$34),2),2)","v":0},{"$f":"TRUNC(ROUND(Encargos_Benefícios!$H40*(R$34),2),2)","v":0},{"$f":"TRUNC(ROUND(Encargos_Benefícios!$H40*(S$34),2),2)","v":0},{"$f":"TRUNC(ROUND(Encargos_Benefícios!$H40*(T$34),2),2)","v":0},{"$f":"TRUNC(ROUND(Encargos_Benefícios!$H40*(U$34),2),2)","v":0},{"$f":"TRUNC(ROUND(Encargos_Benefícios!$H40*(V$34),2),2)","v":0},{"$f":"TRUNC(ROUND(Encargos_Benefícios!$H40*(W$34),2),2)","v":0},{"$f":"TRUNC(ROUND(Encargos_Benefícios!$H40*(X$34),2),2)","v":0},{"$f":"TRUNC(ROUND(Encargos_Benefícios!$H40*(Y$34),2),2)","v":0},{"$f":"TRUNC(ROUND(Encargos_Benefícios!$H40*(Z$34),2),2)","v":0},{"$f":"TRUNC(ROUND(Encargos_Benefícios!$H40*(AA$34),2),2)","v":0},{"$f":"TRUNC(ROUND(Encargos_Benefícios!$H40*(AB$34),2),2)","v":0},{"$f":"TRUNC(ROUND(Encargos_Benefícios!$H40*(AC$34),2),2)","v":0},{"$f":"TRUNC(ROUND(Encargos_Benefícios!$H40*(AD$34),2),2)","v":0},{"$f":"TRUNC(ROUND(Encargos_Benefícios!$H40*(AE$34),2),2)","v":0},41.89]
[null,null,null,null,"INCRA",null,null,null,null,{"$f":"TRUNC(ROUND(Encargos_Benefícios!$H41*(J$34),2),2)","v":0},{"$f":"TRUNC(ROUND(Encargos_Benefícios!$H41*(K$34),2),2)","v":0},{"$f":"TRUNC(ROUND(Encargos_Benefícios!$H41*(L$34),2),2)","v":8.3800000000000008},{"$f":"TRUNC(ROUND(Encargos_Benefícios!$H41*(M$34),2),2)","v":0},{"$f":"TRUNC(ROUND(Encargos_Benefícios!$H41*(N$34),2),2)","v":0},{"$f":"TRUNC(ROUND(Encargos_Benefícios!$H41*(O$34),2),2)","v":0},{"$f":"TRUNC(ROUND(Encargos_Benefícios!$H41*(P$34),2),2)","v":0},{"$f":"TRUNC(ROUND(Encargos_Benefícios!$H41*(Q$34),2),2)","v":0},{"$f":"TRUNC(ROUND(Encargos_Benefícios!$H41*(R$34),2),2)","v":0},{"$f":"TRUNC(ROUND(Encargos_Benefícios!$H41*(S$34),2),2)","v":0},{"$f":"TRUNC(ROUND(Encargos_Benefícios!$H41*(T$34),2),2)","v":0},{"$f":"TRUNC(ROUND(Encargos_Benefícios!$H41*(U$34),2),2)","v":0},{"$f":"TRUNC(ROUND(Encargos_Benefícios!$H41*(V$34),2),2)","v":0},{"$f":"TRUNC(ROUND(Encargos_Benefícios!$H41*(W$34),2),2)","v":0},{"$f":"TRUNC(ROUND(Encargos_Benefícios!$H41*(X$34),2),2)","v":0},{"$f":"TRUNC(ROUND(Encargos_Benefícios!$H41*(Y$34),2),2)","v":0},{"$f":"TRUNC(ROUND(Encargos_Benefícios!$H41*(Z$34),2),2)","v":0},{"$f":"TRUNC(ROUND(Encargos_Benefícios!$H41*(AA$34),2),2)","v":0},{"$f":"TRUNC(ROUND(Encargos_Benefícios!$H41*(AB$34),2),2)","v":0},{"$f":"TRUNC(ROUND(Encargos_Benefícios!$H41*(AC$34),2),2)","v":0},{"$f":"TRUNC(ROUND(Encargos_Benefícios!$H41*(AD$34),2),2)","v":0},{"$f":"TRUNC(ROUND(Encargos_Benefícios!$H41*(AE$34),2),2)","v":0},8.3800000000000008]
[null,null,null,null,"Salário Educação",null,null,null,null,{"$f":"TRUNC(ROUND(Encargos_Benefícios!$H42*(J$34),2),2)","v":0},{"$f":"TRUNC(ROUND(Encargos_Benefícios!$H42*(K$34),2),2)","v":0},{"$f":"TRUNC(ROUND(Encargos_Benefícios!$H42*(L$34),2),2)","v":104.73},{"$f":"TRUNC(ROUND(Encargos_Benefícios!$H42*(M$34),2),2)","v":0},{"$f":"TRUNC(ROUND(Encargos_Benefícios!$H42*(N$34),2),2)","v":0},{"$f":"TRUNC(ROUND(Encargos_Benefícios!$H42*(O$34),2),2)","v":0},{"$f":"TRUNC(ROUND(Encargos_Benefícios!$H42*(P$34),2),2)","v":0},{"$f":"TRUNC(ROUND(Encargos_Benefícios!$H42*(Q$34),2),2)","v":0},{"$f":"TRUNC(ROUND(Encargos_Benefícios!$H42*(R$34),2),2)","v":0},{"$f":"TRUNC(ROUND(Encargos_Benefícios!$H42*(S$34),2),2)","v":0},{"$f":"TRUNC(ROUND(Encargos_Benefícios!$H42*(T$34),2),2)","v":0},{"$f":"TRUNC(ROUND(Encargos_Benefícios!$H42*(U$34),2),2)","v":0},{"$f":"TRUNC(ROUND(Encargos_Benefícios!$H42*(V$34),2),2)","v":0},{"$f":"TRUNC(ROUND(Encargos_Benefícios!$H42*(W$34),2),2)","v":0},{"$f":"TRUNC(ROUND(Encargos_Benefícios!$H42*(X$34),2),2)","v":0},{"$f":"TRUNC(ROUND(Encargos_Benefícios!$H42*(Y$34),2),2)","v":0},{"$f":"TRUNC(ROUND(Encargos_Benefícios!$H42*(Z$34),2),2)","v":0},{"$f":"TRUNC(ROUND(Encargos_Benefícios!$H42*(AA$34),2),2)","v":0},{"$f":"TRUNC(ROUND(Encargos_Benefícios!$H42*(AB$34),2),2)","v":0},{"$f":"TRUNC(ROUND(Encargos_Benefícios!$H42*(AC$34),2),2)","v":0},{"$f":"TRUNC(ROUND(Encargos_Benefícios!$H42*(AD$34),2),2)","v":0},{"$f":"TRUNC(ROUND(Encargos_Benefícios!$H42*(AE$34),2),2)","v":0},104.73]
[null,null,null,null,"FGTS",null,null,null,null,{"$f":"TRUNC(ROUND(Encargos_Benefícios!$H43*(J$34),2),2)","v":0},{"$f":"TRUNC(ROUND(Encargos_Benefícios!$H43*(K$34),2),2)","v":0},{"$f":"TRUNC(ROUND(Encargos_Benefícios!$H43*(L$34),2),2)","v":335.12},{"$f":"TRUNC(ROUND(Encargos_Benefícios!$H43*(M$34),2),2)","v":0},{"$f":"TRUNC(ROUND(Encargos_Benefícios!$H43*(N$34),2),2)","v":0},{"$f":"TRUNC(ROUND(Encargos_Benefícios!$H43*(O$34),2),2)","v":0},{"$f":"TRUNC(ROUND(Encargos_Benefícios!$H43*(P$34),2),2)","v":0},{"$f":"TRUNC(ROUND(Encargos_Benefícios!$H43*(Q$34),2),2)","v":0},{"$f":"TRUNC(ROUND(Encargos_Benefícios!$H43*(R$34),2),2)","v":0},{"$f":"TRUNC(ROUND(Encargos_Benefícios!$H43*(S$34),2),2)","v":0},{"$f":"TRUNC(ROUND(Encargos_Benefícios!$H43*(T$34),2),2)","v":0},{"$f":"TRUNC(ROUND(Encargos_Benefícios!$H43*(U$34),2),2)","v":0},{"$f":"TRUNC(ROUND(Encargos_Benefícios!$H43*(V$34),2),2)","v":0},{"$f":"TRUNC(ROUND(Encargos_Benefícios!$H43*(W$34),2),2)","v":0},{"$f":"TRUNC(ROUND(Encargos_Benefícios!$H43*(X$34),2),2)","v":0},{"$f":"TRUNC(ROUND(Encargos_Benefícios!$H43*(Y$34),2),2)","v":0},{"$f":"TRUNC(ROUND(Encargos_Benefícios!$H43*(Z$34),2),2)","v":0},{"$f":"TRUNC(ROUND(Encargos_Benefícios!$H43*(AA$34),2),2)","v":0},{"$f":"TRUNC(ROUND(Encargos_Benefícios!$H43*(AB$34),2),2)","v":0},{"$f":"TRUNC(ROUND(Encargos_Benefícios!$H43*(AC$34),2),2)","v":0},{"$f":"TRUNC(ROUND(Encargos_Benefícios!$H43*(AD$34),2),2)","v":0},{"$f":"TRUNC(ROUND(Encargos_Benefícios!$H43*(AE$34),2),2)","v":0},335.12]
[null,null,null,null,"Seguro Acidente de Trabalho",null,null,null,null,{"$f":"TRUNC(ROUND(Encargos_Benefícios!$H44*(J$34),2),2)","v":0},{"$f":"TRUNC(ROUND(Encargos_Benefícios!$H44*(K$34),2),2)","v":0},{"$f":"TRUNC(ROUND(Encargos_Benefícios!$H44*(L$34),2),2)","v":125.67},{"$f":"TRUNC(ROUND(Encargos_Benefícios!$H44*(M$34),2),2)","v":0},{"$f":"TRUNC(ROUND(Encargos_Benefícios!$H44*(N$34),2),2)","v":0},{"$f":"TRUNC(ROUND(Encargos_Benefícios!$H44*(O$34),2),2)","v":0},{"$f":"TRUNC(ROUND(Encargos_Benefícios!$H44*(P$34),2),2)","v":0},{"$f":"TRUNC(ROUND(Encargos_Benefícios!$H44*(Q$34),2),2)","v":0},{"$f":"TRUNC(ROUND(Encargos_Benefícios!$H44*(R$34),2),2)","v":0},{"$f":"TRUNC(ROUND(Encargos_Benefícios!$H44*(S$34),2),2)","v":0},{"$f":"TRUNC(ROUND(Encargos_Benefícios!$H44*(T$34),2),2)","v":0},{"$f":"TRUNC(ROUND(Encargos_Benefícios!$H44*(U$34),2),2)","v":0},{"$f":"TRUNC(ROUND(Encargos_Benefícios!$H44*(V$34),2),2)","v":0},{"$f":"TRUNC(ROUND(Encargos_Benefícios!$H44*(W$34),2),2)","v":0},{"$f":"TRUNC(ROUND(Encargos_Benefícios!$H44*(X$34),2),2)","v":0},{"$f":"TRUNC(ROUND(Encargos_Benefícios!$H44*(Y$34),2),2)","v":0},{"$f":"TRUNC(ROUND(Encargos_Benefícios!$H44*(Z$34),2),2)","v":0},{"$f":"TRUNC(ROUND(Encargos_Benefícios!$H44*(AA$34),2),2)","v":0},{"$f":"TRUNC(ROUND(Encargos_Benefícios!$H44*(AB$34),2),2)","v":0},{"$f":"TRUNC(ROUND(Encargos_Benefícios!$H44*(AC$34),2),2)","v":0},{"$f":"TRUNC(ROUND(Encargos_Benefícios!$H44*(AD$34),2),2)","v":0},{"$f":"TRUNC(ROUND(Encargos_Benefícios!$H44*(AE$34),2),2)","v":0},125.67]
[null,null,null,null,"SEBRAE",null,null,null,null,{"$f":"TRUNC(ROUND(Encargos_Benefícios!$H45*(J$34),2),2)","v":0},{"$f":"TRUNC(ROUND(Encargos_Benefícios!$H45*(K$34),2),2)","v":0},{"$f":"TRUNC(ROUND(Encargos_Benefícios!$H45*(L$34),2),2)","v":25.13},{"$f":"TRUNC(ROUND(Encargos_Benefícios!$H45*(M$34),2),2)","v":0},{"$f":"TRUNC(ROUND(Encargos_Benefícios!$H45*(N$34),2),2)","v":0},{"$f":"TRUNC(ROUND(Encargos_Benefícios!$H45*(O$34),2),2)","v":0},{"$f":"TRUNC(ROUND(Encargos_Benefícios!$H45*(P$34),2),2)","v":0},{"$f":"TRUNC(ROUND(Encargos_Benefícios!$H45*(Q$34),2),2)","v":0},{"$f":"TRUNC(ROUND(Encargos_Benefícios!$H45*(R$34),2),2)","v":0},{"$f":"TRUNC(ROUND(Encargos_Benefícios!$H45*(S$34),2),2)","v":0},{"$f":"TRUNC(ROUND(Encargos_Benefícios!$H45*(T$34),2),2)","v":0},{"$f":"TRUNC(ROUND(Encargos_Benefícios!$H45*(U$34),2),2)","v":0},{"$f":"TRUNC(ROUND(Encargos_Benefícios!$H45*(V$34),2),2)","v":0},{"$f":"TRUNC(ROUND(Encargos_Benefícios!$H45*(W$34),2),2)","v":0},{"$f":"TRUNC(ROUND(Encargos_Benefícios!$H45*(X$34),2),2)","v":0},{"$f":"TRUNC(ROUND(Encargos_Benefícios!$H45*(Y$34),2),2)","v":0},{"$f":"TRUNC(ROUND(Encargos_Benefícios!$H45*(Z$34),2),2)","v":0},{"$f":"TRUNC(ROUND(Encargos_Benefícios!$H45*(AA$34),2),2)","v":0},{"$f":"TRUNC(ROUND(Encargos_Benefícios!$H45*(AB$34),2),2)","v":0},{"$f":"TRUNC(ROUND(Encargos_Benefícios!$H45*(AC$34),2),2)","v":0},{"$f":"TRUNC(ROUND(Encargos_Benefícios!$H45*(AD$34),2),2)","v":0},{"$f":"TRUNC(ROUND(Encargos_Benefícios!$H45*(AE$34),2),2)","v":0},25.13]
[null,null,null,"Total de Encargos Previdenciários e FGTS",null,null,null,null,null,{"$f":"SUM(J50:J57)","v":0},{"$f":"SUM(K50:K57)","v":0},1541.56,0,0,0,0,0,0,0,0,0,0,0,0,0,0,0,0,0,0,0,{"$f":"SUM(AF50:AF57)","v":1541.56}]
[]
[null,null,null,"SUBMÓDULO 2.3 - BENEFÍCIOS MENSAIS E DIÁRIOS"]
[null,null,null,null,null,null,null,null,null,"Valor","Valor","Valor","Valor","Valor","Valor","Valor","Valor","Valor","Valor","Valor","Valor","Valor","Valor","Valor","Valor","Valor","Valor","Valor","Valor","Valor","Valor","Valor"]
[null,null,null,null,"Auxílio Alimentação (Vales, cesta básica, etc.)",null,null,null,null,{"$f":"IF(Apoio!$K$11=0,0,IF('Dados Contratação'!$J$19=0,0,Encargos_Benefícios!$H122))","v":0},{"$f":"IF(Apoio!$K$11=0,0,IF('Dados Contratação'!$J$20=0,0,Encargos_Benefícios!$H122))","v":0},{"$f":"IF(Apoio!$K$11=0,0,IF('Dados Contratação'!$J$21=0,0,Encargos_Benefícios!$H128))","v":345},{"$f":"IF(Apoio!$K$11=0,0,IF('Dados Contratação'!$J$22=0,0,Encargos_Benefícios!$H128))","v":0},{"$f":"IF(Apoio!$K$11=0,0,IF('Dados Contratação'!$J$23=0,0,Encargos_Benefícios!$H128))","v":0},{"$f":"IF(Apoio!$K$11=0,0,IF('Dados Contratação'!$J$24=0,0,Encargos_Benefícios!$H128))","v":0},{"$f":"IF(Apoio!$K$11=0,0,IF('Dados Contratação'!$J$25=0,0,Encargos_Benefícios!$H128))","v":0},{"$f":"IF(Apoio!$K$11=0,0,IF('Dados Contratação'!$J$26=0,0,Encargos_Benefícios!$H128))","v":0},{"$f":"IF(Apoio!$K$11=0,0,IF('Dados Contratação'!$J$27=0,0,Encargos_Benefícios!$H128))","v":0},{"$f":"IF(Apoio!$K$11=0,0,IF('Dados Contratação'!$J$28=0,0,Encargos_Benefícios!$H128))","v":0},{"$f":"IF(Apoio!$K$11=0,0,IF('Dados Contratação'!$J$29=0,0,Encargos_Benefícios!$H128))","v":0},{"$f":"IF(Apoio!$K$11=0,0,IF('Dados Contratação'!$J$30=0,0,Encargos_Benefícios!$H128))","v":0},{"$f":"IF(Apoio!$K$11=0,0,IF('Dados Contratação'!$J$31=0,0,Encargos_Benefícios!$H128))","v":0},{"$f":"IF(Apoio!$K$11=0,0,IF('Dados Contratação'!$J$32=0,0,Encargos_Benefícios!$H128))","v":0},{"$f":"IF(Apoio!$K$11=0,0,IF('Dados Contratação'!$J$33=0,0,Encargos_Benefícios!$H128))","v":0},{"$f":"IF(Apoio!$K$11=0,0,IF('Dados Contratação'!$J$34=0,0,Encargos_Benefícios!$H128))","v":0},{"$f":"IF(Apoio!$K$11=0,0,IF('Dados Contratação'!$J$35=0,0,Encargos_Benefícios!$H128))","v":0},{"$f":"IF(Apoio!$K$11=0,0,IF('Dados Contratação'!$J$36=0,0,Encargos_Benefícios!$H128))","v":0},{"$f":"IF(Apoio!$K$11=0,0,IF('Dados Contratação'!$J$37=0,0,Encargos_Benefícios!$H128))","v":0},{"$f":"IF(Apoio!$K$11=0,0,IF('Dados Contratação'!$J$38=0,0,Encargos_Benefícios!$H128))","v":0},{"$f":"IF(Apoio!$K$11=0,0,IF('Dados Contratação'!$J$39=0,0,Encargos_Benefícios!$H128))","v":0},{"$f":"IF(Apoio!$K$11=0,0,IF('Dados Contratação'!$J$40=0,0,Encargos_Benefícios!$H128))","v":0},{"$f":"SUM(J62:AE62)","v":345}]
[null,null,null,null,"Benefício Social Familiar Sindical",null,null,null,null,{"$f":"IF(Apoio!$K$11=0,0,IF('Dados Contratação'!$J$19=0,0,Encargos_Benefícios!$H54))","v":0},{"$f":"IF(Apoio!$K$11=0,0,IF('Dados Contratação'!$J$20=0,0,Encargos_Benefícios!$H54))","v":0},{"$f":"IF(Apoio!$K$11=0,0,IF('Dados Contratação'!$J$21=0,0,Encargos_Benefícios!$H54))","v":0},{"$f":"IF(Apoio!$K$11=0,0,IF('Dados Contratação'!$J$22=0,0,Encargos_Benefícios!$H54))","v":0},{"$f":"IF(Apoio!$K$11=0,0,IF('Dados Contratação'!$J$23=0,0,Encargos_Benefícios!$H54))","v":0},{"$f":"IF(Apoio!$K$11=0,0,IF('Dados Contratação'!$J$24=0,0,Encargos_Benefícios!$H54))","v":0},{"$f":"IF(Apoio!$K$11=0,0,IF('Dados Contratação'!$J$25=0,0,Encargos_Benefícios!$H54))","v":0},{"$f":"IF(Apoio!$K$11=0,0,IF('Dados Contratação'!$J$26=0,0,Encargos_Benefícios!$H54))","v":0},{"$f":"IF(Apoio!$K$11=0,0,IF('Dados Contratação'!$J$27=0,0,Encargos_Benefícios!$H54))","v":0},{"$f":"IF(Apoio!$K$11=0,0,IF('Dados Contratação'!$J$28=0,0,Encargos_Benefícios!$H54))","v":0},{"$f":"IF(Apoio!$K$11=0,0,IF('Dados Contratação'!$J$29=0,0,Encargos_Benefícios!$H54))","v":0},{"$f":"IF(Apoio!$K$11=0,0,IF('Dados Contratação'!$J$30=0,0,Encargos_Benefícios!$H54))","v":0},{"$f":"IF(Apoio!$K$11=0,0,IF('Dados Contratação'!$J$31=0,0,Encargos_Benefícios!$H54))","v":0},{"$f":"IF(Apoio!$K$11=0,0,IF('Dados Contratação'!$J$32=0,0,Encargos_Benefícios!$H54))","v":0},{"$f":"IF(Apoio!$K$11=0,0,IF('Dados Contratação'!$J$33=0,0,Encargos_Benefícios!$H54))","v":0},{"$f":"IF(Apoio!$K$11=0,0,IF('Dados Contratação'!$J$34=0,0,Encargos_Benefícios!$H54))","v":0},{"$f":"IF(Apoio!$K$11=0,0,IF('Dados Contratação'!$J$35=0,0,Encargos_Benefícios!$H54))","v":0},{"$f":"IF(Apoio!$K$11=0,0,IF('Dados Contratação'!$J$36=0,0,Encargos_Benefícios!$H54))","v":0},{"$f":"IF(Apoio!$K$11=0,0,IF('Dados Contratação'!$J$37=0,0,Encargos_Benefícios!$H54))","v":0},{"$f":"IF(Apoio!$K$11=0,0,IF('Dados Contratação'!$J$38=0,0,Encargos_Benefícios!$H54))","v":0},{"$f":"IF(Apoio!$K$11=0,0,IF('Dados Contratação'!$J$39=0,0,Encargos_Benefícios!$H54))","v":0},{"$f":"IF(Apoio!$K$11=0,0,IF('Dados Contratação'!$J$40=0,0,Encargos_Benefícios!$H54))","v":0},0]
[null,null,null,null,"Assistência e Inclusão Social do Trabalhador",null,null,null,null,{"$f":"IF(Apoio!$K$11=0,0,IF('Dados Contratação'!$J$19=0,0,Encargos_Benefícios!$H58))","v":0},{"$f":"IF(Apoio!$K$11=0,0,IF('Dados Contratação'!$J$20=0,0,Encargos_Benefícios!$H58))","v":0},{"$f":"IF(Apoio!$K$11=0,0,IF('Dados Contratação'!$J$21=0,0,Encargos_Benefícios!$H58))","v":0},{"$f":"IF(Apoio!$K$11=0,0,IF('Dados Contratação'!$J$22=0,0,Encargos_Benefícios!$H58))","v":0},{"$f":"IF(Apoio!$K$11=0,0,IF('Dados Contratação'!$J$23=0,0,Encargos_Benefícios!$H58))","v":0},{"$f":"IF(Apoio!$K$11=0,0,IF('Dados Contratação'!$J$24=0,0,Encargos_Benefícios!$H58))","v":0},{"$f":"IF(Apoio!$K$11=0,0,IF('Dados Contratação'!$J$25=0,0,Encargos_Benefícios!$H58))","v":0},{"$f":"IF(Apoio!$K$11=0,0,IF('Dados Contratação'!$J$26=0,0,Encargos_Benefícios!$H58))","v":0},{"$f":"IF(Apoio!$K$11=0,0,IF('Dados Contratação'!$J$27=0,0,Encargos_Benefícios!$H58))","v":0},{"$f":"IF(Apoio!$K$11=0,0,IF('Dados Contratação'!$J$28=0,0,Encargos_Benefícios!$H58))","v":0},{"$f":"IF(Apoio!$K$11=0,0,IF('Dados Contratação'!$J$29=0,0,Encargos_Benefícios!$H58))","v":0},{"$f":"IF(Apoio!$K$11=0,0,IF('Dados Contratação'!$J$30=0,0,Encargos_Benefícios!$H58))","v":0},{"$f":"IF(Apoio!$K$11=0,0,IF('Dados Contratação'!$J$31=0,0,Encargos_Benefícios!$H58))","v":0},{"$f":"IF(Apoio!$K$11=0,0,IF('Dados Contratação'!$J$32=0,0,Encargos_Benefícios!$H58))","v":0},{"$f":"IF(Apoio!$K$11=0,0,IF('Dados Contratação'!$J$33=0,0,Encargos_Benefícios!$H58))","v":0},{"$f":"IF(Apoio!$K$11=0,0,IF('Dados Contratação'!$J$34=0,0,Encargos_Benefícios!$H58))","v":0},{"$f":"IF(Apoio!$K$11=0,0,IF('Dados Contratação'!$J$35=0,0,Encargos_Benefícios!$H58))","v":0},{"$f":"IF(Apoio!$K$11=0,0,IF('Dados Contratação'!$J$36=0,0,Encargos_Benefícios!$H58))","v":0},{"$f":"IF(Apoio!$K$11=0,0,IF('Dados Contratação'!$J$37=0,0,Encargos_Benefícios!$H58))","v":0},{"$f":"IF(Apoio!$K$11=0,0,IF('Dados Contratação'!$J$38=0,0,Encargos_Benefícios!$H58))","v":0},{"$f":"IF(Apoio!$K$11=0,0,IF('Dados Contratação'!$J$39=0,0,Encargos_Benefícios!$H58))","v":0},{"$f":"IF(Apoio!$K$11=0,0,IF('Dados Contratação'!$J$40=0,0,Encargos_Benefícios!$H58))","v":0},0]
[null,null,null,null,"Prêmio Cesta Básica",null,null,null,null,{"$f":"IF(Apoio!$K$11=0,0,IF('Dados Contratação'!$J$19=0,0,Encargos_Benefícios!$H61))","v":0},{"$f":"IF(Apoio!$K$11=0,0,IF('Dados Contratação'!$J$20=0,0,Encargos_Benefícios!$H61))","v":0},{"$f":"IF(Apoio!$K$11=0,0,IF('Dados Contratação'!$J$21=0,0,Encargos_Benefícios!$H61))","v":0},{"$f":"IF(Apoio!$K$11=0,0,IF('Dados Contratação'!$J$22=0,0,Encargos_Benefícios!$H61))","v":0},{"$f":"IF(Apoio!$K$11=0,0,IF('Dados Contratação'!$J$23=0,0,Encargos_Benefícios!$H61))","v":0},{"$f":"IF(Apoio!$K$11=0,0,IF('Dados Contratação'!$J$24=0,0,Encargos_Benefícios!$H61))","v":0},{"$f":"IF(Apoio!$K$11=0,0,IF('Dados Contratação'!$J$25=0,0,Encargos_Benefícios!$H61))","v":0},{"$f":"IF(Apoio!$K$11=0,0,IF('Dados Contratação'!$J$26=0,0,Encargos_Benefícios!$H61))","v":0},{"$f":"IF(Apoio!$K$11=0,0,IF('Dados Contratação'!$J$27=0,0,Encargos_Benefícios!$H61))","v":0},{"$f":"IF(Apoio!$K$11=0,0,IF('Dados Contratação'!$J$28=0,0,Encargos_Benefícios!$H61))","v":0},{"$f":"IF(Apoio!$K$11=0,0,IF('Dados Contratação'!$J$29=0,0,Encargos_Benefícios!$H61))","v":0},{"$f":"IF(Apoio!$K$11=0,0,IF('Dados Contratação'!$J$30=0,0,Encargos_Benefícios!$H61))","v":0},{"$f":"IF(Apoio!$K$11=0,0,IF('Dados Contratação'!$J$31=0,0,Encargos_Benefícios!$H61))","v":0},{"$f":"IF(Apoio!$K$11=0,0,IF('Dados Contratação'!$J$32=0,0,Encargos_Benefícios!$H61))","v":0},{"$f":"IF(Apoio!$K$11=0,0,IF('Dados Contratação'!$J$33=0,0,Encargos_Benefícios!$H61))","v":0},{"$f":"IF(Apoio!$K$11=0,0,IF('Dados Contratação'!$J$34=0,0,Encargos_Benefícios!$H61))","v":0},{"$f":"IF(Apoio!$K$11=0,0,IF('Dados Contratação'!$J$35=0,0,Encargos_Benefícios!$H61))","v":0},{"$f":"IF(Apoio!$K$11=0,0,IF('Dados Contratação'!$J$36=0,0,Encargos_Benefícios!$H61))","v":0},{"$f":"IF(Apoio!$K$11=0,0,IF('Dados Contratação'!$J$37=0,0,Encargos_Benefícios!$H61))","v":0},{"$f":"IF(Apoio!$K$11=0,0,IF('Dados Contratação'!$J$38=0,0,Encargos_Benefícios!$H61))","v":0},{"$f":"IF(Apoio!$K$11=0,0,IF('Dados Contratação'!$J$39=0,0,Encargos_Benefícios!$H61))","v":0},{"$f":"IF(Apoio!$K$11=0,0,IF('Dados Contratação'!$J$40=0,0,Encargos_Benefícios!$H61))","v":0},{"$f":"SUM(J65:AE65)","v":0}]
[null,null,null,null,"Auxílio Creche",null,null,null,null,{"$f":"IF(Apoio!$K$11=0,0,IF('Dados Contratação'!$J$19=0,0,Encargos_Benefícios!$H64))","v":0},{"$f":"IF(Apoio!$K$11=0,0,IF('Dados Contratação'!$J$20=0,0,Encargos_Benefícios!$H64))","v":0},{"$f":"IF(Apoio!$K$11=0,0,IF('Dados Contratação'!$J$21=0,0,Encargos_Benefícios!$H64))","v":0},{"$f":"IF(Apoio!$K$11=0,0,IF('Dados Contratação'!$J$22=0,0,Encargos_Benefícios!$H64))","v":0},{"$f":"IF(Apoio!$K$11=0,0,IF('Dados Contratação'!$J$23=0,0,Encargos_Benefícios!$H64))","v":0},{"$f":"IF(Apoio!$K$11=0,0,IF('Dados Contratação'!$J$24=0,0,Encargos_Benefícios!$H64))","v":0},{"$f":"IF(Apoio!$K$11=0,0,IF('Dados Contratação'!$J$25=0,0,Encargos_Benefícios!$H64))","v":0},{"$f":"IF(Apoio!$K$11=0,0,IF('Dados Contratação'!$J$26=0,0,Encargos_Benefícios!$H64))","v":0},{"$f":"IF(Apoio!$K$11=0,0,IF('Dados Contratação'!$J$27=0,0,Encargos_Benefícios!$H64))","v":0},{"$f":"IF(Apoio!$K$11=0,0,IF('Dados Contratação'!$J$28=0,0,Encargos_Benefícios!$H64))","v":0},{"$f":"IF(Apoio!$K$11=0,0,IF('Dados Contratação'!$J$29=0,0,Encargos_Benefícios!$H64))","v":0},{"$f":"IF(Apoio!$K$11=0,0,IF('Dados Contratação'!$J$30=0,0,Encargos_Benefícios!$H64))","v":0},{"$f":"IF(Apoio!$K$11=0,0,IF('Dados Contratação'!$J$31=0,0,Encargos_Benefícios!$H64))","v":0},{"$f":"IF(Apoio!$K$11=0,0,IF('Dados Contratação'!$J$32=0,0,Encargos_Benefícios!$H64))","v":0},{"$f":"IF(Apoio!$K$11=0,0,IF('Dados Contratação'!$J$33=0,0,Encargos_Benefícios!$H64))","v":0},{"$f":"IF(Apoio!$K$11=0,0,IF('Dados Contratação'!$J$34=0,0,Encargos_Benefícios!$H64))","v":0},{"$f":"IF(Apoio!$K$11=0,0,IF('Dados Contratação'!$J$35=0,0,Encargos_Benefícios!$H64))","v":0},{"$f":"IF(Apoio!$K$11=0,0,IF('Dados Contratação'!$J$36=0,0,Encargos_Benefícios!$H64))","v":0},{"$f":"IF(Apoio!$K$11=0,0,IF('Dados Contratação'!$J$37=0,0,Encargos_Benefícios!$H64))","v":0},{"$f":"IF(Apoio!$K$11=0,0,IF('Dados Contratação'!$J$38=0,0,Encargos_Benefícios!$H64))","v":0},{"$f":"IF(Apoio!$K$11=0,0,IF('Dados Contratação'!$J$39=0,0,Encargos_Benefícios!$H64))","v":0},{"$f":"IF(Apoio!$K$11=0,0,IF('Dados Contratação'!$J$40=0,0,Encargos_Benefícios!$H64))","v":0},0]
[null,null,null,null,"Seguro de Vida, Invalidez e Funeral",null,null,null,null,{"$f":"IF(Apoio!$K$11=0,0,IF('Dados Contratação'!$J$19=0,0,Encargos_Benefícios!$H68))","v":0},{"$f":"IF(Apoio!$K$11=0,0,IF('Dados Contratação'!$J$20=0,0,Encargos_Benefícios!$H68))","v":0},{"$f":"IF(Apoio!$K$11=0,0,IF('Dados Contratação'!$J$21=0,0,Encargos_Benefícios!$H68))","v":0},{"$f":"IF(Apoio!$K$11=0,0,IF('Dados Contratação'!$J$22=0,0,Encargos_Benefícios!$H68))","v":0},{"$f":"IF(Apoio!$K$11=0,0,IF('Dados Contratação'!$J$23=0,0,Encargos_Benefícios!$H68))","v":0},{"$f":"IF(Apoio!$K$11=0,0,IF('Dados Contratação'!$J$24=0,0,Encargos_Benefícios!$H68))","v":0},{"$f":"IF(Apoio!$K$11=0,0,IF('Dados Contratação'!$J$25=0,0,Encargos_Benefícios!$H68))","v":0},{"$f":"IF(Apoio!$K$11=0,0,IF('Dados Contratação'!$J$26=0,0,Encargos_Benefícios!$H68))","v":0},{"$f":"IF(Apoio!$K$11=0,0,IF('Dados Contratação'!$J$27=0,0,Encargos_Benefícios!$H68))","v":0},{"$f":"IF(Apoio!$K$11=0,0,IF('Dados Contratação'!$J$28=0,0,Encargos_Benefícios!$H68))","v":0},{"$f":"IF(Apoio!$K$11=0,0,IF('Dados Contratação'!$J$29=0,0,Encargos_Benefícios!$H68))","v":0},{"$f":"IF(Apoio!$K$11=0,0,IF('Dados Contratação'!$J$30=0,0,Encargos_Benefícios!$H68))","v":0},{"$f":"IF(Apoio!$K$11=0,0,IF('Dados Contratação'!$J$31=0,0,Encargos_Benefícios!$H68))","v":0},{"$f":"IF(Apoio!$K$11=0,0,IF('Dados Contratação'!$J$32=0,0,Encargos_Benefícios!$H68))","v":0},{"$f":"IF(Apoio!$K$11=0,0,IF('Dados Contratação'!$J$33=0,0,Encargos_Benefícios!$H68))","v":0},{"$f":"IF(Apoio!$K$11=0,0,IF('Dados Contratação'!$J$34=0,0,Encargos_Benefícios!$H68))","v":0},{"$f":"IF(Apoio!$K$11=0,0,IF('Dados Contratação'!$J$35=0,0,Encargos_Benefícios!$H68))","v":0},{"$f":"IF(Apoio!$K$11=0,0,IF('Dados Contratação'!$J$36=0,0,Encargos_Benefícios!$H68))","v":0},{"$f":"IF(Apoio!$K$11=0,0,IF('Dados Contratação'!$J$37=0,0,Encargos_Benefícios!$H68))","v":0},{"$f":"IF(Apoio!$K$11=0,0,IF('Dados Contratação'!$J$38=0,0,Encargos_Benefícios!$H68))","v":0},{"$f":"IF(Apoio!$K$11=0,0,IF('Dados Contratação'!$J$39=0,0,Encargos_Benefícios!$H68))","v":0},{"$f":"IF(Apoio!$K$11=0,0,IF('Dados Contratação'!$J$40=0,0,Encargos_Benefícios!$H68))","v":0},0]
[null,null,null,null,"Outros (Especificar)",null,null,null,null,{"$f":"IF(Apoio!$K$11=0,0,IF('Dados Contratação'!$J$19=0,0,Encarregado!$K75))","v":0},{"$f":"IF(Apoio!$K$11=0,0,IF('Dados Contratação'!$J$20=0,0,Encarregado!$K75))","v":0},{"$f":"IF(Apoio!$K$11=0,0,IF('Dados Contratação'!$J$21=0,0,Profissional!$K75))","v":0},{"$f":"IF(Apoio!$K$11=0,0,IF('Dados Contratação'!$J$22=0,0,Profissional!$K75))","v":0},{"$f":"IF(Apoio!$K$11=0,0,IF('Dados Contratação'!$J$23=0,0,Profissional!$K75))","v":0},{"$f":"IF(Apoio!$K$11=0,0,IF('Dados Contratação'!$J$24=0,0,Profissional!$K75))","v":0},{"$f":"IF(Apoio!$K$11=0,0,IF('Dados Contratação'!$J$25=0,0,Profissional!$K75))","v":0},{"$f":"IF(Apoio!$K$11=0,0,IF('Dados Contratação'!$J$26=0,0,Profissional!$K75))","v":0},{"$f":"IF(Apoio!$K$11=0,0,IF('Dados Contratação'!$J$27=0,0,Profissional!$K75))","v":0},{"$f":"IF(Apoio!$K$11=0,0,IF('Dados Contratação'!$J$28=0,0,Profissional!$K75))","v":0},{"$f":"IF(Apoio!$K$11=0,0,IF('Dados Contratação'!$J$29=0,0,Profissional!$K75))","v":0},{"$f":"IF(Apoio!$K$11=0,0,IF('Dados Contratação'!$J$30=0,0,Profissional!$K75))","v":0},{"$f":"IF(Apoio!$K$11=0,0,IF('Dados Contratação'!$J$31=0,0,Profissional!$K75))","v":0},{"$f":"IF(Apoio!$K$11=0,0,IF('Dados Contratação'!$J$32=0,0,Profissional!$K75))","v":0},{"$f":"IF(Apoio!$K$11=0,0,IF('Dados Contratação'!$J$33=0,0,Profissional!$K75))","v":0},{"$f":"IF(Apoio!$K$11=0,0,IF('Dados Contratação'!$J$34=0,0,Profissional!$K75))","v":0},{"$f":"IF(Apoio!$K$11=0,0,IF('Dados Contratação'!$J$35=0,0,Profissional!$K75))","v":0},{"$f":"IF(Apoio!$K$11=0,0,IF('Dados Contratação'!$J$36=0,0,Profissional!$K75))","v":0},{"$f":"IF(Apoio!$K$11=0,0,IF('Dados Contratação'!$J$37=0,0,Profissional!$K75))","v":0},{"$f":"IF(Apoio!$K$11=0,0,IF('Dados Contratação'!$J$38=0,0,Profissional!$K75))","v":0},{"$f":"IF(Apoio!$K$11=0,0,IF('Dados Contratação'!$J$39=0,0,Profissional!$K75))","v":0},{"$f":"IF(Apoio!$K$11=0,0,IF('Dados Contratação'!$J$40=0,0,Profissional!$K75))","v":0},0]
[null,null,null,"Total de Encargos Previdenciários e FGTS",null,null,null,null,null,{"$f":"SUM(J62:J68)","v":0},0,{"$f":"SUM(L62:L68)","v":345},0,0,0,0,0,0,0,0,0,0,0,0,0,0,0,0,0,0,0,345]
[]
[]
[null,null,null,"QUADRO RESUMO - ENCARGOS E BENEFÍCIOS"]
[null,null,null,null,null,null,null,null,null,"Valor","Valor","Valor","Valor","Valor","Valor","Valor","Valor","Valor","Valor","Valor","Valor","Valor","Valor","Valor","Valor","Valor","Valor","Valor","Valor","Valor","Valor","Valor"]
[null,null,null,null,"13º Salário e Adicional de Férias",null,null,null,null,{"$f":"J46","v":0},{"$f":"K46","v":0},636.65,0,0,0,0,0,0,0,0,0,0,0,0,0,0,0,0,0,0,0,{"$f":"SUM(J74:AE74)","v":636.65}]
[null,null,null,null,"Encargos Previdenciários, FGTS e Outras Contribuições",null,null,null,null,{"$f":"J58","v":0},{"$f":"K58","v":0},1541.56,0,0,0,0,0,0,0,0,0,0,0,0,0,0,0,0,0,0,0,{"$f":"SUM(J75:AE75)","v":1541.56}]
[null,null,null,null,"Benefìcios Mensais e Diários",null,null,null,null,{"$f":"J69","v":0},{"$f":"K69","v":0},345,0,0,0,0,0,0,0,0,0,0,0,0,0,0,0,0,0,0,0,{"$f":"SUM(J76:AE76)","v":345}]
[null,null,null,"Total de Encargos e Benefícios",null,null,null,null,null,{"$f":"SUM(J74:J76)","v":0},{"$f":"SUM(K74:K76)","v":0},{"$f":"SUM(L74:L76)","v":2523.21},0,0,0,0,0,0,0,0,0,0,0,0,0,0,0,0,0,0,0,{"$f":"SUM(AF74:AF76)","v":2523.21}]
[]
[null,null,"MÓDULO 3 - PROVISÃO PARA RESCISÃO"]
[null,null,null,null,null,null,null,null,null,"Valor","Valor","Valor","Valor","Valor","Valor","Valor","Valor","Valor","Valor","Valor","Valor","Valor","Valor","Valor","Valor","Valor","Valor","Valor","Valor","Valor","Valor","Valor"]
[null,null,null,"Aviso Prévio Indenizado",null,null,null,null,null,{"$f":"TRUNC(ROUND(J$34*'Notas Explicativas'!$D$66,2),2)","v":0},{"$f":"TRUNC(ROUND(K$34*'Notas Explicativas'!$D$66,2),2)","v":0},{"$f":"TRUNC(ROUND(L$34*'Notas Explicativas'!$D$66,2),2)","v":17.45},{"$f":"TRUNC(ROUND(M$34*'Notas Explicativas'!$D$66,2),2)","v":0},{"$f":"TRUNC(ROUND(N$34*'Notas Explicativas'!$D$66,2),2)","v":0},{"$f":"TRUNC(ROUND(O$34*'Notas Explicativas'!$D$66,2),2)","v":0},{"$f":"TRUNC(ROUND(P$34*'Notas Explicativas'!$D$66,2),2)","v":0},{"$f":"TRUNC(ROUND(Q$34*'Notas Explicativas'!$D$66,2),2)","v":0},{"$f":"TRUNC(ROUND(R$34*'Notas Explicativas'!$D$66,2),2)","v":0},{"$f":"TRUNC(ROUND(S$34*'Notas Explicativas'!$D$66,2),2)","v":0},{"$f":"TRUNC(ROUND(T$34*'Notas Explicativas'!$D$66,2),2)","v":0},{"$f":"TRUNC(ROUND(U$34*'Notas Explicativas'!$D$66,2),2)","v":0},{"$f":"TRUNC(ROUND(V$34*'Notas Explicativas'!$D$66,2),2)","v":0},{"$f":"TRUNC(ROUND(W$34*'Notas Explicativas'!$D$66,2),2)","v":0},{"$f":"TRUNC(ROUND(X$34*'Notas Explicativas'!$D$66,2),2)","v":0},{"$f":"TRUNC(ROUND(Y$34*'Notas Explicativas'!$D$66,2),2)","v":0},{"$f":"TRUNC(ROUND(Z$34*'Notas Explicativas'!$D$66,2),2)","v":0},{"$f":"TRUNC(ROUND(AA$34*'Notas Explicativas'!$D$66,2),2)","v":0},{"$f":"TRUNC(ROUND(AB$34*'Notas Explicativas'!$D$66,2),2)","v":0},{"$f":"TRUNC(ROUND(AC$34*'Notas Explicativas'!$D$66,2),2)","v":0},{"$f":"TRUNC(ROUND(AD$34*'Notas Explicativas'!$D$66,2),2)","v":0},{"$f":"TRUNC(ROUND(AE$34*'Notas Explicativas'!$D$66,2),2)","v":0},{"$f":"SUM(J81:AE81)","v":17.45}]
[null,null,null,"Insidência do FGTS sobre o Aviso Prévio Indenizado",null,null,null,null,null,{"$f":"TRUNC(ROUND(J$34*'Notas Explicativas'!$D67,2),2)","v":0},{"$f":"TRUNC(ROUND(K$34*'Notas Explicativas'!$D67,2),2)","v":0},{"$f":"TRUNC(ROUND(L$34*'Notas Explicativas'!$D67,2),2)","v":1.4},{"$f":"TRUNC(ROUND(M$34*'Notas Explicativas'!$D67,2),2)","v":0},{"$f":"TRUNC(ROUND(N$34*'Notas Explicativas'!$D67,2),2)","v":0},{"$f":"TRUNC(ROUND(O$34*'Notas Explicativas'!$D67,2),2)","v":0},{"$f":"TRUNC(ROUND(P$34*'Notas Explicativas'!$D67,2),2)","v":0},{"$f":"TRUNC(ROUND(Q$34*'Notas Explicativas'!$D67,2),2)","v":0},{"$f":"TRUNC(ROUND(R$34*'Notas Explicativas'!$D67,2),2)","v":0},{"$f":"TRUNC(ROUND(S$34*'Notas Explicativas'!$D67,2),2)","v":0},{"$f":"TRUNC(ROUND(T$34*'Notas Explicativas'!$D67,2),2)","v":0},{"$f":"TRUNC(ROUND(U$34*'Notas Explicativas'!$D67,2),2)","v":0},{"$f":"TRUNC(ROUND(V$34*'Notas Explicativas'!$D67,2),2)","v":0},{"$f":"TRUNC(ROUND(W$34*'Notas Explicativas'!$D67,2),2)","v":0},{"$f":"TRUNC(ROUND(X$34*'Notas Explicativas'!$D67,2),2)","v":0},{"$f":"TRUNC(ROUND(Y$34*'Notas Explicativas'!$D67,2),2)","v":0},{"$f":"TRUNC(ROUND(Z$34*'Notas Explicativas'!$D67,2),2)","v":0},{"$f":"TRUNC(ROUND(AA$34*'Notas Explicativas'!$D67,2),2)","v":0},{"$f":"TRUNC(ROUND(AB$34*'Notas Explicativas'!$D67,2),2)","v":0},{"$f":"TRUNC(ROUND(AC$34*'Notas Explicativas'!$D67,2),2)","v":0},{"$f":"TRUNC(ROUND(AD$34*'Notas Explicativas'!$D67,2),2)","v":0},{"$f":"TRUNC(ROUND(AE$34*'Notas Explicativas'!$D67,2),2)","v":0},1.4]
[null,null,null,"Multa do FGTS do Aviso Prévio Indenizado",null,null,null,null,null,{"$f":"TRUNC(ROUND(J$34*'Notas Explicativas'!$D68,2),2)","v":0},{"$f":"TRUNC(ROUND(K$34*'Notas Explicativas'!$D68,2),2)","v":0},{"$f":"TRUNC(ROUND(L$34*'Notas Explicativas'!$D68,2),2)","v":144.1},{"$f":"TRUNC(ROUND(M$34*'Notas Explicativas'!$D68,2),2)","v":0},{"$f":"TRUNC(ROUND(N$34*'Notas Explicativas'!$D68,2),2)","v":0},{"$f":"TRUNC(ROUND(O$34*'Notas Explicativas'!$D68,2),2)","v":0},{"$f":"TRUNC(ROUND(P$34*'Notas Explicativas'!$D68,2),2)","v":0},{"$f":"TRUNC(ROUND(Q$34*'Notas Explicativas'!$D68,2),2)","v":0},{"$f":"TRUNC(ROUND(R$34*'Notas Explicativas'!$D68,2),2)","v":0},{"$f":"TRUNC(ROUND(S$34*'Notas Explicativas'!$D68,2),2)","v":0},{"$f":"TRUNC(ROUND(T$34*'Notas Explicativas'!$D68,2),2)","v":0},{"$f":"TRUNC(ROUND(U$34*'Notas Explicativas'!$D68,2),2)","v":0},{"$f":"TRUNC(ROUND(V$34*'Notas Explicativas'!$D68,2),2)","v":0},{"$f":"TRUNC(ROUND(W$34*'Notas Explicativas'!$D68,2),2)","v":0},{"$f":"TRUNC(ROUND(X$34*'Notas Explicativas'!$D68,2),2)","v":0},{"$f":"TRUNC(ROUND(Y$34*'Notas Explicativas'!$D68,2),2)","v":0},{"$f":"TRUNC(ROUND(Z$34*'Notas Explicativas'!$D68,2),2)","v":0},{"$f":"TRUNC(ROUND(AA$34*'Notas Explicativas'!$D68,2),2)","v":0},{"$f":"TRUNC(ROUND(AB$34*'Notas Explicativas'!$D68,2),2)","v":0},{"$f":"TRUNC(ROUND(AC$34*'Notas Explicativas'!$D68,2),2)","v":0},{"$f":"TRUNC(ROUND(AD$34*'Notas Explicativas'!$D68,2),2)","v":0},{"$f":"TRUNC(ROUND(AE$34*'Notas Explicativas'!$D68,2),2)","v":0},144.1]
[null,null,null,"Aviso Prévio Trabalhado",null,null,null,null,null,{"$f":"TRUNC(ROUND(J$34*'Notas Explicativas'!$D69,2),2)","v":0},{"$f":"TRUNC(ROUND(K$34*'Notas Explicativas'!$D69,2),2)","v":0},{"$f":"TRUNC(ROUND(L$34*'Notas Explicativas'!$D69,2),2)","v":52.13},{"$f":"TRUNC(ROUND(M$34*'Notas Explicativas'!$D69,2),2)","v":0},{"$f":"TRUNC(ROUND(N$34*'Notas Explicativas'!$D69,2),2)","v":0},{"$f":"TRUNC(ROUND(O$34*'Notas Explicativas'!$D69,2),2)","v":0},{"$f":"TRUNC(ROUND(P$34*'Notas Explicativas'!$D69,2),2)","v":0},{"$f":"TRUNC(ROUND(Q$34*'Notas Explicativas'!$D69,2),2)","v":0},{"$f":"TRUNC(ROUND(R$34*'Notas Explicativas'!$D69,2),2)","v":0},{"$f":"TRUNC(ROUND(S$34*'Notas Explicativas'!$D69,2),2)","v":0},{"$f":"TRUNC(ROUND(T$34*'Notas Explicativas'!$D69,2),2)","v":0},{"$f":"TRUNC(ROUND(U$34*'Notas Explicativas'!$D69,2),2)","v":0},{"$f":"TRUNC(ROUND(V$34*'Notas Explicativas'!$D69,2),2)","v":0},{"$f":"TRUNC(ROUND(W$34*'Notas Explicativas'!$D69,2),2)","v":0},{"$f":"TRUNC(ROUND(X$34*'Notas Explicativas'!$D69,2),2)","v":0},{"$f":"TRUNC(ROUND(Y$34*'Notas Explicativas'!$D69,2),2)","v":0},{"$f":"TRUNC(ROUND(Z$34*'Notas Explicativas'!$D69,2),2)","v":0},{"$f":"TRUNC(ROUND(AA$34*'Notas Explicativas'!$D69,2),2)","v":0},{"$f":"TRUNC(ROUND(AB$34*'Notas Explicativas'!$D69,2),2)","v":0},{"$f":"TRUNC(ROUND(AC$34*'Notas Explicativas'!$D69,2),2)","v":0},{"$f":"TRUNC(ROUND(AD$34*'Notas Explicativas'!$D69,2),2)","v":0},{"$f":"TRUNC(ROUND(AE$34*'Notas Explicativas'!$D69,2),2)","v":0},52.13]
[null,null,null,"Insidência do Módulo Encargos Previdenciários, FGTS e Outras Cont. s/ Aviso Prévio Trab.",null,null,null,null,null,{"$f":"TRUNC(ROUND(J$34*'Notas Explicativas'!$D71,2),2)","v":0},{"$f":"TRUNC(ROUND(K$34*'Notas Explicativas'!$D71,2),2)","v":0},{"$f":"TRUNC(ROUND(L$34*'Notas Explicativas'!$D71,2),2)","v":19.18},{"$f":"TRUNC(ROUND(M$34*'Notas Explicativas'!$D71,2),2)","v":0},{"$f":"TRUNC(ROUND(N$34*'Notas Explicativas'!$D71,2),2)","v":0},{"$f":"TRUNC(ROUND(O$34*'Notas Explicativas'!$D71,2),2)","v":0},{"$f":"TRUNC(ROUND(P$34*'Notas Explicativas'!$D71,2),2)","v":0},{"$f":"TRUNC(ROUND(Q$34*'Notas Explicativas'!$D71,2),2)","v":0},{"$f":"TRUNC(ROUND(R$34*'Notas Explicativas'!$D71,2),2)","v":0},{"$f":"TRUNC(ROUND(S$34*'Notas Explicativas'!$D71,2),2)","v":0},{"$f":"TRUNC(ROUND(T$34*'Notas Explicativas'!$D71,2),2)","v":0},{"$f":"TRUNC(ROUND(U$34*'Notas Explicativas'!$D71,2),2)","v":0},{"$f":"TRUNC(ROUND(V$34*'Notas Explicativas'!$D71,2),2)","v":0},{"$f":"TRUNC(ROUND(W$34*'Notas Explicativas'!$D71,2),2)","v":0},{"$f":"TRUNC(ROUND(X$34*'Notas Explicativas'!$D71,2),2)","v":0},{"$f":"TRUNC(ROUND(Y$34*'Notas Explicativas'!$D71,2),2)","v":0},{"$f":"TRUNC(ROUND(Z$34*'Notas Explicativas'!$D71,2),2)","v":0},{"$f":"TRUNC(ROUND(AA$34*'Notas Explicativas'!$D71,2),2)","v":0},{"$f":"TRUNC(ROUND(AB$34*'Notas Explicativas'!$D71,2),2)","v":0},{"$f":"TRUNC(ROUND(AC$34*'Notas Explicativas'!$D71,2),2)","v":0},{"$f":"TRUNC(ROUND(AD$34*'Notas Explicativas'!$D71,2),2)","v":0},{"$f":"TRUNC(ROUND(AE$34*'Notas Explicativas'!$D71,2),2)","v":0},19.18]
[null,null,null,"Multa do FGTS do Aviso Prévio Trabalhado",null,null,null,null,null,{"$f":"TRUNC(ROUND(J$34*'Notas Explicativas'!$D73,2),2)","v":0},{"$f":"TRUNC(ROUND(K$34*'Notas Explicativas'!$D73,2),2)","v":0},{"$f":"TRUNC(ROUND(L$34*'Notas Explicativas'!$D73,2),2)","v":1.67},{"$f":"TRUNC(ROUND(M$34*'Notas Explicativas'!$D73,2),2)","v":0},{"$f":"TRUNC(ROUND(N$34*'Notas Explicativas'!$D73,2),2)","v":0},{"$f":"TRUNC(ROUND(O$34*'Notas Explicativas'!$D73,2),2)","v":0},{"$f":"TRUNC(ROUND(P$34*'Notas Explicativas'!$D73,2),2)","v":0},{"$f":"TRUNC(ROUND(Q$34*'Notas Explicativas'!$D73,2),2)","v":0},{"$f":"TRUNC(ROUND(R$34*'Notas Explicativas'!$D73,2),2)","v":0},{"$f":"TRUNC(ROUND(S$34*'Notas Explicativas'!$D73,2),2)","v":0},{"$f":"TRUNC(ROUND(T$34*'Notas Explicativas'!$D73,2),2)","v":0},{"$f":"TRUNC(ROUND(U$34*'Notas Explicativas'!$D73,2),2)","v":0},{"$f":"TRUNC(ROUND(V$34*'Notas Explicativas'!$D73,2),2)","v":0},{"$f":"TRUNC(ROUND(W$34*'Notas Explicativas'!$D73,2),2)","v":0},{"$f":"TRUNC(ROUND(X$34*'Notas Explicativas'!$D73,2),2)","v":0},{"$f":"TRUNC(ROUND(Y$34*'Notas Explicativas'!$D73,2),2)","v":0},{"$f":"TRUNC(ROUND(Z$34*'Notas Explicativas'!$D73,2),2)","v":0},{"$f":"TRUNC(ROUND(AA$34*'Notas Explicativas'!$D73,2),2)","v":0},{"$f":"TRUNC(ROUND(AB$34*'Notas Explicativas'!$D73,2),2)","v":0},{"$f":"TRUNC(ROUND(AC$34*'Notas Explicativas'!$D73,2),2)","v":0},{"$f":"TRUNC(ROUND(AD$34*'Notas Explicativas'!$D73,2),2)","v":0},{"$f":"TRUNC(ROUND(AE$34*'Notas Explicativas'!$D73,2),2)","v":0},1.67]
[null,null,null,"Total de Provisão para Rescisão",null,null,null,null,null,{"$f":"SUM(J81:J86)","v":0},{"$f":"SUM(K81:K86)","v":0},235.92999999999998,0,0,0,0,0,0,0,0,0,0,0,0,0,0,0,0,0,0,0,{"$f":"SUM(AF81:AF86)","v":235.92999999999998}]
[]
[null,null,"MÓDULO 4 - CUSTO DE REPOSIÇÃO DO PROFISSIONAL AUSENTE"]
[null,null,null,null,null,null,null,null,null,"Valor","Valor","Valor","Valor","Valor","Valor","Valor","Valor","Valor","Valor","Valor","Valor","Valor","Valor","Valor","Valor","Valor","Valor","Valor","Valor","Valor","Valor","Valor"]
[null,null,null,"Substituição Durante Férias",null,null,null,null,null,{"$f":"TRUNC(ROUND(J$37*'Notas Explicativas'!$D85,2),2)","v":0},{"$f":"TRUNC(ROUND(K$37*'Notas Explicativas'!$D85,2),2)","v":0},{"$f":"TRUNC(ROUND(L$37*'Notas Explicativas'!$D85,2),2)","v":0},{"$f":"TRUNC(ROUND(M$37*'Notas Explicativas'!$D85,2),2)","v":0},{"$f":"TRUNC(ROUND(N$37*'Notas Explicativas'!$D85,2),2)","v":0},{"$f":"TRUNC(ROUND(O$37*'Notas Explicativas'!$D85,2),2)","v":0},{"$f":"TRUNC(ROUND(P$37*'Notas Explicativas'!$D85,2),2)","v":0},{"$f":"TRUNC(ROUND(Q$37*'Notas Explicativas'!$D85,2),2)","v":0},{"$f":"TRUNC(ROUND(R$37*'Notas Explicativas'!$D85,2),2)","v":0},{"$f":"TRUNC(ROUND(S$37*'Notas Explicativas'!$D85,2),2)","v":0},{"$f":"TRUNC(ROUND(T$37*'Notas Explicativas'!$D85,2),2)","v":0},{"$f":"TRUNC(ROUND(U$37*'Notas Explicativas'!$D85,2),2)","v":0},{"$f":"TRUNC(ROUND(V$37*'Notas Explicativas'!$D85,2),2)","v":0},{"$f":"TRUNC(ROUND(W$37*'Notas Explicativas'!$D85,2),2)","v":0},{"$f":"TRUNC(ROUND(X$37*'Notas Explicativas'!$D85,2),2)","v":0},{"$f":"TRUNC(ROUND(Y$37*'Notas Explicativas'!$D85,2),2)","v":0},{"$f":"TRUNC(ROUND(Z$37*'Notas Explicativas'!$D85,2),2)","v":0},{"$f":"TRUNC(ROUND(AA$37*'Notas Explicativas'!$D85,2),2)","v":0},{"$f":"TRUNC(ROUND(AB$37*'Notas Explicativas'!$D85,2),2)","v":0},{"$f":"TRUNC(ROUND(AC$37*'Notas Explicativas'!$D85,2),2)","v":0},{"$f":"TRUNC(ROUND(AD$37*'Notas Explicativas'!$D85,2),2)","v":0},{"$f":"TRUNC(ROUND(AE$37*'Notas Explicativas'!$D85,2),2)","v":0},{"$f":"SUM(J91:AE91)","v":0}]
[null,null,null,"Substituição Durante Ausência por Doença",null,null,null,null,null,{"$f":"TRUNC(ROUND(J$37*'Notas Explicativas'!$D86,2),2)","v":0},{"$f":"TRUNC(ROUND(K$37*'Notas Explicativas'!$D86,2),2)","v":0},{"$f":"TRUNC(ROUND(L$37*'Notas Explicativas'!$D86,2),2)","v":58.18},{"$f":"TRUNC(ROUND(M$37*'Notas Explicativas'!$D86,2),2)","v":0},{"$f":"TRUNC(ROUND(N$37*'Notas Explicativas'!$D86,2),2)","v":0},{"$f":"TRUNC(ROUND(O$37*'Notas Explicativas'!$D86,2),2)","v":0},{"$f":"TRUNC(ROUND(P$37*'Notas Explicativas'!$D86,2),2)","v":0},{"$f":"TRUNC(ROUND(Q$37*'Notas Explicativas'!$D86,2),2)","v":0},{"$f":"TRUNC(ROUND(R$37*'Notas Explicativas'!$D86,2),2)","v":0},{"$f":"TRUNC(ROUND(S$37*'Notas Explicativas'!$D86,2),2)","v":0},{"$f":"TRUNC(ROUND(T$37*'Notas Explicativas'!$D86,2),2)","v":0},{"$f":"TRUNC(ROUND(U$37*'Notas Explicativas'!$D86,2),2)","v":0},{"$f":"TRUNC(ROUND(V$37*'Notas Explicativas'!$D86,2),2)","v":0},{"$f":"TRUNC(ROUND(W$37*'Notas Explicativas'!$D86,2),2)","v":0},{"$f":"TRUNC(ROUND(X$37*'Notas Explicativas'!$D86,2),2)","v":0},{"$f":"TRUNC(ROUND(Y$37*'Notas Explicativas'!$D86,2),2)","v":0},{"$f":"TRUNC(ROUND(Z$37*'Notas Explicativas'!$D86,2),2)","v":0},{"$f":"TRUNC(ROUND(AA$37*'Notas Explicativas'!$D86,2),2)","v":0},{"$f":"TRUNC(ROUND(AB$37*'Notas Explicativas'!$D86,2),2)","v":0},{"$f":"TRUNC(ROUND(AC$37*'Notas Explicativas'!$D86,2),2)","v":0},{"$f":"TRUNC(ROUND(AD$37*'Notas Explicativas'!$D86,2),2)","v":0},{"$f":"TRUNC(ROUND(AE$37*'Notas Explicativas'!$D86,2),2)","v":0},58.18]
[null,null,null,"Substituição Durante Licença Maternidade",null,null,null,null,null,{"$f":"TRUNC(ROUND(J$37*'Notas Explicativas'!$D87,2),2)","v":0},{"$f":"TRUNC(ROUND(K$37*'Notas Explicativas'!$D87,2),2)","v":0},{"$f":"TRUNC(ROUND(L$37*'Notas Explicativas'!$D87,2),2)","v":5.48},{"$f":"TRUNC(ROUND(M$37*'Notas Explicativas'!$D87,2),2)","v":0},{"$f":"TRUNC(ROUND(N$37*'Notas Explicativas'!$D87,2),2)","v":0},{"$f":"TRUNC(ROUND(O$37*'Notas Explicativas'!$D87,2),2)","v":0},{"$f":"TRUNC(ROUND(P$37*'Notas Explicativas'!$D87,2),2)","v":0},{"$f":"TRUNC(ROUND(Q$37*'Notas Explicativas'!$D87,2),2)","v":0},{"$f":"TRUNC(ROUND(R$37*'Notas Explicativas'!$D87,2),2)","v":0},{"$f":"TRUNC(ROUND(S$37*'Notas Explicativas'!$D87,2),2)","v":0},{"$f":"TRUNC(ROUND(T$37*'Notas Explicativas'!$D87,2),2)","v":0},{"$f":"TRUNC(ROUND(U$37*'Notas Explicativas'!$D87,2),2)","v":0},{"$f":"TRUNC(ROUND(V$37*'Notas Explicativas'!$D87,2),2)","v":0},{"$f":"TRUNC(ROUND(W$37*'Notas Explicativas'!$D87,2),2)","v":0},{"$f":"TRUNC(ROUND(X$37*'Notas Explicativas'!$D87,2),2)","v":0},{"$f":"TRUNC(ROUND(Y$37*'Notas Explicativas'!$D87,2),2)","v":0},{"$f":"TRUNC(ROUND(Z$37*'Notas Explicativas'!$D87,2),2)","v":0},{"$f":"TRUNC(ROUND(AA$37*'Notas Explicativas'!$D87,2),2)","v":0},{"$f":"TRUNC(ROUND(AB$37*'Notas Explicativas'!$D87,2),2)","v":0},{"$f":"TRUNC(ROUND(AC$37*'Notas Explicativas'!$D87,2),2)","v":0},{"$f":"TRUNC(ROUND(AD$37*'Notas Explicativas'!$D87,2),2)","v":0},{"$f":"TRUNC(ROUND(AE$37*'Notas Explicativas'!$D87,2),2)","v":0},5.48]
[null,null,null,"Substituição Durante Licença Paternidade",null,null,null,null,null,{"$f":"TRUNC(ROUND(J$37*'Notas Explicativas'!$D88,2),2)","v":0},{"$f":"TRUNC(ROUND(K$37*'Notas Explicativas'!$D88,2),2)","v":0},{"$f":"TRUNC(ROUND(L$37*'Notas Explicativas'!$D88,2),2)","v":0.87},{"$f":"TRUNC(ROUND(M$37*'Notas Explicativas'!$D88,2),2)","v":0},{"$f":"TRUNC(ROUND(N$37*'Notas Explicativas'!$D88,2),2)","v":0},{"$f":"TRUNC(ROUND(O$37*'Notas Explicativas'!$D88,2),2)","v":0},{"$f":"TRUNC(ROUND(P$37*'Notas Explicativas'!$D88,2),2)","v":0},{"$f":"TRUNC(ROUND(Q$37*'Notas Explicativas'!$D88,2),2)","v":0},{"$f":"TRUNC(ROUND(R$37*'Notas Explicativas'!$D88,2),2)","v":0},{"$f":"TRUNC(ROUND(S$37*'Notas Explicativas'!$D88,2),2)","v":0},{"$f":"TRUNC(ROUND(T$37*'Notas Explicativas'!$D88,2),2)","v":0},{"$f":"TRUNC(ROUND(U$37*'Notas Explicativas'!$D88,2),2)","v":0},{"$f":"TRUNC(ROUND(V$37*'Notas Explicativas'!$D88,2),2)","v":0},{"$f":"TRUNC(ROUND(W$37*'Notas Explicativas'!$D88,2),2)","v":0},{"$f":"TRUNC(ROUND(X$37*'Notas Explicativas'!$D88,2),2)","v":0},{"$f":"TRUNC(ROUND(Y$37*'Notas Explicativas'!$D88,2),2)","v":0},{"$f":"TRUNC(ROUND(Z$37*'Notas Explicativas'!$D88,2),2)","v":0},{"$f":"TRUNC(ROUND(AA$37*'Notas Explicativas'!$D88,2),2)","v":0},{"$f":"TRUNC(ROUND(AB$37*'Notas Explicativas'!$D88,2),2)","v":0},{"$f":"TRUNC(ROUND(AC$37*'Notas Explicativas'!$D88,2),2)","v":0},{"$f":"TRUNC(ROUND(AD$37*'Notas Explicativas'!$D88,2),2)","v":0},{"$f":"TRUNC(ROUND(AE$37*'Notas Explicativas'!$D88,2),2)","v":0},0.87]
[null,null,null,"Substituição Durante Ausências Legais",null,null,null,null,null,{"$f":"TRUNC(ROUND(J$37*'Notas Explicativas'!$D89,2),2)","v":0},{"$f":"TRUNC(ROUND(K$37*'Notas Explicativas'!$D89,2),2)","v":0},{"$f":"TRUNC(ROUND(L$37*'Notas Explicativas'!$D89,2),2)","v":11.64},{"$f":"TRUNC(ROUND(M$37*'Notas Explicativas'!$D89,2),2)","v":0},{"$f":"TRUNC(ROUND(N$37*'Notas Explicativas'!$D89,2),2)","v":0},{"$f":"TRUNC(ROUND(O$37*'Notas Explicativas'!$D89,2),2)","v":0},{"$f":"TRUNC(ROUND(P$37*'Notas Explicativas'!$D89,2),2)","v":0},{"$f":"TRUNC(ROUND(Q$37*'Notas Explicativas'!$D89,2),2)","v":0},{"$f":"TRUNC(ROUND(R$37*'Notas Explicativas'!$D89,2),2)","v":0},{"$f":"TRUNC(ROUND(S$37*'Notas Explicativas'!$D89,2),2)","v":0},{"$f":"TRUNC(ROUND(T$37*'Notas Explicativas'!$D89,2),2)","v":0},{"$f":"TRUNC(ROUND(U$37*'Notas Explicativas'!$D89,2),2)","v":0},{"$f":"TRUNC(ROUND(V$37*'Notas Explicativas'!$D89,2),2)","v":0},{"$f":"TRUNC(ROUND(W$37*'Notas Explicativas'!$D89,2),2)","v":0},{"$f":"TRUNC(ROUND(X$37*'Notas Explicativas'!$D89,2),2)","v":0},{"$f":"TRUNC(ROUND(Y$37*'Notas Explicativas'!$D89,2),2)","v":0},{"$f":"TRUNC(ROUND(Z$37*'Notas Explicativas'!$D89,2),2)","v":0},{"$f":"TRUNC(ROUND(AA$37*'Notas Explicativas'!$D89,2),2)","v":0},{"$f":"TRUNC(ROUND(AB$37*'Notas Explicativas'!$D89,2),2)","v":0},{"$f":"TRUNC(ROUND(AC$37*'Notas Explicativas'!$D89,2),2)","v":0},{"$f":"TRUNC(ROUND(AD$37*'Notas Explicativas'!$D89,2),2)","v":0},{"$f":"TRUNC(ROUND(AE$37*'Notas Explicativas'!$D89,2),2)","v":0},11.64]
[null,null,null,"Substituição Durante Ausência por Acidente de Trabalho",null,null,null,null,null,{"$f":"TRUNC(ROUND(J$37*'Notas Explicativas'!$D90,2),2)","v":0},{"$f":"TRUNC(ROUND(K$37*'Notas Explicativas'!$D90,2),2)","v":0},{"$f":"TRUNC(ROUND(L$37*'Notas Explicativas'!$D90,2),2)","v":2.72},{"$f":"TRUNC(ROUND(M$37*'Notas Explicativas'!$D90,2),2)","v":0},{"$f":"TRUNC(ROUND(N$37*'Notas Explicativas'!$D90,2),2)","v":0},{"$f":"TRUNC(ROUND(O$37*'Notas Explicativas'!$D90,2),2)","v":0},{"$f":"TRUNC(ROUND(P$37*'Notas Explicativas'!$D90,2),2)","v":0},{"$f":"TRUNC(ROUND(Q$37*'Notas Explicativas'!$D90,2),2)","v":0},{"$f":"TRUNC(ROUND(R$37*'Notas Explicativas'!$D90,2),2)","v":0},{"$f":"TRUNC(ROUND(S$37*'Notas Explicativas'!$D90,2),2)","v":0},{"$f":"TRUNC(ROUND(T$37*'Notas Explicativas'!$D90,2),2)","v":0},{"$f":"TRUNC(ROUND(U$37*'Notas Explicativas'!$D90,2),2)","v":0},{"$f":"TRUNC(ROUND(V$37*'Notas Explicativas'!$D90,2),2)","v":0},{"$f":"TRUNC(ROUND(W$37*'Notas Explicativas'!$D90,2),2)","v":0},{"$f":"TRUNC(ROUND(X$37*'Notas Explicativas'!$D90,2),2)","v":0},{"$f":"TRUNC(ROUND(Y$37*'Notas Explicativas'!$D90,2),2)","v":0},{"$f":"TRUNC(ROUND(Z$37*'Notas Explicativas'!$D90,2),2)","v":0},{"$f":"TRUNC(ROUND(AA$37*'Notas Explicativas'!$D90,2),2)","v":0},{"$f":"TRUNC(ROUND(AB$37*'Notas Explicativas'!$D90,2),2)","v":0},{"$f":"TRUNC(ROUND(AC$37*'Notas Explicativas'!$D90,2),2)","v":0},{"$f":"TRUNC(ROUND(AD$37*'Notas Explicativas'!$D90,2),2)","v":0},{"$f":"TRUNC(ROUND(AE$37*'Notas Explicativas'!$D90,2),2)","v":0},2.72]
[null,null,null,"Subtotal Antes da Incidência de Proporcional de Férias, 1/3 e 13º s/ Custos de Reposição",null,null,null,null,null,{"$f":"SUM(J91:J96)","v":0},{"$f":"SUM(K91:K96)","v":0},78.89,0,0,0,0,0,0,0,0,0,0,0,0,0,0,0,0,0,0,0,78.89]
[null,null,null,"Proporcional de Férias, 1/3 e 13º Sobre Custo de Reposição (Exceto Licença Maternidade)",null,null,null,null,null,{"$f":"TRUNC(ROUND(J$37*'Notas Explicativas'!$D96,2),2)","v":0},{"$f":"TRUNC(ROUND(K$37*'Notas Explicativas'!$D96,2),2)","v":0},{"$f":"TRUNC(ROUND(L$37*'Notas Explicativas'!$D96,2),2)","v":14.27},{"$f":"TRUNC(ROUND(M$37*'Notas Explicativas'!$D96,2),2)","v":0},{"$f":"TRUNC(ROUND(N$37*'Notas Explicativas'!$D96,2),2)","v":0},{"$f":"TRUNC(ROUND(O$37*'Notas Explicativas'!$D96,2),2)","v":0},{"$f":"TRUNC(ROUND(P$37*'Notas Explicativas'!$D96,2),2)","v":0},{"$f":"TRUNC(ROUND(Q$37*'Notas Explicativas'!$D96,2),2)","v":0},{"$f":"TRUNC(ROUND(R$37*'Notas Explicativas'!$D96,2),2)","v":0},{"$f":"TRUNC(ROUND(S$37*'Notas Explicativas'!$D96,2),2)","v":0},{"$f":"TRUNC(ROUND(T$37*'Notas Explicativas'!$D96,2),2)","v":0},{"$f":"TRUNC(ROUND(U$37*'Notas Explicativas'!$D96,2),2)","v":0},{"$f":"TRUNC(ROUND(V$37*'Notas Explicativas'!$D96,2),2)","v":0},{"$f":"TRUNC(ROUND(W$37*'Notas Explicativas'!$D96,2),2)","v":0},{"$f":"TRUNC(ROUND(X$37*'Notas Explicativas'!$D96,2),2)","v":0},{"$f":"TRUNC(ROUND(Y$37*'Notas Explicativas'!$D96,2),2)","v":0},{"$f":"TRUNC(ROUND(Z$37*'Notas Explicativas'!$D96,2),2)","v":0},{"$f":"TRUNC(ROUND(AA$37*'Notas Explicativas'!$D96,2),2)","v":0},{"$f":"TRUNC(ROUND(AB$37*'Notas Explicativas'!$D96,2),2)","v":0},{"$f":"TRUNC(ROUND(AC$37*'Notas Explicativas'!$D96,2),2)","v":0},{"$f":"TRUNC(ROUND(AD$37*'Notas Explicativas'!$D96,2),2)","v":0},{"$f":"TRUNC(ROUND(AE$37*'Notas Explicativas'!$D96,2),2)","v":0},14.27]
[null,null,null,"Subtotal Antes de Incidência do Módulo Encargos Previdenciários, FGTS e Outras Cont.",null,null,null,null,null,{"$f":"SUM(J97:J98)","v":0},{"$f":"SUM(K97:K98)","v":0},93.16,0,0,0,0,0,0,0,0,0,0,0,0,0,0,0,0,0,0,0,93.16]
[null,null,null,"Incidência do Módulo Encargos Previdenciários, FGTS e Outras Cont. s/ Custo de Reposição",null,null,null,null,null,{"$f":"TRUNC(ROUND(J$37*'Notas Explicativas'!$D98,2),2)","v":0},{"$f":"TRUNC(ROUND(K$37*'Notas Explicativas'!$D98,2),2)","v":0},{"$f":"TRUNC(ROUND(L$37*'Notas Explicativas'!$D98,2),2)","v":34.28},{"$f":"TRUNC(ROUND(M$37*'Notas Explicativas'!$D98,2),2)","v":0},{"$f":"TRUNC(ROUND(N$37*'Notas Explicativas'!$D98,2),2)","v":0},{"$f":"TRUNC(ROUND(O$37*'Notas Explicativas'!$D98,2),2)","v":0},{"$f":"TRUNC(ROUND(P$37*'Notas Explicativas'!$D98,2),2)","v":0},{"$f":"TRUNC(ROUND(Q$37*'Notas Explicativas'!$D98,2),2)","v":0},{"$f":"TRUNC(ROUND(R$37*'Notas Explicativas'!$D98,2),2)","v":0},{"$f":"TRUNC(ROUND(S$37*'Notas Explicativas'!$D98,2),2)","v":0},{"$f":"TRUNC(ROUND(T$37*'Notas Explicativas'!$D98,2),2)","v":0},{"$f":"TRUNC(ROUND(U$37*'Notas Explicativas'!$D98,2),2)","v":0},{"$f":"TRUNC(ROUND(V$37*'Notas Explicativas'!$D98,2),2)","v":0},{"$f":"TRUNC(ROUND(W$37*'Notas Explicativas'!$D98,2),2)","v":0},{"$f":"TRUNC(ROUND(X$37*'Notas Explicativas'!$D98,2),2)","v":0},{"$f":"TRUNC(ROUND(Y$37*'Notas Explicativas'!$D98,2),2)","v":0},{"$f":"TRUNC(ROUND(Z$37*'Notas Explicativas'!$D98,2),2)","v":0},{"$f":"TRUNC(ROUND(AA$37*'Notas Explicativas'!$D98,2),2)","v":0},{"$f":"TRUNC(ROUND(AB$37*'Notas Explicativas'!$D98,2),2)","v":0},{"$f":"TRUNC(ROUND(AC$37*'Notas Explicativas'!$D98,2),2)","v":0},{"$f":"TRUNC(ROUND(AD$37*'Notas Explicativas'!$D98,2),2)","v":0},{"$f":"TRUNC(ROUND(AE$37*'Notas Explicativas'!$D98,2),2)","v":0},34.28]
[null,null,null,"Total do Custo de Reposição do Profissional Ausente",null,null,null,null,null,{"$f":"SUM(J99:J100)","v":0},{"$f":"SUM(K99:K100)","v":0},127.44,0,0,0,0,0,0,0,0,0,0,0,0,0,0,0,0,0,0,0,{"$f":"SUM(J101:AE101)","v":127.44}]
[]
[null,null,"MÓDULO 5 - UNIFORMES E EQUIPAMENTOS"]
[null,null,null,"UNIFORMES (TODOS AS CATEGORIAS PROFISSIONAIS)"]
[null,null,null,null,null,null,null,null,null,"Valor","Valor","Valor","Valor","Valor","Valor","Valor","Valor","Valor","Valor","Valor","Valor","Valor","Valor","Valor","Valor","Valor","Valor","Valor","Valor","Valor","Valor","Valor"]
[null,null,null,"Uniformes",null,null,null,null,null,{"$f":"IF(Apoio!$K$11=0,0,IF('Dados Contratação'!$J$19=0,0,'Certificação digital'!$I$27))","v":0},{"$f":"IF(Apoio!$K$11=0,0,IF('Dados Contratação'!$J$20=0,0,'Certificação digital'!$I$27))","v":0},{"$f":"IF(Apoio!$K$11=0,0,IF('Dados Contratação'!$J$21=0,0,'Certificação digital'!$I$16))","v":10.91},{"$f":"IF(Apoio!$K$11=0,0,IF('Dados Contratação'!$J$22=0,0,'Certificação digital'!$I$16))","v":0},{"$f":"IF(Apoio!$K$11=0,0,IF('Dados Contratação'!$J$23=0,0,'Certificação digital'!$I$16))","v":0},{"$f":"IF(Apoio!$K$11=0,0,IF('Dados Contratação'!$J$24=0,0,'Certificação digital'!$I$16))","v":0},{"$f":"IF(Apoio!$K$11=0,0,IF('Dados Contratação'!$J$25=0,0,'Certificação digital'!$I$16))","v":0},{"$f":"IF(Apoio!$K$11=0,0,IF('Dados Contratação'!$J$26=0,0,'Certificação digital'!$I$16))","v":0},{"$f":"IF(Apoio!$K$11=0,0,IF('Dados Contratação'!$J$27=0,0,'Certificação digital'!$I$16))","v":0},{"$f":"IF(Apoio!$K$11=0,0,IF('Dados Contratação'!$J$28=0,0,'Certificação digital'!$I$16))","v":0},{"$f":"IF(Apoio!$K$11=0,0,IF('Dados Contratação'!$J$29=0,0,'Certificação digital'!$I$16))","v":0},{"$f":"IF(Apoio!$K$11=0,0,IF('Dados Contratação'!$J$30=0,0,'Certificação digital'!$I$16))","v":0},{"$f":"IF(Apoio!$K$11=0,0,IF('Dados Contratação'!$J$31=0,0,'Certificação digital'!$I$16))","v":0},{"$f":"IF(Apoio!$K$11=0,0,IF('Dados Contratação'!$J$32=0,0,'Certificação digital'!$I$16))","v":0},{"$f":"IF(Apoio!$K$11=0,0,IF('Dados Contratação'!$J$33=0,0,'Certificação digital'!$I$16))","v":0},{"$f":"IF(Apoio!$K$11=0,0,IF('Dados Contratação'!$J$34=0,0,'Certificação digital'!$I$16))","v":0},{"$f":"IF(Apoio!$K$11=0,0,IF('Dados Contratação'!$J$35=0,0,'Certificação digital'!$I$16))","v":0},{"$f":"IF(Apoio!$K$11=0,0,IF('Dados Contratação'!$J$36=0,0,'Certificação digital'!$I$16))","v":0},{"$f":"IF(Apoio!$K$11=0,0,IF('Dados Contratação'!$J$37=0,0,'Certificação digital'!$I$16))","v":0},{"$f":"IF(Apoio!$K$11=0,0,IF('Dados Contratação'!$J$38=0,0,'Certificação digital'!$I$16))","v":0},{"$f":"IF(Apoio!$K$11=0,0,IF('Dados Contratação'!$J$39=0,0,'Certificação digital'!$I$16))","v":0},{"$f":"IF(Apoio!$K$11=0,0,IF('Dados Contratação'!$J$40=0,0,'Certificação digital'!$I$16))","v":0},{"$f":"SUM(J106:AE106)","v":10.91}]
[]
[null,null,null,"INSUMOS - BRIGADISTA"]
[null,null,null,null,null,null,null,null,null,"Valor","Valor","Valor","Valor","Valor","Valor","Valor","Valor","Valor","Valor","Valor","Valor","Valor","Valor","Valor","Valor","Valor","Valor","Valor","Valor","Valor","Valor","Valor"]
[null,null,null,"Mobiliários",null,null,null,null,null,{"$f":"IF(Apoio!$K$11=0,0,IF('Dados Contratação'!$J$19=0,0,'Insumos - Brigadista'!$J$24))","v":0},{"$f":"IF(Apoio!$K$11=0,0,IF('Dados Contratação'!$J$20=0,0,'Insumos - Brigadista'!$J$24))","v":0},{"$f":"IF(Apoio!$K$11=0,0,IF('Dados Contratação'!$J$21=0,0,'Insumos - Brigadista'!$J$24))","v":0},{"$f":"IF(Apoio!$K$11=0,0,IF('Dados Contratação'!$J$22=0,0,'Insumos - Brigadista'!$J$24))","v":0},{"$f":"IF(Apoio!$K$11=0,0,IF('Dados Contratação'!$J$23=0,0,'Insumos - Brigadista'!$J$24))","v":0},{"$f":"IF(Apoio!$K$11=0,0,IF('Dados Contratação'!$J$24=0,0,'Insumos - Brigadista'!$J$24))","v":0},{"$f":"IF(Apoio!$K$11=0,0,IF('Dados Contratação'!$J$25=0,0,'Insumos - Brigadista'!$J$24))","v":0},{"$f":"IF(Apoio!$K$11=0,0,IF('Dados Contratação'!$J$26=0,0,'Insumos - Brigadista'!$J$24))","v":0},{"$f":"IF(Apoio!$K$11=0,0,IF('Dados Contratação'!$J$27=0,0,'Insumos - Brigadista'!$J$24))","v":0},{"$f":"IF(Apoio!$K$11=0,0,IF('Dados Contratação'!$J$28=0,0,'Insumos - Brigadista'!$J$24))","v":0},{"$f":"IF(Apoio!$K$11=0,0,IF('Dados Contratação'!$J$29=0,0,'Insumos - Brigadista'!$J$24))","v":0},{"$f":"IF(Apoio!$K$11=0,0,IF('Dados Contratação'!$J$30=0,0,'Insumos - Brigadista'!$J$24))","v":0},{"$f":"IF(Apoio!$K$11=0,0,IF('Dados Contratação'!$J$31=0,0,'Insumos - Brigadista'!$J$24))","v":0},{"$f":"IF(Apoio!$K$11=0,0,IF('Dados Contratação'!$J$32=0,0,'Insumos - Brigadista'!$J$24))","v":0},{"$f":"IF(Apoio!$K$11=0,0,IF('Dados Contratação'!$J$33=0,0,'Insumos - Brigadista'!$J$24))","v":0},{"$f":"IF(Apoio!$K$11=0,0,IF('Dados Contratação'!$J$34=0,0,'Insumos - Brigadista'!$J$24))","v":0},{"$f":"IF(Apoio!$K$11=0,0,IF('Dados Contratação'!$J$35=0,0,'Insumos - Brigadista'!$J$24))","v":0},{"$f":"IF(Apoio!$K$11=0,0,IF('Dados Contratação'!$J$36=0,0,'Insumos - Brigadista'!$J$24))","v":0},{"$f":"IF(Apoio!$K$11=0,0,IF('Dados Contratação'!$J$37=0,0,'Insumos - Brigadista'!$J$24))","v":0},{"$f":"IF(Apoio!$K$11=0,0,IF('Dados Contratação'!$J$38=0,0,'Insumos - Brigadista'!$J$24))","v":0},{"$f":"IF(Apoio!$K$11=0,0,IF('Dados Contratação'!$J$39=0,0,'Insumos - Brigadista'!$J$24))","v":0},{"$f":"IF(Apoio!$K$11=0,0,IF('Dados Contratação'!$J$40=0,0,'Insumos - Brigadista'!$J$24))","v":0},0]
[null,null,null,"Equipamentos de Segurança de Brigadista",null,null,null,null,null,{"$f":"IF(Apoio!$K$11=0,0,IF('Dados Contratação'!$J$19=0,0,'Insumos - Brigadista'!$J$45))","v":0},{"$f":"IF(Apoio!$K$11=0,0,IF('Dados Contratação'!$J$20=0,0,'Insumos - Brigadista'!$J$45))","v":0},{"$f":"IF(Apoio!$K$11=0,0,IF('Dados Contratação'!$J$21=0,0,'Insumos - Brigadista'!$J$45))","v":0},{"$f":"IF(Apoio!$K$11=0,0,IF('Dados Contratação'!$J$22=0,0,'Insumos - Brigadista'!$J$45))","v":0},{"$f":"IF(Apoio!$K$11=0,0,IF('Dados Contratação'!$J$23=0,0,'Insumos - Brigadista'!$J$45))","v":0},{"$f":"IF(Apoio!$K$11=0,0,IF('Dados Contratação'!$J$24=0,0,'Insumos - Brigadista'!$J$45))","v":0},{"$f":"IF(Apoio!$K$11=0,0,IF('Dados Contratação'!$J$25=0,0,'Insumos - Brigadista'!$J$45))","v":0},{"$f":"IF(Apoio!$K$11=0,0,IF('Dados Contratação'!$J$26=0,0,'Insumos - Brigadista'!$J$45))","v":0},{"$f":"IF(Apoio!$K$11=0,0,IF('Dados Contratação'!$J$27=0,0,'Insumos - Brigadista'!$J$45))","v":0},{"$f":"IF(Apoio!$K$11=0,0,IF('Dados Contratação'!$J$28=0,0,'Insumos - Brigadista'!$J$45))","v":0},{"$f":"IF(Apoio!$K$11=0,0,IF('Dados Contratação'!$J$29=0,0,'Insumos - Brigadista'!$J$45))","v":0},{"$f":"IF(Apoio!$K$11=0,0,IF('Dados Contratação'!$J$30=0,0,'Insumos - Brigadista'!$J$45))","v":0},{"$f":"IF(Apoio!$K$11=0,0,IF('Dados Contratação'!$J$31=0,0,'Insumos - Brigadista'!$J$45))","v":0},{"$f":"IF(Apoio!$K$11=0,0,IF('Dados Contratação'!$J$32=0,0,'Insumos - Brigadista'!$J$45))","v":0},{"$f":"IF(Apoio!$K$11=0,0,IF('Dados Contratação'!$J$33=0,0,'Insumos - Brigadista'!$J$45))","v":0},{"$f":"IF(Apoio!$K$11=0,0,IF('Dados Contratação'!$J$34=0,0,'Insumos - Brigadista'!$J$45))","v":0},{"$f":"IF(Apoio!$K$11=0,0,IF('Dados Contratação'!$J$35=0,0,'Insumos - Brigadista'!$J$45))","v":0},{"$f":"IF(Apoio!$K$11=0,0,IF('Dados Contratação'!$J$36=0,0,'Insumos - Brigadista'!$J$45))","v":0},{"$f":"IF(Apoio!$K$11=0,0,IF('Dados Contratação'!$J$37=0,0,'Insumos - Brigadista'!$J$45))","v":0},{"$f":"IF(Apoio!$K$11=0,0,IF('Dados Contratação'!$J$38=0,0,'Insumos - Brigadista'!$J$45))","v":0},{"$f":"IF(Apoio!$K$11=0,0,IF('Dados Contratação'!$J$39=0,0,'Insumos - Brigadista'!$J$45))","v":0},{"$f":"IF(Apoio!$K$11=0,0,IF('Dados Contratação'!$J$40=0,0,'Insumos - Brigadista'!$J$45))","v":0},0]
[null,null,null,"Materiais de Arrombamento - Ferramentas",null,null,null,null,null,{"$f":"IF(Apoio!$K$11=0,0,IF('Dados Contratação'!$J$19=0,0,'Insumos - Brigadista'!$J$69))","v":0},{"$f":"IF(Apoio!$K$11=0,0,IF('Dados Contratação'!$J$20=0,0,'Insumos - Brigadista'!$J$69))","v":0},{"$f":"IF(Apoio!$K$11=0,0,IF('Dados Contratação'!$J$21=0,0,'Insumos - Brigadista'!$J$69))","v":0},{"$f":"IF(Apoio!$K$11=0,0,IF('Dados Contratação'!$J$22=0,0,'Insumos - Brigadista'!$J$69))","v":0},{"$f":"IF(Apoio!$K$11=0,0,IF('Dados Contratação'!$J$23=0,0,'Insumos - Brigadista'!$J$69))","v":0},{"$f":"IF(Apoio!$K$11=0,0,IF('Dados Contratação'!$J$24=0,0,'Insumos - Brigadista'!$J$69))","v":0},{"$f":"IF(Apoio!$K$11=0,0,IF('Dados Contratação'!$J$25=0,0,'Insumos - Brigadista'!$J$69))","v":0},{"$f":"IF(Apoio!$K$11=0,0,IF('Dados Contratação'!$J$26=0,0,'Insumos - Brigadista'!$J$69))","v":0},{"$f":"IF(Apoio!$K$11=0,0,IF('Dados Contratação'!$J$27=0,0,'Insumos - Brigadista'!$J$69))","v":0},{"$f":"IF(Apoio!$K$11=0,0,IF('Dados Contratação'!$J$28=0,0,'Insumos - Brigadista'!$J$69))","v":0},{"$f":"IF(Apoio!$K$11=0,0,IF('Dados Contratação'!$J$29=0,0,'Insumos - Brigadista'!$J$69))","v":0},{"$f":"IF(Apoio!$K$11=0,0,IF('Dados Contratação'!$J$30=0,0,'Insumos - Brigadista'!$J$69))","v":0},{"$f":"IF(Apoio!$K$11=0,0,IF('Dados Contratação'!$J$31=0,0,'Insumos - Brigadista'!$J$69))","v":0},{"$f":"IF(Apoio!$K$11=0,0,IF('Dados Contratação'!$J$32=0,0,'Insumos - Brigadista'!$J$69))","v":0},{"$f":"IF(Apoio!$K$11=0,0,IF('Dados Contratação'!$J$33=0,0,'Insumos - Brigadista'!$J$69))","v":0},{"$f":"IF(Apoio!$K$11=0,0,IF('Dados Contratação'!$J$34=0,0,'Insumos - Brigadista'!$J$69))","v":0},{"$f":"IF(Apoio!$K$11=0,0,IF('Dados Contratação'!$J$35=0,0,'Insumos - Brigadista'!$J$69))","v":0},{"$f":"IF(Apoio!$K$11=0,0,IF('Dados Contratação'!$J$36=0,0,'Insumos - Brigadista'!$J$69))","v":0},{"$f":"IF(Apoio!$K$11=0,0,IF('Dados Contratação'!$J$37=0,0,'Insumos - Brigadista'!$J$69))","v":0},{"$f":"IF(Apoio!$K$11=0,0,IF('Dados Contratação'!$J$38=0,0,'Insumos - Brigadista'!$J$69))","v":0},{"$f":"IF(Apoio!$K$11=0,0,IF('Dados Contratação'!$J$39=0,0,'Insumos - Brigadista'!$J$69))","v":0},{"$f":"IF(Apoio!$K$11=0,0,IF('Dados Contratação'!$J$40=0,0,'Insumos - Brigadista'!$J$69))","v":0},0]
[null,null,null,"Materiais de Comunicação",null,null,null,null,null,{"$f":"IF(Apoio!$K$11=0,0,IF('Dados Contratação'!$J$19=0,0,'Insumos - Brigadista'!$J$92))","v":0},{"$f":"IF(Apoio!$K$11=0,0,IF('Dados Contratação'!$J$20=0,0,'Insumos - Brigadista'!$J$92))","v":0},{"$f":"IF(Apoio!$K$11=0,0,IF('Dados Contratação'!$J$21=0,0,'Insumos - Brigadista'!$J$92))","v":0},{"$f":"IF(Apoio!$K$11=0,0,IF('Dados Contratação'!$J$22=0,0,'Insumos - Brigadista'!$J$92))","v":0},{"$f":"IF(Apoio!$K$11=0,0,IF('Dados Contratação'!$J$23=0,0,'Insumos - Brigadista'!$J$92))","v":0},{"$f":"IF(Apoio!$K$11=0,0,IF('Dados Contratação'!$J$24=0,0,'Insumos - Brigadista'!$J$92))","v":0},{"$f":"IF(Apoio!$K$11=0,0,IF('Dados Contratação'!$J$25=0,0,'Insumos - Brigadista'!$J$92))","v":0},{"$f":"IF(Apoio!$K$11=0,0,IF('Dados Contratação'!$J$26=0,0,'Insumos - Brigadista'!$J$92))","v":0},{"$f":"IF(Apoio!$K$11=0,0,IF('Dados Contratação'!$J$27=0,0,'Insumos - Brigadista'!$J$92))","v":0},{"$f":"IF(Apoio!$K$11=0,0,IF('Dados Contratação'!$J$28=0,0,'Insumos - Brigadista'!$J$92))","v":0},{"$f":"IF(Apoio!$K$11=0,0,IF('Dados Contratação'!$J$29=0,0,'Insumos - Brigadista'!$J$92))","v":0},{"$f":"IF(Apoio!$K$11=0,0,IF('Dados Contratação'!$J$30=0,0,'Insumos - Brigadista'!$J$92))","v":0},{"$f":"IF(Apoio!$K$11=0,0,IF('Dados Contratação'!$J$31=0,0,'Insumos - Brigadista'!$J$92))","v":0},{"$f":"IF(Apoio!$K$11=0,0,IF('Dados Contratação'!$J$32=0,0,'Insumos - Brigadista'!$J$92))","v":0},{"$f":"IF(Apoio!$K$11=0,0,IF('Dados Contratação'!$J$33=0,0,'Insumos - Brigadista'!$J$92))","v":0},{"$f":"IF(Apoio!$K$11=0,0,IF('Dados Contratação'!$J$34=0,0,'Insumos - Brigadista'!$J$92))","v":0},{"$f":"IF(Apoio!$K$11=0,0,IF('Dados Contratação'!$J$35=0,0,'Insumos - Brigadista'!$J$92))","v":0},{"$f":"IF(Apoio!$K$11=0,0,IF('Dados Contratação'!$J$36=0,0,'Insumos - Brigadista'!$J$92))","v":0},{"$f":"IF(Apoio!$K$11=0,0,IF('Dados Contratação'!$J$37=0,0,'Insumos - Brigadista'!$J$92))","v":0},{"$f":"IF(Apoio!$K$11=0,0,IF('Dados Contratação'!$J$38=0,0,'Insumos - Brigadista'!$J$92))","v":0},{"$f":"IF(Apoio!$K$11=0,0,IF('Dados Contratação'!$J$39=0,0,'Insumos - Brigadista'!$J$92))","v":0},{"$f":"IF(Apoio!$K$11=0,0,IF('Dados Contratação'!$J$40=0,0,'Insumos - Brigadista'!$J$92))","v":0},0]
[null,null,null,"Materiais de Escritório",null,null,null,null,null,{"$f":"IF(Apoio!$K$11=0,0,IF('Dados Contratação'!$J$19=0,0,'Insumos - Brigadista'!$J$129))","v":0},{"$f":"IF(Apoio!$K$11=0,0,IF('Dados Contratação'!$J$20=0,0,'Insumos - Brigadista'!$J$129))","v":0},{"$f":"IF(Apoio!$K$11=0,0,IF('Dados Contratação'!$J$21=0,0,'Insumos - Brigadista'!$J$129))","v":0},{"$f":"IF(Apoio!$K$11=0,0,IF('Dados Contratação'!$J$22=0,0,'Insumos - Brigadista'!$J$129))","v":0},{"$f":"IF(Apoio!$K$11=0,0,IF('Dados Contratação'!$J$23=0,0,'Insumos - Brigadista'!$J$129))","v":0},{"$f":"IF(Apoio!$K$11=0,0,IF('Dados Contratação'!$J$24=0,0,'Insumos - Brigadista'!$J$129))","v":0},{"$f":"IF(Apoio!$K$11=0,0,IF('Dados Contratação'!$J$25=0,0,'Insumos - Brigadista'!$J$129))","v":0},{"$f":"IF(Apoio!$K$11=0,0,IF('Dados Contratação'!$J$26=0,0,'Insumos - Brigadista'!$J$129))","v":0},{"$f":"IF(Apoio!$K$11=0,0,IF('Dados Contratação'!$J$27=0,0,'Insumos - Brigadista'!$J$129))","v":0},{"$f":"IF(Apoio!$K$11=0,0,IF('Dados Contratação'!$J$28=0,0,'Insumos - Brigadista'!$J$129))","v":0},{"$f":"IF(Apoio!$K$11=0,0,IF('Dados Contratação'!$J$29=0,0,'Insumos - Brigadista'!$J$129))","v":0},{"$f":"IF(Apoio!$K$11=0,0,IF('Dados Contratação'!$J$30=0,0,'Insumos - Brigadista'!$J$129))","v":0},{"$f":"IF(Apoio!$K$11=0,0,IF('Dados Contratação'!$J$31=0,0,'Insumos - Brigadista'!$J$129))","v":0},{"$f":"IF(Apoio!$K$11=0,0,IF('Dados Contratação'!$J$32=0,0,'Insumos - Brigadista'!$J$129))","v":0},{"$f":"IF(Apoio!$K$11=0,0,IF('Dados Contratação'!$J$33=0,0,'Insumos - Brigadista'!$J$129))","v":0},{"$f":"IF(Apoio!$K$11=0,0,IF('Dados Contratação'!$J$34=0,0,'Insumos - Brigadista'!$J$129))","v":0},{"$f":"IF(Apoio!$K$11=0,0,IF('Dados Contratação'!$J$35=0,0,'Insumos - Brigadista'!$J$129))","v":0},{"$f":"IF(Apoio!$K$11=0,0,IF('Dados Contratação'!$J$36=0,0,'Insumos - Brigadista'!$J$129))","v":0},{"$f":"IF(Apoio!$K$11=0,0,IF('Dados Contratação'!$J$37=0,0,'Insumos - Brigadista'!$J$129))","v":0},{"$f":"IF(Apoio!$K$11=0,0,IF('Dados Contratação'!$J$38=0,0,'Insumos - Brigadista'!$J$129))","v":0},{"$f":"IF(Apoio!$K$11=0,0,IF('Dados Contratação'!$J$39=0,0,'Insumos - Brigadista'!$J$129))","v":0},{"$f":"IF(Apoio!$K$11=0,0,IF('Dados Contratação'!$J$40=0,0,'Insumos - Brigadista'!$J$129))","v":0},0]
[null,null,null,"Materiais de Primeiros Socorros",null,null,null,null,null,{"$f":"IF(Apoio!$K$11=0,0,IF('Dados Contratação'!$J$19=0,0,'Insumos - Brigadista'!$J$169))","v":0},{"$f":"IF(Apoio!$K$11=0,0,IF('Dados Contratação'!$J$20=0,0,'Insumos - Brigadista'!$J$169))","v":0},{"$f":"IF(Apoio!$K$11=0,0,IF('Dados Contratação'!$J$21=0,0,'Insumos - Brigadista'!$J$169))","v":0},{"$f":"IF(Apoio!$K$11=0,0,IF('Dados Contratação'!$J$22=0,0,'Insumos - Brigadista'!$J$169))","v":0},{"$f":"IF(Apoio!$K$11=0,0,IF('Dados Contratação'!$J$23=0,0,'Insumos - Brigadista'!$J$169))","v":0},{"$f":"IF(Apoio!$K$11=0,0,IF('Dados Contratação'!$J$24=0,0,'Insumos - Brigadista'!$J$169))","v":0},{"$f":"IF(Apoio!$K$11=0,0,IF('Dados Contratação'!$J$25=0,0,'Insumos - Brigadista'!$J$169))","v":0},{"$f":"IF(Apoio!$K$11=0,0,IF('Dados Contratação'!$J$26=0,0,'Insumos - Brigadista'!$J$169))","v":0},{"$f":"IF(Apoio!$K$11=0,0,IF('Dados Contratação'!$J$27=0,0,'Insumos - Brigadista'!$J$169))","v":0},{"$f":"IF(Apoio!$K$11=0,0,IF('Dados Contratação'!$J$28=0,0,'Insumos - Brigadista'!$J$169))","v":0},{"$f":"IF(Apoio!$K$11=0,0,IF('Dados Contratação'!$J$29=0,0,'Insumos - Brigadista'!$J$169))","v":0},{"$f":"IF(Apoio!$K$11=0,0,IF('Dados Contratação'!$J$30=0,0,'Insumos - Brigadista'!$J$169))","v":0},{"$f":"IF(Apoio!$K$11=0,0,IF('Dados Contratação'!$J$31=0,0,'Insumos - Brigadista'!$J$169))","v":0},{"$f":"IF(Apoio!$K$11=0,0,IF('Dados Contratação'!$J$32=0,0,'Insumos - Brigadista'!$J$169))","v":0},{"$f":"IF(Apoio!$K$11=0,0,IF('Dados Contratação'!$J$33=0,0,'Insumos - Brigadista'!$J$169))","v":0},{"$f":"IF(Apoio!$K$11=0,0,IF('Dados Contratação'!$J$34=0,0,'Insumos - Brigadista'!$J$169))","v":0},{"$f":"IF(Apoio!$K$11=0,0,IF('Dados Contratação'!$J$35=0,0,'Insumos - Brigadista'!$J$169))","v":0},{"$f":"IF(Apoio!$K$11=0,0,IF('Dados Contratação'!$J$36=0,0,'Insumos - Brigadista'!$J$169))","v":0},{"$f":"IF(Apoio!$K$11=0,0,IF('Dados Contratação'!$J$37=0,0,'Insumos - Brigadista'!$J$169))","v":0},{"$f":"IF(Apoio!$K$11=0,0,IF('Dados Contratação'!$J$38=0,0,'Insumos - Brigadista'!$J$169))","v":0},{"$f":"IF(Apoio!$K$11=0,0,IF('Dados Contratação'!$J$39=0,0,'Insumos - Brigadista'!$J$169))","v":0},{"$f":"IF(Apoio!$K$11=0,0,IF('Dados Contratação'!$J$40=0,0,'Insumos - Brigadista'!$J$169))","v":0},0]
[null,null,null,"Outros (Especificar)",null,{"$f":"IF(Encarregado!$F$119=\"\",\" \",Encarregado!$F$119)","v":" "},null,null,null,{"$f":"IF(Apoio!$K$11=0,0,IF('Dados Contratação'!$J$19=0,0,Encarregado!$K$119))","v":0},{"$f":"IF(Apoio!$K$11=0,0,IF('Dados Contratação'!$J$20=0,0,Encarregado!$K$119))","v":0},{"$f":"IF(Apoio!$K$11=0,0,IF('Dados Contratação'!$J$21=0,0,Profissional!$K$119))","v":0},{"$f":"IF(Apoio!$K$11=0,0,IF('Dados Contratação'!$J$22=0,0,Profissional!$K$119))","v":0},{"$f":"IF(Apoio!$K$11=0,0,IF('Dados Contratação'!$J$23=0,0,Profissional!$K$119))","v":0},{"$f":"IF(Apoio!$K$11=0,0,IF('Dados Contratação'!$J$24=0,0,Profissional!$K$119))","v":0},{"$f":"IF(Apoio!$K$11=0,0,IF('Dados Contratação'!$J$25=0,0,Profissional!$K$119))","v":0},{"$f":"IF(Apoio!$K$11=0,0,IF('Dados Contratação'!$J$26=0,0,Profissional!$K$119))","v":0},{"$f":"IF(Apoio!$K$11=0,0,IF('Dados Contratação'!$J$27=0,0,Profissional!$K$119))","v":0},{"$f":"IF(Apoio!$K$11=0,0,IF('Dados Contratação'!$J$28=0,0,Profissional!$K$119))","v":0},{"$f":"IF(Apoio!$K$11=0,0,IF('Dados Contratação'!$J$29=0,0,Profissional!$K$119))","v":0},{"$f":"IF(Apoio!$K$11=0,0,IF('Dados Contratação'!$J$30=0,0,Profissional!$K$119))","v":0},{"$f":"IF(Apoio!$K$11=0,0,IF('Dados Contratação'!$J$31=0,0,Profissional!$K$119))","v":0},{"$f":"IF(Apoio!$K$11=0,0,IF('Dados Contratação'!$J$32=0,0,Profissional!$K$119))","v":0},{"$f":"IF(Apoio!$K$11=0,0,IF('Dados Contratação'!$J$33=0,0,Profissional!$K$119))","v":0},{"$f":"IF(Apoio!$K$11=0,0,IF('Dados Contratação'!$J$34=0,0,Profissional!$K$119))","v":0},{"$f":"IF(Apoio!$K$11=0,0,IF('Dados Contratação'!$J$35=0,0,Profissional!$K$119))","v":0},{"$f":"IF(Apoio!$K$11=0,0,IF('Dados Contratação'!$J$36=0,0,Profissional!$K$119))","v":0},{"$f":"IF(Apoio!$K$11=0,0,IF('Dados Contratação'!$J$37=0,0,Profissional!$K$119))","v":0},{"$f":"IF(Apoio!$K$11=0,0,IF('Dados Contratação'!$J$38=0,0,Profissional!$K$119))","v":0},{"$f":"IF(Apoio!$K$11=0,0,IF('Dados Contratação'!$J$39=0,0,Profissional!$K$119))","v":0},{"$f":"IF(Apoio!$K$11=0,0,IF('Dados Contratação'!$J$40=0,0,Profissional!$K$119))","v":0},0]
[null,null,null,"Total de Insumos - Brigadista",null,null,null,null,null,{"$f":"SUM(J110:J116)","v":0},{"$f":"SUM(K110:K116)","v":0},0,0,0,0,0,0,0,0,0,0,0,0,0,0,0,0,0,0,0,0,{"$f":"SUM(AF110:AF116)","v":0}]
[]
[null,null,null,"INSUMOS - MOTORISTA"]
[null,null,null,null,null,null,null,null,null,"Valor","Valor","Valor","Valor","Valor","Valor","Valor","Valor","Valor","Valor","Valor","Valor","Valor","Valor","Valor","Valor","Valor","Valor","Valor","Valor","Valor","Valor","Valor"]
[null,null,null,"Materiais de Escritório",null,null,null,null,null,{"$f":"IF(Apoio!$K$11=0,0,IF('Dados Contratação'!$J$19=0,0,'Insumos - Motorista'!$J21))","v":0},{"$f":"IF(Apoio!$K$11=0,0,IF('Dados Contratação'!$J$20=0,0,'Insumos - Motorista'!$J21))","v":0},{"$f":"IF(Apoio!$K$11=0,0,IF('Dados Contratação'!$J$21=0,0,'Insumos - Motorista'!$J21))","v":0},{"$f":"IF(Apoio!$K$11=0,0,IF('Dados Contratação'!$J$22=0,0,'Insumos - Motorista'!$J21))","v":0},{"$f":"IF(Apoio!$K$11=0,0,IF('Dados Contratação'!$J$23=0,0,'Insumos - Motorista'!$J21))","v":0},{"$f":"IF(Apoio!$K$11=0,0,IF('Dados Contratação'!$J$24=0,0,'Insumos - Motorista'!$J21))","v":0},{"$f":"IF(Apoio!$K$11=0,0,IF('Dados Contratação'!$J$25=0,0,'Insumos - Motorista'!$J21))","v":0},{"$f":"IF(Apoio!$K$11=0,0,IF('Dados Contratação'!$J$26=0,0,'Insumos - Motorista'!$J21))","v":0},{"$f":"IF(Apoio!$K$11=0,0,IF('Dados Contratação'!$J$27=0,0,'Insumos - Motorista'!$J21))","v":0},{"$f":"IF(Apoio!$K$11=0,0,IF('Dados Contratação'!$J$28=0,0,'Insumos - Motorista'!$J21))","v":0},{"$f":"IF(Apoio!$K$11=0,0,IF('Dados Contratação'!$J$29=0,0,'Insumos - Motorista'!$J21))","v":0},{"$f":"IF(Apoio!$K$11=0,0,IF('Dados Contratação'!$J$30=0,0,'Insumos - Motorista'!$J21))","v":0},{"$f":"IF(Apoio!$K$11=0,0,IF('Dados Contratação'!$J$31=0,0,'Insumos - Motorista'!$J21))","v":0},{"$f":"IF(Apoio!$K$11=0,0,IF('Dados Contratação'!$J$32=0,0,'Insumos - Motorista'!$J21))","v":0},{"$f":"IF(Apoio!$K$11=0,0,IF('Dados Contratação'!$J$33=0,0,'Insumos - Motorista'!$J21))","v":0},{"$f":"IF(Apoio!$K$11=0,0,IF('Dados Contratação'!$J$34=0,0,'Insumos - Motorista'!$J21))","v":0},{"$f":"IF(Apoio!$K$11=0,0,IF('Dados Contratação'!$J$35=0,0,'Insumos - Motorista'!$J21))","v":0},{"$f":"IF(Apoio!$K$11=0,0,IF('Dados Contratação'!$J$36=0,0,'Insumos - Motorista'!$J21))","v":0},{"$f":"IF(Apoio!$K$11=0,0,IF('Dados Contratação'!$J$37=0,0,'Insumos - Motorista'!$J21))","v":0},{"$f":"IF(Apoio!$K$11=0,0,IF('Dados Contratação'!$J$38=0,0,'Insumos - Motorista'!$J21))","v":0},{"$f":"IF(Apoio!$K$11=0,0,IF('Dados Contratação'!$J$39=0,0,'Insumos - Motorista'!$J21))","v":0},{"$f":"IF(Apoio!$K$11=0,0,IF('Dados Contratação'!$J$40=0,0,'Insumos - Motorista'!$J21))","v":0},{"$f":"SUM(J121:AE121)","v":0}]
[null,null,null,"Material de Comunicação",null,null,null,null,null,{"$f":"IF(Apoio!$K$11=0,0,IF('Dados Contratação'!$J$19=0,0,'Insumos - Motorista'!$J35))","v":0},{"$f":"IF(Apoio!$K$11=0,0,IF('Dados Contratação'!$J$20=0,0,'Insumos - Motorista'!$J35))","v":0},{"$f":"IF(Apoio!$K$11=0,0,IF('Dados Contratação'!$J$21=0,0,'Insumos - Motorista'!$J35))","v":0},{"$f":"IF(Apoio!$K$11=0,0,IF('Dados Contratação'!$J$22=0,0,'Insumos - Motorista'!$J35))","v":0},{"$f":"IF(Apoio!$K$11=0,0,IF('Dados Contratação'!$J$23=0,0,'Insumos - Motorista'!$J35))","v":0},{"$f":"IF(Apoio!$K$11=0,0,IF('Dados Contratação'!$J$24=0,0,'Insumos - Motorista'!$J35))","v":0},{"$f":"IF(Apoio!$K$11=0,0,IF('Dados Contratação'!$J$25=0,0,'Insumos - Motorista'!$J35))","v":0},{"$f":"IF(Apoio!$K$11=0,0,IF('Dados Contratação'!$J$26=0,0,'Insumos - Motorista'!$J35))","v":0},{"$f":"IF(Apoio!$K$11=0,0,IF('Dados Contratação'!$J$27=0,0,'Insumos - Motorista'!$J35))","v":0},{"$f":"IF(Apoio!$K$11=0,0,IF('Dados Contratação'!$J$28=0,0,'Insumos - Motorista'!$J35))","v":0},{"$f":"IF(Apoio!$K$11=0,0,IF('Dados Contratação'!$J$29=0,0,'Insumos - Motorista'!$J35))","v":0},{"$f":"IF(Apoio!$K$11=0,0,IF('Dados Contratação'!$J$30=0,0,'Insumos - Motorista'!$J35))","v":0},{"$f":"IF(Apoio!$K$11=0,0,IF('Dados Contratação'!$J$31=0,0,'Insumos - Motorista'!$J35))","v":0},{"$f":"IF(Apoio!$K$11=0,0,IF('Dados Contratação'!$J$32=0,0,'Insumos - Motorista'!$J35))","v":0},{"$f":"IF(Apoio!$K$11=0,0,IF('Dados Contratação'!$J$33=0,0,'Insumos - Motorista'!$J35))","v":0},{"$f":"IF(Apoio!$K$11=0,0,IF('Dados Contratação'!$J$34=0,0,'Insumos - Motorista'!$J35))","v":0},{"$f":"IF(Apoio!$K$11=0,0,IF('Dados Contratação'!$J$35=0,0,'Insumos - Motorista'!$J35))","v":0},{"$f":"IF(Apoio!$K$11=0,0,IF('Dados Contratação'!$J$36=0,0,'Insumos - Motorista'!$J35))","v":0},{"$f":"IF(Apoio!$K$11=0,0,IF('Dados Contratação'!$J$37=0,0,'Insumos - Motorista'!$J35))","v":0},{"$f":"IF(Apoio!$K$11=0,0,IF('Dados Contratação'!$J$38=0,0,'Insumos - Motorista'!$J35))","v":0},{"$f":"IF(Apoio!$K$11=0,0,IF('Dados Contratação'!$J$39=0,0,'Insumos - Motorista'!$J35))","v":0},{"$f":"IF(Apoio!$K$11=0,0,IF('Dados Contratação'!$J$40=0,0,'Insumos - Motorista'!$J35))","v":0},0]
[null,null,null,"Outros (Especificar)",null,{"$f":"IF(Encarregado!$F$119=\"\",\" \",Encarregado!$F$119)","v":" "},null,null,null,{"$f":"IF(Apoio!$K$11=0,0,IF('Dados Contratação'!$J$19=0,0,Encarregado!$K$119))","v":0},{"$f":"IF(Apoio!$K$11=0,0,IF('Dados Contratação'!$J$20=0,0,Encarregado!$K$119))","v":0},{"$f":"IF(Apoio!$K$11=0,0,IF('Dados Contratação'!$J$21=0,0,Profissional!$K$119))","v":0},{"$f":"IF(Apoio!$K$11=0,0,IF('Dados Contratação'!$J$22=0,0,Profissional!$K$119))","v":0},{"$f":"IF(Apoio!$K$11=0,0,IF('Dados Contratação'!$J$23=0,0,Profissional!$K$119))","v":0},{"$f":"IF(Apoio!$K$11=0,0,IF('Dados Contratação'!$J$24=0,0,Profissional!$K$119))","v":0},{"$f":"IF(Apoio!$K$11=0,0,IF('Dados Contratação'!$J$25=0,0,Profissional!$K$119))","v":0},{"$f":"IF(Apoio!$K$11=0,0,IF('Dados Contratação'!$J$26=0,0,Profissional!$K$119))","v":0},{"$f":"IF(Apoio!$K$11=0,0,IF('Dados Contratação'!$J$27=0,0,Profissional!$K$119))","v":0},{"$f":"IF(Apoio!$K$11=0,0,IF('Dados Contratação'!$J$28=0,0,Profissional!$K$119))","v":0},{"$f":"IF(Apoio!$K$11=0,0,IF('Dados Contratação'!$J$29=0,0,Profissional!$K$119))","v":0},{"$f":"IF(Apoio!$K$11=0,0,IF('Dados Contratação'!$J$30=0,0,Profissional!$K$119))","v":0},{"$f":"IF(Apoio!$K$11=0,0,IF('Dados Contratação'!$J$31=0,0,Profissional!$K$119))","v":0},{"$f":"IF(Apoio!$K$11=0,0,IF('Dados Contratação'!$J$32=0,0,Profissional!$K$119))","v":0},{"$f":"IF(Apoio!$K$11=0,0,IF('Dados Contratação'!$J$33=0,0,Profissional!$K$119))","v":0},{"$f":"IF(Apoio!$K$11=0,0,IF('Dados Contratação'!$J$34=0,0,Profissional!$K$119))","v":0},{"$f":"IF(Apoio!$K$11=0,0,IF('Dados Contratação'!$J$35=0,0,Profissional!$K$119))","v":0},{"$f":"IF(Apoio!$K$11=0,0,IF('Dados Contratação'!$J$36=0,0,Profissional!$K$119))","v":0},{"$f":"IF(Apoio!$K$11=0,0,IF('Dados Contratação'!$J$37=0,0,Profissional!$K$119))","v":0},{"$f":"IF(Apoio!$K$11=0,0,IF('Dados Contratação'!$J$38=0,0,Profissional!$K$119))","v":0},{"$f":"IF(Apoio!$K$11=0,0,IF('Dados Contratação'!$J$39=0,0,Profissional!$K$119))","v":0},{"$f":"IF(Apoio!$K$11=0,0,IF('Dados Contratação'!$J$40=0,0,Profissional!$K$119))","v":0},0]
[null,null,null,"Total de Insumos - Motorista",null,null,null,null,null,{"$f":"SUM(J121:J123)","v":0},{"$f":"SUM(K121:K123)","v":0},0,0,0,0,0,0,0,0,0,0,0,0,0,0,0,0,0,0,0,0,{"$f":"SUM(AF121:AF123)","v":0}]
[]
[null,null,null,"INSUMOS - MANUTENÇÃO"]
[null,null,null,null,null,null,null,null,null,"Valor","Valor","Valor","Valor","Valor","Valor","Valor","Valor","Valor","Valor","Valor","Valor","Valor","Valor","Valor","Valor","Valor","Valor","Valor","Valor","Valor","Valor","Valor"]
[null,null,null,"Equipamentos de Proteção Individual (EPI's)",null,null,null,null,null,{"$f":"IF(Apoio!$K$11=0,0,IF('Dados Contratação'!$J$19=0,0,'Insumos - Manutenção'!$J34))","v":0},{"$f":"IF(Apoio!$K$11=0,0,IF('Dados Contratação'!$J$20=0,0,'Insumos - Manutenção'!$J34))","v":0},{"$f":"IF(Apoio!$K$11=0,0,IF('Dados Contratação'!$J$21=0,0,'Insumos - Manutenção'!$J34))","v":0},{"$f":"IF(Apoio!$K$11=0,0,IF('Dados Contratação'!$J$22=0,0,'Insumos - Manutenção'!$J34))","v":0},{"$f":"IF(Apoio!$K$11=0,0,IF('Dados Contratação'!$J$23=0,0,'Insumos - Manutenção'!$J34))","v":0},{"$f":"IF(Apoio!$K$11=0,0,IF('Dados Contratação'!$J$24=0,0,'Insumos - Manutenção'!$J34))","v":0},{"$f":"IF(Apoio!$K$11=0,0,IF('Dados Contratação'!$J$25=0,0,'Insumos - Manutenção'!$J34))","v":0},{"$f":"IF(Apoio!$K$11=0,0,IF('Dados Contratação'!$J$26=0,0,'Insumos - Manutenção'!$J34))","v":0},{"$f":"IF(Apoio!$K$11=0,0,IF('Dados Contratação'!$J$27=0,0,'Insumos - Manutenção'!$J34))","v":0},{"$f":"IF(Apoio!$K$11=0,0,IF('Dados Contratação'!$J$28=0,0,'Insumos - Manutenção'!$J34))","v":0},{"$f":"IF(Apoio!$K$11=0,0,IF('Dados Contratação'!$J$29=0,0,'Insumos - Manutenção'!$J34))","v":0},{"$f":"IF(Apoio!$K$11=0,0,IF('Dados Contratação'!$J$30=0,0,'Insumos - Manutenção'!$J34))","v":0},{"$f":"IF(Apoio!$K$11=0,0,IF('Dados Contratação'!$J$31=0,0,'Insumos - Manutenção'!$J34))","v":0},{"$f":"IF(Apoio!$K$11=0,0,IF('Dados Contratação'!$J$32=0,0,'Insumos - Manutenção'!$J34))","v":0},{"$f":"IF(Apoio!$K$11=0,0,IF('Dados Contratação'!$J$33=0,0,'Insumos - Manutenção'!$J34))","v":0},{"$f":"IF(Apoio!$K$11=0,0,IF('Dados Contratação'!$J$34=0,0,'Insumos - Manutenção'!$J34))","v":0},{"$f":"IF(Apoio!$K$11=0,0,IF('Dados Contratação'!$J$35=0,0,'Insumos - Manutenção'!$J34))","v":0},{"$f":"IF(Apoio!$K$11=0,0,IF('Dados Contratação'!$J$36=0,0,'Insumos - Manutenção'!$J34))","v":0},{"$f":"IF(Apoio!$K$11=0,0,IF('Dados Contratação'!$J$37=0,0,'Insumos - Manutenção'!$J34))","v":0},{"$f":"IF(Apoio!$K$11=0,0,IF('Dados Contratação'!$J$38=0,0,'Insumos - Manutenção'!$J34))","v":0},{"$f":"IF(Apoio!$K$11=0,0,IF('Dados Contratação'!$J$39=0,0,'Insumos - Manutenção'!$J34))","v":0},{"$f":"IF(Apoio!$K$11=0,0,IF('Dados Contratação'!$J$40=0,0,'Insumos - Manutenção'!$J34))","v":0},{"$f":"SUM(J128:AE128)","v":0}]
[null,null,null,"Ferramentas de Telecomunicação",null,null,null,null,null,{"$f":"IF(Apoio!$K$11=0,0,IF('Dados Contratação'!$J$19=0,0,'Insumos - Manutenção'!$J72))","v":0},{"$f":"IF(Apoio!$K$11=0,0,IF('Dados Contratação'!$J$20=0,0,'Insumos - Manutenção'!$J72))","v":0},{"$f":"IF(Apoio!$K$11=0,0,IF('Dados Contratação'!$J$21=0,0,'Insumos - Manutenção'!$J72))","v":0},{"$f":"IF(Apoio!$K$11=0,0,IF('Dados Contratação'!$J$22=0,0,'Insumos - Manutenção'!$J72))","v":0},{"$f":"IF(Apoio!$K$11=0,0,IF('Dados Contratação'!$J$23=0,0,'Insumos - Manutenção'!$J72))","v":0},{"$f":"IF(Apoio!$K$11=0,0,IF('Dados Contratação'!$J$24=0,0,'Insumos - Manutenção'!$J72))","v":0},{"$f":"IF(Apoio!$K$11=0,0,IF('Dados Contratação'!$J$25=0,0,'Insumos - Manutenção'!$J72))","v":0},{"$f":"IF(Apoio!$K$11=0,0,IF('Dados Contratação'!$J$26=0,0,'Insumos - Manutenção'!$J72))","v":0},{"$f":"IF(Apoio!$K$11=0,0,IF('Dados Contratação'!$J$27=0,0,'Insumos - Manutenção'!$J72))","v":0},{"$f":"IF(Apoio!$K$11=0,0,IF('Dados Contratação'!$J$28=0,0,'Insumos - Manutenção'!$J72))","v":0},{"$f":"IF(Apoio!$K$11=0,0,IF('Dados Contratação'!$J$29=0,0,'Insumos - Manutenção'!$J72))","v":0},{"$f":"IF(Apoio!$K$11=0,0,IF('Dados Contratação'!$J$30=0,0,'Insumos - Manutenção'!$J72))","v":0},{"$f":"IF(Apoio!$K$11=0,0,IF('Dados Contratação'!$J$31=0,0,'Insumos - Manutenção'!$J72))","v":0},{"$f":"IF(Apoio!$K$11=0,0,IF('Dados Contratação'!$J$32=0,0,'Insumos - Manutenção'!$J72))","v":0},{"$f":"IF(Apoio!$K$11=0,0,IF('Dados Contratação'!$J$33=0,0,'Insumos - Manutenção'!$J72))","v":0},{"$f":"IF(Apoio!$K$11=0,0,IF('Dados Contratação'!$J$34=0,0,'Insumos - Manutenção'!$J72))","v":0},{"$f":"IF(Apoio!$K$11=0,0,IF('Dados Contratação'!$J$35=0,0,'Insumos - Manutenção'!$J72))","v":0},{"$f":"IF(Apoio!$K$11=0,0,IF('Dados Contratação'!$J$36=0,0,'Insumos - Manutenção'!$J72))","v":0},{"$f":"IF(Apoio!$K$11=0,0,IF('Dados Contratação'!$J$37=0,0,'Insumos - Manutenção'!$J72))","v":0},{"$f":"IF(Apoio!$K$11=0,0,IF('Dados Contratação'!$J$38=0,0,'Insumos - Manutenção'!$J72))","v":0},{"$f":"IF(Apoio!$K$11=0,0,IF('Dados Contratação'!$J$39=0,0,'Insumos - Manutenção'!$J72))","v":0},{"$f":"IF(Apoio!$K$11=0,0,IF('Dados Contratação'!$J$40=0,0,'Insumos - Manutenção'!$J72))","v":0},0]
[null,null,null,"Outros (Especificar)",null,{"$f":"IF(Encarregado!$F$119=\"\",\" \",Encarregado!$F$119)","v":" "},null,null,null,{"$f":"IF(Apoio!$K$11=0,0,IF('Dados Contratação'!$J$19=0,0,Encarregado!$K$119))","v":0},{"$f":"IF(Apoio!$K$11=0,0,IF('Dados Contratação'!$J$20=0,0,Encarregado!$K$119))","v":0},{"$f":"IF(Apoio!$K$11=0,0,IF('Dados Contratação'!$J$21=0,0,Profissional!$K$119))","v":0},{"$f":"IF(Apoio!$K$11=0,0,IF('Dados Contratação'!$J$22=0,0,Profissional!$K$119))","v":0},{"$f":"IF(Apoio!$K$11=0,0,IF('Dados Contratação'!$J$23=0,0,Profissional!$K$119))","v":0},{"$f":"IF(Apoio!$K$11=0,0,IF('Dados Contratação'!$J$24=0,0,Profissional!$K$119))","v":0},{"$f":"IF(Apoio!$K$11=0,0,IF('Dados Contratação'!$J$25=0,0,Profissional!$K$119))","v":0},{"$f":"IF(Apoio!$K$11=0,0,IF('Dados Contratação'!$J$26=0,0,Profissional!$K$119))","v":0},{"$f":"IF(Apoio!$K$11=0,0,IF('Dados Contratação'!$J$27=0,0,Profissional!$K$119))","v":0},{"$f":"IF(Apoio!$K$11=0,0,IF('Dados Contratação'!$J$28=0,0,Profissional!$K$119))","v":0},{"$f":"IF(Apoio!$K$11=0,0,IF('Dados Contratação'!$J$29=0,0,Profissional!$K$119))","v":0},{"$f":"IF(Apoio!$K$11=0,0,IF('Dados Contratação'!$J$30=0,0,Profissional!$K$119))","v":0},{"$f":"IF(Apoio!$K$11=0,0,IF('Dados Contratação'!$J$31=0,0,Profissional!$K$119))","v":0},{"$f":"IF(Apoio!$K$11=0,0,IF('Dados Contratação'!$J$32=0,0,Profissional!$K$119))","v":0},{"$f":"IF(Apoio!$K$11=0,0,IF('Dados Contratação'!$J$33=0,0,Profissional!$K$119))","v":0},{"$f":"IF(Apoio!$K$11=0,0,IF('Dados Contratação'!$J$34=0,0,Profissional!$K$119))","v":0},{"$f":"IF(Apoio!$K$11=0,0,IF('Dados Contratação'!$J$35=0,0,Profissional!$K$119))","v":0},{"$f":"IF(Apoio!$K$11=0,0,IF('Dados Contratação'!$J$36=0,0,Profissional!$K$119))","v":0},{"$f":"IF(Apoio!$K$11=0,0,IF('Dados Contratação'!$J$37=0,0,Profissional!$K$119))","v":0},{"$f":"IF(Apoio!$K$11=0,0,IF('Dados Contratação'!$J$38=0,0,Profissional!$K$119))","v":0},{"$f":"IF(Apoio!$K$11=0,0,IF('Dados Contratação'!$J$39=0,0,Profissional!$K$119))","v":0},{"$f":"IF(Apoio!$K$11=0,0,IF('Dados Contratação'!$J$40=0,0,Profissional!$K$119))","v":0},0]
[null,null,null,"Total de Insumos - Manutenção",null,null,null,null,null,{"$f":"SUM(J128:J130)","v":0},{"$f":"SUM(K128:K130)","v":0},0,0,0,0,0,0,0,0,0,0,0,0,0,0,0,0,0,0,0,0,{"$f":"SUM(AF124:AF130)","v":0}]
[]
[null,null,null,"INSUMOS - LIMPEZA"]
[null,null,null,null,null,null,null,null,null,"Valor","Valor","Valor","Valor","Valor","Valor","Valor","Valor","Valor","Valor","Valor","Valor","Valor","Valor","Valor","Valor","Valor","Valor","Valor","Valor","Valor","Valor","Valor"]
[null,null,null,"Máquinas e Equipamentos",null,null,null,null,null,{"$f":"IF(Apoio!$K$11=0,0,IF('Dados Contratação'!$J$19=0,0,'Insumos - Limpeza'!$L33))","v":0},{"$f":"IF(Apoio!$K$11=0,0,IF('Dados Contratação'!$J$20=0,0,'Insumos - Limpeza'!$L33))","v":0},{"$f":"IF(Apoio!$K$11=0,0,IF('Dados Contratação'!$J$21=0,0,'Insumos - Limpeza'!$L33))","v":0},{"$f":"IF(Apoio!$K$11=0,0,IF('Dados Contratação'!$J$22=0,0,'Insumos - Limpeza'!$L33))","v":0},{"$f":"IF(Apoio!$K$11=0,0,IF('Dados Contratação'!$J$23=0,0,'Insumos - Limpeza'!$L33))","v":0},{"$f":"IF(Apoio!$K$11=0,0,IF('Dados Contratação'!$J$24=0,0,'Insumos - Limpeza'!$L33))","v":0},{"$f":"IF(Apoio!$K$11=0,0,IF('Dados Contratação'!$J$25=0,0,'Insumos - Limpeza'!$L33))","v":0},{"$f":"IF(Apoio!$K$11=0,0,IF('Dados Contratação'!$J$26=0,0,'Insumos - Limpeza'!$L33))","v":0},{"$f":"IF(Apoio!$K$11=0,0,IF('Dados Contratação'!$J$27=0,0,'Insumos - Limpeza'!$L33))","v":0},{"$f":"IF(Apoio!$K$11=0,0,IF('Dados Contratação'!$J$28=0,0,'Insumos - Limpeza'!$L33))","v":0},{"$f":"IF(Apoio!$K$11=0,0,IF('Dados Contratação'!$J$29=0,0,'Insumos - Limpeza'!$L33))","v":0},{"$f":"IF(Apoio!$K$11=0,0,IF('Dados Contratação'!$J$30=0,0,'Insumos - Limpeza'!$L33))","v":0},{"$f":"IF(Apoio!$K$11=0,0,IF('Dados Contratação'!$J$31=0,0,'Insumos - Limpeza'!$L33))","v":0},{"$f":"IF(Apoio!$K$11=0,0,IF('Dados Contratação'!$J$32=0,0,'Insumos - Limpeza'!$L33))","v":0},{"$f":"IF(Apoio!$K$11=0,0,IF('Dados Contratação'!$J$33=0,0,'Insumos - Limpeza'!$L33))","v":0},{"$f":"IF(Apoio!$K$11=0,0,IF('Dados Contratação'!$J$34=0,0,'Insumos - Limpeza'!$L33))","v":0},{"$f":"IF(Apoio!$K$11=0,0,IF('Dados Contratação'!$J$35=0,0,'Insumos - Limpeza'!$L33))","v":0},{"$f":"IF(Apoio!$K$11=0,0,IF('Dados Contratação'!$J$36=0,0,'Insumos - Limpeza'!$L33))","v":0},{"$f":"IF(Apoio!$K$11=0,0,IF('Dados Contratação'!$J$37=0,0,'Insumos - Limpeza'!$L33))","v":0},{"$f":"IF(Apoio!$K$11=0,0,IF('Dados Contratação'!$J$38=0,0,'Insumos - Limpeza'!$L33))","v":0},{"$f":"IF(Apoio!$K$11=0,0,IF('Dados Contratação'!$J$39=0,0,'Insumos - Limpeza'!$L33))","v":0},{"$f":"IF(Apoio!$K$11=0,0,IF('Dados Contratação'!$J$40=0,0,'Insumos - Limpeza'!$L33))","v":0},{"$f":"SUM(J135:AE135)","v":0}]
[null,null,null,"Equipamentos e Ferramentas",null,null,null,null,null,{"$f":"IF(Apoio!$K$11=0,0,IF('Dados Contratação'!$J$19=0,0,'Insumos - Limpeza'!$L60))","v":0},{"$f":"IF(Apoio!$K$11=0,0,IF('Dados Contratação'!$J$20=0,0,'Insumos - Limpeza'!$L60))","v":0},{"$f":"IF(Apoio!$K$11=0,0,IF('Dados Contratação'!$J$21=0,0,'Insumos - Limpeza'!$L60))","v":0},{"$f":"IF(Apoio!$K$11=0,0,IF('Dados Contratação'!$J$22=0,0,'Insumos - Limpeza'!$L60))","v":0},{"$f":"IF(Apoio!$K$11=0,0,IF('Dados Contratação'!$J$23=0,0,'Insumos - Limpeza'!$L60))","v":0},{"$f":"IF(Apoio!$K$11=0,0,IF('Dados Contratação'!$J$24=0,0,'Insumos - Limpeza'!$L60))","v":0},{"$f":"IF(Apoio!$K$11=0,0,IF('Dados Contratação'!$J$25=0,0,'Insumos - Limpeza'!$L60))","v":0},{"$f":"IF(Apoio!$K$11=0,0,IF('Dados Contratação'!$J$26=0,0,'Insumos - Limpeza'!$L60))","v":0},{"$f":"IF(Apoio!$K$11=0,0,IF('Dados Contratação'!$J$27=0,0,'Insumos - Limpeza'!$L60))","v":0},{"$f":"IF(Apoio!$K$11=0,0,IF('Dados Contratação'!$J$28=0,0,'Insumos - Limpeza'!$L60))","v":0},{"$f":"IF(Apoio!$K$11=0,0,IF('Dados Contratação'!$J$29=0,0,'Insumos - Limpeza'!$L60))","v":0},{"$f":"IF(Apoio!$K$11=0,0,IF('Dados Contratação'!$J$30=0,0,'Insumos - Limpeza'!$L60))","v":0},{"$f":"IF(Apoio!$K$11=0,0,IF('Dados Contratação'!$J$31=0,0,'Insumos - Limpeza'!$L60))","v":0},{"$f":"IF(Apoio!$K$11=0,0,IF('Dados Contratação'!$J$32=0,0,'Insumos - Limpeza'!$L60))","v":0},{"$f":"IF(Apoio!$K$11=0,0,IF('Dados Contratação'!$J$33=0,0,'Insumos - Limpeza'!$L60))","v":0},{"$f":"IF(Apoio!$K$11=0,0,IF('Dados Contratação'!$J$34=0,0,'Insumos - Limpeza'!$L60))","v":0},{"$f":"IF(Apoio!$K$11=0,0,IF('Dados Contratação'!$J$35=0,0,'Insumos - Limpeza'!$L60))","v":0},{"$f":"IF(Apoio!$K$11=0,0,IF('Dados Contratação'!$J$36=0,0,'Insumos - Limpeza'!$L60))","v":0},{"$f":"IF(Apoio!$K$11=0,0,IF('Dados Contratação'!$J$37=0,0,'Insumos - Limpeza'!$L60))","v":0},{"$f":"IF(Apoio!$K$11=0,0,IF('Dados Contratação'!$J$38=0,0,'Insumos - Limpeza'!$L60))","v":0},{"$f":"IF(Apoio!$K$11=0,0,IF('Dados Contratação'!$J$39=0,0,'Insumos - Limpeza'!$L60))","v":0},{"$f":"IF(Apoio!$K$11=0,0,IF('Dados Contratação'!$J$40=0,0,'Insumos - Limpeza'!$L60))","v":0},0]
[null,null,null,"Outros (Especificar)",null,{"$f":"IF(Encarregado!$F$119=\"\",\" \",Encarregado!$F$119)","v":" "},null,null,null,{"$f":"IF(Apoio!$K$11=0,0,IF('Dados Contratação'!$J$19=0,0,Encarregado!$K$119))","v":0},{"$f":"IF(Apoio!$K$11=0,0,IF('Dados Contratação'!$J$20=0,0,Encarregado!$K$119))","v":0},{"$f":"IF(Apoio!$K$11=0,0,IF('Dados Contratação'!$J$21=0,0,Profissional!$K$119))","v":0},{"$f":"IF(Apoio!$K$11=0,0,IF('Dados Contratação'!$J$22=0,0,Profissional!$K$119))","v":0},{"$f":"IF(Apoio!$K$11=0,0,IF('Dados Contratação'!$J$23=0,0,Profissional!$K$119))","v":0},{"$f":"IF(Apoio!$K$11=0,0,IF('Dados Contratação'!$J$24=0,0,Profissional!$K$119))","v":0},{"$f":"IF(Apoio!$K$11=0,0,IF('Dados Contratação'!$J$25=0,0,Profissional!$K$119))","v":0},{"$f":"IF(Apoio!$K$11=0,0,IF('Dados Contratação'!$J$26=0,0,Profissional!$K$119))","v":0},{"$f":"IF(Apoio!$K$11=0,0,IF('Dados Contratação'!$J$27=0,0,Profissional!$K$119))","v":0},{"$f":"IF(Apoio!$K$11=0,0,IF('Dados Contratação'!$J$28=0,0,Profissional!$K$119))","v":0},{"$f":"IF(Apoio!$K$11=0,0,IF('Dados Contratação'!$J$29=0,0,Profissional!$K$119))","v":0},{"$f":"IF(Apoio!$K$11=0,0,IF('Dados Contratação'!$J$30=0,0,Profissional!$K$119))","v":0},{"$f":"IF(Apoio!$K$11=0,0,IF('Dados Contratação'!$J$31=0,0,Profissional!$K$119))","v":0},{"$f":"IF(Apoio!$K$11=0,0,IF('Dados Contratação'!$J$32=0,0,Profissional!$K$119))","v":0},{"$f":"IF(Apoio!$K$11=0,0,IF('Dados Contratação'!$J$33=0,0,Profissional!$K$119))","v":0},{"$f":"IF(Apoio!$K$11=0,0,IF('Dados Contratação'!$J$34=0,0,Profissional!$K$119))","v":0},{"$f":"IF(Apoio!$K$11=0,0,IF('Dados Contratação'!$J$35=0,0,Profissional!$K$119))","v":0},{"$f":"IF(Apoio!$K$11=0,0,IF('Dados Contratação'!$J$36=0,0,Profissional!$K$119))","v":0},{"$f":"IF(Apoio!$K$11=0,0,IF('Dados Contratação'!$J$37=0,0,Profissional!$K$119))","v":0},{"$f":"IF(Apoio!$K$11=0,0,IF('Dados Contratação'!$J$38=0,0,Profissional!$K$119))","v":0},{"$f":"IF(Apoio!$K$11=0,0,IF('Dados Contratação'!$J$39=0,0,Profissional!$K$119))","v":0},{"$f":"IF(Apoio!$K$11=0,0,IF('Dados Contratação'!$J$40=0,0,Profissional!$K$119))","v":0},0]
[null,null,null,"Total de Insumos - Limpeza",null,null,null,null,null,{"$f":"SUM(J135:J137)","v":0},{"$f":"SUM(K135:K137)","v":0},0,0,0,0,0,0,0,0,0,0,0,0,0,0,0,0,0,0,0,0,{"$f":"SUM(AF131:AF137)","v":0}]
[]
[null,null,null,"INSUMOS - VIGILÂNCIA"]
[null,null,null,null,null,null,null,null,null,"Valor","Valor","Valor","Valor","Valor","Valor","Valor","Valor","Valor","Valor","Valor","Valor","Valor","Valor","Valor","Valor","Valor","Valor","Valor","Valor","Valor","Valor","Valor"]
[null,null,null,"Equipamentos de Segurança",null,null,null,null,null,{"$f":"IF(Apoio!$K$11=0,0,IF('Dados Contratação'!$J$19=0,0,'Insumos - Vigilância'!$J35))","v":0},{"$f":"IF(Apoio!$K$11=0,0,IF('Dados Contratação'!$J$20=0,0,'Insumos - Vigilância'!$J35))","v":0},{"$f":"IF(Apoio!$K$11=0,0,IF('Dados Contratação'!$J$21=0,0,'Insumos - Vigilância'!$J35))","v":0},{"$f":"IF(Apoio!$K$11=0,0,IF('Dados Contratação'!$J$22=0,0,'Insumos - Vigilância'!$J35))","v":0},{"$f":"IF(Apoio!$K$11=0,0,IF('Dados Contratação'!$J$23=0,0,'Insumos - Vigilância'!$J35))","v":0},{"$f":"IF(Apoio!$K$11=0,0,IF('Dados Contratação'!$J$24=0,0,'Insumos - Vigilância'!$J35))","v":0},{"$f":"IF(Apoio!$K$11=0,0,IF('Dados Contratação'!$J$25=0,0,'Insumos - Vigilância'!$J35))","v":0},{"$f":"IF(Apoio!$K$11=0,0,IF('Dados Contratação'!$J$26=0,0,'Insumos - Vigilância'!$J35))","v":0},{"$f":"IF(Apoio!$K$11=0,0,IF('Dados Contratação'!$J$27=0,0,'Insumos - Vigilância'!$J35))","v":0},{"$f":"IF(Apoio!$K$11=0,0,IF('Dados Contratação'!$J$28=0,0,'Insumos - Vigilância'!$J35))","v":0},{"$f":"IF(Apoio!$K$11=0,0,IF('Dados Contratação'!$J$29=0,0,'Insumos - Vigilância'!$J35))","v":0},{"$f":"IF(Apoio!$K$11=0,0,IF('Dados Contratação'!$J$30=0,0,'Insumos - Vigilância'!$J35))","v":0},{"$f":"IF(Apoio!$K$11=0,0,IF('Dados Contratação'!$J$31=0,0,'Insumos - Vigilância'!$J35))","v":0},{"$f":"IF(Apoio!$K$11=0,0,IF('Dados Contratação'!$J$32=0,0,'Insumos - Vigilância'!$J35))","v":0},{"$f":"IF(Apoio!$K$11=0,0,IF('Dados Contratação'!$J$33=0,0,'Insumos - Vigilância'!$J35))","v":0},{"$f":"IF(Apoio!$K$11=0,0,IF('Dados Contratação'!$J$34=0,0,'Insumos - Vigilância'!$J35))","v":0},{"$f":"IF(Apoio!$K$11=0,0,IF('Dados Contratação'!$J$35=0,0,'Insumos - Vigilância'!$J35))","v":0},{"$f":"IF(Apoio!$K$11=0,0,IF('Dados Contratação'!$J$36=0,0,'Insumos - Vigilância'!$J35))","v":0},{"$f":"IF(Apoio!$K$11=0,0,IF('Dados Contratação'!$J$37=0,0,'Insumos - Vigilância'!$J35))","v":0},{"$f":"IF(Apoio!$K$11=0,0,IF('Dados Contratação'!$J$38=0,0,'Insumos - Vigilância'!$J35))","v":0},{"$f":"IF(Apoio!$K$11=0,0,IF('Dados Contratação'!$J$39=0,0,'Insumos - Vigilância'!$J35))","v":0},{"$f":"IF(Apoio!$K$11=0,0,IF('Dados Contratação'!$J$40=0,0,'Insumos - Vigilância'!$J35))","v":0},{"$f":"SUM(J142:AE142)","v":0}]
[null,null,null,"Outros (Especificar)",null,null,null,null,null,{"$f":"IF(Apoio!$K$11=0,0,IF('Dados Contratação'!$J$19=0,0,Encarregado!$K$119))","v":0},{"$f":"IF(Apoio!$K$11=0,0,IF('Dados Contratação'!$J$20=0,0,Encarregado!$K$119))","v":0},{"$f":"IF(Apoio!$K$11=0,0,IF('Dados Contratação'!$J$21=0,0,Profissional!$K$119))","v":0},{"$f":"IF(Apoio!$K$11=0,0,IF('Dados Contratação'!$J$22=0,0,Profissional!$K$119))","v":0},{"$f":"IF(Apoio!$K$11=0,0,IF('Dados Contratação'!$J$23=0,0,Profissional!$K$119))","v":0},{"$f":"IF(Apoio!$K$11=0,0,IF('Dados Contratação'!$J$24=0,0,Profissional!$K$119))","v":0},{"$f":"IF(Apoio!$K$11=0,0,IF('Dados Contratação'!$J$25=0,0,Profissional!$K$119))","v":0},{"$f":"IF(Apoio!$K$11=0,0,IF('Dados Contratação'!$J$26=0,0,Profissional!$K$119))","v":0},{"$f":"IF(Apoio!$K$11=0,0,IF('Dados Contratação'!$J$27=0,0,Profissional!$K$119))","v":0},{"$f":"IF(Apoio!$K$11=0,0,IF('Dados Contratação'!$J$28=0,0,Profissional!$K$119))","v":0},{"$f":"IF(Apoio!$K$11=0,0,IF('Dados Contratação'!$J$29=0,0,Profissional!$K$119))","v":0},{"$f":"IF(Apoio!$K$11=0,0,IF('Dados Contratação'!$J$30=0,0,Profissional!$K$119))","v":0},{"$f":"IF(Apoio!$K$11=0,0,IF('Dados Contratação'!$J$31=0,0,Profissional!$K$119))","v":0},{"$f":"IF(Apoio!$K$11=0,0,IF('Dados Contratação'!$J$32=0,0,Profissional!$K$119))","v":0},{"$f":"IF(Apoio!$K$11=0,0,IF('Dados Contratação'!$J$33=0,0,Profissional!$K$119))","v":0},{"$f":"IF(Apoio!$K$11=0,0,IF('Dados Contratação'!$J$34=0,0,Profissional!$K$119))","v":0},{"$f":"IF(Apoio!$K$11=0,0,IF('Dados Contratação'!$J$35=0,0,Profissional!$K$119))","v":0},{"$f":"IF(Apoio!$K$11=0,0,IF('Dados Contratação'!$J$36=0,0,Profissional!$K$119))","v":0},{"$f":"IF(Apoio!$K$11=0,0,IF('Dados Contratação'!$J$37=0,0,Profissional!$K$119))","v":0},{"$f":"IF(Apoio!$K$11=0,0,IF('Dados Contratação'!$J$38=0,0,Profissional!$K$119))","v":0},{"$f":"IF(Apoio!$K$11=0,0,IF('Dados Contratação'!$J$39=0,0,Profissional!$K$119))","v":0},{"$f":"IF(Apoio!$K$11=0,0,IF('Dados Contratação'!$J$40=0,0,Profissional!$K$119))","v":0},0]
[null,null,null,"Total de Insumos - Vigilância",null,null,null,null,null,{"$f":"SUM(J142:J143)","v":0},{"$f":"SUM(K142:K143)","v":0},0,0,0,0,0,0,0,0,0,0,0,0,0,0,0,0,0,0,0,0,{"$f":"SUM(AF138:AF143)","v":0}]
[]
[null,null,"VALOR DA PROPOSTA POR EMPREGADO"]
[null,null,null,null,null,null,null,null,null,"Valor","Valor","Valor","Valor","Valor","Valor","Valor","Valor","Valor","Valor","Valor","Valor","Valor","Valor","Valor","Valor","Valor","Valor","Valor","Valor","Valor","Valor","Valor"]
[null,null,null,"Remuneração",null,null,null,null,null,{"$f":"J37","v":0},0,4189,0,0,0,0,0,0,0,0,0,0,0,0,0,0,0,0,0,0,0,{"$f":"SUM(J148:AE148)","v":4189}]
[null,null,null,"Encargos e Benefícios",null,null,null,null,null,{"$f":"J77","v":0},0,2523.21,0,0,0,0,0,0,0,0,0,0,0,0,0,0,0,0,0,0,0,{"$f":"SUM(J149:AE149)","v":2523.21}]
[null,null,null,"Provisão para Rescisão",null,null,null,null,null,{"$f":"J87","v":0},0,235.92999999999998,0,0,0,0,0,0,0,0,0,0,0,0,0,0,0,0,0,0,0,{"$f":"SUM(J150:AE150)","v":235.92999999999998}]
[null,null,null,"Custo de Reposição do Profissional Ausente",null,null,null,null,null,{"$f":"J101","v":0},0,127.44,0,0,0,0,0,0,0,0,0,0,0,0,0,0,0,0,0,0,0,{"$f":"SUM(J151:AE151)","v":127.44}]
[null,null,null,"Uniformes e Equipamentos",null,null,null,null,null,{"$f":"SUM(J106,J117,J124,J131,J138,J144)","v":0},{"$f":"SUM(K106,K117,K124,K131,K138,K144)","v":0},10.91,0,0,0,0,0,0,0,0,0,0,0,0,0,0,0,0,0,0,0,{"$f":"SUM(J152:AE152)","v":10.91}]
[null,null,null,"Custo Total por Empregado",null,null,null,null,null,{"$f":"SUM(J148:J152)","v":0},{"$f":"SUM(K148:K152)","v":0},{"$f":"SUM(L148:L152)","v":7086.49},0,0,0,0,0,0,0,0,0,0,0,0,0,0,0,0,0,0,0,{"$f":"SUM(AF148:AF152)","v":7086.49}]
[]
[null,null,"MÓDULO 6 - CUSTOS INDIRETOS, LUCRO E TRIBUTOS"]
[null,null,null,null,null,null,null,null,null,"Valor","Valor","Valor","Valor","Valor","Valor","Valor","Valor","Valor","Valor","Valor","Valor","Valor","Valor","Valor","Valor","Valor","Valor","Valor","Valor","Valor","Valor","Valor"]
[null,null,null,"Custo Total por Empregado",null,null,null,null,null,{"$f":"J153","v":0},{"$f":"K153","v":0},{"$f":"L153","v":7086.49},0,0,0,0,0,0,0,0,0,0,0,0,0,0,0,0,0,0,0,{"$f":"SUM(J157:AE157)","v":7086.49}]
[null,null,null,"Custos Indiretos / Despesas Operacionais e Administrativas",null,null,null,null,null,{"$f":"TRUNC(ROUND(Encarregado!$J134*$J$157,2),2)","v":0},{"$f":"TRUNC(ROUND(Encarregado!$J134*$K$157,2),2)","v":0},{"$f":"TRUNC(ROUND(Profissional!$J134*$L$157,2),2)","v":212.59},{"$f":"TRUNC(ROUND(Profissional!$J134*$M$157,2),2)","v":0},{"$f":"TRUNC(ROUND(Profissional!$J134*$N$157,2),2)","v":0},{"$f":"TRUNC(ROUND(Profissional!$J134*$O$157,2),2)","v":0},{"$f":"TRUNC(ROUND(Profissional!$J134*$P$157,2),2)","v":0},{"$f":"TRUNC(ROUND(Profissional!$J134*$Q$157,2),2)","v":0},{"$f":"TRUNC(ROUND(Profissional!$J134*$R$157,2),2)","v":0},{"$f":"TRUNC(ROUND(Profissional!$J134*$S$157,2),2)","v":0},{"$f":"TRUNC(ROUND(Profissional!$J134*$T$157,2),2)","v":0},{"$f":"TRUNC(ROUND(Profissional!$J134*$U$157,2),2)","v":0},{"$f":"TRUNC(ROUND(Profissional!$J134*$V$157,2),2)","v":0},{"$f":"TRUNC(ROUND(Profissional!$J134*$W$157,2),2)","v":0},{"$f":"TRUNC(ROUND(Profissional!$J134*$X$157,2),2)","v":0},{"$f":"TRUNC(ROUND(Profissional!$J134*$Y$157,2),2)","v":0},{"$f":"TRUNC(ROUND(Profissional!$J134*$Z$157,2),2)","v":0},{"$f":"TRUNC(ROUND(Profissional!$J134*$AA$157,2),2)","v":0},{"$f":"TRUNC(ROUND(Profissional!$J134*$AB$157,2),2)","v":0},{"$f":"TRUNC(ROUND(Profissional!$J134*$AC$157,2),2)","v":0},{"$f":"TRUNC(ROUND(Profissional!$J134*$AD$157,2),2)","v":0},{"$f":"TRUNC(ROUND(Profissional!$J134*$AE$157,2),2)","v":0},{"$f":"SUM(J158:AE158)","v":212.59}]
[null,null,null,"Lucro",null,null,null,null,null,{"$f":"TRUNC(ROUND(Encarregado!$J135*(J157+J158),2),2)","v":0},{"$f":"TRUNC(ROUND(Encarregado!$J135*(K157+K158),2),2)","v":0},{"$f":"TRUNC(ROUND(Profissional!$J135*(L157+L158),2),2)","v":495.61},{"$f":"TRUNC(ROUND(Profissional!$J135*(M157+M158),2),2)","v":0},{"$f":"TRUNC(ROUND(Profissional!$J135*(N157+N158),2),2)","v":0},{"$f":"TRUNC(ROUND(Profissional!$J135*(O157+O158),2),2)","v":0},{"$f":"TRUNC(ROUND(Profissional!$J135*(P157+P158),2),2)","v":0},{"$f":"TRUNC(ROUND(Profissional!$J135*(Q157+Q158),2),2)","v":0},{"$f":"TRUNC(ROUND(Profissional!$J135*(R157+R158),2),2)","v":0},{"$f":"TRUNC(ROUND(Profissional!$J135*(S157+S158),2),2)","v":0},{"$f":"TRUNC(ROUND(Profissional!$J135*(T157+T158),2),2)","v":0},{"$f":"TRUNC(ROUND(Profissional!$J135*(U157+U158),2),2)","v":0},{"$f":"TRUNC(ROUND(Profissional!$J135*(V157+V158),2),2)","v":0},{"$f":"TRUNC(ROUND(Profissional!$J135*(W157+W158),2),2)","v":0},{"$f":"TRUNC(ROUND(Profissional!$J135*(X157+X158),2),2)","v":0},{"$f":"TRUNC(ROUND(Profissional!$J135*(Y157+Y158),2),2)","v":0},{"$f":"TRUNC(ROUND(Profissional!$J135*(Z157+Z158),2),2)","v":0},{"$f":"TRUNC(ROUND(Profissional!$J135*(AA157+AA158),2),2)","v":0},{"$f":"TRUNC(ROUND(Profissional!$J135*(AB157+AB158),2),2)","v":0},{"$f":"TRUNC(ROUND(Profissional!$J135*(AC157+AC158),2),2)","v":0},{"$f":"TRUNC(ROUND(Profissional!$J135*(AD157+AD158),2),2)","v":0},{"$f":"TRUNC(ROUND(Profissional!$J135*(AE157+AE158),2),2)","v":0},{"$f":"SUM(J159:AE159)","v":495.61}]
[null,null,null,"Tributos"]
[null,null,null,null,"Tributos Federais:",null,null,null,null,{"$f":"SUM(J162:J163)","v":0},{"$f":"SUM(K162:K163)","v":0},{"$f":"SUM(L162:L163)","v":311.44},0,{"$f":"SUM(N162:N163)","v":0},{"$f":"SUM(O162:O163)","v":0},{"$f":"SUM(P162:P163)","v":0},{"$f":"SUM(Q162:Q163)","v":0},{"$f":"SUM(R162:R163)","v":0},{"$f":"SUM(S162:S163)","v":0},{"$f":"SUM(T162:T163)","v":0},{"$f":"SUM(U162:U163)","v":0},{"$f":"SUM(V162:V163)","v":0},{"$f":"SUM(W162:W163)","v":0},{"$f":"SUM(X162:X163)","v":0},{"$f":"SUM(Y162:Y163)","v":0},{"$f":"SUM(Z162:Z163)","v":0},{"$f":"SUM(AA162:AA163)","v":0},{"$f":"SUM(AB162:AB163)","v":0},{"$f":"SUM(AC162:AC163)","v":0},{"$f":"SUM(AD162:AD163)","v":0},{"$f":"SUM(AE162:AE163)","v":0},{"$f":"SUM(J161:AE161)","v":311.44}]
[null,null,null,null,null,null,null,null,"COFINS",{"$f":"TRUNC(ROUND(Encarregado!$J138*J$170,2),2)","v":0},{"$f":"TRUNC(ROUND(Encarregado!$J138*K$170,2),2)","v":0},{"$f":"TRUNC(ROUND(Encarregado!$J138*L$170,2),2)","v":255.98},{"$f":"TRUNC(ROUND(Encarregado!$J138*M$170,2),2)","v":0},{"$f":"TRUNC(ROUND(Encarregado!$J138*N$170,2),2)","v":0},{"$f":"TRUNC(ROUND(Encarregado!$J138*O$170,2),2)","v":0},{"$f":"TRUNC(ROUND(Encarregado!$J138*P$170,2),2)","v":0},{"$f":"TRUNC(ROUND(Encarregado!$J138*Q$170,2),2)","v":0},{"$f":"TRUNC(ROUND(Encarregado!$J138*R$170,2),2)","v":0},{"$f":"TRUNC(ROUND(Encarregado!$J138*S$170,2),2)","v":0},{"$f":"TRUNC(ROUND(Encarregado!$J138*T$170,2),2)","v":0},{"$f":"TRUNC(ROUND(Encarregado!$J138*U$170,2),2)","v":0},{"$f":"TRUNC(ROUND(Encarregado!$J138*V$170,2),2)","v":0},{"$f":"TRUNC(ROUND(Encarregado!$J138*W$170,2),2)","v":0},{"$f":"TRUNC(ROUND(Encarregado!$J138*X$170,2),2)","v":0},{"$f":"TRUNC(ROUND(Encarregado!$J138*Y$170,2),2)","v":0},{"$f":"TRUNC(ROUND(Encarregado!$J138*Z$170,2),2)","v":0},{"$f":"TRUNC(ROUND(Encarregado!$J138*AA$170,2),2)","v":0},{"$f":"TRUNC(ROUND(Encarregado!$J138*AB$170,2),2)","v":0},{"$f":"TRUNC(ROUND(Encarregado!$J138*AC$170,2),2)","v":0},{"$f":"TRUNC(ROUND(Encarregado!$J138*AD$170,2),2)","v":0},{"$f":"TRUNC(ROUND(Encarregado!$J138*AE$170,2),2)","v":0},{"$f":"SUM(J162:AE162)","v":255.98}]
[null,null,null,null,null,null,null,null,"PIS",{"$f":"TRUNC(ROUND(Encarregado!$J139*J$170,2),2)","v":0},{"$f":"TRUNC(ROUND(Encarregado!$J139*K$170,2),2)","v":0},{"$f":"TRUNC(ROUND(Encarregado!$J139*L$170,2),2)","v":55.46},{"$f":"TRUNC(ROUND(Encarregado!$J139*M$170,2),2)","v":0},{"$f":"TRUNC(ROUND(Encarregado!$J139*N$170,2),2)","v":0},{"$f":"TRUNC(ROUND(Encarregado!$J139*O$170,2),2)","v":0},{"$f":"TRUNC(ROUND(Encarregado!$J139*P$170,2),2)","v":0},{"$f":"TRUNC(ROUND(Encarregado!$J139*Q$170,2),2)","v":0},{"$f":"TRUNC(ROUND(Encarregado!$J139*R$170,2),2)","v":0},{"$f":"TRUNC(ROUND(Encarregado!$J139*S$170,2),2)","v":0},{"$f":"TRUNC(ROUND(Encarregado!$J139*T$170,2),2)","v":0},{"$f":"TRUNC(ROUND(Encarregado!$J139*U$170,2),2)","v":0},{"$f":"TRUNC(ROUND(Encarregado!$J139*V$170,2),2)","v":0},{"$f":"TRUNC(ROUND(Encarregado!$J139*W$170,2),2)","v":0},{"$f":"TRUNC(ROUND(Encarregado!$J139*X$170,2),2)","v":0},{"$f":"TRUNC(ROUND(Encarregado!$J139*Y$170,2),2)","v":0},{"$f":"TRUNC(ROUND(Encarregado!$J139*Z$170,2),2)","v":0},{"$f":"TRUNC(ROUND(Encarregado!$J139*AA$170,2),2)","v":0},{"$f":"TRUNC(ROUND(Encarregado!$J139*AB$170,2),2)","v":0},{"$f":"TRUNC(ROUND(Encarregado!$J139*AC$170,2),2)","v":0},{"$f":"TRUNC(ROUND(Encarregado!$J139*AD$170,2),2)","v":0},{"$f":"TRUNC(ROUND(Encarregado!$J139*AE$170,2),2)","v":0},{"$f":"SUM(J163:AE163)","v":55.46}]
[null,null,null,null,"  ",null,"Obs.: Vedada a inclusão de IRPJ e CSLL."]
[null,null,null,null,"Tributos Estaduais (especificar):",null,{"$f":"IF('Dados Proponente'!$E$54=\"\",\" \",'Dados Proponente'!$E$54)","v":" "},null,null,{"$f":"TRUNC(ROUND(Encarregado!$J141*J$170,2),2)","v":0},{"$f":"TRUNC(ROUND(Encarregado!$J141*K$170,2),2)","v":0},{"$f":"TRUNC(ROUND(Encarregado!$J141*L$170,2),2)","v":0},{"$f":"TRUNC(ROUND(Encarregado!$J141*M$170,2),2)","v":0},{"$f":"TRUNC(ROUND(Encarregado!$J141*N$170,2),2)","v":0},{"$f":"TRUNC(ROUND(Encarregado!$J141*O$170,2),2)","v":0},{"$f":"TRUNC(ROUND(Encarregado!$J141*P$170,2),2)","v":0},{"$f":"TRUNC(ROUND(Encarregado!$J141*Q$170,2),2)","v":0},{"$f":"TRUNC(ROUND(Encarregado!$J141*R$170,2),2)","v":0},{"$f":"TRUNC(ROUND(Encarregado!$J141*S$170,2),2)","v":0},{"$f":"TRUNC(ROUND(Encarregado!$J141*T$170,2),2)","v":0},{"$f":"TRUNC(ROUND(Encarregado!$J141*U$170,2),2)","v":0},{"$f":"TRUNC(ROUND(Encarregado!$J141*V$170,2),2)","v":0},{"$f":"TRUNC(ROUND(Encarregado!$J141*W$170,2),2)","v":0},{"$f":"TRUNC(ROUND(Encarregado!$J141*X$170,2),2)","v":0},{"$f":"TRUNC(ROUND(Encarregado!$J141*Y$170,2),2)","v":0},{"$f":"TRUNC(ROUND(Encarregado!$J141*Z$170,2),2)","v":0},{"$f":"TRUNC(ROUND(Encarregado!$J141*AA$170,2),2)","v":0},{"$f":"TRUNC(ROUND(Encarregado!$J141*AB$170,2),2)","v":0},{"$f":"TRUNC(ROUND(Encarregado!$J141*AC$170,2),2)","v":0},{"$f":"TRUNC(ROUND(Encarregado!$J141*AD$170,2),2)","v":0},{"$f":"TRUNC(ROUND(Encarregado!$J141*AE$170,2),2)","v":0},{"$f":"SUM(J165:AE165)","v":0}]
[null,null,null,null,"Tributos Municipais:"]
[null,null,null,null,null,null,null,null,"ISSQN",{"$f":"TRUNC(ROUND(Encarregado!$J143*J$170,2),2)","v":0},{"$f":"TRUNC(ROUND(Encarregado!$J143*K$170,2),2)","v":0},{"$f":"TRUNC(ROUND(Encarregado!$J143*L$170,2),2)","v":426.64},{"$f":"TRUNC(ROUND(Encarregado!$J143*M$170,2),2)","v":0},{"$f":"TRUNC(ROUND(Encarregado!$J143*N$170,2),2)","v":0},{"$f":"TRUNC(ROUND(Encarregado!$J143*O$170,2),2)","v":0},{"$f":"TRUNC(ROUND(Encarregado!$J143*P$170,2),2)","v":0},{"$f":"TRUNC(ROUND(Encarregado!$J143*Q$170,2),2)","v":0},{"$f":"TRUNC(ROUND(Encarregado!$J143*R$170,2),2)","v":0},{"$f":"TRUNC(ROUND(Encarregado!$J143*S$170,2),2)","v":0},{"$f":"TRUNC(ROUND(Encarregado!$J143*T$170,2),2)","v":0},{"$f":"TRUNC(ROUND(Encarregado!$J143*U$170,2),2)","v":0},{"$f":"TRUNC(ROUND(Encarregado!$J143*V$170,2),2)","v":0},{"$f":"TRUNC(ROUND(Encarregado!$J143*W$170,2),2)","v":0},{"$f":"TRUNC(ROUND(Encarregado!$J143*X$170,2),2)","v":0},{"$f":"TRUNC(ROUND(Encarregado!$J143*Y$170,2),2)","v":0},{"$f":"TRUNC(ROUND(Encarregado!$J143*Z$170,2),2)","v":0},{"$f":"TRUNC(ROUND(Encarregado!$J143*AA$170,2),2)","v":0},{"$f":"TRUNC(ROUND(Encarregado!$J143*AB$170,2),2)","v":0},{"$f":"TRUNC(ROUND(Encarregado!$J143*AC$170,2),2)","v":0},{"$f":"TRUNC(ROUND(Encarregado!$J143*AD$170,2),2)","v":0},{"$f":"TRUNC(ROUND(Encarregado!$J143*AE$170,2),2)","v":0},{"$f":"SUM(J167:AE167)","v":426.64}]
[]
[null,null,null,null,"Outros Tributos (especificar):",null,{"$f":"IF('Dados Proponente'!$E$55=\"\",\" \",'Dados Proponente'!$E$55)","v":" "},null,null,{"$f":"TRUNC(ROUND(Encarregado!$J145*J$170,2),2)","v":0},{"$f":"TRUNC(ROUND(Encarregado!$J145*K$170,2),2)","v":0},{"$f":"TRUNC(ROUND(Encarregado!$J145*L$170,2),2)","v":0},{"$f":"TRUNC(ROUND(Encarregado!$J145*M$170,2),2)","v":0},{"$f":"TRUNC(ROUND(Encarregado!$J145*N$170,2),2)","v":0},{"$f":"TRUNC(ROUND(Encarregado!$J145*O$170,2),2)","v":0},{"$f":"TRUNC(ROUND(Encarregado!$J145*P$170,2),2)","v":0},{"$f":"TRUNC(ROUND(Encarregado!$J145*Q$170,2),2)","v":0},{"$f":"TRUNC(ROUND(Encarregado!$J145*R$170,2),2)","v":0},{"$f":"TRUNC(ROUND(Encarregado!$J145*S$170,2),2)","v":0},{"$f":"TRUNC(ROUND(Encarregado!$J145*T$170,2),2)","v":0},{"$f":"TRUNC(ROUND(Encarregado!$J145*U$170,2),2)","v":0},{"$f":"TRUNC(ROUND(Encarregado!$J145*V$170,2),2)","v":0},{"$f":"TRUNC(ROUND(Encarregado!$J145*W$170,2),2)","v":0},{"$f":"TRUNC(ROUND(Encarregado!$J145*X$170,2),2)","v":0},{"$f":"TRUNC(ROUND(Encarregado!$J145*Y$170,2),2)","v":0},{"$f":"TRUNC(ROUND(Encarregado!$J145*Z$170,2),2)","v":0},{"$f":"TRUNC(ROUND(Encarregado!$J145*AA$170,2),2)","v":0},{"$f":"TRUNC(ROUND(Encarregado!$J145*AB$170,2),2)","v":0},{"$f":"TRUNC(ROUND(Encarregado!$J145*AC$170,2),2)","v":0},{"$f":"TRUNC(ROUND(Encarregado!$J145*AD$170,2),2)","v":0},{"$f":"TRUNC(ROUND(Encarregado!$J145*AE$170,2),2)","v":0},{"$f":"SUM(J169:AE169)","v":0}]
[null,null,null,"Total dos Custos Indiretos, Lucro e Tributos",null,null,null,null,null,{"$f":"TRUNC(ROUND(SUM(J157:J159)/(1-Encarregado!$J$137-Encarregado!$J$143),2),2)","v":0},{"$f":"TRUNC(ROUND(SUM(K157:K159)/(1-Encarregado!$J$137-Encarregado!$J$143),2),2)","v":0},{"$f":"TRUNC(ROUND(SUM(L157:L159)/(1-Encarregado!$J$137-Encarregado!$J$143),2),2)","v":8532.7800000000007},{"$f":"TRUNC(ROUND(SUM(M157:M159)/(1-Encarregado!$J$137-Encarregado!$J$143),2),2)","v":0},{"$f":"TRUNC(ROUND(SUM(N157:N159)/(1-Encarregado!$J$137-Encarregado!$J$143),2),2)","v":0},{"$f":"TRUNC(ROUND(SUM(O157:O159)/(1-Encarregado!$J$137-Encarregado!$J$143),2),2)","v":0},{"$f":"TRUNC(ROUND(SUM(P157:P159)/(1-Encarregado!$J$137-Encarregado!$J$143),2),2)","v":0},{"$f":"TRUNC(ROUND(SUM(Q157:Q159)/(1-Encarregado!$J$137-Encarregado!$J$143),2),2)","v":0},{"$f":"TRUNC(ROUND(SUM(R157:R159)/(1-Encarregado!$J$137-Encarregado!$J$143),2),2)","v":0},{"$f":"TRUNC(ROUND(SUM(S157:S159)/(1-Encarregado!$J$137-Encarregado!$J$143),2),2)","v":0},{"$f":"TRUNC(ROUND(SUM(T157:T159)/(1-Encarregado!$J$137-Encarregado!$J$143),2),2)","v":0},{"$f":"TRUNC(ROUND(SUM(U157:U159)/(1-Encarregado!$J$137-Encarregado!$J$143),2),2)","v":0},{"$f":"TRUNC(ROUND(SUM(V157:V159)/(1-Encarregado!$J$137-Encarregado!$J$143),2),2)","v":0},{"$f":"TRUNC(ROUND(SUM(W157:W159)/(1-Encarregado!$J$137-Encarregado!$J$143),2),2)","v":0},{"$f":"TRUNC(ROUND(SUM(X157:X159)/(1-Encarregado!$J$137-Encarregado!$J$143),2),2)","v":0},{"$f":"TRUNC(ROUND(SUM(Y157:Y159)/(1-Encarregado!$J$137-Encarregado!$J$143),2),2)","v":0},{"$f":"TRUNC(ROUND(SUM(Z157:Z159)/(1-Encarregado!$J$137-Encarregado!$J$143),2),2)","v":0},{"$f":"TRUNC(ROUND(SUM(AA157:AA159)/(1-Encarregado!$J$137-Encarregado!$J$143),2),2)","v":0},{"$f":"TRUNC(ROUND(SUM(AB157:AB159)/(1-Encarregado!$J$137-Encarregado!$J$143),2),2)","v":0},{"$f":"TRUNC(ROUND(SUM(AC157:AC159)/(1-Encarregado!$J$137-Encarregado!$J$143),2),2)","v":0},{"$f":"TRUNC(ROUND(SUM(AD157:AD159)/(1-Encarregado!$J$137-Encarregado!$J$143),2),2)","v":0},{"$f":"TRUNC(ROUND(SUM(AE157:AE159)/(1-Encarregado!$J$137-Encarregado!$J$143),2),2)","v":0},{"$f":"SUM(J170:AE170)","v":8532.7800000000007}]
[]
[null,null,"QUADRO RESUMO"]
[null,null,null,null,null,null,null,null,null,"Valor por Empregado","Valor por Empregado","Valor por Empregado","Valor por Empregado","Valor por Empregado","Valor por Empregado","Valor por Empregado","Valor por Empregado","Valor por Empregado","Valor por Empregado","Valor por Empregado","Valor por Empregado","Valor por Empregado","Valor por Empregado","Valor por Empregado","Valor por Empregado","Valor por Empregado","Valor por Empregado","Valor por Empregado","Valor por Empregado","Valor por Empregado","Valor por Empregado","Valor por Empregado"]
[null,null,null,"Total de Remuneração",null,null,null,null,null,{"$f":"J148","v":0},{"$f":"K148","v":0},{"$f":"L148","v":4189},0,0,0,0,0,0,0,0,0,0,0,0,0,0,0,0,0,0,0,{"$f":"SUM(J174:AE174)","v":4189}]
[null,null,null,"Total de Encargos e Benefícios",null,null,null,null,null,{"$f":"J149","v":0},{"$f":"K149","v":0},{"$f":"L149","v":2523.21},0,0,0,0,0,0,0,0,0,0,0,0,0,0,0,0,0,0,0,2523.21]
[null,null,null,"Total de Provisão para Rescisão",null,null,null,null,null,{"$f":"J150","v":0},{"$f":"K150","v":0},{"$f":"L150","v":235.92999999999998},0,0,0,0,0,0,0,0,0,0,0,0,0,0,0,0,0,0,0,235.92999999999998]
[null,null,null,"Total do Custo de Reposição do Profissional Ausente",null,null,null,null,null,{"$f":"J151","v":0},{"$f":"K151","v":0},{"$f":"L151","v":127.44},0,0,0,0,0,0,0,0,0,0,0,0,0,0,0,0,0,0,0,127.44]
[null,null,null,"Total de Uniformes e Equipamentos",null,null,null,null,null,{"$f":"J152","v":0},{"$f":"K152","v":0},{"$f":"L152","v":10.91},0,0,0,0,0,0,0,0,0,0,0,0,0,0,0,0,0,0,0,10.91]
[null,null,null,"Total dos Custos Indiretos, Lucro e Tributos",null,null,null,null,null,{"$f":"TRUNC(ROUND(SUM(J158,J159,J161,J165,J167,J169),2),2)","v":0},{"$f":"TRUNC(ROUND(SUM(K158,K159,K161,K165,K167,K169),2),2)","v":0},{"$f":"TRUNC(ROUND(SUM(L158,L159,L161,L165,L167,L169),2),2)","v":1446.28},0,0,0,0,0,0,0,0,0,0,0,0,0,0,0,0,0,0,0,1446.28]
[null,null,null,"Total do Vale Transporte",null,null,null,null,null,{"$f":"IF(Apoio!$K$11=0,0,IF('Dados Contratação'!$J$19=0,0,'Vale Transporte'!$J$46))","v":0},{"$f":"IF(Apoio!$K$11=0,0,IF('Dados Contratação'!$J$20=0,0,'Vale Transporte'!$K$46))","v":0},{"$f":"IF(Apoio!$K$11=0,0,IF('Dados Contratação'!$J$21=0,0,'Vale Transporte'!$L$46))","v":0},{"$f":"IF(Apoio!$K$11=0,0,IF('Dados Contratação'!$J$22=0,0,'Vale Transporte'!$M$46))","v":0},{"$f":"IF(Apoio!$K$11=0,0,IF('Dados Contratação'!$J$23=0,0,'Vale Transporte'!$N$46))","v":0},{"$f":"IF(Apoio!$K$11=0,0,IF('Dados Contratação'!$J$24=0,0,'Vale Transporte'!$O$46))","v":0},{"$f":"IF(Apoio!$K$11=0,0,IF('Dados Contratação'!$J$25=0,0,'Vale Transporte'!$P$46))","v":0},{"$f":"IF(Apoio!$K$11=0,0,IF('Dados Contratação'!$J$26=0,0,'Vale Transporte'!$Q$46))","v":0},{"$f":"IF(Apoio!$K$11=0,0,IF('Dados Contratação'!$J$27=0,0,'Vale Transporte'!$R$46))","v":0},{"$f":"IF(Apoio!$K$11=0,0,IF('Dados Contratação'!$J$28=0,0,'Vale Transporte'!$S$46))","v":0},{"$f":"IF(Apoio!$K$11=0,0,IF('Dados Contratação'!$J$29=0,0,'Vale Transporte'!$T$46))","v":0},{"$f":"IF(Apoio!$K$11=0,0,IF('Dados Contratação'!$J$30=0,0,'Vale Transporte'!$U$46))","v":0},{"$f":"IF(Apoio!$K$11=0,0,IF('Dados Contratação'!$J$31=0,0,'Vale Transporte'!$V$46))","v":0},{"$f":"IF(Apoio!$K$11=0,0,IF('Dados Contratação'!$J$32=0,0,'Vale Transporte'!$W$46))","v":0},{"$f":"IF(Apoio!$K$11=0,0,IF('Dados Contratação'!$J$33=0,0,'Vale Transporte'!$X$46))","v":0},{"$f":"IF(Apoio!$K$11=0,0,IF('Dados Contratação'!$J$34=0,0,'Vale Transporte'!$Y$46))","v":0},{"$f":"IF(Apoio!$K$11=0,0,IF('Dados Contratação'!$J$35=0,0,'Vale Transporte'!$Z$46))","v":0},{"$f":"IF(Apoio!$K$11=0,0,IF('Dados Contratação'!$J$36=0,0,'Vale Transporte'!$AA$46))","v":0},{"$f":"IF(Apoio!$K$11=0,0,IF('Dados Contratação'!$J$37=0,0,'Vale Transporte'!$AB$46))","v":0},{"$f":"IF(Apoio!$K$11=0,0,IF('Dados Contratação'!$J$38=0,0,'Vale Transporte'!$AC$46))","v":0},{"$f":"IF(Apoio!$K$11=0,0,IF('Dados Contratação'!$J$39=0,0,'Vale Transporte'!$AD$46))","v":0},{"$f":"IF(Apoio!$K$11=0,0,IF('Dados Contratação'!$J$40=0,0,'Vale Transporte'!$AE$46))","v":0},0]
[null,null,null,"Valor Mensal do Serviço",null,null,null,null,null,{"$f":"SUM(J174:J180)","v":0},{"$f":"SUM(K174:K180)","v":0},{"$f":"SUM(L174:L180)","v":8532.77},0,0,0,0,0,0,0,0,0,0,0,0,0,0,0,0,0,0,0,{"$f":"SUM(AF174:AF180)","v":8532.77}]
[]
[null,null,"RESERVA MENSAL (RETENÇÕES EM CONTA VINCULADA DO PAGAMENTO MENSAL)"]
[null,null,null,null,null,null,null,null,null,"Valor por Empregado","Valor por Empregado","Valor por Empregado","Valor por Empregado","Valor por Empregado","Valor por Empregado","Valor por Empregado","Valor por Empregado","Valor por Empregado","Valor por Empregado","Valor por Empregado","Valor por Empregado","Valor por Empregado","Valor por Empregado","Valor por Empregado","Valor por Empregado","Valor por Empregado","Valor por Empregado","Valor por Empregado","Valor por Empregado","Valor por Empregado","Valor por Empregado","Valor por Empregado"]
[null,null,"13º Salário",null,null,null,null,null,null,{"$f":"J42","v":0},0,348.94,0,0,0,0,0,0,0,0,0,0,0,0,0,0,0,0,0,0,0,{"$f":"SUM(J185:AE185)","v":348.94}]
[null,null,"Férias + Abono Constitucional (1/3) de Férias",null,null,null,null,null,null,{"$f":"SUM(J42:J43)","v":0},0,465.39,0,0,0,0,0,0,0,0,0,0,0,0,0,0,0,0,0,0,0,{"$f":"SUM(J186:AE186)","v":465.39}]
[null,null,"Sub-total",null,null,null,null,null,null,{"$f":"SUM(J185:J186)","v":0},{"$f":"SUM(K185:K186)","v":0},{"$f":"SUM(L185:L186)","v":814.32999999999993},0,0,{"$f":"SUM(O185:O186)","v":0},{"$f":"SUM(P185:P186)","v":0},{"$f":"SUM(Q185:Q186)","v":0},0,{"$f":"SUM(S185:S186)","v":0},{"$f":"SUM(T185:T186)","v":0},{"$f":"SUM(U185:U186)","v":0},0,{"$f":"SUM(W185:W186)","v":0},{"$f":"SUM(X185:X186)","v":0},{"$f":"SUM(Y185:Y186)","v":0},0,{"$f":"SUM(AA185:AA186)","v":0},{"$f":"SUM(AB185:AB186)","v":0},{"$f":"SUM(AC185:AC186)","v":0},0,{"$f":"SUM(AE185:AE186)","v":0},{"$f":"SUM(J187:AE187)","v":814.32999999999993}]
[null,null,"Incidência dos encargos previdenciários e FGTS sobre férias, 1/3 constitucional e 13º salário",null,null,null,null,null,null,{"$f":"ROUND(SUM(Encargos_Benefícios!$H$38:$H$45)*(Encargos_Benefícios!$H$47+Encargos_Benefícios!$H$47+Encargos_Benefícios!$H$48)*J37,2)","v":0},{"$f":"ROUND(SUM(Encargos_Benefícios!$H$38:$H$45)*(Encargos_Benefícios!$H$47+Encargos_Benefícios!$H$47+Encargos_Benefícios!$H$48)*K37,2)","v":0},{"$f":"ROUND(SUM(Encargos_Benefícios!$H$38:$H$45)*(Encargos_Benefícios!$H$47+Encargos_Benefícios!$H$47+Encargos_Benefícios!$H$48)*L37,2)","v":299.68},{"$f":"ROUND(SUM(Encargos_Benefícios!$H$38:$H$45)*(Encargos_Benefícios!$H$47+Encargos_Benefícios!$H$47+Encargos_Benefícios!$H$48)*M37,2)","v":0},{"$f":"ROUND(SUM(Encargos_Benefícios!$H$38:$H$45)*(Encargos_Benefícios!$H$47+Encargos_Benefícios!$H$47+Encargos_Benefícios!$H$48)*N37,2)","v":0},{"$f":"ROUND(SUM(Encargos_Benefícios!$H$38:$H$45)*(Encargos_Benefícios!$H$47+Encargos_Benefícios!$H$47+Encargos_Benefícios!$H$48)*O37,2)","v":0},{"$f":"ROUND(SUM(Encargos_Benefícios!$H$38:$H$45)*(Encargos_Benefícios!$H$47+Encargos_Benefícios!$H$47+Encargos_Benefícios!$H$48)*P37,2)","v":0},{"$f":"ROUND(SUM(Encargos_Benefícios!$H$38:$H$45)*(Encargos_Benefícios!$H$47+Encargos_Benefícios!$H$47+Encargos_Benefícios!$H$48)*Q37,2)","v":0},{"$f":"ROUND(SUM(Encargos_Benefícios!$H$38:$H$45)*(Encargos_Benefícios!$H$47+Encargos_Benefícios!$H$47+Encargos_Benefícios!$H$48)*R37,2)","v":0},{"$f":"ROUND(SUM(Encargos_Benefícios!$H$38:$H$45)*(Encargos_Benefícios!$H$47+Encargos_Benefícios!$H$47+Encargos_Benefícios!$H$48)*S37,2)","v":0},{"$f":"ROUND(SUM(Encargos_Benefícios!$H$38:$H$45)*(Encargos_Benefícios!$H$47+Encargos_Benefícios!$H$47+Encargos_Benefícios!$H$48)*T37,2)","v":0},{"$f":"ROUND(SUM(Encargos_Benefícios!$H$38:$H$45)*(Encargos_Benefícios!$H$47+Encargos_Benefícios!$H$47+Encargos_Benefícios!$H$48)*U37,2)","v":0},{"$f":"ROUND(SUM(Encargos_Benefícios!$H$38:$H$45)*(Encargos_Benefícios!$H$47+Encargos_Benefícios!$H$47+Encargos_Benefícios!$H$48)*V37,2)","v":0},{"$f":"ROUND(SUM(Encargos_Benefícios!$H$38:$H$45)*(Encargos_Benefícios!$H$47+Encargos_Benefícios!$H$47+Encargos_Benefícios!$H$48)*W37,2)","v":0},{"$f":"ROUND(SUM(Encargos_Benefícios!$H$38:$H$45)*(Encargos_Benefícios!$H$47+Encargos_Benefícios!$H$47+Encargos_Benefícios!$H$48)*X37,2)","v":0},{"$f":"ROUND(SUM(Encargos_Benefícios!$H$38:$H$45)*(Encargos_Benefícios!$H$47+Encargos_Benefícios!$H$47+Encargos_Benefícios!$H$48)*Y37,2)","v":0},{"$f":"ROUND(SUM(Encargos_Benefícios!$H$38:$H$45)*(Encargos_Benefícios!$H$47+Encargos_Benefícios!$H$47+Encargos_Benefícios!$H$48)*Z37,2)","v":0},{"$f":"ROUND(SUM(Encargos_Benefícios!$H$38:$H$45)*(Encargos_Benefícios!$H$47+Encargos_Benefícios!$H$47+Encargos_Benefícios!$H$48)*AA37,2)","v":0},{"$f":"ROUND(SUM(Encargos_Benefícios!$H$38:$H$45)*(Encargos_Benefícios!$H$47+Encargos_Benefícios!$H$47+Encargos_Benefícios!$H$48)*AB37,2)","v":0},{"$f":"ROUND(SUM(Encargos_Benefícios!$H$38:$H$45)*(Encargos_Benefícios!$H$47+Encargos_Benefícios!$H$47+Encargos_Benefícios!$H$48)*AC37,2)","v":0},{"$f":"ROUND(SUM(Encargos_Benefícios!$H$38:$H$45)*(Encargos_Benefícios!$H$47+Encargos_Benefícios!$H$47+Encargos_Benefícios!$H$48)*AD37,2)","v":0},{"$f":"ROUND(SUM(Encargos_Benefícios!$H$38:$H$45)*(Encargos_Benefícios!$H$47+Encargos_Benefícios!$H$47+Encargos_Benefícios!$H$48)*AE37,2)","v":0},{"$f":"SUM(J188:AE188)","v":299.68}]
[null,null,"Multa do FGTS sobre aviso prévio indenizado",null,null,null,null,null,null,{"$f":"J83","v":0},0,144.1,0,0,0,0,0,0,0,0,0,0,0,0,0,0,0,0,0,0,0,{"$f":"SUM(J189:AE189)","v":144.1}]
[null,null,"Total da Reserva Mensal",null,null,null,null,null,null,{"$f":"SUM(J187:J189)","v":0},{"$f":"SUM(K187:K189)","v":0},{"$f":"SUM(L187:L189)","v":1258.1099999999999},0,0,0,0,0,0,0,0,0,0,0,0,0,0,0,0,0,0,0,{"$f":"SUM(AF187:AF189)","v":1258.1099999999999}]

{"sheet":"Valor Global","index":23,"n_rows":71,"n_cols":13,"rows_kept":71,"cut":false,"hidden":false,"merged":[[4,1,4,4],[4,11,4,12],[3,1,3,4],[3,11,3,12],[3,5,3,7],[4,5,4,7],[3,8,3,10],[4,8,4,10],[5,1,5,4],[5,9,5,12],[6,1,6,4],[6,9,6,12],[5,5,5,8],[6,5,6,6],[6,7,6,8],[53,2,53,10],[54,2,54,10],[55,2,55,10],[50,11,50,12],[51,11,51,12],[52,11,52,12],[51,2,51,10],[52,2,52,10],[53,11,53,12],[54,11,54,12],[55,11,55,12],[66,11,66,12],[67,11,67,12],[68,11,68,12],[63,11,63,12],[64,11,64,12],[65,11,65,12],[56,11,56,12],[57,11,57,12],[62,11,62,12],[56,2,56,10],[57,1,57,10],[58,1,58,10],[58,11,58,12],[70,1,70,10],[70,11,70,12],[69,11,69,12],[68,2,68,10],[69,1,69,10],[63,2,63,10],[64,2,64,10],[65,2,65,10],[66,2,66,10],[67,2,67,10]]}
[null,"12 - RESUMO DA PLANILHA DE CUSTOS E FORMAÇÃO DE PREÇOS"]
[]
[null,"Discriminação dos Serviços (dados referentes à contratação)"]
[null,"Nº do Processo Administrativo:",null,null,null,"Licitação nº:",null,null,"Data:",null,null,"Horário:"]
[null,{"$f":"IF(ISBLANK('Dados Contratação'!$B$6),\"-\",'Dados Contratação'!$B$6)","v":"15940/2022"},null,null,null,{"$f":"IF(ISBLANK('Dados Contratação'!$D$6),\"-\",'Dados Contratação'!$D$6)","v":"-"},null,null,{"$f":"IF(ISBLANK('Dados Contratação'!$E$6),\"-\",'Dados Contratação'!$E$6)","v":"-"},null,null,{"$f":"IF(ISBLANK('Dados Contratação'!$F$6),\"-\",'Dados Contratação'!$F$6)","v":"-"}]
[null,"Local da Prestação dos Serviços:",null,null,null,"Vigência da Contratação:",null,null,null,"Máximo de Vigência:"]
[null,{"$f":"IF(ISBLANK('Dados Contratação'!$M$12),\"-\",'Dados Contratação'!$M$12)","v":"CAMPO GRANDE/MS"},null,null,null,{"$f":"IF(ISBLANK('Dados Contratação'!$J$6),\"-\",'Dados Contratação'!$J$6)","v":"12"},null,{"$f":"IF(ISBLANK('Dados Contratação'!$J$6),\"-\",'Dados Contratação'!$K$6)","v":"meses"},null,{"$f":"IF(ISBLANK('Dados Contratação'!$N$6),\"-\",CONCATENATE('Dados Contratação'!$N$6,\" \",'Dados Contratação'!$O$6))","v":"60 meses"}]
[]
[null,"VALOR TOTAL MENSAL DO CONTRATO"]
[]
[null,1,"ENCARREGADO"]
[null,null,null,"QUANT. DE PROF.","REMUNERAÇÃO","ENCARGOS E BENEFÍCIOS","PROVISÃO PARA RESCISÃO","CUSTO DE REPOSIÇÃO DO PROFISSIONAL AUSENTE","UNIFORMES E EQUIPAMENTOS","CUSTOS INDIRETOS, LUCRO E TRIBUTOS","DESPESA COM VALE TRANSPORTE","VALOR MENSAL DO SERVIÇO POR EMPREGADO","VALOR MENSAL DO SERVIÇO POR POSTO"]
[null,1,{"$f":"'Dados Contratação'!D19","v":"Prédio-Sede do TRT/24ª Região"},{"$f":"'Dados Contratação'!J19","v":0},{"$f":"Auditagem!J174","v":0},{"$f":"Auditagem!J175","v":0},{"$f":"Auditagem!J176","v":0},{"$f":"Auditagem!J177","v":0},{"$f":"Auditagem!J178","v":0},{"$f":"Auditagem!J179","v":0},{"$f":"Auditagem!$J$180","v":0},{"$f":"SUM(E13:K13)","v":0},{"$f":"D13*L13","v":0}]
[null,2,{"$f":"'Dados Contratação'!D20","v":"Fórum Trabalhista de Campo Grande"},{"$f":"'Dados Contratação'!J20","v":0},{"$f":"Auditagem!K174","v":0},{"$f":"Auditagem!K175","v":0},{"$f":"Auditagem!K176","v":0},{"$f":"Auditagem!K177","v":0},{"$f":"Auditagem!K178","v":0},{"$f":"Auditagem!K179","v":0},{"$f":"Auditagem!$K$180","v":0},{"$f":"SUM(E14:K14)","v":0},{"$f":"D14*L14","v":0}]
[null,"Valor Estimado Mensal",null,{"$f":"SUM(D13:D14)","v":0},0,0,0,0,{"$f":"SUM(I13:I14)","v":0},0,{"$f":"SUM(K13:K14)","v":0},0,0]
[]
[]
[null,2,"PROFISSIONAL"]
[null,null,null,"QUANT. DE PROF.","REMUNERAÇÃO","ENCARGOS E BENEFÍCIOS","PROVISÃO PARA RESCISÃO","CUSTO DE REPOSIÇÃO DO PROFISSIONAL AUSENTE","UNIFORMES E EQUIPAMENTOS","CUSTOS INDIRETOS, LUCRO E TRIBUTOS","DESPESA COM VALE TRANSPORTE","VALOR MENSAL DO SERVIÇO POR EMPREGADO","VALOR MENSAL DO SERVIÇO POR POSTO"]
[null,3,{"$f":"'Dados Contratação'!D21","v":"Prédio-Sede do TRT/24ª Região"},{"$f":"'Dados Contratação'!J21","v":2},{"$f":"Auditagem!L$174","v":4189},{"$f":"Auditagem!L$175","v":2523.21},{"$f":"Auditagem!L$176","v":235.92999999999998},{"$f":"Auditagem!L177","v":127.44},{"$f":"Auditagem!L178","v":10.91},{"$f":"Auditagem!L179","v":1446.28},{"$f":"Auditagem!$L$180","v":0},{"$f":"SUM(E20:K20)","v":8532.77},{"$f":"D20*L20","v":17065.54}]
[null,4,{"$f":"'Dados Contratação'!D22","v":"Fórum Trabalhista de Campo Grande"},{"$f":"'Dados Contratação'!J22","v":0},{"$f":"Auditagem!M$174","v":0},{"$f":"Auditagem!M$175","v":0},{"$f":"Auditagem!M$176","v":0},{"$f":"Auditagem!M177","v":0},{"$f":"Auditagem!M178","v":0},{"$f":"Auditagem!M179","v":0},{"$f":"Auditagem!$M$180","v":0},{"$f":"SUM(E21:K21)","v":0},{"$f":"D21*L21","v":0}]
[null,5,{"$f":"'Dados Contratação'!D23","v":"Fórum Trabalhista de Dourados"},{"$f":"'Dados Contratação'!J23","v":0},{"$f":"Auditagem!N$174","v":0},{"$f":"Auditagem!N$175","v":0},{"$f":"Auditagem!N$176","v":0},{"$f":"Auditagem!N$177","v":0},{"$f":"Auditagem!N178","v":0},{"$f":"Auditagem!N179","v":0},{"$f":"Auditagem!$N$180","v":0},0,0]
[null,6,{"$f":"'Dados Contratação'!D24","v":"Fórum Trabalhista de Três Lagoas"},{"$f":"'Dados Contratação'!J24","v":0},{"$f":"Auditagem!O$174","v":0},{"$f":"Auditagem!O$175","v":0},{"$f":"Auditagem!O$176","v":0},{"$f":"Auditagem!O$177","v":0},{"$f":"Auditagem!O$178","v":0},{"$f":"Auditagem!O179","v":0},{"$f":"Auditagem!$O$180","v":0},0,0]
[null,7,{"$f":"'Dados Contratação'!D25","v":"Vara do Trabalho de Amambaí"},{"$f":"'Dados Contratação'!J25","v":0},{"$f":"Auditagem!P$174","v":0},{"$f":"Auditagem!P$175","v":0},{"$f":"Auditagem!P$176","v":0},{"$f":"Auditagem!P$177","v":0},{"$f":"Auditagem!P$178","v":0},{"$f":"Auditagem!P$179","v":0},{"$f":"Auditagem!$P$180","v":0},0,0]
[null,8,{"$f":"'Dados Contratação'!D26","v":"Vara do Trabalho de Aquidauana"},{"$f":"'Dados Contratação'!J26","v":0},{"$f":"Auditagem!Q$174","v":0},{"$f":"Auditagem!Q$175","v":0},{"$f":"Auditagem!Q$176","v":0},{"$f":"Auditagem!Q$177","v":0},{"$f":"Auditagem!Q$178","v":0},{"$f":"Auditagem!Q$179","v":0},{"$f":"Auditagem!$Q$180","v":0},0,0]
[null,9,{"$f":"'Dados Contratação'!D27","v":"Vara do Trabalho de Bataguassu"},{"$f":"'Dados Contratação'!J27","v":0},{"$f":"Auditagem!R$174","v":0},{"$f":"Auditagem!R$175","v":0},{"$f":"Auditagem!R$176","v":0},{"$f":"Auditagem!R$177","v":0},{"$f":"Auditagem!R$178","v":0},{"$f":"Auditagem!R$179","v":0},{"$f":"Auditagem!$R$180","v":0},0,0]
[null,10,{"$f":"'Dados Contratação'!D28","v":"Posto Avançado de Cassilândia"},{"$f":"'Dados Contratação'!J28","v":0},{"$f":"Auditagem!S$174","v":0},{"$f":"Auditagem!S$175","v":0},{"$f":"Auditagem!S$176","v":0},{"$f":"Auditagem!S$177","v":0},{"$f":"Auditagem!S$178","v":0},{"$f":"Auditagem!S$179","v":0},{"$f":"Auditagem!$S$180","v":0},0,0]
[null,11,{"$f":"'Dados Contratação'!D29","v":"Vara do Trabalho de Corumbá"},{"$f":"'Dados Contratação'!J29","v":0},{"$f":"Auditagem!T$174","v":0},{"$f":"Auditagem!T$175","v":0},{"$f":"Auditagem!T$176","v":0},{"$f":"Auditagem!T$177","v":0},{"$f":"Auditagem!T$178","v":0},{"$f":"Auditagem!T$179","v":0},{"$f":"Auditagem!$T$180","v":0},0,0]
[null,12,{"$f":"'Dados Contratação'!D30","v":"Vara do Trabalho de Coxim"},{"$f":"'Dados Contratação'!J30","v":0},{"$f":"Auditagem!U$174","v":0},{"$f":"Auditagem!U$175","v":0},{"$f":"Auditagem!U$176","v":0},{"$f":"Auditagem!U$177","v":0},{"$f":"Auditagem!U$178","v":0},{"$f":"Auditagem!U$179","v":0},{"$f":"Auditagem!$U$180","v":0},0,0]
[null,13,{"$f":"'Dados Contratação'!D31","v":"Vara do Trabalho de Fátima do Sul"},{"$f":"'Dados Contratação'!J31","v":0},{"$f":"Auditagem!V$174","v":0},{"$f":"Auditagem!V$175","v":0},{"$f":"Auditagem!V$176","v":0},{"$f":"Auditagem!V$177","v":0},{"$f":"Auditagem!V$178","v":0},{"$f":"Auditagem!V$179","v":0},{"$f":"Auditagem!$V$180","v":0},0,0]
[null,14,{"$f":"'Dados Contratação'!D32","v":"Vara do Trabalho de Jardim"},{"$f":"'Dados Contratação'!J32","v":0},{"$f":"Auditagem!W$174","v":0},{"$f":"Auditagem!W$175","v":0},{"$f":"Auditagem!W$176","v":0},{"$f":"Auditagem!W$177","v":0},{"$f":"Auditagem!W$178","v":0},{"$f":"Auditagem!W$179","v":0},{"$f":"Auditagem!$W$180","v":0},0,0]
[null,15,{"$f":"'Dados Contratação'!D33","v":"Vara do Trabalho de Mundo Novo"},{"$f":"'Dados Contratação'!J33","v":0},{"$f":"Auditagem!X$174","v":0},{"$f":"Auditagem!X$175","v":0},{"$f":"Auditagem!X$176","v":0},{"$f":"Auditagem!X$177","v":0},{"$f":"Auditagem!X$178","v":0},{"$f":"Auditagem!X$179","v":0},{"$f":"Auditagem!$X$180","v":0},0,0]
[null,16,{"$f":"'Dados Contratação'!D34","v":"Vara do Trabalho de Naviraí"},{"$f":"'Dados Contratação'!J34","v":0},{"$f":"Auditagem!Y$174","v":0},{"$f":"Auditagem!Y$175","v":0},{"$f":"Auditagem!Y$176","v":0},{"$f":"Auditagem!Y$177","v":0},{"$f":"Auditagem!Y$178","v":0},{"$f":"Auditagem!Y$179","v":0},{"$f":"Auditagem!$Y$180","v":0},0,0]
[null,17,{"$f":"'Dados Contratação'!D35","v":"Vara do Trabalho de Nova Andradina"},{"$f":"'Dados Contratação'!J35","v":0},{"$f":"Auditagem!Z$174","v":0},{"$f":"Auditagem!Z$175","v":0},{"$f":"Auditagem!Z$176","v":0},{"$f":"Auditagem!Z$177","v":0},{"$f":"Auditagem!Z$178","v":0},{"$f":"Auditagem!Z$179","v":0},{"$f":"Auditagem!$Z$180","v":0},0,0]
[null,18,{"$f":"'Dados Contratação'!D36","v":"Vara do Trabalho de Paranaíba"},{"$f":"'Dados Contratação'!J36","v":0},{"$f":"Auditagem!AA$174","v":0},{"$f":"Auditagem!AA$175","v":0},{"$f":"Auditagem!AA$176","v":0},{"$f":"Auditagem!AA$177","v":0},{"$f":"Auditagem!AA$178","v":0},{"$f":"Auditagem!AA$179","v":0},{"$f":"Auditagem!$AA$180","v":0},0,0]
[null,19,{"$f":"'Dados Contratação'!D37","v":"Vara do Trabalho de Ponta Porã"},{"$f":"'Dados Contratação'!J37","v":0},{"$f":"Auditagem!AB$174","v":0},{"$f":"Auditagem!AB$175","v":0},{"$f":"Auditagem!AB$176","v":0},{"$f":"Auditagem!AB$177","v":0},{"$f":"Auditagem!AB$178","v":0},{"$f":"Auditagem!AB$179","v":0},{"$f":"Auditagem!$AB$180","v":0},0,0]
[null,20,{"$f":"'Dados Contratação'!D38","v":"Vara do Trabalho de Rio Brilhante"},{"$f":"'Dados Contratação'!J38","v":0},{"$f":"Auditagem!AC$174","v":0},{"$f":"Auditagem!AC$175","v":0},{"$f":"Auditagem!AC$176","v":0},{"$f":"Auditagem!AC$177","v":0},{"$f":"Auditagem!AC$178","v":0},{"$f":"Auditagem!AC$179","v":0},{"$f":"Auditagem!$AC$180","v":0},0,0]
[null,21,{"$f":"'Dados Contratação'!D39","v":"Vara do Trabalho de São Gabriel do Oeste"},{"$f":"'Dados Contratação'!J39","v":0},{"$f":"Auditagem!AD$174","v":0},{"$f":"Auditagem!AD$175","v":0},{"$f":"Auditagem!AD$176","v":0},{"$f":"Auditagem!AD$177","v":0},{"$f":"Auditagem!AD$178","v":0},{"$f":"Auditagem!AD$179","v":0},{"$f":"Auditagem!$AD$180","v":0},0,0]
[null,22,{"$f":"'Dados Contratação'!D40","v":"Vara do Trabalho de Chapadão do Sul"},{"$f":"'Dados Contratação'!J40","v":0},{"$f":"Auditagem!AE$174","v":0},{"$f":"Auditagem!AE$175","v":0},{"$f":"Auditagem!AE$176","v":0},{"$f":"Auditagem!AE$177","v":0},{"$f":"Auditagem!AE$178","v":0},{"$f":"Auditagem!AE$179","v":0},{"$f":"Auditagem!$AE$180","v":0},0,0]
[null,"Valor Estimado Mensal",null,{"$f":"SUM(D20:D39)","v":2},{"$f":"SUM(E20:E39)","v":4189},{"$f":"SUM(F20:F39)","v":2523.21},235.92999999999998,127.44,10.91,1446.28,{"$f":"SUM(K20:K39)","v":0},{"$f":"SUM(L20:L39)","v":8532.77},{"$f":"SUM(M20:M39)","v":17065.54}]
[]
[]
[null,3,{"$f":"CONCATENATE(\"TOTALIZAÇÃO / \", UPPER('Dados Contratação'!$B$12))","v":"TOTALIZAÇÃO / APOIO ADMINISTRATIVO AOS GESTORES E FISCAIS DE CONTRATOS"}]
[null,null,null,"QUANT. DE PROF.","REMUNERAÇÃO","ENCARGOS E BENEFÍCIOS","PROVISÃO PARA RESCISÃO","CUSTO DE REPOSIÇÃO DO PROFISSIONAL AUSENTE","UNIFORMES E EQUIPAMENTOS","CUSTOS INDIRETOS, LUCRO E TRIBUTOS","DESPESA COM VALE TRANSPORTE","VALOR MENSAL DO SERVIÇO POR EMPREGADO","VALOR MENSAL DO SERVIÇO POR POSTO"]
[null,23,"ENCARREGADO",{"$f":"D15","v":0},0,0,0,0,0,0,{"$f":"K15","v":0},0,0]
[null,24,"PROFISSIONAL",{"$f":"D40","v":2},4189,2523.21,235.92999999999998,127.44,10.91,1446.28,{"$f":"K40","v":0},8532.77,17065.54]
[null,"Valor Estimado Mensal",null,{"$f":"SUM(D45:D46)","v":2},{"$f":"SUM(E45:E46)","v":4189},{"$f":"SUM(F45:F46)","v":2523.21},235.92999999999998,127.44,{"$f":"SUM(I45:I46)","v":10.91},1446.28,{"$f":"SUM(K45:K46)","v":0},8532.77,{"$f":"SUM(M45:M46)","v":17065.54}]
[]
[null,"VALOR TOTAL MENSAL DO CONTRATO"]
[]
[null,null,null,null,null,null,null,null,null,null,null,"TOTAL MENSAL DA CONTRATO"]
[null,4,"Valor Total Mensal do Contrato",null,null,null,null,null,null,null,null,{"$f":"M47","v":17065.54}]
[null,5,"Valor Total Mensal de Diárias, Passagens e Combustível",null,null,null,null,null,null,null,null,{"$f":"'Diária, Passagem e Combustível'!K59","v":0}]
[null,6,"Valor Total Mensal dos Materiais para Consumo para Engenharia - TRT",null,null,null,null,null,null,null,null,{"$f":"'Consumo - Manutenção (TRT)'!J109","v":0}]
[null,7,"Valor Total Mensal dos Materiais para Consumo para Engenharia - SINAPI",null,null,null,null,null,null,null,null,{"$f":"'Consumo - Manutenção (SINAPI)'!K3372","v":0}]
[null,8,"Valor Total Mensal dos Materiais para Consumo para Limpeza",null,null,null,null,null,null,null,null,{"$f":"'Consumo - Limpeza'!AV75","v":0}]
[null,9,"Valor Total Mensal dos Materiais para Consumo para Copeiragem",null,null,null,null,null,null,null,null,{"$f":"'Consumo - Copeiragem'!L59","v":0}]
[null,"Valor Total Mensal do Contrato",null,null,null,null,null,null,null,null,null,{"$f":"SUM(L52:M57)","v":17065.54}]
[null,"Valor Total da Reserva Mensal (Retenções em Conta Vinculada do Pagamento Mensal do Contrato)",null,null,null,null,null,null,null,null,null,{"$f":"Auditagem!AF190*D20","v":2516.2199999999998}]
[]
[null,"VALOR TOTAL GERAL DO CONTRATO"]
[]
[null,null,null,null,null,null,null,null,null,null,null,"TOTAL GERAL DA CONTRATO"]
[null,10,"Valor Total Geral do Contrato",null,null,null,null,null,null,null,null,{"$f":"L52*$F$7","v":204786.48}]
[null,11,"Valor Total Geral de Diárias, Passagens e Combustível",null,null,null,null,null,null,null,null,0]
[null,12,"Valor Total Mensal dos Materiais para Consumo para Engenharia - TRT",null,null,null,null,null,null,null,null,0]
[null,13,"Valor Total Mensal dos Materiais para Consumo para Engenharia - SINAPI",null,null,null,null,null,null,null,null,0]
[null,14,"Valor Total Mensal dos Materiais para Consumo para Limpeza",null,null,null,null,null,null,null,null,0]
[null,15,"Valor Total Mensal dos Materiais para Consumo para Copeiragem",null,null,null,null,null,null,null,null,{"$f":"L57*$F$7","v":0}]
[null,"Valor Total Geral do Contrato",null,null,null,null,null,null,null,null,null,{"$f":"SUM(L64:M69)","v":204786.48}]
[null,"Valor Total Geral da Reserva (Retenções em Conta Vinculada do Pagamento Geral do Contrato)",null,null,null,null,null,null,null,null,null,{"$f":"L59*$F$7","v":30194.639999999999}]

{"sheet":"Resumo Valor Global","index":24,"n_rows":59,"n_cols":9,"rows_kept":59,"cut":false,"hidden":false,"merged":[[50,7,50,8],[51,7,51,8],[52,7,52,8],[53,7,53,8],[5,6,5,8],[57,7,57,8],[58,7,58,8],[54,7,54,8],[55,7,55,8],[56,7,56,8],[3,7,3,8],[4,7,4,8],[6,6,6,8],[5,4,5,5],[5,1,5,3],[6,1,6,3],[3,1,3,2],[4,1,4,2],[3,3,3,4],[4,3,4,4],[3,5,3,6],[4,5,4,6]]}
[null,"13 - RESUMO MENSAL DA PLANILHA VALOR GLOBAL"]
[]
[null,"Discriminação dos Serviços (dados referentes à contratação)"]
[null,"Nº do Processo Administrativo:",null,"Licitação nº:",null,"Data:",null,"Horário:"]
[null,{"$f":"IF(ISBLANK('Dados Contratação'!$B$6),\"-\",'Dados Contratação'!$B$6)","v":"15940/2022"},null,{"$f":"IF(ISBLANK('Dados Contratação'!$D$6),\"-\",'Dados Contratação'!$D$6)","v":"-"},null,{"$f":"IF(ISBLANK('Dados Contratação'!$E$6),\"-\",'Dados Contratação'!$E$6)","v":"-"},null,{"$f":"IF(ISBLANK('Dados Contratação'!$F$6),\"-\",'Dados Contratação'!$F$6)","v":"-"}]
[null,"Local da Prestação dos Serviços:",null,null,"Vigência da Contratação:",null,"Máximo de Vigência:"]
[null,{"$f":"IF(ISBLANK('Dados Contratação'!$M$12),\"-\",'Dados Contratação'!$M$12)","v":"CAMPO GRANDE/MS"},null,null,{"$f":"IF(ISBLANK('Dados Contratação'!$J$6),\"-\",'Dados Contratação'!$J$6)","v":"12"},{"$f":"IF(ISBLANK('Dados Contratação'!$J$6),\"-\",'Dados Contratação'!$K$6)","v":"meses"},{"$f":"IF(ISBLANK('Dados Contratação'!$N$6),\"-\",CONCATENATE('Dados Contratação'!$N$6,\" \",'Dados Contratação'!$O$6))","v":"60 meses"}]
[]
[null,"VALOR TOTAL MENSAL DO CONTRATO"]
[]
[null,1,"ENCARREGADO"]
[null,null,null,"QUANT. DE PROF.","CUSTO TOTAL POR EMPREGADO","DESPESA COM VALE TRANSPORTE","VALOR MENSAL DO SERVIÇO POR EMPREGADO","VALOR MENSAL DO SERVIÇO POR POSTO","RESERVA MENSAL (RETENÇÕES EM CONTA VINCULADA DO PAGAMENTO MENSAL)"]
[null,1,{"$f":"'Dados Contratação'!D19","v":"Prédio-Sede do TRT/24ª Região"},2,{"$f":"Auditagem!J$181-Auditagem!J$180","v":0},{"$f":"Auditagem!J$180","v":0},{"$f":"SUM(E13:F13)","v":0},{"$f":"D13*G13","v":0},{"$f":"Auditagem!J$190","v":0}]
[null,2,{"$f":"'Dados Contratação'!D20","v":"Fórum Trabalhista de Campo Grande"},{"$f":"'Dados Contratação'!J20","v":0},{"$f":"Auditagem!K$181-Auditagem!K$180","v":0},{"$f":"Auditagem!K$180","v":0},{"$f":"SUM(E14:F14)","v":0},{"$f":"D14*G14","v":0},{"$f":"Auditagem!K$190","v":0}]
[null,"Valor Estimado Mensal",null,{"$f":"SUM(D13:D14)","v":2},0,0,0,0,0]
[]
[]
[null,1,"Contador"]
[null,null,null,"QUANT. DE PROF.","CUSTO TOTAL POR EMPREGADO","DESPESA COM VALE TRANSPORTE","VALOR MENSAL DO SERVIÇO POR EMPREGADO","VALOR MENSAL DO SERVIÇO POR POSTO","RESERVA MENSAL (RETENÇÕES EM CONTA VINCULADA DO PAGAMENTO MENSAL)"]
[null,3,{"$f":"'Dados Contratação'!D21","v":"Prédio-Sede do TRT/24ª Região"},{"$f":"'Dados Contratação'!J21","v":2},{"$f":"Auditagem!L$181-Auditagem!L$180","v":8532.77},{"$f":"Auditagem!L$180","v":0},{"$f":"SUM(E20:F20)","v":8532.77},{"$f":"D20*G20","v":17065.54},{"$f":"'Valor Global'!L59","v":2516.2199999999998}]
[null,4,{"$f":"'Dados Contratação'!D22","v":"Fórum Trabalhista de Campo Grande"},{"$f":"'Dados Contratação'!J22","v":0},{"$f":"Auditagem!M$181-Auditagem!M$180","v":0},{"$f":"Auditagem!M$180","v":0},{"$f":"SUM(E21:F21)","v":0},{"$f":"D21*G21","v":0},{"$f":"Auditagem!M190","v":0}]
[null,5,{"$f":"'Dados Contratação'!D23","v":"Fórum Trabalhista de Dourados"},{"$f":"'Dados Contratação'!J23","v":0},{"$f":"Auditagem!N$181-Auditagem!N$180","v":0},{"$f":"Auditagem!N$180","v":0},0,0,{"$f":"Auditagem!N190","v":0}]
[null,6,{"$f":"'Dados Contratação'!D24","v":"Fórum Trabalhista de Três Lagoas"},{"$f":"'Dados Contratação'!J24","v":0},{"$f":"Auditagem!O$181-Auditagem!O$180","v":0},{"$f":"Auditagem!O$180","v":0},0,0,{"$f":"Auditagem!O$190","v":0}]
[null,7,{"$f":"'Dados Contratação'!D25","v":"Vara do Trabalho de Amambaí"},{"$f":"'Dados Contratação'!J25","v":0},{"$f":"Auditagem!P$181-Auditagem!P$180","v":0},{"$f":"Auditagem!P$180","v":0},0,0,{"$f":"Auditagem!P$190","v":0}]
[null,8,{"$f":"'Dados Contratação'!D26","v":"Vara do Trabalho de Aquidauana"},{"$f":"'Dados Contratação'!J26","v":0},{"$f":"Auditagem!Q$181-Auditagem!Q$180","v":0},{"$f":"Auditagem!Q$180","v":0},0,0,{"$f":"Auditagem!Q$190","v":0}]
[null,9,{"$f":"'Dados Contratação'!D27","v":"Vara do Trabalho de Bataguassu"},{"$f":"'Dados Contratação'!J27","v":0},{"$f":"Auditagem!R$181-Auditagem!R$180","v":0},{"$f":"Auditagem!R$180","v":0},0,0,{"$f":"Auditagem!R$190","v":0}]
[null,10,{"$f":"'Dados Contratação'!D28","v":"Posto Avançado de Cassilândia"},{"$f":"'Dados Contratação'!J28","v":0},{"$f":"Auditagem!S$181-Auditagem!S$180","v":0},{"$f":"Auditagem!S$180","v":0},0,0,{"$f":"Auditagem!S$190","v":0}]
[null,11,{"$f":"'Dados Contratação'!D29","v":"Vara do Trabalho de Corumbá"},{"$f":"'Dados Contratação'!J29","v":0},{"$f":"Auditagem!T$181-Auditagem!T$180","v":0},{"$f":"Auditagem!T$180","v":0},0,0,{"$f":"Auditagem!T$190","v":0}]
[null,12,{"$f":"'Dados Contratação'!D30","v":"Vara do Trabalho de Coxim"},{"$f":"'Dados Contratação'!J30","v":0},{"$f":"Auditagem!U$181-Auditagem!U$180","v":0},{"$f":"Auditagem!U$180","v":0},0,0,{"$f":"Auditagem!U$190","v":0}]
[null,13,{"$f":"'Dados Contratação'!D31","v":"Vara do Trabalho de Fátima do Sul"},{"$f":"'Dados Contratação'!J31","v":0},{"$f":"Auditagem!V$181-Auditagem!V$180","v":0},{"$f":"Auditagem!V$180","v":0},0,0,{"$f":"Auditagem!V$190","v":0}]
[null,14,{"$f":"'Dados Contratação'!D32","v":"Vara do Trabalho de Jardim"},{"$f":"'Dados Contratação'!J32","v":0},{"$f":"Auditagem!W$181-Auditagem!W$180","v":0},{"$f":"Auditagem!W$180","v":0},0,0,{"$f":"Auditagem!W$190","v":0}]
[null,15,{"$f":"'Dados Contratação'!D33","v":"Vara do Trabalho de Mundo Novo"},{"$f":"'Dados Contratação'!J33","v":0},{"$f":"Auditagem!X$181-Auditagem!X$180","v":0},{"$f":"Auditagem!X$180","v":0},0,0,{"$f":"Auditagem!X$190","v":0}]
[null,16,{"$f":"'Dados Contratação'!D34","v":"Vara do Trabalho de Naviraí"},{"$f":"'Dados Contratação'!J34","v":0},{"$f":"Auditagem!Y$181-Auditagem!Y$180","v":0},{"$f":"Auditagem!Y$180","v":0},0,0,{"$f":"Auditagem!Y$190","v":0}]
[null,17,{"$f":"'Dados Contratação'!D35","v":"Vara do Trabalho de Nova Andradina"},{"$f":"'Dados Contratação'!J35","v":0},{"$f":"Auditagem!Z$181-Auditagem!Z$180","v":0},{"$f":"Auditagem!Z$180","v":0},0,0,{"$f":"Auditagem!Z$190","v":0}]
[null,18,{"$f":"'Dados Contratação'!D36","v":"Vara do Trabalho de Paranaíba"},{"$f":"'Dados Contratação'!J36","v":0},{"$f":"Auditagem!AA$181-Auditagem!AA$180","v":0},{"$f":"Auditagem!AA$180","v":0},0,0,{"$f":"Auditagem!AA$190","v":0}]
[null,19,{"$f":"'Dados Contratação'!D37","v":"Vara do Trabalho de Ponta Porã"},{"$f":"'Dados Contratação'!J37","v":0},{"$f":"Auditagem!AB$181-Auditagem!AB$180","v":0},{"$f":"Auditagem!AB$180","v":0},0,0,{"$f":"Auditagem!AB$190","v":0}]
[null,20,{"$f":"'Dados Contratação'!D38","v":"Vara do Trabalho de Rio Brilhante"},{"$f":"'Dados Contratação'!J38","v":0},{"$f":"Auditagem!AC$181-Auditagem!AC$180","v":0},{"$f":"Auditagem!AC$180","v":0},0,0,{"$f":"Auditagem!AC$190","v":0}]
[null,21,{"$f":"'Dados Contratação'!D39","v":"Vara do Trabalho de São Gabriel do Oeste"},{"$f":"'Dados Contratação'!J39","v":0},{"$f":"Auditagem!AD$181-Auditagem!AD$180","v":0},{"$f":"Auditagem!AD$180","v":0},0,0,{"$f":"Auditagem!AD$190","v":0}]
[null,22,{"$f":"'Dados Contratação'!D40","v":"Vara do Trabalho de Chapadão do Sul"},{"$f":"'Dados Contratação'!J40","v":0},{"$f":"Auditagem!AE$181-Auditagem!AE$180","v":0},{"$f":"Auditagem!AE$180","v":0},0,0,{"$f":"Auditagem!AE$190","v":0}]
[null,"Valor Estimado Mensal",null,{"$f":"SUM(D20:D39)","v":2},{"$f":"SUM(E20:E39)","v":8532.77},{"$f":"SUM(F20:F39)","v":0},8532.77,17065.54,2516.2199999999998]
[]
[]
[null,3,{"$f":"CONCATENATE(\"TOTALIZAÇÃO / \", UPPER('Dados Contratação'!$B$12))","v":"TOTALIZAÇÃO / APOIO ADMINISTRATIVO AOS GESTORES E FISCAIS DE CONTRATOS"}]
[null,null,null,"QUANT. DE PROF.","CUSTO TOTAL POR EMPREGADO","DESPESA COM VALE TRANSPORTE","VALOR MENSAL DO SERVIÇO POR EMPREGADO","VALOR MENSAL DO SERVIÇO POR POSTO","RESERVA MENSAL (RETENÇÕES EM CONTA VINCULADA DO PAGAMENTO MENSAL)"]
[null,null,null,0,{"$f":"E15","v":0},{"$f":"F15","v":0},{"$f":"G15","v":0},{"$f":"H15","v":0},{"$f":"I15","v":0}]
[null,1,"Contador",{"$f":"D40","v":2},8532.77,0,8532.77,17065.54,2516.2199999999998]
[null,"Valor Estimado Mensal",null,{"$f":"SUM(D45:D46)","v":2},{"$f":"SUM(E45:E46)","v":8532.77},{"$f":"SUM(F45:F46)","v":0},8532.77,17065.54,2516.2199999999998]
[]
[null,"VALOR TOTAL MENSAL DO CONTRATO"]
[]
[null,null,null,null,null,null,null,"TOTAL MENSAL DA CONTRATO"]
[null,4,"Valor Total Mensal do Contrato",null,null,null,null,{"$f":"H47","v":17065.54}]
[null,5,"Valor Total Mensal de Diárias, Passagens e Combustível",null,null,null,null,{"$f":"'Diária, Passagem e Combustível'!K59","v":0}]
[null,6,"Valor Total Mensal dos Materiais para Consumo para Engenharia - TRT",null,null,null,null,{"$f":"'Consumo - Manutenção (TRT)'!J109","v":0}]
[null,7,"Valor Total Mensal dos Materiais para Consumo para Engenharia - SINAPI",null,null,null,null,{"$f":"'Consumo - Manutenção (SINAPI)'!K3372","v":0}]
[null,8,"Valor Total Mensal dos Materiais para Consumo para Limpeza",null,null,null,null,{"$f":"'Consumo - Limpeza'!AV75","v":0}]
[null,9,"Valor Total Mensal dos Materiais para Consumo para Copeiragem",null,null,null,null,{"$f":"'Consumo - Copeiragem'!L59","v":0}]
[null,"Valor Total Mensal do Contrato",null,null,null,null,null,{"$f":"SUM(H52:I57)","v":17065.54}]
[null,"Valor Total da Reserva Mensal (Retenções em Conta Vinculada do Pagamento Mensal do Contrato)",null,null,null,null,null,{"$f":"I47","v":2516.2199999999998}]